{"text_format":"1","workbook":"xlsx","n_sheets":24,"sheets":["model","Fodertabel","input-data","N-balance","results","feed available","Feed rations","Mark-Fields","Feed - overview","Feed use at farm","Flow sohold","Flow smågrise","Flow slagtesvin","N-P balance sohold","N-P balance smågrise","N-P balance slagtesvin","Opstaldingsform-Housing ","Lagring-Storage","Udbringning af gylleApplication","background data","øvrige EFS-other EFs","topdowntables","NPK tal","Emission Stald-fold"],"not_rendered":{"charts":0,"images":0,"macros":1,"external_links":1,"defined_names":42,"comments":7,"pivot_tables":0},"unopened":[],"bounds":{"document_bytes":16777216,"sheet_cells":100000,"rows_first":2000,"rows_last":500,"rows_between":2000,"halvings":0,"cell_chars":16384,"cell_head_chars":4096},"cells_cut":0,"cells_raw":0,"read":"whole","date_system":"1900"}

{"sheet":"model","index":0,"n_rows":34,"n_cols":22,"rows_kept":34,"cut":false,"hidden":false,"merged":[[28,3,32,3],[28,5,32,5],[28,7,32,7],[28,9,32,9],[28,11,32,11],[10,3,14,3],[10,5,14,5],[10,7,14,7],[10,9,14,9],[10,11,14,11],[19,3,23,3],[19,5,23,5],[19,7,23,7],[19,9,23,9],[19,11,23,11],[10,19,14,19],[28,17,32,17],[19,13,23,13],[19,15,23,15],[19,21,23,21],[19,17,23,17],[19,19,23,19],[10,13,14,13],[10,15,14,15],[10,21,14,21],[28,13,32,13],[28,15,32,15],[28,21,32,21]]}
[]
[]
[null,"Økologisk svineproduktions miljøpåvirkninger"]
[null,"Beslutningsstøttemodel til estimering af miljøpåvirkninger på bedriftniveau"]
[null,"version 01; 19/09/2018"]
[]
[null,"Heidi Mai-Lis Andersen, Teodora Dorca-Preda, John Hermansen"]
[]
[]
[]
[null,null,null,"Feed table",null,"Input data",null,null,null,null,null,null,null,null,null,null,null,null,null,"N balance",null,"Environmental impact results"]
[]
[]
[]
[]
[null,null,null,null,null,"Input data",null,null,null,null,null,null,null,null,null,null,null,null,null,null,null,"Results"]
[]
[]
[]
[null,null,null,"Fields",null,"Feed overview",null,"Flow sows",null,"Flow piglets",null,"Flow slaughter pigs",null,"N-P balance sows",null,"N-P balance piglets",null,"N-P balance slaughter pigs",null,"Feed rations ",null,"Total feed use at farm"]
[]
[]
[]
[]
[null,null,null,null,null,null,null,null,null,null,null,null,null,null,null,null,null,null,null,"Intermediary results"]
[]
[]
[]
[null,null,null,"Housing ",null,"Storage",null,"Application",null,"Backgroung data",null,"Other Efs",null,"Topdown tables",null,"NPK tal",null,"Emission stable -paddock"]
[]
[]
[]
[]
[null,null,null,null,null,null,null,null,null,null,null,null,null,null,"Background data"]

{"sheet":"Fodertabel","index":1,"n_rows":718,"n_cols":247,"rows_kept":281,"cut":true,"hidden":false,"merged":[[1,1,1,2],[1,3,1,4],[371,3,371,4],[1,242,1,243],[1,244,1,245],[371,242,371,243],[371,244,371,245],[1,227,1,228],[371,227,371,228]],"bounds":{"rows_first":125,"rows_last":31,"rows_between":125,"halvings":4}}
[1,2,3,1,2,3,4,5,6,7,8,9,10,11,12,13,14,15,16,17,18,19,20,21,22,23,24,25,26,27,28,29,30,31,32,33,34,35,36,37,38,39,40,41,42,43,44,45,46,47,48,49,50,51,52,53,54,55,56,57,58,59,60,61,62,63,64,65,66,67,68,69,70,71,72,73,74,75,76,77,78,79,80,81,82,83,84,85,86,87,88,89,90,91,92,93,94,95,96,97,98,99,100,101,102,103,104,105,106,107,108,109,110,111,112,113,114,115,116,117,118,119,120,121,122,123,124,125,126,127,128,129,130,131,132,133,134,135,136,137,138,139,140,141,142,143,144,145,146,147,148,149,150,151,152,153,154,155,156,157,158,159,160,161,162,163,164,165,166,167,168,169,170,171,172,173,174,175,176,177,178,179,180,181,182,183,184,185,186,187,188,189,190,191,192,193,194,195,196,197,198,199,200,201,202,203,204,205,206,207,208,209,210,211,212,213,214,215,216,217,218,219,220,221,222,223,224,225,226,227,228,229,230,231,232,233,234,235,236,237,238,239,240,241,242,243,244]
[null,"DLBR SvineIT",null,"DLBR SvineIT",null,"Pr. kg vare",null,null,null,null,null,"Kemisk indhold, pct. af varen",null,null,null,null,null,"Fordøjeligheder, pct.",null,null,null,null,null,null,"gram pr. kg tørstof","milligram pr. kg tørstof",null,null,null,null,null,null,null,null,null,null,null,null,"Aminosyreindhold i procent af råprotein",null,null,null,null,null,null,null,null,null,null,null,"Aminosyrefordøjelighed i forhold til råproteinfordøjelighed, faktor",null,null,null,null,null,null,null,null,null,null,null,"Kemisk indhold, pct. af tørstof",null,null,null,null,null,null,"pr. kg tørstof",null,null,"gram pr. kg tørstof",null,null,null,null,null,null,null,"gram pr. kg vare",null,null,null,null,null,null,null,"milligram pr. kg vare",null,null,null,null,null,null,"gram pr. FEsv",null,null,null,null,null,null,null,null,null,null,null,null,null,null,null,null,"pr. kg vare",null,null,null,null,null,null,null,null,null,null,null,null,null,null,null,null,null,null,null,null,null,null,null,null,null,null,null,null,null,null,null,null,null,null,null,null,null,null,null,null,null,null,null,null,null,null,null,null,null,null,null,null,null,null,null,null,null,null,null,null,null,null,null,null,null,null,null,null,null,null,null,null,null,null,null,null,null,null,null,null,null,null,null,null,null,null,null,null,null,null,null,null,null,null,null,null,null,null,null,null,null,null,null,null,null,null,null,"Environmental impact per kg TS",null,null,null,null,null,null,null,null,null,null,null,null,null,null,"Environmental impact per kg TS"]
["Fodermid-delkode","Kode","Parti","Fodermiddel","Redige-rings-dato","FEsv","FEso","EFOS","EFOSi","EFNi","FE-korr. Faktor","Tør-stof","Rå-protein","Rå-fedt","Rå-aske","Træ-stof",null,"Rå-protein (standar-diseret)","Fosfor, ingen fytase tilsat","Fosfor, 60% std.dosis fytase tilsat","Fosfor, 100% std.dosis fytase tilsat","Fosfor, 150% std.dosis fytase tilsat","Fosfor, 200% std.dosis fytase tilsat",null,"Calcium","Fosfor","Natrium","Klorid","Kalium","Magnesium","Svovl","Jern","Kobber","Mangan","Zink","Jod","Selen",null,"Lysin","Methi-onin","Cystin","Tre-onin","Tryp-tofan","Iso-leucin","Leu-cin","Histidin","Fenyl-alanin","Tyrosin","Valin",null,"Lysin","Methi-onin","Cystin","Treo-nin","Tryp-tofan","Iso-leucin","Leu-cin","Histi-din","Fenyl-alanin","Tyro-sin","Valin",null,"Råprotein","Råfedt","Råaske","Træstof",null,"Jodtal","Jodtals-produkt","FEsv","FEso",null,"Orga-nisk stof","Let-fordøjelige kulhydrater","Fermenterbare kulhydrater","Sti-velse","Suk-ker","Opløse-lige fibre","Uopløse-lige fibre",null,"Calcium","Fosfor","Natrium","Klorid","Kalium","Magne-sium","Svovl",null,"Jern","Kobber","Mangan","Zink","Jod","Selen","SIF Råprotein pr. kg vare","SIF Råprotein","SIF Lys","SIF Met","SIF Cys","SIF CyM","SIF Tre","SIF Try","SIF Iso","SIF Leu","SIF His","SIF Fen","SIF Tyr","SIF FeT","SIF Val","Fytase-aktivitet, FYT/kg","Fytase-aktivitet, FTU/kg","Xylanase","Vit. A, 1000 I.E.","Vit. D, 1000 I.E. ","Vit. E, mg","Vit. K3, mg","Vit. C, mg","Vit. B1, mg","Vit. B2, mg","Vit. B6, mg","Vit. B12, mcg","Vit. B3,Niacin, mg","D-panto-thensyre, mg","Cholin, mg","Folin-syre, mg","Biotin, mg","EU-nummer",null,"n11Prot","n12Fedt","n13Aske","n15Traestf","n20EFOS","n73EFOSi","n71Ifaktor","n22FEsv","n23FEso","n43Lys","n41Met","n40Cys","n42Thr","n59Trp","n51Ile","n52Leu","n55His","n54Fen","n53Tyr","n50Val","n30Ca","n31P","n32Na","n33Cl","n34K","n35Mg","n36S","n37Fe","n38Cu","n39Mn","n26Zn","n27I","n28Se","s10TS","s11Prot","s12Fedt","s13Aske","s15Traestf","s20EFOS","s73EFOSi","s71Ifaktor","s22FEsv","s23FEso","s43Lys","s41Met","s40Cys","s42Thr","s59Trp","s51Ile","s52Leu","s55His","s54Fes","s53Tyr","s50Val","s30Ca","s31P","s32sa","s33Cl","s34K","s35Mg","s36S","s37Fe","s38Cu","s39Ms","s26Zs","s27I","s28Se","d10TS","d11Prot","d12Fedt","d13Aske","d15Traestf","d20EFOS","d73EFOSi","d71Ifaktor","d22FEsv","d23FEso","d43Lys","d41Met","d40Cys","d42Thr","d59Trp","d51Ile","d52Leu","d55His","d54Fed","d53Tyr","d50Val","d30Ca","d31P","d32da","d33Cl","GWP,                 kg CO2 eq.","soil C,                 kg CO2 eq.","iLUC,                 kg CO2 eq.","EP,                 kg NO3 eq.","NRE,                 MJ","AP,                 kg SO2 eq.","LU,                        m2","Comments","production place","crop","Generelt","Vær opmærksom på","Håndtering og transport",null,null,"GWP,                 kg CO2 eq.","soil C,                 kg CO2 eq.","iLUC,                 kg CO2 eq.","EP,                 kg NO3 eq.","NRE,                 MJ","AP,                 kg SO2 eq.","LU,                        m2","Comments","Crop"]
[94800,948,0,"BENZOESYRE (1% vand)","2010-05-12",1.5695119733062399,1.5042855016883101,100,100,100,1,99,1E-4,0,0,0,null,0,0,0,0,0,0,null,0,0,0,0,0,0,0,0,0,0,0,0,0,null,0,0,0,0,0,0,0,0,0,0,0,null,1,1,1,1,1,1,1,1,1,1,1,null,1.0101010101010101E-4,0,0,0,null,0,0,1.5853656296022625,1.5194803047356669,null,1000,999.99908080808086,0," "," "," "," ",null,0,0,0,0,0,0,0,null,0,0,0,0,0,0,0,0,0,0,0,0,0,0,0,0,0,0,0,0,0,0,0,0,0,0,0,0,0,0,0,0,0,0,0,0,0,0,"","","","","","","","","","","","","","","","","","","","","","","","","","","","","","","","","","","","","","","","","","","","","","","","","","","","","","","","","","","","","","","","","","","","","","","","","","","","","","","","","","","","","","","","","","","","","","",null,null,null,null,null,null,null,null,"offfarm","vitaminer og mineraler",0,0,0,null,null,{"$f":"'background data'!$G$10","v":0.47300000000000003},{"$f":"'background data'!$H$10","v":0.13},{"$f":"'background data'!$J$10","v":0.39100000000000001},{"$f":"'background data'!$L$10","v":5.5E-2},{"$f":"'background data'!$M$10","v":3.97},{"$f":"'background data'!$N$10","v":4.5999999999999999E-3},{"$f":"'background data'!$O$10","v":2.73}]
[99565,995,65,"BIOLYS 70 %","2016-08-03",1.23848610956876,1.19562155869088,96.5,96.000033500000001,100,1,95,80,0.390143737166324,1.65811088295687,0,null,100,0,0,0,0,0,null,0,1.2320328542094527,1.950718685831621,0.30800821355236102,3.7987679671457895,0.41067761806981473,57.291666666666742,0,0,0,0,0,0,null,68.25,0.125,7.4999999999999997E-2,0.35,0.05,0.375,0.61250000000000004,0,0,0,0.46250000000000002,null,1,0.85,0.85,0.85,0.85,0.85,0.85,0.85,0.85,0.85,0.85,null,84.21052631578948,0.41067761806981473,1.7453798767967053,0,null,0,0,1.3036695890197474,1.2585490091482947,null,982.54620123203267,170.84000488683159,7.017716933118411," "," "," "," ",null,0,1.1704312114989801,1.8531827515400399,0.29260780287474297,3.6088295687884999,0.390143737166324,54.4270833333334,null,0,0,0,0,0,0,800,645.94991725709338,440.86081852796622,0.68632178708566172,0.411793072251397,1.0981148593370589,1.9217010038398525,0.27452871483426472,2.0589653612569849,3.3629767567197422,0,0,0,0,2.5393906122169483,0,0,0,0,0,0,0,0,0,0,0,0,0,0,0,0,0,"","","","","","","","","","","","","","","","","","","","","","","","","","","","","","","","","","","","","","","","","","","","","","","","","","","","","","","","","","","","","","","","","","","","","","","","","","","","","","","","","","","","","","","","","","","","","","",null,null,null,null,null,null,null,null,"offfarm","vitaminer og mineraler","","","",null,null,{"$f":"'background data'!$G$10","v":0.47300000000000003},{"$f":"'background data'!$H$10","v":0.13},{"$f":"'background data'!$J$10","v":0.39100000000000001},{"$f":"'background data'!$L$10","v":5.5E-2},{"$f":"'background data'!$M$10","v":3.97},{"$f":"'background data'!$N$10","v":4.5999999999999999E-3},{"$f":"'background data'!$O$10","v":2.73}]
[99566,995,66,"BIOLYS 70% Vådfoder,FK=75%","2016-08-03",1.23848610956876,1.19562155869088,96.5,96.000033500000001,100,1,95,80,0.390143737166324,1.65811088295687,0,null,75,0,0,0,0,0,null,0,1.2320328542094527,1.950718685831621,0.30800821355236102,3.7987679671457895,0.41067761806981473,57.291666666666742,0,0,0,0,0,0,null,68.25,0.125,7.4999999999999997E-2,0.35,0.05,0.375,0.61250000000000004,0,0,0,0.46250000000000002,null,1,0.85,0.85,0.85,0.85,0.85,0.85,0.85,0.85,0.85,0.85,null,84.21052631578948,0.41067761806981473,1.7453798767967053,0,null,0,0,1.3036695890197474,1.2585490091482947,null,982.54620123203267,170.84000488683159,7.017716933118411," "," "," "," ",null,0,1.1704312114989801,1.8531827515400399,0.29260780287474297,3.6088295687884999,0.390143737166324,54.4270833333334,null,0,0,0,0,0,0,600,484.46243794282003,330.64561389597463,0.51474134031424623,0.30884480418854776,0.82358614450279399,1.4412757528798894,0.2058965361256985,1.5442240209427389,2.5222325675398065,0,0,0,0,1.9045429591627112,0,0,0,0,0,0,0,0,0,0,0,0,0,0,0,0,0,"","","","","","","","","","","","","","","","","","","","","","","","","","","","","","","","","","","","","","","","","","","","","","","","","","","","","","","","","","","","","","","","","","","","","","","","","","","","","","","","","","","","","","","","","","","","","","",null,null,null,null,null,null,null,null,"offfarm","vitaminer og mineraler","","","",null,null,{"$f":"'background data'!$G$10","v":0.47300000000000003},{"$f":"'background data'!$H$10","v":0.13},{"$f":"'background data'!$J$10","v":0.39100000000000001},{"$f":"'background data'!$L$10","v":5.5E-2},{"$f":"'background data'!$M$10","v":3.97},{"$f":"'background data'!$N$10","v":4.5999999999999999E-3},{"$f":"'background data'!$O$10","v":2.73}]
[80500,805,0,"BLODPLASMA, Daka Sprayt  2500","2010-05-12",1.2317951056910501,1.18620933153247,99.8,98.2,91,1,94,82.531999999999996,2.0680000000000001,5.8280000000000003,0,null,94,55,55,55,55,55,null,0.59,0.95000000000000007,22.1,11,1.44,0.12,0,40,25,0,14,0,0,null,8.6999999999999993,0.9,3.6,6.1,1.9,4,9.6999999999999993,3.3,5.7,5.4,6.6,null,1,1,1,1,1,1,1,1,1,1,1,null,87.8,2.2000000000000002,6.2,0,null,63,13.86,1.3104203252032447,1.2619248207792233,null,938,94.364000000000118,21.439999999999895,0,0," "," ",null,0.55459999999999998,0.89300000000000002,20.774000000000001,10.34,1.3535999999999999,0.11279999999999998,0,null,37.599999999999994,23.5,0,13.16,0,0,775.80079999999998,629.81318598823907,54.793747180976801,5.6683186738941522,22.673274695576609,28.341593369470761,38.418604345282588,11.966450533776543,25.192527439529567,61.09187904085919,20.783835137611891,35.899351601329627,34.009912043364913,69.909263644694533,41.567670275223783,0,0,0,0,0,0,0,0,0,0,0,0,0,0,0,0,0,"9.8.1","","","","","","","","","","","","","","","","","","","","","","","","","","","","","","","","","","","","","","","","","","","","","","","","","","","","","","","","","","","","","","","","","","","","","","","","","","","","","","","","","","","","","","","","","","","","","",null,null,null,null,null,null,null,null,"offfarm","vitaminer og mineraler","Blod består af to fraktioner : en væskefraktion indeholdende blandt andet næringsstoffer kaldet blodplama, samt blodlegemer også kaldet blodceller.\n\nBlodplasma fremstilles fra rent og friskt svineblod, der er levnedsmiddelgodkendt.\nVed fremstilling af blodplasma anvendes ultrafiltrerings – og spraytørringsteknologi.\n\nBlodplasma har nr. 9.8.1 (Blodprodukter)  i Forordning om fortegnelsen over fodermidler. EU kommissionens Forordning nr. 68/2013 [1].",0,0,null,null,{"$f":"'background data'!$G$10","v":0.47300000000000003},{"$f":"'background data'!$H$10","v":0.13},{"$f":"'background data'!$J$10","v":0.39100000000000001},{"$f":"'background data'!$L$10","v":5.5E-2},{"$f":"'background data'!$M$10","v":3.97},{"$f":"'background data'!$N$10","v":4.5999999999999999E-3},{"$f":"'background data'!$O$10","v":2.73}]
[80600,806,0,"BLODPRODUKT (HÆMOGLOBINMEL, Daka)","2010-05-12",1.2619960704607001,1.21385868051948,97.8,97.8,91,1,97,95,1.8,3.9,0.3,null,94,55,55,55,55,55,null,0.01,0.3,0.36,0.73,1.24,3.0000000000000002E-2,0.2,2769.31,32.01,0,23.42,0,0.74,null,8.7563710499490295,0.71355759429153898,0.62181447502548404,3.14984709480122,1.40163098878695,0.56676860346585101,13.6085626911315,7.7828746177369998,6.8552497451579999,2.21202854230377,9.3068297655453591,null,1,1,1,1,1,1,1,1,1,1,1,null,97.9381443298969,1.8556701030927836,4.0206185567010309,0.30927835051546393,null,63,11.690721649484535,1.3010268767636084,1.2514007015664743,null,959.79381443298973,29.441237113402266,0,0,0," "," ",null,9.7000000000000003E-3,0.29099999999999998,0.34919999999999995,0.70809999999999995,1.2027999999999999,2.9100000000000001E-2,0.19400000000000001,null,2686.2307000000001,31.049699999999998,0,22.717400000000001,0,0.71779999999999999,893,707.60917636930867,61.960885066384883,5.0491990158870177,4.4000162852729661,9.4492153011599687,22.288607084415514,9.9180694954922828,4.0105066469045418,96.295438374416392,55.072334980424756,48.508376259771623,15.652516949249678,64.160893209021381,65.855981450069208,0,0,0,0,0,0,0,0,0,0,0,0,0,0,0,0,0,"9.8.1","","","","","","","","","","","","","","","","","","","","","","","","","","","","","","","","","","","","","","","","","","","","","","","","","","","","","","","","","","","","","","","","","","","","","","","","","","","","","","","","","","","","","","","","","","","","","",null,null,null,null,null,null,null,null,"offfarm","vitaminer og mineraler","Hæmoglobinmel indeholder blodcellefraktionen af friskt svineblod, der er levnedsmiddelgodkendt.    \nFremstilles ved spraytørring \n    \nRåvaren er proteinrig med en høj fordøjelighed og især relativt rig på aminosyren valin.","Der forekommer hæmoglobinmel af udenlandsk oprindelse, der ikke er spraytørret, men tromletørret.\nDen høje varmepåvirkning giver en markant dårligere proteinfordøjelighed og dermed en råvare af markant ringere kvalitet.",0,null,null,{"$f":"'background data'!$G$10","v":0.47300000000000003},{"$f":"'background data'!$H$10","v":0.13},{"$f":"'background data'!$J$10","v":0.39100000000000001},{"$f":"'background data'!$L$10","v":5.5E-2},{"$f":"'background data'!$M$10","v":3.97},{"$f":"'background data'!$N$10","v":4.5999999999999999E-3},{"$f":"'background data'!$O$10","v":2.73}]
[46202,462,2,"BOLIFOR 18   (MCP 21/18)","2010-05-12",-0.112682926829268,-0.108,70,70,0,1,99,0,0,99,0,null,0,67,67,67,67,67,null,212.12121212121212,181.81818181818181,0,0,0,0,0,0,0,0,0,0,0,null,0,0,0,0,0,0,0,0,0,0,0,null,1,1,1,1,1,1,1,1,1,1,1,null,0,0,100,0,null,0,0,-0.11382113821138182,-0.10909090909090909,null,0,0,0," "," "," "," ",null,210,180,0,0,0,0,0,null,0,0,0,0,0,0,0,0,0,0,0,0,0,0,0,0,0,0,0,0,0,0,0,0,0,0,0,0,0,0,0,0,0,0,0,0,0,0,"","","","","","","","","","","","","","","","","","","","","","","","","","","","","","","","","","","","","","","","","","","","","","","","","","","","","","","","","","","","","","","","","","","","","","","","","","","","","","","","","","","","","","","","","","","","","","",null,null,null,null,null,null,null,null,"offfarm","vitaminer og mineraler",0,0,0,null,null,{"$f":"'background data'!$G$10","v":0.47300000000000003},{"$f":"'background data'!$H$10","v":0.13},{"$f":"'background data'!$J$10","v":0.39100000000000001},{"$f":"'background data'!$L$10","v":5.5E-2},{"$f":"'background data'!$M$10","v":3.97},{"$f":"'background data'!$N$10","v":4.5999999999999999E-3},{"$f":"'background data'!$O$10","v":2.73}]
[46203,462,3,"BOLIFOR MCP-F (16/22,7)","2010-05-12",-0.112682926829268,-0.108,70,70,0,1,99,0,0,99,0,null,0,67,67,67,67,67,null,161.61616161616161,229.2929292929293,0,0,0,0,0,0,0,0,0,0,0,null,0,0,0,0,0,0,0,0,0,0,0,null,1,1,1,1,1,1,1,1,1,1,1,null,0,0,100,0,null,0,0,-0.11382113821138182,-0.10909090909090909,null,0,0,0," "," "," "," ",null,160,227,0,0,0,0,0,null,0,0,0,0,0,0,0,0,0,0,0,0,0,0,0,0,0,0,0,0,0,0,0,0,0,0,0,0,0,0,0,0,0,0,0,0,0,0,"","","","","","","","","","","","","","","","","","","","","","","","","","","","","","","","","","","","","","","","","","","","","","","","","","","","","","","","","","","","","","","","","","","","","","","","","","","","","","","","","","","","","","","","","","","","","","",null,null,null,null,null,null,null,null,"offfarm","vitaminer og mineraler",0,0,0,null,null,{"$f":"'background data'!$G$10","v":0.47300000000000003},{"$f":"'background data'!$H$10","v":0.13},{"$f":"'background data'!$J$10","v":0.39100000000000001},{"$f":"'background data'!$L$10","v":5.5E-2},{"$f":"'background data'!$M$10","v":3.97},{"$f":"'background data'!$N$10","v":4.5999999999999999E-3},{"$f":"'background data'!$O$10","v":2.73}]
[50300,503,0,"BYG,  vinter,  2016","2016-11-04",0.99579847077041805,1.0059162100185499,83.1,76.000019100000003,90,1,85,9.5999999999999801,2.7,1.8,4.5999999999999996,null,74.030298214285693,39,47,50,52,54,null,0.6823529411764705,3.2941176470588234,0.2,1.4999999999999998,5.8999999999999995,1.1000000000000001,1.3,50,3.4,15,29,0,0.04,null,3.7643529411764698,1.69952941176471,2.3732941176470601,3.4342352941176499,1.3221176470588201,3.6218823529411801,6.8776470588235297,2.2824705882352898,4.8375294117647103,3.21588235294118,5.1123529411764697,null,0.94,1.08,1.03,0.95,0.96,1,1.01,1,1.04,0.97,0.96,null,11.294117647058799,3.1764705882352939,2.1176470588235294,5.4117647058823524,null,120,38.117647058823529,1.1715276126710801,1.1834308353159411,null,978.82352941176475,580.53344537815065,99.280405189915768,604,21.000000000000004,56,165,null,0.57999999999999996,2.8,0.17,1.2749999999999997,5.0149999999999997,0.93500000000000005,1.105,null,42.5,2.8899999999999997,12.75,24.65,0,3.4000000000000002E-2,71.069086285714306,71.368944994191835,2.5253842411769507,1.3099711079258582,1.744608822575126,3.0545799305009842,2.3284286231284397,0.90583815963639602,2.5848992242249249,4.9575891877694724,1.6289751786262516,3.590593453158601,2.2262870683220455,5.8168805214806474,3.5026870641572856,0,0,0,0,0,0,0,0,0,0,0,0,0,0,0,0,0,"1.1.1","",16,8,8,"",8,8,"",8,8,"","","","","","","","","","","",8,16,"","","","","","","","","","","","",0.9,0.2,0.2,"",1,0.9,"",1.5,1.3,"","","","","","","","","","","",0.1,0.3,"","","","","","","","","","","","",2016,2016,2016,"",2016,2016,"",2016,2016,"","","","","","","","","","","",2016,2016,"","",{"$f":"'background data'!$G$10","v":0.47300000000000003},{"$f":"'background data'!$H$10","v":0.13},{"$f":"'background data'!$J$10","v":0.39100000000000001},{"$f":"'background data'!$L$10","v":5.5E-2},{"$f":"'background data'!$M$10","v":3.97},{"$f":"'background data'!$N$10","v":4.5999999999999999E-3},{"$f":"'background data'!$O$10","v":2.73},null,"offfarm","byg","Byg er frø fra dyrkede sorter af toradet og seksradet bygplanter (Hordeum vulgare), og dyrkes i stor udstrækning i Danmark.\n\nEn undersøgelse foretaget fra 2003 til 2005 viste, at de forskellige sorter varierer med hensyn til antal af foderenheder pr. 100 kg.\n\nIndholdet af foderenheder i forskellige sorter af vårbyg varierede fra 102 til 109 FEsv pr. 100 kg. Desuden var der effekt af sort på EFOS, EFOSi, råfedt og råaske, men ingen statistisk sikker forskel i indhold af råprotein mellem sorterne.\n\nDer skelnes mellem varmebehandlet og ikke-varmebehandlet korn. Det skyldes, at der ved varmebehandling af korn (pelleteret foder) sker en nedbrydning af kornets naturlige indhold af fytase, og derfor skal der i korn, der indgår i pelleteret foder, regnes med en lavere fordøjelighed af fosfor end i ikke-varmebehandlet korn (hjemmeblandet foder).\nDer er endvidere angivet kemisk indhold for korn tilsat det kulhydratspaltende enzym ”xylanase”. Det skyldes, at tilsætning af xylanase øger EFOSi-værdien og dermed kornets energiværdi\n\nByg kan bruges i henhold til følgende kilder: [2], [3], [4], [5], [6], [7], [8], [9], [10], [11], [12], [13], [14], [15]. [16]","Forsøg har vist, at stigende indhold af byg reducerer problemer med Salmonella og maveforandringer i den hvide del af maven sammenlignet med en hvedebaseret blanding [15].","Byg giver generelt ikke anledning til problemer, og kan uden problemer transporteres som løsvare.\n\nByg bør opbevares tørt og er lagerfast ved 86 procent tørstof.\n",null,null,{"$f":"'background data'!$G$10","v":0.47300000000000003},{"$f":"'background data'!$H$10","v":0.13},{"$f":"'background data'!$J$10","v":0.39100000000000001},{"$f":"'background data'!$L$10","v":5.5E-2},{"$f":"'background data'!$M$10","v":3.97},{"$f":"'background data'!$N$10","v":4.5999999999999999E-3},{"$f":"'background data'!$O$10","v":2.73},null,1]
[50301,503,1,"BYG,  vinter,  2016 + xylanase","2016-11-04",1.0018379597367399,1.01016110797773,83.1,76.500031800000002,90,1,85,9.5999999999999801,2.7,1.8,4.5999999999999996,null,74.4388696428571,39,47,50,52,54,null,0.6823529411764705,3.2941176470588234,0.2,1.4999999999999998,5.8999999999999995,1.1000000000000001,1.3,50,3.4,15,29,0,0.04,null,3.7643529411764698,1.69952941176471,2.3732941176470601,3.4342352941176499,1.3221176470588201,3.6218823529411801,6.8776470588235297,2.2824705882352898,4.8375294117647103,3.21588235294118,5.1123529411764697,null,0.94,1.08,1.03,0.95,0.96,1,1.01,1,1.04,0.97,0.96,null,11.294117647058799,3.1764705882352939,2.1176470588235294,5.4117647058823524,null,120,38.117647058823529,1.1786328938079293,1.1884248329149765,null,978.82352941176475,587.52504201680711,92.28863096470576,604,21.000000000000004,56,165,null,0.57999999999999996,2.8,0.17,1.2749999999999997,5.0149999999999997,0.93500000000000005,1.105,null,42.5,2.8899999999999997,12.75,24.65,0,3.4000000000000002E-2,71.461314857142696,71.330212798006869,2.5240137056046592,1.3092601816546021,1.7436620167734376,3.0529221984280297,2.3271649761144602,0.90534655784357543,2.5834963896463967,4.9548986853802353,1.628091127640154,3.58864482452105,2.2250788539158912,5.8137236784369506,3.5007861426492832,0,0,0,0,0,0,0,0,0,0,0,0,0,0,0,0,0,"1.1.1","",16,8,8,"",8,8,"",8,8,"","","","","","","","","","","",8,16,"","","","","","","","","","","","",0.9,0.2,0.2,"",1,0.9,"",1.5,1.3,"","","","","","","","","","","",0.1,0.3,"","","","","","","","","","","","",2016,2016,2016,"",2016,2016,"",2016,2016,"","","","","","","","","","","",2016,2016,"","",{"$f":"'background data'!$G$10","v":0.47300000000000003},{"$f":"'background data'!$H$10","v":0.13},{"$f":"'background data'!$J$10","v":0.39100000000000001},{"$f":"'background data'!$L$10","v":5.5E-2},{"$f":"'background data'!$M$10","v":3.97},{"$f":"'background data'!$N$10","v":4.5999999999999999E-3},{"$f":"'background data'!$O$10","v":2.73},null,"offfarm","byg","Byg er frø fra dyrkede sorter af toradet og seksradet bygplanter (Hordeum vulgare), og dyrkes i stor udstrækning i Danmark.\n\nEn undersøgelse foretaget fra 2003 til 2005 viste, at de forskellige sorter varierer med hensyn til antal af foderenheder pr. 100 kg.\n\nIndholdet af foderenheder i forskellige sorter af vårbyg varierede fra 102 til 109 FEsv pr. 100 kg. Desuden var der effekt af sort på EFOS, EFOSi, råfedt og råaske, men ingen statistisk sikker forskel i indhold af råprotein mellem sorterne.\n\nDer skelnes mellem varmebehandlet og ikke-varmebehandlet korn. Det skyldes, at der ved varmebehandling af korn (pelleteret foder) sker en nedbrydning af kornets naturlige indhold af fytase, og derfor skal der i korn, der indgår i pelleteret foder, regnes med en lavere fordøjelighed af fosfor end i ikke-varmebehandlet korn (hjemmeblandet foder).\nDer er endvidere angivet kemisk indhold for korn tilsat det kulhydratspaltende enzym ”xylanase”. Det skyldes, at tilsætning af xylanase øger EFOSi-værdien og dermed kornets energiværdi\n\nByg kan bruges i henhold til følgende kilder: [2], [3], [4], [5], [6], [7], [8], [9], [10], [11], [12], [13], [14], [15]. [16]","Forsøg har vist, at stigende indhold af byg reducerer problemer med Salmonella og maveforandringer i den hvide del af maven sammenlignet med en hvedebaseret blanding [15].","Byg giver generelt ikke anledning til problemer, og kan uden problemer transporteres som løsvare.\n\nByg bør opbevares tørt og er lagerfast ved 86 procent tørstof.\n",null,null,{"$f":"'background data'!$G$10","v":0.47300000000000003},{"$f":"'background data'!$H$10","v":0.13},{"$f":"'background data'!$J$10","v":0.39100000000000001},{"$f":"'background data'!$L$10","v":5.5E-2},{"$f":"'background data'!$M$10","v":3.97},{"$f":"'background data'!$N$10","v":4.5999999999999999E-3},{"$f":"'background data'!$O$10","v":2.73},null,1]
[50310,503,10,"BYG,  vinter,  2016, varmebehandlet","2016-11-04",0.99579847077041805,1.0059162100185499,83.1,76.000019100000003,90,1,85,9.5999999999999801,2.7,1.8,4.5999999999999996,null,74.030298214285693,30,42,46,50,53,null,0.6823529411764705,3.2941176470588234,0.2,1.4999999999999998,5.8999999999999995,1.1000000000000001,1.3,50,3.4,15,29,0,0.04,null,3.7643529411764698,1.69952941176471,2.3732941176470601,3.4342352941176499,1.3221176470588201,3.6218823529411801,6.8776470588235297,2.2824705882352898,4.8375294117647103,3.21588235294118,5.1123529411764697,null,0.94,1.08,1.03,0.95,0.96,1,1.01,1,1.04,0.97,0.96,null,11.294117647058799,3.1764705882352939,2.1176470588235294,5.4117647058823524,null,120,38.117647058823529,1.1715276126710801,1.1834308353159411,null,978.82352941176475,580.53344537815065,99.280405189915768,604,21.000000000000004,56,165,null,0.57999999999999996,2.8,0.17,1.2749999999999997,5.0149999999999997,0.93500000000000005,1.105,null,42.5,2.8899999999999997,12.75,24.65,0,3.4000000000000002E-2,71.069086285714306,71.368944994191835,2.5253842411769507,1.3099711079258582,1.744608822575126,3.0545799305009842,2.3284286231284397,0.90583815963639602,2.5848992242249249,4.9575891877694724,1.6289751786262516,3.590593453158601,2.2262870683220455,5.8168805214806474,3.5026870641572856,0,0,0,0,0,0,0,0,0,0,0,0,0,0,0,0,0,"1.1.1","",16,8,8,"",8,8,"",8,8,"","","","","","","","","","","",8,16,"","","","","","","","","","","","",0.9,0.2,0.2,"",1,0.9,"",1.5,1.3,"","","","","","","","","","","",0.1,0.3,"","","","","","","","","","","","",2016,2016,2016,"",2016,2016,"",2016,2016,"","","","","","","","","","","",2016,2016,"","",{"$f":"'background data'!$G$10","v":0.47300000000000003},{"$f":"'background data'!$H$10","v":0.13},{"$f":"'background data'!$J$10","v":0.39100000000000001},{"$f":"'background data'!$L$10","v":5.5E-2},{"$f":"'background data'!$M$10","v":3.97},{"$f":"'background data'!$N$10","v":4.5999999999999999E-3},{"$f":"'background data'!$O$10","v":2.73},null,"offfarm","byg","Byg er frø fra dyrkede sorter af toradet og seksradet bygplanter (Hordeum vulgare), og dyrkes i stor udstrækning i Danmark.\n\nEn undersøgelse foretaget fra 2003 til 2005 viste, at de forskellige sorter varierer med hensyn til antal af foderenheder pr. 100 kg.\n\nIndholdet af foderenheder i forskellige sorter af vårbyg varierede fra 102 til 109 FEsv pr. 100 kg. Desuden var der effekt af sort på EFOS, EFOSi, råfedt og råaske, men ingen statistisk sikker forskel i indhold af råprotein mellem sorterne.\n\nDer skelnes mellem varmebehandlet og ikke-varmebehandlet korn. Det skyldes, at der ved varmebehandling af korn (pelleteret foder) sker en nedbrydning af kornets naturlige indhold af fytase, og derfor skal der i korn, der indgår i pelleteret foder, regnes med en lavere fordøjelighed af fosfor end i ikke-varmebehandlet korn (hjemmeblandet foder).\nDer er endvidere angivet kemisk indhold for korn tilsat det kulhydratspaltende enzym ”xylanase”. Det skyldes, at tilsætning af xylanase øger EFOSi-værdien og dermed kornets energiværdi\n\nByg kan bruges i henhold til følgende kilder: [2], [3], [4], [5], [6], [7], [8], [9], [10], [11], [12], [13], [14], [15]. [16]","Forsøg har vist, at stigende indhold af byg reducerer problemer med Salmonella og maveforandringer i den hvide del af maven sammenlignet med en hvedebaseret blanding [15].","Byg giver generelt ikke anledning til problemer, og kan uden problemer transporteres som løsvare.\n\nByg bør opbevares tørt og er lagerfast ved 86 procent tørstof.\n",null,null,{"$f":"'background data'!$G$10","v":0.47300000000000003},{"$f":"'background data'!$H$10","v":0.13},{"$f":"'background data'!$J$10","v":0.39100000000000001},{"$f":"'background data'!$L$10","v":5.5E-2},{"$f":"'background data'!$M$10","v":3.97},{"$f":"'background data'!$N$10","v":4.5999999999999999E-3},{"$f":"'background data'!$O$10","v":2.73},null,1]
[50311,503,11,"BYG,  vinter,  2016, varmebehandlet  + xylanase","2016-11-04",1.0018379597367399,1.01016110797773,83.1,76.500031800000002,90,1,85,9.5999999999999801,2.7,1.8,4.5999999999999996,null,74.4388696428571,30,42,46,50,53,null,0.6823529411764705,3.2941176470588234,0.2,1.4999999999999998,5.8999999999999995,1.1000000000000001,1.3,50,3.4,15,29,0,0.04,null,3.7643529411764698,1.69952941176471,2.3732941176470601,3.4342352941176499,1.3221176470588201,3.6218823529411801,6.8776470588235297,2.2824705882352898,4.8375294117647103,3.21588235294118,5.1123529411764697,null,0.94,1.08,1.03,0.95,0.96,1,1.01,1,1.04,0.97,0.96,null,11.294117647058799,3.1764705882352939,2.1176470588235294,5.4117647058823524,null,120,38.117647058823529,1.1786328938079293,1.1884248329149765,null,978.82352941176475,587.52504201680711,92.28863096470576,604,21.000000000000004,56,165,null,0.57999999999999996,2.8,0.17,1.2749999999999997,5.0149999999999997,0.93500000000000005,1.105,null,42.5,2.8899999999999997,12.75,24.65,0,3.4000000000000002E-2,71.461314857142696,71.330212798006869,2.5240137056046592,1.3092601816546021,1.7436620167734376,3.0529221984280297,2.3271649761144602,0.90534655784357543,2.5834963896463967,4.9548986853802353,1.628091127640154,3.58864482452105,2.2250788539158912,5.8137236784369506,3.5007861426492832,0,0,0,0,0,0,0,0,0,0,0,0,0,0,0,0,0,"1.1.1","",16,8,8,"",8,8,"",8,8,"","","","","","","","","","","",8,16,"","","","","","","","","","","","",0.9,0.2,0.2,"",1,0.9,"",1.5,1.3,"","","","","","","","","","","",0.1,0.3,"","","","","","","","","","","","",2016,2016,2016,"",2016,2016,"",2016,2016,"","","","","","","","","","","",2016,2016,"","",{"$f":"'background data'!$G$10","v":0.47300000000000003},{"$f":"'background data'!$H$10","v":0.13},{"$f":"'background data'!$J$10","v":0.39100000000000001},{"$f":"'background data'!$L$10","v":5.5E-2},{"$f":"'background data'!$M$10","v":3.97},{"$f":"'background data'!$N$10","v":4.5999999999999999E-3},{"$f":"'background data'!$O$10","v":2.73},null,"offfarm","byg","Byg er frø fra dyrkede sorter af toradet og seksradet bygplanter (Hordeum vulgare), og dyrkes i stor udstrækning i Danmark.\n\nEn undersøgelse foretaget fra 2003 til 2005 viste, at de forskellige sorter varierer med hensyn til antal af foderenheder pr. 100 kg.\n\nIndholdet af foderenheder i forskellige sorter af vårbyg varierede fra 102 til 109 FEsv pr. 100 kg. Desuden var der effekt af sort på EFOS, EFOSi, råfedt og råaske, men ingen statistisk sikker forskel i indhold af råprotein mellem sorterne.\n\nDer skelnes mellem varmebehandlet og ikke-varmebehandlet korn. Det skyldes, at der ved varmebehandling af korn (pelleteret foder) sker en nedbrydning af kornets naturlige indhold af fytase, og derfor skal der i korn, der indgår i pelleteret foder, regnes med en lavere fordøjelighed af fosfor end i ikke-varmebehandlet korn (hjemmeblandet foder).\nDer er endvidere angivet kemisk indhold for korn tilsat det kulhydratspaltende enzym ”xylanase”. Det skyldes, at tilsætning af xylanase øger EFOSi-værdien og dermed kornets energiværdi\n\nByg kan bruges i henhold til følgende kilder: [2], [3], [4], [5], [6], [7], [8], [9], [10], [11], [12], [13], [14], [15]. [16]","Forsøg har vist, at stigende indhold af byg reducerer problemer med Salmonella og maveforandringer i den hvide del af maven sammenlignet med en hvedebaseret blanding [15].","Byg giver generelt ikke anledning til problemer, og kan uden problemer transporteres som løsvare.\n\nByg bør opbevares tørt og er lagerfast ved 86 procent tørstof.\n",null,null,{"$f":"'background data'!$G$10","v":0.47300000000000003},{"$f":"'background data'!$H$10","v":0.13},{"$f":"'background data'!$J$10","v":0.39100000000000001},{"$f":"'background data'!$L$10","v":5.5E-2},{"$f":"'background data'!$M$10","v":3.97},{"$f":"'background data'!$N$10","v":4.5999999999999999E-3},{"$f":"'background data'!$O$10","v":2.73},null,1]
[50500,505,0,"BYG,  vinter,  gns. 2014-2016","2016-11-04",1.01015123886953,1.01742872356215,83.5,76.899992999999995,90,1,85,8.8000000000000096,2.7,1.8,4.5999999999999996,null,73.273821428571395,39,47,50,52,54,null,0.6470588235294118,3.2941176470588234,0.2,1.4999999999999998,5.8999999999999995,1.1000000000000001,1.3,50,3.4,15,29,0,0.04,null,3.8848235294117601,1.73623529411765,2.4363529411764699,3.5038823529411798,1.3569411764705901,3.6350588235294099,6.9011764705882301,2.3097647058823498,4.7302352941176498,3.1970588235294102,5.1688235294117701,null,0.93979435610052697,1.0798403419017799,1.0298127927627001,0.94986810513779896,0.95982702731759895,0.99997504265898396,1.0099762951134501,0.99991805051374005,1.04015875310616,0.97003899612635003,0.95992732173874296,null,10.352941176470599,3.1764705882352939,2.1176470588235294,5.4117647058823524,null,120,38.117647058823529,1.188413222199447,1.1969749688966471,null,978.82352941176475,600.00504201680712,92.289173512605046,604,21.000000000000004,56,165,null,0.55000000000000004,2.8,0.17,1.2749999999999997,5.0149999999999997,0.93500000000000005,1.105,null,42.5,2.8899999999999997,12.75,24.65,0,3.4000000000000002E-2,64.480962857142799,63.832979039162559,2.3305007184318072,1.1967770206865762,1.6015614180584359,2.7983384387450214,2.1245058631805871,0.83137911289809852,2.3203084267108154,4.4491743698303621,1.4742707949240146,3.1407074550319569,1.9796341344648323,5.1203415894967899,3.167197682821091,0,0,0,0,0,0,0,0,0,0,0,0,0,0,0,0,0,"1.1.1","",78,35,35,"",35,35,"",35,35,"","","","","","","","","","","",29,78,"","","","","","","","","","","","",0.77,0.25,0.23,"",1.48,1.82,"",2.4900000000000002,2.06,"","","","","","","","","","","",0.1,0.26,"","","","","","","","","","","","","14-'16","14-'16","14-'16","","14-'16","14-'16","","14-'16","14-'16","","","","","","","","","","","","14-'16","14-'16","","",{"$f":"'background data'!$G$10","v":0.47300000000000003},{"$f":"'background data'!$H$10","v":0.13},{"$f":"'background data'!$J$10","v":0.39100000000000001},{"$f":"'background data'!$L$10","v":5.5E-2},{"$f":"'background data'!$M$10","v":3.97},{"$f":"'background data'!$N$10","v":4.5999999999999999E-3},{"$f":"'background data'!$O$10","v":2.73},null,"offfarm","byg","Byg er frø fra dyrkede sorter af toradet og seksradet bygplanter (Hordeum vulgare), og dyrkes i stor udstrækning i Danmark.\n\nEn undersøgelse foretaget fra 2003 til 2005 viste, at de forskellige sorter varierer med hensyn til antal af foderenheder pr. 100 kg.\n\nIndholdet af foderenheder i forskellige sorter af vårbyg varierede fra 102 til 109 FEsv pr. 100 kg. Desuden var der effekt af sort på EFOS, EFOSi, råfedt og råaske, men ingen statistisk sikker forskel i indhold af råprotein mellem sorterne.\n\nDer skelnes mellem varmebehandlet og ikke-varmebehandlet korn. Det skyldes, at der ved varmebehandling af korn (pelleteret foder) sker en nedbrydning af kornets naturlige indhold af fytase, og derfor skal der i korn, der indgår i pelleteret foder, regnes med en lavere fordøjelighed af fosfor end i ikke-varmebehandlet korn (hjemmeblandet foder).\nDer er endvidere angivet kemisk indhold for korn tilsat det kulhydratspaltende enzym ”xylanase”. Det skyldes, at tilsætning af xylanase øger EFOSi-værdien og dermed kornets energiværdi\n\nByg kan bruges i henhold til følgende kilder: [2], [3], [4], [5], [6], [7], [8], [9], [10], [11], [12], [13], [14], [15]. [16]","Forsøg har vist, at stigende indhold af byg reducerer problemer med Salmonella og maveforandringer i den hvide del af maven sammenlignet med en hvedebaseret blanding [15].","Byg giver generelt ikke anledning til problemer, og kan uden problemer transporteres som løsvare.\n\nByg bør opbevares tørt og er lagerfast ved 86 procent tørstof.\n",null,null,{"$f":"'background data'!$G$10","v":0.47300000000000003},{"$f":"'background data'!$H$10","v":0.13},{"$f":"'background data'!$J$10","v":0.39100000000000001},{"$f":"'background data'!$L$10","v":5.5E-2},{"$f":"'background data'!$M$10","v":3.97},{"$f":"'background data'!$N$10","v":4.5999999999999999E-3},{"$f":"'background data'!$O$10","v":2.73},null,1]
[50501,505,1,"BYG,  vinter,  gns. 2014-2016 + xylanase","2016-11-04",1.01619072783585,1.02167362152134,83.5,77.399991,90,1,85,8.8000000000000096,2.7,1.8,4.5999999999999996,null,73.719535714285698,39,47,50,52,54,null,0.6470588235294118,3.2941176470588234,0.2,1.4999999999999998,5.8999999999999995,1.1000000000000001,1.3,50,3.4,15,29,0,0.04,null,3.8848235294117601,1.73623529411765,2.4363529411764699,3.5038823529411798,1.3569411764705901,3.6350588235294099,6.9011764705882301,2.3097647058823498,4.7302352941176498,3.1970588235294102,5.1688235294117701,null,0.93979435610052697,1.0798403419017799,1.0298127927627001,0.94986810513779896,0.95982702731759895,0.99997504265898396,1.0099762951134501,0.99991805051374005,1.04015875310616,0.97003899612635003,0.95992732173874296,null,10.352941176470599,3.1764705882352939,2.1176470588235294,5.4117647058823524,null,120,38.117647058823529,1.1955185033362941,1.2019689664956941,null,978.82352941176475,606.99663865546245,85.297604840336362,604,21.000000000000004,56,165,null,0.55000000000000004,2.8,0.17,1.2749999999999997,5.0149999999999997,0.93500000000000005,1.105,null,42.5,2.8899999999999997,12.75,24.65,0,3.4000000000000002E-2,64.873191428571502,63.839582129163823,2.3307417929707497,1.1969008191759858,1.601727088756328,2.798627907932314,2.1247256289448289,0.83146511344499896,2.3205484469261051,4.4496346068306751,1.4744232982677605,3.1410323399786626,1.9798389142284625,5.1208712542071151,3.1675253080027113,0,0,0,0,0,0,0,0,0,0,0,0,0,0,0,0,0,"1.1.1","",78,35,35,"",35,35,"",35,35,"","","","","","","","","","","",29,78,"","","","","","","","","","","","",0.77,0.25,0.23,"",1.48,1.82,"",2.4900000000000002,2.06,"","","","","","","","","","","",0.1,0.26,"","","","","","","","","","","","","14-'16","14-'16","14-'16","","14-'16","14-'16","","14-'16","14-'16","","","","","","","","","","","","14-'16","14-'16","","",{"$f":"'background data'!$G$10","v":0.47300000000000003},{"$f":"'background data'!$H$10","v":0.13},{"$f":"'background data'!$J$10","v":0.39100000000000001},{"$f":"'background data'!$L$10","v":5.5E-2},{"$f":"'background data'!$M$10","v":3.97},{"$f":"'background data'!$N$10","v":4.5999999999999999E-3},{"$f":"'background data'!$O$10","v":2.73},null,"offfarm","byg","Byg er frø fra dyrkede sorter af toradet og seksradet bygplanter (Hordeum vulgare), og dyrkes i stor udstrækning i Danmark.\n\nEn undersøgelse foretaget fra 2003 til 2005 viste, at de forskellige sorter varierer med hensyn til antal af foderenheder pr. 100 kg.\n\nIndholdet af foderenheder i forskellige sorter af vårbyg varierede fra 102 til 109 FEsv pr. 100 kg. Desuden var der effekt af sort på EFOS, EFOSi, råfedt og råaske, men ingen statistisk sikker forskel i indhold af råprotein mellem sorterne.\n\nDer skelnes mellem varmebehandlet og ikke-varmebehandlet korn. Det skyldes, at der ved varmebehandling af korn (pelleteret foder) sker en nedbrydning af kornets naturlige indhold af fytase, og derfor skal der i korn, der indgår i pelleteret foder, regnes med en lavere fordøjelighed af fosfor end i ikke-varmebehandlet korn (hjemmeblandet foder).\nDer er endvidere angivet kemisk indhold for korn tilsat det kulhydratspaltende enzym ”xylanase”. Det skyldes, at tilsætning af xylanase øger EFOSi-værdien og dermed kornets energiværdi\n\nByg kan bruges i henhold til følgende kilder: [2], [3], [4], [5], [6], [7], [8], [9], [10], [11], [12], [13], [14], [15]. [16]","Forsøg har vist, at stigende indhold af byg reducerer problemer med Salmonella og maveforandringer i den hvide del af maven sammenlignet med en hvedebaseret blanding [15].","Byg giver generelt ikke anledning til problemer, og kan uden problemer transporteres som løsvare.\n\nByg bør opbevares tørt og er lagerfast ved 86 procent tørstof.\n",null,null,{"$f":"'background data'!$G$10","v":0.47300000000000003},{"$f":"'background data'!$H$10","v":0.13},{"$f":"'background data'!$J$10","v":0.39100000000000001},{"$f":"'background data'!$L$10","v":5.5E-2},{"$f":"'background data'!$M$10","v":3.97},{"$f":"'background data'!$N$10","v":4.5999999999999999E-3},{"$f":"'background data'!$O$10","v":2.73},null,1]
[50510,505,10,"BYG,  vinter,  gns. 2014-2016, varmebehandlet","2016-11-04",1.01015123886953,1.01742872356215,83.5,76.899992999999995,90,1,85,8.8000000000000096,2.7,1.8,4.5999999999999996,null,73.273821428571395,30,42,46,50,53,null,0.6470588235294118,3.2941176470588234,0.2,1.4999999999999998,5.8999999999999995,1.1000000000000001,1.3,50,3.4,15,29,0,0.04,null,3.8848235294117601,1.73623529411765,2.4363529411764699,3.5038823529411798,1.3569411764705901,3.6350588235294099,6.9011764705882301,2.3097647058823498,4.7302352941176498,3.1970588235294102,5.1688235294117701,null,0.94,1.08,1.03,0.95,0.96,1,1.01,1,1.04,0.97,0.96,null,10.352941176470599,3.1764705882352939,2.1176470588235294,5.4117647058823524,null,120,38.117647058823529,1.188413222199447,1.1969749688966471,null,978.82352941176475,600.00504201680712,92.289173512605046,604,21.000000000000004,56,165,null,0.55000000000000004,2.8,0.17,1.2749999999999997,5.0149999999999997,0.93500000000000005,1.105,null,42.5,2.8899999999999997,12.75,24.65,0,3.4000000000000002E-2,64.480962857142799,63.832979039162559,2.3310106738835938,1.1969539682738306,1.6018525621290394,2.79880653040287,2.1248008635143725,0.83152893768022951,2.3203663368847667,4.4492787952254815,1.4743916205598535,3.140228107949087,1.9795545520324334,5.1197826599815199,3.1674374784966886,0,0,0,0,0,0,0,0,0,0,0,0,0,0,0,0,0,"1.1.1","",78,35,35,"",35,35,"",35,35,"","","","","","","","","","","",29,78,"","","","","","","","","","","","",0.77,0.25,0.23,"",1.48,1.82,"",2.4900000000000002,2.06,"","","","","","","","","","","",0.1,0.26,"","","","","","","","","","","","","14-'16","14-'16","14-'16","","14-'16","14-'16","","14-'16","14-'16","","","","","","","","","","","","14-'16","14-'16","","",{"$f":"'background data'!$G$10","v":0.47300000000000003},{"$f":"'background data'!$H$10","v":0.13},{"$f":"'background data'!$J$10","v":0.39100000000000001},{"$f":"'background data'!$L$10","v":5.5E-2},{"$f":"'background data'!$M$10","v":3.97},{"$f":"'background data'!$N$10","v":4.5999999999999999E-3},{"$f":"'background data'!$O$10","v":2.73},null,"offfarm","byg","Byg er frø fra dyrkede sorter af toradet og seksradet bygplanter (Hordeum vulgare), og dyrkes i stor udstrækning i Danmark.\n\nEn undersøgelse foretaget fra 2003 til 2005 viste, at de forskellige sorter varierer med hensyn til antal af foderenheder pr. 100 kg.\n\nIndholdet af foderenheder i forskellige sorter af vårbyg varierede fra 102 til 109 FEsv pr. 100 kg. Desuden var der effekt af sort på EFOS, EFOSi, råfedt og råaske, men ingen statistisk sikker forskel i indhold af råprotein mellem sorterne.\n\nDer skelnes mellem varmebehandlet og ikke-varmebehandlet korn. Det skyldes, at der ved varmebehandling af korn (pelleteret foder) sker en nedbrydning af kornets naturlige indhold af fytase, og derfor skal der i korn, der indgår i pelleteret foder, regnes med en lavere fordøjelighed af fosfor end i ikke-varmebehandlet korn (hjemmeblandet foder).\nDer er endvidere angivet kemisk indhold for korn tilsat det kulhydratspaltende enzym ”xylanase”. Det skyldes, at tilsætning af xylanase øger EFOSi-værdien og dermed kornets energiværdi\n\nByg kan bruges i henhold til følgende kilder: [2], [3], [4], [5], [6], [7], [8], [9], [10], [11], [12], [13], [14], [15]. [16]","Forsøg har vist, at stigende indhold af byg reducerer problemer med Salmonella og maveforandringer i den hvide del af maven sammenlignet med en hvedebaseret blanding [15].","Byg giver generelt ikke anledning til problemer, og kan uden problemer transporteres som løsvare.\n\nByg bør opbevares tørt og er lagerfast ved 86 procent tørstof.\n",null,null,{"$f":"'background data'!$G$10","v":0.47300000000000003},{"$f":"'background data'!$H$10","v":0.13},{"$f":"'background data'!$J$10","v":0.39100000000000001},{"$f":"'background data'!$L$10","v":5.5E-2},{"$f":"'background data'!$M$10","v":3.97},{"$f":"'background data'!$N$10","v":4.5999999999999999E-3},{"$f":"'background data'!$O$10","v":2.73},null,1]
[50511,505,11,"BYG,  vinter,  gns. 2014-2016, varmebehandlet + xylanas","2016-11-04",1.01619072783585,1.02167362152134,83.5,77.399991,90,1,85,8.8000000000000096,2.7,1.8,4.5999999999999996,null,73.719535714285698,30,42,46,50,53,null,0.6470588235294118,3.2941176470588234,0.2,1.4999999999999998,5.8999999999999995,1.1000000000000001,1.3,50,3.4,15,29,0,0.04,null,3.8848235294117601,1.73623529411765,2.4363529411764699,3.5038823529411798,1.3569411764705901,3.6350588235294099,6.9011764705882301,2.3097647058823498,4.7302352941176498,3.1970588235294102,5.1688235294117701,null,0.94,1.08,1.03,0.95,0.96,1,1.01,1,1.04,0.97,0.96,null,10.352941176470599,3.1764705882352939,2.1176470588235294,5.4117647058823524,null,120,38.117647058823529,1.1955185033362941,1.2019689664956941,null,978.82352941176475,606.99663865546245,85.297604840336362,604,21.000000000000004,56,165,null,0.55000000000000004,2.8,0.17,1.2749999999999997,5.0149999999999997,0.93500000000000005,1.105,null,42.5,2.8899999999999997,12.75,24.65,0,3.4000000000000002E-2,64.873191428571502,63.839582129163823,2.3312518011739867,1.1970777850672638,1.6020182629438156,2.7990960480110796,2.1250206597944103,0.83161495372548866,2.3206063630904805,4.4497390430279005,1.4745441364022034,3.140552943310571,1.9797593235637923,5.1203122668743628,3.1677651284835564,0,0,0,0,0,0,0,0,0,0,0,0,0,0,0,0,0,"1.1.1","",78,35,35,"",35,35,"",35,35,"","","","","","","","","","","",29,78,"","","","","","","","","","","","",0.77,0.25,0.23,"",1.48,1.82,"",2.4900000000000002,2.06,"","","","","","","","","","","",0.1,0.26,"","","","","","","","","","","","","14-'16","14-'16","14-'16","","14-'16","14-'16","","14-'16","14-'16","","","","","","","","","","","","14-'16","14-'16","","",{"$f":"'background data'!$G$10","v":0.47300000000000003},{"$f":"'background data'!$H$10","v":0.13},{"$f":"'background data'!$J$10","v":0.39100000000000001},{"$f":"'background data'!$L$10","v":5.5E-2},{"$f":"'background data'!$M$10","v":3.97},{"$f":"'background data'!$N$10","v":4.5999999999999999E-3},{"$f":"'background data'!$O$10","v":2.73},null,"offfarm","byg","Byg er frø fra dyrkede sorter af toradet og seksradet bygplanter (Hordeum vulgare), og dyrkes i stor udstrækning i Danmark.\n\nEn undersøgelse foretaget fra 2003 til 2005 viste, at de forskellige sorter varierer med hensyn til antal af foderenheder pr. 100 kg.\n\nIndholdet af foderenheder i forskellige sorter af vårbyg varierede fra 102 til 109 FEsv pr. 100 kg. Desuden var der effekt af sort på EFOS, EFOSi, råfedt og råaske, men ingen statistisk sikker forskel i indhold af råprotein mellem sorterne.\n\nDer skelnes mellem varmebehandlet og ikke-varmebehandlet korn. Det skyldes, at der ved varmebehandling af korn (pelleteret foder) sker en nedbrydning af kornets naturlige indhold af fytase, og derfor skal der i korn, der indgår i pelleteret foder, regnes med en lavere fordøjelighed af fosfor end i ikke-varmebehandlet korn (hjemmeblandet foder).\nDer er endvidere angivet kemisk indhold for korn tilsat det kulhydratspaltende enzym ”xylanase”. Det skyldes, at tilsætning af xylanase øger EFOSi-værdien og dermed kornets energiværdi\n\nByg kan bruges i henhold til følgende kilder: [2], [3], [4], [5], [6], [7], [8], [9], [10], [11], [12], [13], [14], [15]. [16]","Forsøg har vist, at stigende indhold af byg reducerer problemer med Salmonella og maveforandringer i den hvide del af maven sammenlignet med en hvedebaseret blanding [15].","Byg giver generelt ikke anledning til problemer, og kan uden problemer transporteres som løsvare.\n\nByg bør opbevares tørt og er lagerfast ved 86 procent tørstof.\n",null,null,{"$f":"'background data'!$G$10","v":0.47300000000000003},{"$f":"'background data'!$H$10","v":0.13},{"$f":"'background data'!$J$10","v":0.39100000000000001},{"$f":"'background data'!$L$10","v":5.5E-2},{"$f":"'background data'!$M$10","v":3.97},{"$f":"'background data'!$N$10","v":4.5999999999999999E-3},{"$f":"'background data'!$O$10","v":2.73},null,1]
[50400,504,0,"BYG,  vinter, 2015","2015-10-26",1.0060675958188201,1.0136717387755101,83.2,76.7,90,1,85,8.4,2.7,1.9,4.5999999999999996,null,72.371534693877607,39,47,50,52,54,null,0.71764705882352942,3.4117647058823528,0.2,1.4999999999999998,5.8999999999999995,1.1000000000000001,1.3,50,3.4,15,29,0,0.04,null,3.94505882352941,1.75458823529412,2.4678823529411802,3.5387058823529398,1.3743529411764701,3.6416470588235299,6.9129411764705901,2.3234117647058801,4.6765882352941199,3.1876470588235302,5.1970588235294102,null,0.94,1.08,1.03,0.95,0.96,1,1.01,1,1.04,0.97,0.96,null,9.882352941176471,3.1764705882352939,2.2352941176470589,5.4117647058823524,null,120,38.117647058823529,1.1836089362574356,1.1925549867947178,null,977.64705882352939,601.87966386554592,90.781512605041996,604,21.000000000000004,56,165,null,0.61,2.9,0.17,1.2749999999999997,5.0149999999999997,0.93500000000000005,1.105,null,42.5,2.8899999999999997,12.75,24.65,0,3.4000000000000002E-2,60.792089142857201,60.425451923416361,2.2407904453965202,1.1450353002172902,1.5359659366440286,2.681001236861329,2.031365070569664,0.79724061669950064,2.2004816927499102,4.2189477065531076,1.403932058865351,2.9388835588047471,1.8683656367870736,4.8072491955918206,3.0147324296096887,0,0,0,0,0,0,0,0,0,0,0,0,0,0,0,0,0,"1.1.1","",16,8,8,"",8,8,"",8,8,"","","","","","","","","","","",8,16,"","","","","","","","","","","","",0.9,0.2,0.2,"",1,0.9,"",1.5,1.3,"","","","","","","","","","","",0.1,0.3,"","","","","","","","","","","","",2015,2015,2015,"",2015,2015,"",2015,2015,"","","","","","","","","","","",2015,2015,"","",{"$f":"'background data'!$G$10","v":0.47300000000000003},{"$f":"'background data'!$H$10","v":0.13},{"$f":"'background data'!$J$10","v":0.39100000000000001},{"$f":"'background data'!$L$10","v":5.5E-2},{"$f":"'background data'!$M$10","v":3.97},{"$f":"'background data'!$N$10","v":4.5999999999999999E-3},{"$f":"'background data'!$O$10","v":2.73},null,"offfarm","byg","Byg er frø fra dyrkede sorter af toradet og seksradet bygplanter (Hordeum vulgare), og dyrkes i stor udstrækning i Danmark.\n\nEn undersøgelse foretaget fra 2003 til 2005 viste, at de forskellige sorter varierer med hensyn til antal af foderenheder pr. 100 kg.\n\nIndholdet af foderenheder i forskellige sorter af vårbyg varierede fra 102 til 109 FEsv pr. 100 kg. Desuden var der effekt af sort på EFOS, EFOSi, råfedt og råaske, men ingen statistisk sikker forskel i indhold af råprotein mellem sorterne.\n\nDer skelnes mellem varmebehandlet og ikke-varmebehandlet korn. Det skyldes, at der ved varmebehandling af korn (pelleteret foder) sker en nedbrydning af kornets naturlige indhold af fytase, og derfor skal der i korn, der indgår i pelleteret foder, regnes med en lavere fordøjelighed af fosfor end i ikke-varmebehandlet korn (hjemmeblandet foder).\nDer er endvidere angivet kemisk indhold for korn tilsat det kulhydratspaltende enzym ”xylanase”. Det skyldes, at tilsætning af xylanase øger EFOSi-værdien og dermed kornets energiværdi\n\nByg kan bruges i henhold til følgende kilder: [2], [3], [4], [5], [6], [7], [8], [9], [10], [11], [12], [13], [14], [15]. [16]","Forsøg har vist, at stigende indhold af byg reducerer problemer med Salmonella og maveforandringer i den hvide del af maven sammenlignet med en hvedebaseret blanding [15].","Byg giver generelt ikke anledning til problemer, og kan uden problemer transporteres som løsvare.\n\nByg bør opbevares tørt og er lagerfast ved 86 procent tørstof.\n",null,null,{"$f":"'background data'!$G$10","v":0.47300000000000003},{"$f":"'background data'!$H$10","v":0.13},{"$f":"'background data'!$J$10","v":0.39100000000000001},{"$f":"'background data'!$L$10","v":5.5E-2},{"$f":"'background data'!$M$10","v":3.97},{"$f":"'background data'!$N$10","v":4.5999999999999999E-3},{"$f":"'background data'!$O$10","v":2.73},null,1]
[50401,504,1,"BYG,  vinter, 2015 + xylanase","2015-10-26",1.01209982578397,1.0179115346938801,83.2,77.200031999999993,90,1,85,8.4,2.7,1.9,4.5999999999999996,null,72.837912244898007,39,47,50,52,54,null,0.71764705882352942,3.4117647058823528,0.2,1.4999999999999998,5.8999999999999995,1.1000000000000001,1.3,50,3.4,15,29,0,0.04,null,3.94505882352941,1.75458823529412,2.4678823529411802,3.5387058823529398,1.3743529411764701,3.6416470588235299,6.9129411764705901,2.3234117647058801,4.6765882352941199,3.1876470588235302,5.1970588235294102,null,0.94,1.08,1.03,0.95,0.96,1,1.01,1,1.04,0.97,0.96,null,9.882352941176471,3.1764705882352939,2.2352941176470589,5.4117647058823524,null,120,38.117647058823529,1.1907056773929057,1.1975429819928001,null,977.64705882352939,608.86285714285646,83.797872403361296,604,21.000000000000004,56,165,null,0.61,2.9,0.17,1.2749999999999997,5.0149999999999997,0.93500000000000005,1.105,null,42.5,2.8899999999999997,12.75,24.65,0,3.4000000000000002E-2,61.183846285714303,60.452382983389462,2.2417891447847991,1.1455456317640176,1.5366505023268751,2.6821961340908826,2.0322704310229387,0.79759593940173812,2.2014624269033343,4.2208280521705923,1.4045577782811285,2.940193391778382,1.8691983499139866,4.8093917416923686,3.0160760677171514,0,0,0,0,0,0,0,0,0,0,0,0,0,0,0,0,0,"1.1.1","",16,8,8,"",8,8,"",8,8,"","","","","","","","","","","",8,16,"","","","","","","","","","","","",0.9,0.2,0.2,"",1,0.9,"",1.5,1.3,"","","","","","","","","","","",0.1,0.3,"","","","","","","","","","","","",2015,2015,2015,"",2015,2015,"",2015,2015,"","","","","","","","","","","",2015,2015,"","",{"$f":"'background data'!$G$10","v":0.47300000000000003},{"$f":"'background data'!$H$10","v":0.13},{"$f":"'background data'!$J$10","v":0.39100000000000001},{"$f":"'background data'!$L$10","v":5.5E-2},{"$f":"'background data'!$M$10","v":3.97},{"$f":"'background data'!$N$10","v":4.5999999999999999E-3},{"$f":"'background data'!$O$10","v":2.73},null,"offfarm","byg","Byg er frø fra dyrkede sorter af toradet og seksradet bygplanter (Hordeum vulgare), og dyrkes i stor udstrækning i Danmark.\n\nEn undersøgelse foretaget fra 2003 til 2005 viste, at de forskellige sorter varierer med hensyn til antal af foderenheder pr. 100 kg.\n\nIndholdet af foderenheder i forskellige sorter af vårbyg varierede fra 102 til 109 FEsv pr. 100 kg. Desuden var der effekt af sort på EFOS, EFOSi, råfedt og råaske, men ingen statistisk sikker forskel i indhold af råprotein mellem sorterne.\n\nDer skelnes mellem varmebehandlet og ikke-varmebehandlet korn. Det skyldes, at der ved varmebehandling af korn (pelleteret foder) sker en nedbrydning af kornets naturlige indhold af fytase, og derfor skal der i korn, der indgår i pelleteret foder, regnes med en lavere fordøjelighed af fosfor end i ikke-varmebehandlet korn (hjemmeblandet foder).\nDer er endvidere angivet kemisk indhold for korn tilsat det kulhydratspaltende enzym ”xylanase”. Det skyldes, at tilsætning af xylanase øger EFOSi-værdien og dermed kornets energiværdi\n\nByg kan bruges i henhold til følgende kilder: [2], [3], [4], [5], [6], [7], [8], [9], [10], [11], [12], [13], [14], [15]. [16]","Forsøg har vist, at stigende indhold af byg reducerer problemer med Salmonella og maveforandringer i den hvide del af maven sammenlignet med en hvedebaseret blanding [15].","Byg giver generelt ikke anledning til problemer, og kan uden problemer transporteres som løsvare.\n\nByg bør opbevares tørt og er lagerfast ved 86 procent tørstof.\n",null,null,{"$f":"'background data'!$G$10","v":0.47300000000000003},{"$f":"'background data'!$H$10","v":0.13},{"$f":"'background data'!$J$10","v":0.39100000000000001},{"$f":"'background data'!$L$10","v":5.5E-2},{"$f":"'background data'!$M$10","v":3.97},{"$f":"'background data'!$N$10","v":4.5999999999999999E-3},{"$f":"'background data'!$O$10","v":2.73},null,1]
[50410,504,10,"BYG,  vinter, 2015, varmebehandlet","2015-10-26",1.0060675958188201,1.0136717387755101,83.2,76.7,90,1,85,8.4,2.7,1.9,4.5999999999999996,null,72.371534693877607,30,42,46,50,53,null,0.71764705882352942,3.4117647058823528,0.2,1.4999999999999998,5.8999999999999995,1.1000000000000001,1.3,50,3.4,15,29,0,0.04,null,3.94505882352941,1.75458823529412,2.4678823529411802,3.5387058823529398,1.3743529411764701,3.6416470588235299,6.9129411764705901,2.3234117647058801,4.6765882352941199,3.1876470588235302,5.1970588235294102,null,0.94,1.08,1.03,0.95,0.96,1,1.01,1,1.04,0.97,0.96,null,9.882352941176471,3.1764705882352939,2.2352941176470589,5.4117647058823524,null,120,38.117647058823529,1.1836089362574356,1.1925549867947178,null,977.64705882352939,601.87966386554592,90.781512605041996,604,21.000000000000004,56,165,null,0.61,2.9,0.17,1.2749999999999997,5.0149999999999997,0.93500000000000005,1.105,null,42.5,2.8899999999999997,12.75,24.65,0,3.4000000000000002E-2,60.792089142857201,60.425451923416361,2.2407904453965202,1.1450353002172902,1.5359659366440286,2.681001236861329,2.031365070569664,0.79724061669950064,2.2004816927499102,4.2189477065531076,1.403932058865351,2.9388835588047471,1.8683656367870736,4.8072491955918206,3.0147324296096887,0,0,0,0,0,0,0,0,0,0,0,0,0,0,0,0,0,"1.1.1","",16,8,8,"",8,8,"",8,8,"","","","","","","","","","","",8,16,"","","","","","","","","","","","",0.9,0.2,0.2,"",1,0.9,"",1.5,1.3,"","","","","","","","","","","",0.1,0.3,"","","","","","","","","","","","",2015,2015,2015,"",2015,2015,"",2015,2015,"","","","","","","","","","","",2015,2015,"","",{"$f":"'background data'!$G$10","v":0.47300000000000003},{"$f":"'background data'!$H$10","v":0.13},{"$f":"'background data'!$J$10","v":0.39100000000000001},{"$f":"'background data'!$L$10","v":5.5E-2},{"$f":"'background data'!$M$10","v":3.97},{"$f":"'background data'!$N$10","v":4.5999999999999999E-3},{"$f":"'background data'!$O$10","v":2.73},null,"offfarm","byg","Byg er frø fra dyrkede sorter af toradet og seksradet bygplanter (Hordeum vulgare), og dyrkes i stor udstrækning i Danmark.\n\nEn undersøgelse foretaget fra 2003 til 2005 viste, at de forskellige sorter varierer med hensyn til antal af foderenheder pr. 100 kg.\n\nIndholdet af foderenheder i forskellige sorter af vårbyg varierede fra 102 til 109 FEsv pr. 100 kg. Desuden var der effekt af sort på EFOS, EFOSi, råfedt og råaske, men ingen statistisk sikker forskel i indhold af råprotein mellem sorterne.\n\nDer skelnes mellem varmebehandlet og ikke-varmebehandlet korn. Det skyldes, at der ved varmebehandling af korn (pelleteret foder) sker en nedbrydning af kornets naturlige indhold af fytase, og derfor skal der i korn, der indgår i pelleteret foder, regnes med en lavere fordøjelighed af fosfor end i ikke-varmebehandlet korn (hjemmeblandet foder).\nDer er endvidere angivet kemisk indhold for korn tilsat det kulhydratspaltende enzym ”xylanase”. Det skyldes, at tilsætning af xylanase øger EFOSi-værdien og dermed kornets energiværdi\n\nByg kan bruges i henhold til følgende kilder: [2], [3], [4], [5], [6], [7], [8], [9], [10], [11], [12], [13], [14], [15]. [16]","Forsøg har vist, at stigende indhold af byg reducerer problemer med Salmonella og maveforandringer i den hvide del af maven sammenlignet med en hvedebaseret blanding [15].","Byg giver generelt ikke anledning til problemer, og kan uden problemer transporteres som løsvare.\n\nByg bør opbevares tørt og er lagerfast ved 86 procent tørstof.\n",null,null,{"$f":"'background data'!$G$10","v":0.47300000000000003},{"$f":"'background data'!$H$10","v":0.13},{"$f":"'background data'!$J$10","v":0.39100000000000001},{"$f":"'background data'!$L$10","v":5.5E-2},{"$f":"'background data'!$M$10","v":3.97},{"$f":"'background data'!$N$10","v":4.5999999999999999E-3},{"$f":"'background data'!$O$10","v":2.73},null,1]
[50411,504,11,"BYG,  vinter, 2015, varmebehandlet  + xylanase","2015-10-27",1.01209982578397,1.0179115346938801,83.2,77.200031999999993,90,1,85,8.4,2.7,1.9,4.5999999999999996,null,72.837912244898007,30,42,46,50,53,null,0.71764705882352942,3.4117647058823528,0.2,1.4999999999999998,5.8999999999999995,1.1000000000000001,1.3,50,3.4,15,29,0,0.04,null,3.94505882352941,1.75458823529412,2.4678823529411802,3.5387058823529398,1.3743529411764701,3.6416470588235299,6.9129411764705901,2.3234117647058801,4.6765882352941199,3.1876470588235302,5.1970588235294102,null,0.94,1.08,1.03,0.95,0.96,1,1.01,1,1.04,0.97,0.96,null,9.882352941176471,3.1764705882352939,2.2352941176470589,5.4117647058823524,null,120,38.117647058823529,1.1907056773929057,1.1975429819928001,null,977.64705882352939,608.86285714285646,83.797872403361296,604,21.000000000000004,56,165,null,0.61,2.9,0.17,1.2749999999999997,5.0149999999999997,0.93500000000000005,1.105,null,42.5,2.8899999999999997,12.75,24.65,0,3.4000000000000002E-2,61.183846285714303,60.452382983389462,2.2417891447847991,1.1455456317640176,1.5366505023268751,2.6821961340908826,2.0322704310229387,0.79759593940173812,2.2014624269033343,4.2208280521705923,1.4045577782811285,2.940193391778382,1.8691983499139866,4.8093917416923686,3.0160760677171514,0,0,0,0,0,0,0,0,0,0,0,0,0,0,0,0,0,"1.1.1","",16,8,8,"",8,8,"",8,8,"","","","","","","","","","","",8,16,"","","","","","","","","","","","",0.9,0.2,0.2,"",1,0.9,"",1.5,1.3,"","","","","","","","","","","",0.1,0.3,"","","","","","","","","","","","",2015,2015,2015,"",2015,2015,"",2015,2015,"","","","","","","","","","","",2015,2015,"","",{"$f":"'background data'!$G$10","v":0.47300000000000003},{"$f":"'background data'!$H$10","v":0.13},{"$f":"'background data'!$J$10","v":0.39100000000000001},{"$f":"'background data'!$L$10","v":5.5E-2},{"$f":"'background data'!$M$10","v":3.97},{"$f":"'background data'!$N$10","v":4.5999999999999999E-3},{"$f":"'background data'!$O$10","v":2.73},null,"offfarm","byg","Byg er frø fra dyrkede sorter af toradet og seksradet bygplanter (Hordeum vulgare), og dyrkes i stor udstrækning i Danmark.\n\nEn undersøgelse foretaget fra 2003 til 2005 viste, at de forskellige sorter varierer med hensyn til antal af foderenheder pr. 100 kg.\n\nIndholdet af foderenheder i forskellige sorter af vårbyg varierede fra 102 til 109 FEsv pr. 100 kg. Desuden var der effekt af sort på EFOS, EFOSi, råfedt og råaske, men ingen statistisk sikker forskel i indhold af råprotein mellem sorterne.\n\nDer skelnes mellem varmebehandlet og ikke-varmebehandlet korn. Det skyldes, at der ved varmebehandling af korn (pelleteret foder) sker en nedbrydning af kornets naturlige indhold af fytase, og derfor skal der i korn, der indgår i pelleteret foder, regnes med en lavere fordøjelighed af fosfor end i ikke-varmebehandlet korn (hjemmeblandet foder).\nDer er endvidere angivet kemisk indhold for korn tilsat det kulhydratspaltende enzym ”xylanase”. Det skyldes, at tilsætning af xylanase øger EFOSi-værdien og dermed kornets energiværdi\n\nByg kan bruges i henhold til følgende kilder: [2], [3], [4], [5], [6], [7], [8], [9], [10], [11], [12], [13], [14], [15]. [16]","Forsøg har vist, at stigende indhold af byg reducerer problemer med Salmonella og maveforandringer i den hvide del af maven sammenlignet med en hvedebaseret blanding [15].","Byg giver generelt ikke anledning til problemer, og kan uden problemer transporteres som løsvare.\n\nByg bør opbevares tørt og er lagerfast ved 86 procent tørstof.\n",null,null,{"$f":"'background data'!$G$10","v":0.47300000000000003},{"$f":"'background data'!$H$10","v":0.13},{"$f":"'background data'!$J$10","v":0.39100000000000001},{"$f":"'background data'!$L$10","v":5.5E-2},{"$f":"'background data'!$M$10","v":3.97},{"$f":"'background data'!$N$10","v":4.5999999999999999E-3},{"$f":"'background data'!$O$10","v":2.73},null,1]
[50000,500,0,"BYG,  vår,  2016","2016-11-09",1.0581645567169899,1.0547823888682799,85.6,80.599999999999994,90,1,85,9.7000000000000401,2.6,1.9,4.8,null,77.307509867452097,43,49,51,53,54,null,0.55294117647058827,3.6470588235294117,0.2,1.4999999999999998,5.7,1.2,1.1000000000000001,34,2.9,14,28,0,0.04,null,3.74929411764706,1.6949411764705899,2.3654117647058799,3.4255294117647099,1.3177647058823501,3.6202352941176499,6.8747058823529397,2.27905882352941,4.8509411764705899,3.2182352941176502,5.1052941176470599,null,0.94,1.08,1.03,0.95,0.96,1,1.01,1,1.04,0.97,0.96,null,11.411764705882399,3.0588235294117645,2.2352941176470589,5.6470588235294121,null,120,36.70588235294106,1.2448994784905763,1.240920457492094,null,977.64705882352939,633.51630252100824,69.831932773109173,604,21.000000000000004,56,165,null,0.47000000000000003,3.0999999999999996,0.17,1.2749999999999997,4.8449999999999998,1.02,0.93500000000000005,null,28.9,2.4649999999999999,11.9,23.8,0,3.4000000000000002E-2,74.988284571428593,70.866373377769904,2.497569442335978,1.2972348100633184,1.7265699790911222,3.0238047891544313,2.3061710399511797,0.89649797444262158,2.565529460683222,4.9205732866038829,1.6150863353813747,3.5751935299117905,2.2122272405134553,5.7874207704252454,3.4732193197872965,0,0,0,0,0,0,0,0,0,0,0,0,0,0,0,0,0,"1.1.1","",32,16,16,"",16,16,"",16,16,"","","","","","","","","","","",16,32,"","","","","","","","","","","","",0.7,0.1,0.2,"",1.3,1,"",2,1.7,"","","","","","","","","","","",0.1,0.3,"","","","","","","","","","","","",2016,2016,2016,"",2016,2016,"",2016,2016,"","","","","","","","","","","",2016,2016,"","",{"$f":"'background data'!$G$10","v":0.47300000000000003},{"$f":"'background data'!$H$10","v":0.13},{"$f":"'background data'!$J$10","v":0.39100000000000001},{"$f":"'background data'!$L$10","v":5.5E-2},{"$f":"'background data'!$M$10","v":3.97},{"$f":"'background data'!$N$10","v":4.5999999999999999E-3},{"$f":"'background data'!$O$10","v":2.73},null,"offfarm","byg","Byg er frø fra dyrkede sorter af toradet og seksradet bygplanter (Hordeum vulgare), og dyrkes i stor udstrækning i Danmark.\n\nEn undersøgelse foretaget fra 2003 til 2005 viste, at de forskellige sorter varierer med hensyn til antal af foderenheder pr. 100 kg.\n\nIndholdet af foderenheder i forskellige sorter af vårbyg varierede fra 102 til 109 FEsv pr. 100 kg. Desuden var der effekt af sort på EFOS, EFOSi, råfedt og råaske, men ingen statistisk sikker forskel i indhold af råprotein mellem sorterne.\n\nDer skelnes mellem varmebehandlet og ikke-varmebehandlet korn. Det skyldes, at der ved varmebehandling af korn (pelleteret foder) sker en nedbrydning af kornets naturlige indhold af fytase, og derfor skal der i korn, der indgår i pelleteret foder, regnes med en lavere fordøjelighed af fosfor end i ikke-varmebehandlet korn (hjemmeblandet foder).\nDer er endvidere angivet kemisk indhold for korn tilsat det kulhydratspaltende enzym ”xylanase”. Det skyldes, at tilsætning af xylanase øger EFOSi-værdien og dermed kornets energiværdi\n\nByg kan bruges i henhold til følgende kilder: [2], [3], [4], [5], [6], [7], [8], [9], [10], [11], [12], [13], [14], [15]. [16]","Forsøg har vist, at stigende indhold af byg reducerer problemer med Salmonella og maveforandringer i den hvide del af maven sammenlignet med en hvedebaseret blanding [15].","Byg giver generelt ikke anledning til problemer, og kan uden problemer transporteres som løsvare.\n\nByg bør opbevares tørt og er lagerfast ved 86 procent tørstof.\n",null,null,{"$f":"'background data'!$G$10","v":0.47300000000000003},{"$f":"'background data'!$H$10","v":0.13},{"$f":"'background data'!$J$10","v":0.39100000000000001},{"$f":"'background data'!$L$10","v":5.5E-2},{"$f":"'background data'!$M$10","v":3.97},{"$f":"'background data'!$N$10","v":4.5999999999999999E-3},{"$f":"'background data'!$O$10","v":2.73},null,1]
[50001,500,1,"BYG,  vår,  2016 + xylanase","2016-11-09",1.06419678668215,1.0590221847866399,85.6,81.099999999999994,90,1,85,9.7000000000000401,2.6,1.9,4.8,null,77.711383210603799,43,49,51,53,54,null,0.55294117647058827,3.6470588235294117,0.2,1.4999999999999998,5.7,1.2,1.1000000000000001,34,2.9,14,28,0,0.04,null,3.74929411764706,1.6949411764705899,2.3654117647058799,3.4255294117647099,1.3177647058823501,3.6202352941176499,6.8747058823529397,2.27905882352941,4.8509411764705899,3.2182352941176502,5.1052941176470599,null,0.94,1.08,1.03,0.95,0.96,1,1.01,1,1.04,0.97,0.96,null,11.411764705882399,3.0588235294117645,2.2352941176470589,5.6470588235294121,null,120,36.70588235294106,1.2519962196260588,1.2459084526901647,null,977.64705882352939,640.49949579831878,62.848739495798227,604,21.000000000000004,56,165,null,0.47000000000000003,3.0999999999999996,0.17,1.2749999999999997,4.8449999999999998,1.02,0.93500000000000005,null,28.9,2.4649999999999999,11.9,23.8,0,3.4000000000000002E-2,75.380041714285696,70.832803347676247,2.496386321522202,1.296620298419263,1.7257520875666301,3.0223723859858929,2.3050785862595067,0.89607329539462599,2.5643141466055348,4.9182423673619899,1.614321254648462,3.5734999290025078,2.2111792888334412,5.784679217835949,3.4715740249665026,0,0,0,0,0,0,0,0,0,0,0,0,0,0,0,0,0,"1.1.1","",32,16,16,"",16,16,"",16,16,"","","","","","","","","","","",16,32,"","","","","","","","","","","","",0.7,0.1,0.2,"",1.3,1,"",2,1.7,"","","","","","","","","","","",0.1,0.3,"","","","","","","","","","","","",2016,2016,2016,"",2016,2016,"",2016,2016,"","","","","","","","","","","",2016,2016,"","",{"$f":"'background data'!$G$10","v":0.47300000000000003},{"$f":"'background data'!$H$10","v":0.13},{"$f":"'background data'!$J$10","v":0.39100000000000001},{"$f":"'background data'!$L$10","v":5.5E-2},{"$f":"'background data'!$M$10","v":3.97},{"$f":"'background data'!$N$10","v":4.5999999999999999E-3},{"$f":"'background data'!$O$10","v":2.73},null,"offfarm","byg","Byg er frø fra dyrkede sorter af toradet og seksradet bygplanter (Hordeum vulgare), og dyrkes i stor udstrækning i Danmark.\n\nEn undersøgelse foretaget fra 2003 til 2005 viste, at de forskellige sorter varierer med hensyn til antal af foderenheder pr. 100 kg.\n\nIndholdet af foderenheder i forskellige sorter af vårbyg varierede fra 102 til 109 FEsv pr. 100 kg. Desuden var der effekt af sort på EFOS, EFOSi, råfedt og råaske, men ingen statistisk sikker forskel i indhold af råprotein mellem sorterne.\n\nDer skelnes mellem varmebehandlet og ikke-varmebehandlet korn. Det skyldes, at der ved varmebehandling af korn (pelleteret foder) sker en nedbrydning af kornets naturlige indhold af fytase, og derfor skal der i korn, der indgår i pelleteret foder, regnes med en lavere fordøjelighed af fosfor end i ikke-varmebehandlet korn (hjemmeblandet foder).\nDer er endvidere angivet kemisk indhold for korn tilsat det kulhydratspaltende enzym ”xylanase”. Det skyldes, at tilsætning af xylanase øger EFOSi-værdien og dermed kornets energiværdi\n\nByg kan bruges i henhold til følgende kilder: [2], [3], [4], [5], [6], [7], [8], [9], [10], [11], [12], [13], [14], [15]. [16]","Forsøg har vist, at stigende indhold af byg reducerer problemer med Salmonella og maveforandringer i den hvide del af maven sammenlignet med en hvedebaseret blanding [15].","Byg giver generelt ikke anledning til problemer, og kan uden problemer transporteres som løsvare.\n\nByg bør opbevares tørt og er lagerfast ved 86 procent tørstof.\n",null,null,{"$f":"'background data'!$G$10","v":0.47300000000000003},{"$f":"'background data'!$H$10","v":0.13},{"$f":"'background data'!$J$10","v":0.39100000000000001},{"$f":"'background data'!$L$10","v":5.5E-2},{"$f":"'background data'!$M$10","v":3.97},{"$f":"'background data'!$N$10","v":4.5999999999999999E-3},{"$f":"'background data'!$O$10","v":2.73},null,1]
[50010,500,10,"BYG,  vår,  2016, varmebehandlet","2016-11-09",1.0581645567169899,1.0547823888682799,85.6,80.599999999999994,90,1,85,9.7000000000000401,2.6,1.9,4.8,null,77.307509867452097,30,42,46,50,53,null,0.55294117647058827,3.6470588235294117,0.2,1.4999999999999998,5.7,1.2,1.1000000000000001,34,2.9,14,28,0,0.04,null,3.74929411764706,1.6949411764705899,2.3654117647058799,3.4255294117647099,1.3177647058823501,3.6202352941176499,6.8747058823529397,2.27905882352941,4.8509411764705899,3.2182352941176502,5.1052941176470599,null,0.94,1.08,1.03,0.95,0.96,1,1.01,1,1.04,0.97,0.96,null,11.411764705882399,3.0588235294117645,2.2352941176470589,5.6470588235294121,null,120,36.70588235294106,1.2448994784905763,1.240920457492094,null,977.64705882352939,633.51630252100824,69.831932773109173,604,21.000000000000004,56,165,null,0.47000000000000003,3.0999999999999996,0.17,1.2749999999999997,4.8449999999999998,1.02,0.93500000000000005,null,28.9,2.4649999999999999,11.9,23.8,0,3.4000000000000002E-2,74.988284571428593,70.866373377769904,2.497569442335978,1.2972348100633184,1.7265699790911222,3.0238047891544313,2.3061710399511797,0.89649797444262158,2.565529460683222,4.9205732866038829,1.6150863353813747,3.5751935299117905,2.2122272405134553,5.7874207704252454,3.4732193197872965,0,0,0,0,0,0,0,0,0,0,0,0,0,0,0,0,0,"1.1.1","",32,16,16,"",16,16,"",16,16,"","","","","","","","","","","",16,32,"","","","","","","","","","","","",0.7,0.1,0.2,"",1.3,1,"",2,1.7,"","","","","","","","","","","",0.1,0.3,"","","","","","","","","","","","",2016,2016,2016,"",2016,2016,"",2016,2016,"","","","","","","","","","","",2016,2016,"","",{"$f":"'background data'!$G$10","v":0.47300000000000003},{"$f":"'background data'!$H$10","v":0.13},{"$f":"'background data'!$J$10","v":0.39100000000000001},{"$f":"'background data'!$L$10","v":5.5E-2},{"$f":"'background data'!$M$10","v":3.97},{"$f":"'background data'!$N$10","v":4.5999999999999999E-3},{"$f":"'background data'!$O$10","v":2.73},null,"offfarm","byg","Byg er frø fra dyrkede sorter af toradet og seksradet bygplanter (Hordeum vulgare), og dyrkes i stor udstrækning i Danmark.\n\nEn undersøgelse foretaget fra 2003 til 2005 viste, at de forskellige sorter varierer med hensyn til antal af foderenheder pr. 100 kg.\n\nIndholdet af foderenheder i forskellige sorter af vårbyg varierede fra 102 til 109 FEsv pr. 100 kg. Desuden var der effekt af sort på EFOS, EFOSi, råfedt og råaske, men ingen statistisk sikker forskel i indhold af råprotein mellem sorterne.\n\nDer skelnes mellem varmebehandlet og ikke-varmebehandlet korn. Det skyldes, at der ved varmebehandling af korn (pelleteret foder) sker en nedbrydning af kornets naturlige indhold af fytase, og derfor skal der i korn, der indgår i pelleteret foder, regnes med en lavere fordøjelighed af fosfor end i ikke-varmebehandlet korn (hjemmeblandet foder).\nDer er endvidere angivet kemisk indhold for korn tilsat det kulhydratspaltende enzym ”xylanase”. Det skyldes, at tilsætning af xylanase øger EFOSi-værdien og dermed kornets energiværdi\n\nByg kan bruges i henhold til følgende kilder: [2], [3], [4], [5], [6], [7], [8], [9], [10], [11], [12], [13], [14], [15]. [16]","Forsøg har vist, at stigende indhold af byg reducerer problemer med Salmonella og maveforandringer i den hvide del af maven sammenlignet med en hvedebaseret blanding [15].","Byg giver generelt ikke anledning til problemer, og kan uden problemer transporteres som løsvare.\n\nByg bør opbevares tørt og er lagerfast ved 86 procent tørstof.\n",null,null,{"$f":"'background data'!$G$10","v":0.47300000000000003},{"$f":"'background data'!$H$10","v":0.13},{"$f":"'background data'!$J$10","v":0.39100000000000001},{"$f":"'background data'!$L$10","v":5.5E-2},{"$f":"'background data'!$M$10","v":3.97},{"$f":"'background data'!$N$10","v":4.5999999999999999E-3},{"$f":"'background data'!$O$10","v":2.73},null,1]
[50011,500,11,"BYG,  vår,  2016, varmebehandlet  + xylanase","2016-11-09",1.06419678668215,1.0590221847866399,85.6,81.099999999999994,90,1,85,9.7000000000000401,2.6,1.9,4.8,null,77.711383210603799,30,42,46,50,53,null,0.55294117647058827,3.6470588235294117,0.2,1.4999999999999998,5.7,1.2,1.1000000000000001,34,2.9,14,28,0,0.04,null,3.74929411764706,1.6949411764705899,2.3654117647058799,3.4255294117647099,1.3177647058823501,3.6202352941176499,6.8747058823529397,2.27905882352941,4.8509411764705899,3.2182352941176502,5.1052941176470599,null,0.94,1.08,1.03,0.95,0.96,1,1.01,1,1.04,0.97,0.96,null,11.411764705882399,3.0588235294117645,2.2352941176470589,5.6470588235294121,null,120,36.70588235294106,1.2519962196260588,1.2459084526901647,null,977.64705882352939,640.49949579831878,62.848739495798227,604,21.000000000000004,56,165,null,0.47000000000000003,3.0999999999999996,0.17,1.2749999999999997,4.8449999999999998,1.02,0.93500000000000005,null,28.9,2.4649999999999999,11.9,23.8,0,3.4000000000000002E-2,75.380041714285696,70.832803347676247,2.496386321522202,1.296620298419263,1.7257520875666301,3.0223723859858929,2.3050785862595067,0.89607329539462599,2.5643141466055348,4.9182423673619899,1.614321254648462,3.5734999290025078,2.2111792888334412,5.784679217835949,3.4715740249665026,0,0,0,0,0,0,0,0,0,0,0,0,0,0,0,0,0,"1.1.1","",32,16,16,"",16,16,"",16,16,"","","","","","","","","","","",16,32,"","","","","","","","","","","","",0.7,0.1,0.2,"",1.3,1,"",2,1.7,"","","","","","","","","","","",0.1,0.3,"","","","","","","","","","","","",2016,2016,2016,"",2016,2016,"",2016,2016,"","","","","","","","","","","",2016,2016,"","",{"$f":"'background data'!$G$10","v":0.47300000000000003},{"$f":"'background data'!$H$10","v":0.13},{"$f":"'background data'!$J$10","v":0.39100000000000001},{"$f":"'background data'!$L$10","v":5.5E-2},{"$f":"'background data'!$M$10","v":3.97},{"$f":"'background data'!$N$10","v":4.5999999999999999E-3},{"$f":"'background data'!$O$10","v":2.73},null,"offfarm","byg","Byg er frø fra dyrkede sorter af toradet og seksradet bygplanter (Hordeum vulgare), og dyrkes i stor udstrækning i Danmark.\n\nEn undersøgelse foretaget fra 2003 til 2005 viste, at de forskellige sorter varierer med hensyn til antal af foderenheder pr. 100 kg.\n\nIndholdet af foderenheder i forskellige sorter af vårbyg varierede fra 102 til 109 FEsv pr. 100 kg. Desuden var der effekt af sort på EFOS, EFOSi, råfedt og råaske, men ingen statistisk sikker forskel i indhold af råprotein mellem sorterne.\n\nDer skelnes mellem varmebehandlet og ikke-varmebehandlet korn. Det skyldes, at der ved varmebehandling af korn (pelleteret foder) sker en nedbrydning af kornets naturlige indhold af fytase, og derfor skal der i korn, der indgår i pelleteret foder, regnes med en lavere fordøjelighed af fosfor end i ikke-varmebehandlet korn (hjemmeblandet foder).\nDer er endvidere angivet kemisk indhold for korn tilsat det kulhydratspaltende enzym ”xylanase”. Det skyldes, at tilsætning af xylanase øger EFOSi-værdien og dermed kornets energiværdi\n\nByg kan bruges i henhold til følgende kilder: [2], [3], [4], [5], [6], [7], [8], [9], [10], [11], [12], [13], [14], [15]. [16]","Forsøg har vist, at stigende indhold af byg reducerer problemer med Salmonella og maveforandringer i den hvide del af maven sammenlignet med en hvedebaseret blanding [15].","Byg giver generelt ikke anledning til problemer, og kan uden problemer transporteres som løsvare.\n\nByg bør opbevares tørt og er lagerfast ved 86 procent tørstof.\n",null,null,{"$f":"'background data'!$G$10","v":0.47300000000000003},{"$f":"'background data'!$H$10","v":0.13},{"$f":"'background data'!$J$10","v":0.39100000000000001},{"$f":"'background data'!$L$10","v":5.5E-2},{"$f":"'background data'!$M$10","v":3.97},{"$f":"'background data'!$N$10","v":4.5999999999999999E-3},{"$f":"'background data'!$O$10","v":2.73},null,1]
[50200,502,0,"BYG,  vår,  gns. 2014-2016","2016-11-09",1.05652363530778,1.0552031369202199,85.9,80.099999999999994,90,1,85,8.8999999999999808,2.6,1.8,4.8,null,75.652850080256798,43,49,51,53,54,null,0.52941176470588236,3.4117647058823528,0.2,1.4999999999999998,5.7,1.2,1.1000000000000001,34,2.9,14,28,0,0.04,null,3.8697647058823499,1.73164705882353,2.4284705882352902,3.4951764705882402,1.3525882352941201,3.6334117647058801,6.8982352941176499,2.3063529411764701,4.7436470588235302,3.19941176470588,5.1617647058823497,null,0.93979487733984202,1.07984084344248,1.0298133265506999,0.94986852960372503,0.95982752284767003,0.99997514724094605,1.00997639474776,0.99991835406371998,1.0401578477529601,0.970038811056257,0.95992759482045098,null,10.470588235294095,3.0588235294117645,2.1176470588235294,5.6470588235294121,null,120,36.70588235294106,1.2429689827150354,1.2414154552002588,null,978.82352941176475,634.75394957983178,81.102521008403528,604,21.000000000000004,55.999999999999879,165,null,0.45,2.9,0.17,1.2749999999999997,4.8449999999999998,1.02,0.93500000000000005,null,28.9,2.4649999999999999,11.9,23.8,0,3.4000000000000002E-2,67.331036571428399,63.728850279638024,2.317681297657836,1.191667823795062,1.5937765741970622,2.7854443979921144,2.1157711490881392,0.82736070071954226,2.3154739962246307,4.4400239303423152,1.4696922086081095,3.1444717862685052,1.9778590170962473,5.1223308033647523,3.1577137899016985,0,0,0,0,0,0,0,0,0,0,0,0,0,0,0,0,0,"1.1.1","",115,45,45,"",45,45,"",45,45,"","","","","","","","","","","",45,115,"","","","","","","","","","","","",0.66,0.16,0.19,"",1.57,1.47,"",2.6,2.2200000000000002,"","","","","","","","","","","",0.11,0.26,"","","","","","","","","","","","","14-'16","14-'16","14-'16","","14-'16","14-'16","","14-'16","14-'16","","","","","","","","","","","","14-'16","14-'16","","",{"$f":"'background data'!$G$10","v":0.47300000000000003},{"$f":"'background data'!$H$10","v":0.13},{"$f":"'background data'!$J$10","v":0.39100000000000001},{"$f":"'background data'!$L$10","v":5.5E-2},{"$f":"'background data'!$M$10","v":3.97},{"$f":"'background data'!$N$10","v":4.5999999999999999E-3},{"$f":"'background data'!$O$10","v":2.73},null,"offfarm","byg","Byg er frø fra dyrkede sorter af toradet og seksradet bygplanter (Hordeum vulgare), og dyrkes i stor udstrækning i Danmark.\n\nEn undersøgelse foretaget fra 2003 til 2005 viste, at de forskellige sorter varierer med hensyn til antal af foderenheder pr. 100 kg.\n\nIndholdet af foderenheder i forskellige sorter af vårbyg varierede fra 102 til 109 FEsv pr. 100 kg. Desuden var der effekt af sort på EFOS, EFOSi, råfedt og råaske, men ingen statistisk sikker forskel i indhold af råprotein mellem sorterne.\n\nDer skelnes mellem varmebehandlet og ikke-varmebehandlet korn. Det skyldes, at der ved varmebehandling af korn (pelleteret foder) sker en nedbrydning af kornets naturlige indhold af fytase, og derfor skal der i korn, der indgår i pelleteret foder, regnes med en lavere fordøjelighed af fosfor end i ikke-varmebehandlet korn (hjemmeblandet foder).\nDer er endvidere angivet kemisk indhold for korn tilsat det kulhydratspaltende enzym ”xylanase”. Det skyldes, at tilsætning af xylanase øger EFOSi-værdien og dermed kornets energiværdi\n\nByg kan bruges i henhold til følgende kilder: [2], [3], [4], [5], [6], [7], [8], [9], [10], [11], [12], [13], [14], [15]. [16]","Forsøg har vist, at stigende indhold af byg reducerer problemer med Salmonella og maveforandringer i den hvide del af maven sammenlignet med en hvedebaseret blanding [15].","Byg giver generelt ikke anledning til problemer, og kan uden problemer transporteres som løsvare.\n\nByg bør opbevares tørt og er lagerfast ved 86 procent tørstof.\n",null,null,{"$f":"'background data'!$G$10","v":0.47300000000000003},{"$f":"'background data'!$H$10","v":0.13},{"$f":"'background data'!$J$10","v":0.39100000000000001},{"$f":"'background data'!$L$10","v":5.5E-2},{"$f":"'background data'!$M$10","v":3.97},{"$f":"'background data'!$N$10","v":4.5999999999999999E-3},{"$f":"'background data'!$O$10","v":2.73},null,1]
[50201,502,1,"BYG,  vår,  gns. 2014-2016 + xylanase","2016-11-09",1.0625631242741,1.0594480348794,85.9,80.599999999999994,90,1,85,8.8999999999999808,2.6,1.8,4.8,null,76.093556340288899,43,49,51,53,54,null,0.52941176470588236,3.4117647058823528,0.2,1.4999999999999998,5.7,1.2,1.1000000000000001,34,2.9,14,28,0,0.04,null,3.8697647058823499,1.73164705882353,2.4284705882352902,3.4951764705882402,1.3525882352941201,3.6334117647058801,6.8982352941176499,2.3063529411764701,4.7436470588235302,3.19941176470588,5.1617647058823497,null,0.93979487733984202,1.07984084344248,1.0298133265506999,0.94986852960372503,0.95982752284767003,0.99997514724094605,1.00997639474776,0.99991835406371998,1.0401578477529601,0.970038811056257,0.95992759482045098,null,10.470588235294095,3.0588235294117645,2.1176470588235294,5.6470588235294121,null,120,36.70588235294106,1.2500742638518825,1.2464094527992939,null,978.82352941176475,641.74554621848699,74.110924369748119,604,21.000000000000004,55.999999999999879,165,null,0.45,2.9,0.17,1.2749999999999997,4.8449999999999998,1.02,0.93500000000000005,null,28.9,2.4649999999999999,11.9,23.8,0,3.4000000000000002E-2,67.723265142857002,63.73575705360826,2.3179324821808089,1.1917969737839578,1.5939493037302115,2.783487513125475,2.1160004510924137,0.82745036801036276,2.3157249415257888,4.4405051290705879,1.4698514901869526,3.1448125762841426,1.9780733725273623,5.1212820691875303,3.1580560150526895,0,0,0,0,0,0,0,0,0,0,0,0,0,0,0,0,0,"1.1.1","",115,45,45,"",45,45,"",45,45,"","","","","","","","","","","",45,115,"","","","","","","","","","","","",0.66,0.16,0.19,"",1.57,1.47,"",2.6,2.2200000000000002,"","","","","","","","","","","",0.11,0.26,"","","","","","","","","","","","","14-'16","14-'16","14-'16","","14-'16","14-'16","","14-'16","14-'16","","","","","","","","","","","","14-'16","14-'16","","",{"$f":"'background data'!$G$10","v":0.47300000000000003},{"$f":"'background data'!$H$10","v":0.13},{"$f":"'background data'!$J$10","v":0.39100000000000001},{"$f":"'background data'!$L$10","v":5.5E-2},{"$f":"'background data'!$M$10","v":3.97},{"$f":"'background data'!$N$10","v":4.5999999999999999E-3},{"$f":"'background data'!$O$10","v":2.73},null,"offfarm","byg","Byg er frø fra dyrkede sorter af toradet og seksradet bygplanter (Hordeum vulgare), og dyrkes i stor udstrækning i Danmark.\n\nEn undersøgelse foretaget fra 2003 til 2005 viste, at de forskellige sorter varierer med hensyn til antal af foderenheder pr. 100 kg.\n\nIndholdet af foderenheder i forskellige sorter af vårbyg varierede fra 102 til 109 FEsv pr. 100 kg. Desuden var der effekt af sort på EFOS, EFOSi, råfedt og råaske, men ingen statistisk sikker forskel i indhold af råprotein mellem sorterne.\n\nDer skelnes mellem varmebehandlet og ikke-varmebehandlet korn. Det skyldes, at der ved varmebehandling af korn (pelleteret foder) sker en nedbrydning af kornets naturlige indhold af fytase, og derfor skal der i korn, der indgår i pelleteret foder, regnes med en lavere fordøjelighed af fosfor end i ikke-varmebehandlet korn (hjemmeblandet foder).\nDer er endvidere angivet kemisk indhold for korn tilsat det kulhydratspaltende enzym ”xylanase”. Det skyldes, at tilsætning af xylanase øger EFOSi-værdien og dermed kornets energiværdi\n\nByg kan bruges i henhold til følgende kilder: [2], [3], [4], [5], [6], [7], [8], [9], [10], [11], [12], [13], [14], [15]. [16]","Forsøg har vist, at stigende indhold af byg reducerer problemer med Salmonella og maveforandringer i den hvide del af maven sammenlignet med en hvedebaseret blanding [15].","Byg giver generelt ikke anledning til problemer, og kan uden problemer transporteres som løsvare.\n\nByg bør opbevares tørt og er lagerfast ved 86 procent tørstof.\n",null,null,{"$f":"'background data'!$G$10","v":0.47300000000000003},{"$f":"'background data'!$H$10","v":0.13},{"$f":"'background data'!$J$10","v":0.39100000000000001},{"$f":"'background data'!$L$10","v":5.5E-2},{"$f":"'background data'!$M$10","v":3.97},{"$f":"'background data'!$N$10","v":4.5999999999999999E-3},{"$f":"'background data'!$O$10","v":2.73},null,1]
[50210,502,10,"BYG,  vår,  gns. 2014-2016, varmebehandlet","2016-11-09",1.05652363530778,1.0552031369202199,85.9,80.099999999999994,90,1,85,8.8999999999999808,2.6,1.8,4.8,null,75.652850080256798,30,42,46,50,53,null,0.52941176470588236,3.4117647058823528,0.2,1.4999999999999998,5.7,1.2,1.1000000000000001,34,2.9,14,28,0,0.04,null,3.8697647058823499,1.73164705882353,2.4284705882352902,3.4951764705882402,1.3525882352941201,3.6334117647058801,6.8982352941176499,2.3063529411764701,4.7436470588235302,3.19941176470588,5.1617647058823497,null,0.94,1.08,1.03,0.95,0.96,1,1.01,1,1.04,0.97,0.96,null,10.470588235294095,3.0588235294117645,2.1176470588235294,5.6470588235294121,null,120,36.70588235294106,1.2429689827150354,1.2414154552002588,null,978.82352941176475,634.75394957983178,81.102521008403528,604,21.000000000000004,56,165,null,0.45,2.9,0.17,1.2749999999999997,4.8449999999999998,1.02,0.93500000000000005,null,28.9,2.4649999999999999,11.9,23.8,0,3.4000000000000002E-2,67.331036571428399,63.728850279638024,2.3181871622508741,1.191843462408557,1.5940654768193601,2.7859089392279075,2.1160639909528083,0.82750937411576508,2.315531543572166,4.4401277029506367,1.4698122128023867,3.1439946011885871,1.9777798833577809,5.121774484546358,3.1579519691510032,0,0,0,0,0,0,0,0,0,0,0,0,0,0,0,0,0,"1.1.1","",115,45,45,"",45,45,"",45,45,"","","","","","","","","","","",45,115,"","","","","","","","","","","","",0.66,0.16,0.19,"",1.57,1.47,"",2.6,2.2200000000000002,"","","","","","","","","","","",0.11,0.26,"","","","","","","","","","","","","14-'16","14-'16","14-'16","","14-'16","14-'16","","14-'16","14-'16","","","","","","","","","","","","14-'16","14-'16","","",{"$f":"'background data'!$G$10","v":0.47300000000000003},{"$f":"'background data'!$H$10","v":0.13},{"$f":"'background data'!$J$10","v":0.39100000000000001},{"$f":"'background data'!$L$10","v":5.5E-2},{"$f":"'background data'!$M$10","v":3.97},{"$f":"'background data'!$N$10","v":4.5999999999999999E-3},{"$f":"'background data'!$O$10","v":2.73},null,"offfarm","byg","Byg er frø fra dyrkede sorter af toradet og seksradet bygplanter (Hordeum vulgare), og dyrkes i stor udstrækning i Danmark.\n\nEn undersøgelse foretaget fra 2003 til 2005 viste, at de forskellige sorter varierer med hensyn til antal af foderenheder pr. 100 kg.\n\nIndholdet af foderenheder i forskellige sorter af vårbyg varierede fra 102 til 109 FEsv pr. 100 kg. Desuden var der effekt af sort på EFOS, EFOSi, råfedt og råaske, men ingen statistisk sikker forskel i indhold af råprotein mellem sorterne.\n\nDer skelnes mellem varmebehandlet og ikke-varmebehandlet korn. Det skyldes, at der ved varmebehandling af korn (pelleteret foder) sker en nedbrydning af kornets naturlige indhold af fytase, og derfor skal der i korn, der indgår i pelleteret foder, regnes med en lavere fordøjelighed af fosfor end i ikke-varmebehandlet korn (hjemmeblandet foder).\nDer er endvidere angivet kemisk indhold for korn tilsat det kulhydratspaltende enzym ”xylanase”. Det skyldes, at tilsætning af xylanase øger EFOSi-værdien og dermed kornets energiværdi\n\nByg kan bruges i henhold til følgende kilder: [2], [3], [4], [5], [6], [7], [8], [9], [10], [11], [12], [13], [14], [15]. [16]","Forsøg har vist, at stigende indhold af byg reducerer problemer med Salmonella og maveforandringer i den hvide del af maven sammenlignet med en hvedebaseret blanding [15].","Byg giver generelt ikke anledning til problemer, og kan uden problemer transporteres som løsvare.\n\nByg bør opbevares tørt og er lagerfast ved 86 procent tørstof.\n",null,null,{"$f":"'background data'!$G$10","v":0.47300000000000003},{"$f":"'background data'!$H$10","v":0.13},{"$f":"'background data'!$J$10","v":0.39100000000000001},{"$f":"'background data'!$L$10","v":5.5E-2},{"$f":"'background data'!$M$10","v":3.97},{"$f":"'background data'!$N$10","v":4.5999999999999999E-3},{"$f":"'background data'!$O$10","v":2.73},null,1]
[50211,502,11,"BYG,  vår,  gns. 2014-2016, varmebehandlet  + xylanase","2016-11-09",1.0625631242741,1.0594480348794,85.9,80.599999999999994,90,1,85,8.8999999999999808,2.6,1.8,4.8,null,76.093556340288899,30,42,46,50,53,null,0.52941176470588236,3.4117647058823528,0.2,1.4999999999999998,5.7,1.2,1.1000000000000001,34,2.9,14,28,0,0.04,null,3.8697647058823499,1.73164705882353,2.4284705882352902,3.4951764705882402,1.3525882352941201,3.6334117647058801,6.8982352941176499,2.3063529411764701,4.7436470588235302,3.19941176470588,5.1617647058823497,null,0.94,1.08,1.03,0.95,0.96,1,1.01,1,1.04,0.97,0.96,null,10.470588235294095,3.0588235294117645,2.1176470588235294,5.6470588235294121,null,120,36.70588235294106,1.2500742638518825,1.2464094527992939,null,978.82352941176475,641.74554621848699,74.110924369748119,604,21.000000000000004,56,165,null,0.45,2.9,0.17,1.2749999999999997,4.8449999999999998,1.02,0.93500000000000005,null,28.9,2.4649999999999999,11.9,23.8,0,3.4000000000000002E-2,67.723265142857002,63.73575705360826,2.3184384015982058,1.1919726314327375,1.5942382376630539,2.7862108690957919,2.1162933246945466,0.8275990575194383,2.3157824951101578,4.4406089129255335,1.4699715073869819,3.1443353394880922,1.9779942302125777,5.1223295697006694,3.1582942201152666,0,0,0,0,0,0,0,0,0,0,0,0,0,0,0,0,0,"1.1.1","",115,45,45,"",45,45,"",45,45,"","","","","","","","","","","",45,115,"","","","","","","","","","","","",0.66,0.16,0.19,"",1.57,1.47,"",2.6,2.2200000000000002,"","","","","","","","","","","",0.11,0.26,"","","","","","","","","","","","","14-'16","14-'16","14-'16","","14-'16","14-'16","","14-'16","14-'16","","","","","","","","","","","","14-'16","14-'16","","",{"$f":"'background data'!$G$10","v":0.47300000000000003},{"$f":"'background data'!$H$10","v":0.13},{"$f":"'background data'!$J$10","v":0.39100000000000001},{"$f":"'background data'!$L$10","v":5.5E-2},{"$f":"'background data'!$M$10","v":3.97},{"$f":"'background data'!$N$10","v":4.5999999999999999E-3},{"$f":"'background data'!$O$10","v":2.73},null,"offfarm","byg","Byg er frø fra dyrkede sorter af toradet og seksradet bygplanter (Hordeum vulgare), og dyrkes i stor udstrækning i Danmark.\n\nEn undersøgelse foretaget fra 2003 til 2005 viste, at de forskellige sorter varierer med hensyn til antal af foderenheder pr. 100 kg.\n\nIndholdet af foderenheder i forskellige sorter af vårbyg varierede fra 102 til 109 FEsv pr. 100 kg. Desuden var der effekt af sort på EFOS, EFOSi, råfedt og råaske, men ingen statistisk sikker forskel i indhold af råprotein mellem sorterne.\n\nDer skelnes mellem varmebehandlet og ikke-varmebehandlet korn. Det skyldes, at der ved varmebehandling af korn (pelleteret foder) sker en nedbrydning af kornets naturlige indhold af fytase, og derfor skal der i korn, der indgår i pelleteret foder, regnes med en lavere fordøjelighed af fosfor end i ikke-varmebehandlet korn (hjemmeblandet foder).\nDer er endvidere angivet kemisk indhold for korn tilsat det kulhydratspaltende enzym ”xylanase”. Det skyldes, at tilsætning af xylanase øger EFOSi-værdien og dermed kornets energiværdi\n\nByg kan bruges i henhold til følgende kilder: [2], [3], [4], [5], [6], [7], [8], [9], [10], [11], [12], [13], [14], [15]. [16]","Forsøg har vist, at stigende indhold af byg reducerer problemer med Salmonella og maveforandringer i den hvide del af maven sammenlignet med en hvedebaseret blanding [15].","Byg giver generelt ikke anledning til problemer, og kan uden problemer transporteres som løsvare.\n\nByg bør opbevares tørt og er lagerfast ved 86 procent tørstof.\n",null,null,{"$f":"'background data'!$G$10","v":0.47300000000000003},{"$f":"'background data'!$H$10","v":0.13},{"$f":"'background data'!$J$10","v":0.39100000000000001},{"$f":"'background data'!$L$10","v":5.5E-2},{"$f":"'background data'!$M$10","v":3.97},{"$f":"'background data'!$N$10","v":4.5999999999999999E-3},{"$f":"'background data'!$O$10","v":2.73},null,1]
[50100,501,0,"BYG,  vår, 2015","2015-10-27",1.0534497289972899,1.0536255324675301,86,79.699984000000001,90,1,85,8.3000000000000007,2.6,1.8,4.8,null,74.209301204819297,43,49,51,53,54,null,0.54117647058823526,3.2941176470588234,0.2,1.4999999999999998,5.7,1.2,1.1000000000000001,34,2.9,14,28,0,0.04,null,3.9601176470588202,1.75917647058824,2.4757647058823502,3.5474117647058798,1.3787058823529399,3.6432941176470601,6.9158823529411801,2.3268235294117598,4.6631764705882297,3.1852941176470599,5.20411764705882,null,0.94,1.08,1.03,0.95,0.96,1,1.01,1,1.04,0.97,0.96,null,9.764705882352942,3.0588235294117645,2.1176470588235294,5.6470588235294121,null,120,36.705882352941174,1.2393526223497529,1.2395594499618001,null,978.82352941176475,635.16470588235291,88.094341378151285,604,21.000000000000004,56,165,null,0.45999999999999996,2.8,0.17,1.2749999999999997,4.8449999999999998,1.02,0.93500000000000005,null,28.9,2.4649999999999999,11.9,23.8,0,3.4000000000000002E-2,61.593719999999998,58.468589724378248,2.1764994432818332,1.1108509269653155,1.4909710496760122,2.6018219766413275,1.9704155490131985,0.77386549042445785,2.1301826900994656,4.084055067549472,1.3604609030220625,2.8355532594604567,1.8065246526869587,4.6420779121474149,2.921063227999479,0,0,0,0,0,0,0,0,0,0,0,0,0,0,0,0,0,"1.1.1","",32,16,16,"",16,16,"",16,16,"","","","","","","","","","","",16,32,"","","","","","","","","","","","",0.7,0.1,0.2,"",1.3,1,"",2,1.7,"","","","","","","","","","","",0.1,0.3,"","","","","","","","","","","","",2015,2015,2015,"",2015,2015,"",2015,2015,"","","","","","","","","","","",2015,2015,"","",{"$f":"'background data'!$G$10","v":0.47300000000000003},{"$f":"'background data'!$H$10","v":0.13},{"$f":"'background data'!$J$10","v":0.39100000000000001},{"$f":"'background data'!$L$10","v":5.5E-2},{"$f":"'background data'!$M$10","v":3.97},{"$f":"'background data'!$N$10","v":4.5999999999999999E-3},{"$f":"'background data'!$O$10","v":2.73},null,"offfarm","byg","Byg er frø fra dyrkede sorter af toradet og seksradet bygplanter (Hordeum vulgare), og dyrkes i stor udstrækning i Danmark.\n\nEn undersøgelse foretaget fra 2003 til 2005 viste, at de forskellige sorter varierer med hensyn til antal af foderenheder pr. 100 kg.\n\nIndholdet af foderenheder i forskellige sorter af vårbyg varierede fra 102 til 109 FEsv pr. 100 kg. Desuden var der effekt af sort på EFOS, EFOSi, råfedt og råaske, men ingen statistisk sikker forskel i indhold af råprotein mellem sorterne.\n\nDer skelnes mellem varmebehandlet og ikke-varmebehandlet korn. Det skyldes, at der ved varmebehandling af korn (pelleteret foder) sker en nedbrydning af kornets naturlige indhold af fytase, og derfor skal der i korn, der indgår i pelleteret foder, regnes med en lavere fordøjelighed af fosfor end i ikke-varmebehandlet korn (hjemmeblandet foder).\nDer er endvidere angivet kemisk indhold for korn tilsat det kulhydratspaltende enzym ”xylanase”. Det skyldes, at tilsætning af xylanase øger EFOSi-værdien og dermed kornets energiværdi\n\nByg kan bruges i henhold til følgende kilder: [2], [3], [4], [5], [6], [7], [8], [9], [10], [11], [12], [13], [14], [15]. [16]","Forsøg har vist, at stigende indhold af byg reducerer problemer med Salmonella og maveforandringer i den hvide del af maven sammenlignet med en hvedebaseret blanding [15].","Byg giver generelt ikke anledning til problemer, og kan uden problemer transporteres som løsvare.\n\nByg bør opbevares tørt og er lagerfast ved 86 procent tørstof.\n",null,null,{"$f":"'background data'!$G$10","v":0.47300000000000003},{"$f":"'background data'!$H$10","v":0.13},{"$f":"'background data'!$J$10","v":0.39100000000000001},{"$f":"'background data'!$L$10","v":5.5E-2},{"$f":"'background data'!$M$10","v":3.97},{"$f":"'background data'!$N$10","v":4.5999999999999999E-3},{"$f":"'background data'!$O$10","v":2.73},null,1]
[50101,501,1,"BYG,  vår, 2015 + xylanase","2015-10-27",1.05948921796361,1.0578704304267099,86,80.199988000000005,90,1,85,8.3000000000000007,2.6,1.8,4.8,null,74.6818657487091,43,49,51,53,54,null,0.54117647058823526,3.2941176470588234,0.2,1.4999999999999998,5.7,1.2,1.1000000000000001,34,2.9,14,28,0,0.04,null,3.9601176470588202,1.75917647058824,2.4757647058823502,3.5474117647058798,1.3787058823529399,3.6432941176470601,6.9158823529411801,2.3268235294117598,4.6631764705882297,3.1852941176470599,5.20411764705882,null,0.94,1.08,1.03,0.95,0.96,1,1.01,1,1.04,0.97,0.96,null,9.764705882352942,3.0588235294117645,2.1176470588235294,5.6470588235294121,null,120,36.705882352941174,1.2464579034865999,1.2445534475608351,null,978.82352941176475,642.15630252100937,81.102688806722824,604,21.000000000000004,56,165,null,0.45999999999999996,2.8,0.17,1.2749999999999997,4.8449999999999998,1.02,0.93500000000000005,null,28.9,2.4649999999999999,11.9,23.8,0,3.4000000000000002E-2,61.985948571428601,58.505502010269275,2.1778735070324831,1.1115522273933132,1.4919123268626231,2.603464554255936,1.9716595082468962,0.7743540458070719,2.1315275132400227,4.0866334059181364,1.3613197867754219,2.8373433958920957,1.8076651446119965,4.6450085405041017,2.9229073484321053,0,0,0,0,0,0,0,0,0,0,0,0,0,0,0,0,0,"1.1.1","",32,16,16,"",16,16,"",16,16,"","","","","","","","","","","",16,32,"","","","","","","","","","","","",0.7,0.1,0.2,"",1.3,1,"",2,1.7,"","","","","","","","","","","",0.1,0.3,"","","","","","","","","","","","",2015,2015,2015,"",2015,2015,"",2015,2015,"","","","","","","","","","","",2015,2015,"","",{"$f":"'background data'!$G$10","v":0.47300000000000003},{"$f":"'background data'!$H$10","v":0.13},{"$f":"'background data'!$J$10","v":0.39100000000000001},{"$f":"'background data'!$L$10","v":5.5E-2},{"$f":"'background data'!$M$10","v":3.97},{"$f":"'background data'!$N$10","v":4.5999999999999999E-3},{"$f":"'background data'!$O$10","v":2.73},null,"offfarm","byg","Byg er frø fra dyrkede sorter af toradet og seksradet bygplanter (Hordeum vulgare), og dyrkes i stor udstrækning i Danmark.\n\nEn undersøgelse foretaget fra 2003 til 2005 viste, at de forskellige sorter varierer med hensyn til antal af foderenheder pr. 100 kg.\n\nIndholdet af foderenheder i forskellige sorter af vårbyg varierede fra 102 til 109 FEsv pr. 100 kg. Desuden var der effekt af sort på EFOS, EFOSi, råfedt og råaske, men ingen statistisk sikker forskel i indhold af råprotein mellem sorterne.\n\nDer skelnes mellem varmebehandlet og ikke-varmebehandlet korn. Det skyldes, at der ved varmebehandling af korn (pelleteret foder) sker en nedbrydning af kornets naturlige indhold af fytase, og derfor skal der i korn, der indgår i pelleteret foder, regnes med en lavere fordøjelighed af fosfor end i ikke-varmebehandlet korn (hjemmeblandet foder).\nDer er endvidere angivet kemisk indhold for korn tilsat det kulhydratspaltende enzym ”xylanase”. Det skyldes, at tilsætning af xylanase øger EFOSi-værdien og dermed kornets energiværdi\n\nByg kan bruges i henhold til følgende kilder: [2], [3], [4], [5], [6], [7], [8], [9], [10], [11], [12], [13], [14], [15]. [16]","Forsøg har vist, at stigende indhold af byg reducerer problemer med Salmonella og maveforandringer i den hvide del af maven sammenlignet med en hvedebaseret blanding [15].","Byg giver generelt ikke anledning til problemer, og kan uden problemer transporteres som løsvare.\n\nByg bør opbevares tørt og er lagerfast ved 86 procent tørstof.\n",null,null,{"$f":"'background data'!$G$10","v":0.47300000000000003},{"$f":"'background data'!$H$10","v":0.13},{"$f":"'background data'!$J$10","v":0.39100000000000001},{"$f":"'background data'!$L$10","v":5.5E-2},{"$f":"'background data'!$M$10","v":3.97},{"$f":"'background data'!$N$10","v":4.5999999999999999E-3},{"$f":"'background data'!$O$10","v":2.73},null,1]
[50110,501,10,"BYG,  vår, 2015, varmebehandlet","2015-10-27",1.0534497289972899,1.0536255324675301,86,79.699984000000001,90,1,85,8.3000000000000007,2.6,1.8,4.8,null,74.209301204819297,30,42,46,50,53,null,0.54117647058823526,3.2941176470588234,0.2,1.4999999999999998,5.7,1.2,1.1000000000000001,34,2.9,14,28,0,0.04,null,3.9601176470588202,1.75917647058824,2.4757647058823502,3.5474117647058798,1.3787058823529399,3.6432941176470601,6.9158823529411801,2.3268235294117598,4.6631764705882297,3.1852941176470599,5.20411764705882,null,0.94,1.08,1.03,0.95,0.96,1,1.01,1,1.04,0.97,0.96,null,9.764705882352942,3.0588235294117645,2.1176470588235294,5.6470588235294121,null,120,36.705882352941174,1.2393526223497529,1.2395594499618001,null,978.82352941176475,635.16470588235291,88.094341378151285,604,21.000000000000004,56,165,null,0.45999999999999996,2.8,0.17,1.2749999999999997,4.8449999999999998,1.02,0.93500000000000005,null,28.9,2.4649999999999999,11.9,23.8,0,3.4000000000000002E-2,61.593719999999998,58.468589724378248,2.1764994432818332,1.1108509269653155,1.4909710496760122,2.6018219766413275,1.9704155490131985,0.77386549042445785,2.1301826900994656,4.084055067549472,1.3604609030220625,2.8355532594604567,1.8065246526869587,4.6420779121474149,2.921063227999479,0,0,0,0,0,0,0,0,0,0,0,0,0,0,0,0,0,"1.1.1","",32,16,16,"",16,16,"",16,16,"","","","","","","","","","","",16,32,"","","","","","","","","","","","",0.7,0.1,0.2,"",1.3,1,"",2,1.7,"","","","","","","","","","","",0.1,0.3,"","","","","","","","","","","","",2015,2015,2015,"",2015,2015,"",2015,2015,"","","","","","","","","","","",2015,2015,"","",{"$f":"'background data'!$G$10","v":0.47300000000000003},{"$f":"'background data'!$H$10","v":0.13},{"$f":"'background data'!$J$10","v":0.39100000000000001},{"$f":"'background data'!$L$10","v":5.5E-2},{"$f":"'background data'!$M$10","v":3.97},{"$f":"'background data'!$N$10","v":4.5999999999999999E-3},{"$f":"'background data'!$O$10","v":2.73},null,"offfarm","byg","Byg er frø fra dyrkede sorter af toradet og seksradet bygplanter (Hordeum vulgare), og dyrkes i stor udstrækning i Danmark.\n\nEn undersøgelse foretaget fra 2003 til 2005 viste, at de forskellige sorter varierer med hensyn til antal af foderenheder pr. 100 kg.\n\nIndholdet af foderenheder i forskellige sorter af vårbyg varierede fra 102 til 109 FEsv pr. 100 kg. Desuden var der effekt af sort på EFOS, EFOSi, råfedt og råaske, men ingen statistisk sikker forskel i indhold af råprotein mellem sorterne.\n\nDer skelnes mellem varmebehandlet og ikke-varmebehandlet korn. Det skyldes, at der ved varmebehandling af korn (pelleteret foder) sker en nedbrydning af kornets naturlige indhold af fytase, og derfor skal der i korn, der indgår i pelleteret foder, regnes med en lavere fordøjelighed af fosfor end i ikke-varmebehandlet korn (hjemmeblandet foder).\nDer er endvidere angivet kemisk indhold for korn tilsat det kulhydratspaltende enzym ”xylanase”. Det skyldes, at tilsætning af xylanase øger EFOSi-værdien og dermed kornets energiværdi\n\nByg kan bruges i henhold til følgende kilder: [2], [3], [4], [5], [6], [7], [8], [9], [10], [11], [12], [13], [14], [15]. [16]","Forsøg har vist, at stigende indhold af byg reducerer problemer med Salmonella og maveforandringer i den hvide del af maven sammenlignet med en hvedebaseret blanding [15].","Byg giver generelt ikke anledning til problemer, og kan uden problemer transporteres som løsvare.\n\nByg bør opbevares tørt og er lagerfast ved 86 procent tørstof.\n",null,null,{"$f":"'background data'!$G$10","v":0.47300000000000003},{"$f":"'background data'!$H$10","v":0.13},{"$f":"'background data'!$J$10","v":0.39100000000000001},{"$f":"'background data'!$L$10","v":5.5E-2},{"$f":"'background data'!$M$10","v":3.97},{"$f":"'background data'!$N$10","v":4.5999999999999999E-3},{"$f":"'background data'!$O$10","v":2.73},null,1]
[50111,501,11,"BYG,  vår, 2015, varmebehandlet  + xylanase","2015-10-27",1.05948921796361,1.0578704304267099,86,80.199988000000005,90,1,85,8.3000000000000007,2.6,1.8,4.8,null,74.6818657487091,30,42,46,50,53,null,0.54117647058823526,3.2941176470588234,0.2,1.4999999999999998,5.7,1.2,1.1000000000000001,34,2.9,14,28,0,0.04,null,3.9601176470588202,1.75917647058824,2.4757647058823502,3.5474117647058798,1.3787058823529399,3.6432941176470601,6.9158823529411801,2.3268235294117598,4.6631764705882297,3.1852941176470599,5.20411764705882,null,0.94,1.08,1.03,0.95,0.96,1,1.01,1,1.04,0.97,0.96,null,9.764705882352942,3.0588235294117645,2.1176470588235294,5.6470588235294121,null,120,36.705882352941174,1.2464579034865999,1.2445534475608351,null,978.82352941176475,642.15630252100937,81.102688806722824,604,21.000000000000004,56,165,null,0.45999999999999996,2.8,0.17,1.2749999999999997,4.8449999999999998,1.02,0.93500000000000005,null,28.9,2.4649999999999999,11.9,23.8,0,3.4000000000000002E-2,61.985948571428601,58.505502010269275,2.1778735070324831,1.1115522273933132,1.4919123268626231,2.603464554255936,1.9716595082468962,0.7743540458070719,2.1315275132400227,4.0866334059181364,1.3613197867754219,2.8373433958920957,1.8076651446119965,4.6450085405041017,2.9229073484321053,0,0,0,0,0,0,0,0,0,0,0,0,0,0,0,0,0,"1.1.1","",32,16,16,"",16,16,"",16,16,"","","","","","","","","","","",16,32,"","","","","","","","","","","","",0.7,0.1,0.2,"",1.3,1,"",2,1.7,"","","","","","","","","","","",0.1,0.3,"","","","","","","","","","","","",2015,2015,2015,"",2015,2015,"",2015,2015,"","","","","","","","","","","",2015,2015,"","",{"$f":"'background data'!$G$10","v":0.47300000000000003},{"$f":"'background data'!$H$10","v":0.13},{"$f":"'background data'!$J$10","v":0.39100000000000001},{"$f":"'background data'!$L$10","v":5.5E-2},{"$f":"'background data'!$M$10","v":3.97},{"$f":"'background data'!$N$10","v":4.5999999999999999E-3},{"$f":"'background data'!$O$10","v":2.73},null,"offfarm","byg","Byg er frø fra dyrkede sorter af toradet og seksradet bygplanter (Hordeum vulgare), og dyrkes i stor udstrækning i Danmark.\n\nEn undersøgelse foretaget fra 2003 til 2005 viste, at de forskellige sorter varierer med hensyn til antal af foderenheder pr. 100 kg.\n\nIndholdet af foderenheder i forskellige sorter af vårbyg varierede fra 102 til 109 FEsv pr. 100 kg. Desuden var der effekt af sort på EFOS, EFOSi, råfedt og råaske, men ingen statistisk sikker forskel i indhold af råprotein mellem sorterne.\n\nDer skelnes mellem varmebehandlet og ikke-varmebehandlet korn. Det skyldes, at der ved varmebehandling af korn (pelleteret foder) sker en nedbrydning af kornets naturlige indhold af fytase, og derfor skal der i korn, der indgår i pelleteret foder, regnes med en lavere fordøjelighed af fosfor end i ikke-varmebehandlet korn (hjemmeblandet foder).\nDer er endvidere angivet kemisk indhold for korn tilsat det kulhydratspaltende enzym ”xylanase”. Det skyldes, at tilsætning af xylanase øger EFOSi-værdien og dermed kornets energiværdi\n\nByg kan bruges i henhold til følgende kilder: [2], [3], [4], [5], [6], [7], [8], [9], [10], [11], [12], [13], [14], [15]. [16]","Forsøg har vist, at stigende indhold af byg reducerer problemer med Salmonella og maveforandringer i den hvide del af maven sammenlignet med en hvedebaseret blanding [15].","Byg giver generelt ikke anledning til problemer, og kan uden problemer transporteres som løsvare.\n\nByg bør opbevares tørt og er lagerfast ved 86 procent tørstof.\n",null,null,{"$f":"'background data'!$G$10","v":0.47300000000000003},{"$f":"'background data'!$H$10","v":0.13},{"$f":"'background data'!$J$10","v":0.39100000000000001},{"$f":"'background data'!$L$10","v":5.5E-2},{"$f":"'background data'!$M$10","v":3.97},{"$f":"'background data'!$N$10","v":4.5999999999999999E-3},{"$f":"'background data'!$O$10","v":2.73},null,1]
[50611,506,11,"BYG, 10,0 % råprotein, varmebehandlet + xylanase","2016-11-04",1.06026658834777,1.05560409978304,85.4,80.900017800000001,90,1,85,9.9999999999999591,2.6,1.9,4.8,null,77.970349714285703,30,42,46,50,53,null,0.55294117647058827,3.6470588235294117,0.2,1.4999999999999998,5.7,1.2,1.1000000000000001,34,2.9,14,28,0,0.04,null,3.70411764705882,1.6811764705882399,2.3417647058823499,3.3994117647058801,1.30470588235294,3.6152941176470601,6.8658823529411803,2.26882352941176,4.8911764705882304,3.22529411764706,5.0841176470588199,null,0.94,1.08,1.03,0.95,0.96,1,1.01,1,1.04,0.97,0.96,null,11.764705882352892,3.0588235294117645,2.2352941176470589,5.6470588235294121,null,120,36.705882352941174,1.2473724568797293,1.2418871762153412,null,977.64705882352939,635.33268557647068,62.848490894117653,604,21.000000000000004,56,165,null,0.47000000000000003,3.0999999999999996,0.17,1.2749999999999997,4.8449999999999998,1.02,0.93500000000000005,null,28.9,2.4649999999999999,11.9,23.8,0,3.4000000000000002E-2,77.970349714285405,73.538438889966173,2.5605132747571124,1.3352158059725088,1.7737601233975502,3.1089759293700592,2.3748806260462274,0.92108192446839454,2.6586308553984237,5.0995533253583654,1.6684574046976388,3.7407706126168927,2.3006760154157324,6.0414466280326149,3.5892295190172812,0,0,0,0,0,0,0,0,0,0,0,0,0,0,0,0,0,"1.1.1","","","","","","","","","","","","","","","","","","","","","","","","","","","","","","","","","","","","","","","","","","","","","","","","","","","","","","","","","","","","","","","","","","","","","","","","","","","","","","","","","","","","","","","","","","","","","",{"$f":"'background data'!$G$10","v":0.47300000000000003},{"$f":"'background data'!$H$10","v":0.13},{"$f":"'background data'!$J$10","v":0.39100000000000001},{"$f":"'background data'!$L$10","v":5.5E-2},{"$f":"'background data'!$M$10","v":3.97},{"$f":"'background data'!$N$10","v":4.5999999999999999E-3},{"$f":"'background data'!$O$10","v":2.73},null,"offfarm","byg","Tabelværdierne er dannet ved kopi af VSPs fodermiddelkode 50211 (gennemsnit af vårbyg de seneste tre år i udgaven svarende til varmebehandlet foder tilsat xylanase), hvor eneste ændring er råproteinkoncentration med de afledte konsekvenser for råproteinfordøjeligheden og aminosyreandelen i procent af råprotein.\n\nFormålet med denne tabelværdi er at give et eksempel på værdien af korn med højt proteinindhold, som fx tysk korn, hvor gødningsreglerne er anderledes end de danske.\n\nByg er frø fra dyrkede sorter af toradet og seksradet bygplanter (Hordeum vulgare), og dyrkes i stor udstrækning i Danmark.\n\nFor vinterbyg er der fundet en statistisk sikker forskel i indholdet af foderenheder mellem sorterne. Indholdet af foderenheder varierede fra 98 til 105 FEsv pr. 100 kg. Det målte energiindhold er forholdsvis stabilt uanset lokalitet og dyrkningsår, så mht. foderværdien skal der ikke vælges sorter ud fra, hvor i Danmark kornet dyrkes. Desuden kan det forventes, at forskellen på foderværdien mellem to sorter det ene år også vil være der et andet år [16].\n\nDer skelnes mellem varmebehandlet og ikke-varmebehandlet korn. Det skyldes, at der ved varmebehandling af korn (pelleteret foder) sker en nedbrydning af kornets naturlige indhold af fytase, og derfor skal der i korn, der indgår i pelleteret foder, regnes med en lavere fordøjelighed af fosfor end i ikke-varmebehandlet korn (hjemmeblandet foder).\nDer er endvidere angivet kemisk indhold for korn tilsat det kulhydratspaltende enzym ”xylanase”. Det skyldes, at tilsætning af xylanase øger EFOSi-værdien og dermed kornets energiværdi\n\nUd fra forsøg og generel erfaring vurderes, at byg kan bruges i henhold til følgende kilder: [2], [3], [4], [5], [6], [7], [8], [9], [10], [11], [12], [13], [14], [15].","Forsøg har vist, at stigende indhold af byg reducerer problemer med Salmonella og maveforandringer i den hvide del af maven sammenlignet med en hvedebaseret blanding [15].","Byg giver generelt ikke anledning til problemer, og kan uden problemer transporteres som løsvare.\n\nByg bør opbevares tørt og er lagerfast ved 86 procent tørstof.\n",null,null,{"$f":"'background data'!$G$10","v":0.47300000000000003},{"$f":"'background data'!$H$10","v":0.13},{"$f":"'background data'!$J$10","v":0.39100000000000001},{"$f":"'background data'!$L$10","v":5.5E-2},{"$f":"'background data'!$M$10","v":3.97},{"$f":"'background data'!$N$10","v":4.5999999999999999E-3},{"$f":"'background data'!$O$10","v":2.73},null,1]
[50661,506,61,"BYG, 11,5 % råprotein, varmebehandlet + xylanase","2016-11-04",1.0569386566008601,1.0524153588126199,85.4,80.900017800000001,90,1,85,11.5,2.6,1.9,4.8,null,79.539434534161501,30,42,46,50,53,null,0.55294117647058827,3.6470588235294117,0.2,1.4999999999999998,5.7,1.2,1.1000000000000001,34,2.9,14,28,0,0.04,null,3.47823529411765,1.6123529411764701,2.22352941176471,3.2688235294117698,1.23941176470588,3.5905882352941201,6.8217647058823498,2.21764705882353,5.0923529411764701,3.26058823529412,4.97823529411765,null,0.94,1.08,1.03,0.95,0.96,1,1.01,1,1.04,0.97,0.96,null,13.529411764705882,3.0588235294117645,2.2352941176470589,5.6470588235294121,null,120,36.705882352941174,1.2434572430598354,1.2381357162501412,null,977.64705882352939,619.27361344537769,62.848490894117653,604,21.000000000000004,56,165,null,0.47000000000000003,3.0999999999999996,0.17,1.2749999999999997,4.8449999999999998,1.02,0.93500000000000005,null,28.9,2.4649999999999999,11.9,23.8,0,3.4000000000000002E-2,91.470349714285902,86.542723310411148,2.8295499738729077,1.5070040762431924,1.9820319937456201,3.489036069988813,2.6874824574362139,1.0297158664378483,3.1073928416867571,5.9627783638420304,1.9192121581191199,4.5833433525068195,2.737147799119533,7.3204911516263431,4.1359683804762852,0,0,0,0,0,0,0,0,0,0,0,0,0,0,0,0,0,"1.1.1","","","","","","","","","","","","","","","","","","","","","","","","","","","","","","","","","","","","","","","","","","","","","","","","","","","","","","","","","","","","","","","","","","","","","","","","","","","","","","","","","","","","","","","","","","","","","",{"$f":"'background data'!$G$10","v":0.47300000000000003},{"$f":"'background data'!$H$10","v":0.13},{"$f":"'background data'!$J$10","v":0.39100000000000001},{"$f":"'background data'!$L$10","v":5.5E-2},{"$f":"'background data'!$M$10","v":3.97},{"$f":"'background data'!$N$10","v":4.5999999999999999E-3},{"$f":"'background data'!$O$10","v":2.73},null,"offfarm","byg","Tabelværdierne er dannet ved kopi af VSPs fodermiddelkode 50211 (gennemsnit af vårbyg de seneste tre år i udgaven svarende til varmebehandlet foder tilsat xylanase), hvor eneste ændring er råproteinkoncentration med de afledte konsekvenser for råproteinfordøjeligheden og aminosyreandelen i procent af råprotein.\n\nFormålet med denne tabelværdi er at give et eksempel på værdien af korn med højt proteinindhold, som fx tysk korn, hvor gødningsreglerne er anderledes end de danske.\n\nByg er frø fra dyrkede sorter af toradet og seksradet bygplanter (Hordeum vulgare), og dyrkes i stor udstrækning i Danmark.\n\nFor vinterbyg er der fundet en statistisk sikker forskel i indholdet af foderenheder mellem sorterne. Indholdet af foderenheder varierede fra 98 til 105 FEsv pr. 100 kg. Det målte energiindhold er forholdsvis stabilt uanset lokalitet og dyrkningsår, så mht. foderværdien skal der ikke vælges sorter ud fra, hvor i Danmark kornet dyrkes. Desuden kan det forventes, at forskellen på foderværdien mellem to sorter det ene år også vil være der et andet år [16].\n\nDer skelnes mellem varmebehandlet og ikke-varmebehandlet korn. Det skyldes, at der ved varmebehandling af korn (pelleteret foder) sker en nedbrydning af kornets naturlige indhold af fytase, og derfor skal der i korn, der indgår i pelleteret foder, regnes med en lavere fordøjelighed af fosfor end i ikke-varmebehandlet korn (hjemmeblandet foder).\nDer er endvidere angivet kemisk indhold for korn tilsat det kulhydratspaltende enzym ”xylanase”. Det skyldes, at tilsætning af xylanase øger EFOSi-værdien og dermed kornets energiværdi\n\nUd fra forsøg og generel erfaring vurderes, at byg kan bruges i henhold til følgende kilder: [2], [3], [4], [5], [6], [7], [8], [9], [10], [11], [12], [13], [14], [15].","Forsøg har vist, at stigende indhold af byg reducerer problemer med Salmonella og maveforandringer i den hvide del af maven sammenlignet med en hvedebaseret blanding [15].","Byg giver generelt ikke anledning til problemer, og kan uden problemer transporteres som løsvare.\n\nByg bør opbevares tørt og er lagerfast ved 86 procent tørstof.\n",null,null,{"$f":"'background data'!$G$10","v":0.47300000000000003},{"$f":"'background data'!$H$10","v":0.13},{"$f":"'background data'!$J$10","v":0.39100000000000001},{"$f":"'background data'!$L$10","v":5.5E-2},{"$f":"'background data'!$M$10","v":3.97},{"$f":"'background data'!$N$10","v":4.5999999999999999E-3},{"$f":"'background data'!$O$10","v":2.73},null,1]
[50600,506,0,"BYG, vår 10% råprotein","2016-11-04",1.0542336624080499,1.0513645239332099,85.4,80.400000800000001,90,1,85,9.9999999999999591,2.6,1.9,4.8,null,77.578592571428501,43,49,51,53,54,null,0.55294117647058827,3.6470588235294117,0.2,1.4999999999999998,5.7,1.2,1.1000000000000001,34,2.9,14,28,0,0.04,null,3.70411764705882,1.6811764705882399,2.3417647058823499,3.3994117647058801,1.30470588235294,3.6152941176470601,6.8658823529411803,2.26882352941176,4.8911764705882304,3.22529411764706,5.0841176470588199,null,0.93979487733984202,1.07984084344248,1.0298133265506999,0.94986852960372503,0.95982752284767003,0.99997514724094605,1.00997639474776,0.99991835406371998,1.0401578477529601,0.970038811056257,0.95992759482045098,null,11.764705882352892,3.0588235294117645,2.2352941176470589,5.6470588235294121,null,120,36.70588235294106,1.240274896950647,1.2368994399214235,null,977.64705882352939,628.34924369747876,69.831921600000115,604,21.000000000000004,55.999999999999879,165,null,0.47000000000000003,3.0999999999999996,0.17,1.2749999999999997,4.8449999999999998,1.02,0.93500000000000005,null,28.9,2.4649999999999999,11.9,23.8,0,3.4000000000000002E-2,77.578592571428203,73.587664042357972,2.5616681129182171,1.3359126738827571,1.7746257577488966,3.1105384316316536,2.3761414439181658,0.92153288242970133,2.6603443708963703,5.1028475996419509,1.6694379225857578,3.7438427510643981,2.3023081565646812,6.0461509076290891,3.5913611887931403,0,0,0,0,0,0,0,0,0,0,0,0,0,0,0,0,0,"","","","","","","","","","","","","","","","","","","","","","","","","","","","","","","","","","","","","","","","","","","","","","","","","","","","","","","","","","","","","","","","","","","","","","","","","","","","","","","","","","","","","","","","","","","","","","",{"$f":"'background data'!$G$10","v":0.47300000000000003},{"$f":"'background data'!$H$10","v":0.13},{"$f":"'background data'!$J$10","v":0.39100000000000001},{"$f":"'background data'!$L$10","v":5.5E-2},{"$f":"'background data'!$M$10","v":3.97},{"$f":"'background data'!$N$10","v":4.5999999999999999E-3},{"$f":"'background data'!$O$10","v":2.73},null,"offfarm","byg","","","",null,null,{"$f":"'background data'!$G$10","v":0.47300000000000003},{"$f":"'background data'!$H$10","v":0.13},{"$f":"'background data'!$J$10","v":0.39100000000000001},{"$f":"'background data'!$L$10","v":5.5E-2},{"$f":"'background data'!$M$10","v":3.97},{"$f":"'background data'!$N$10","v":4.5999999999999999E-3},{"$f":"'background data'!$O$10","v":2.73},null,1]
[48900,489,0,"CALCIUMFORMIAT","2014-04-24",1.05139609756097,1.0077017142857101,100,100,0,1,99,0,0,30.492000000000001,0,null,0,0,0,0,0,0,null,308,0,0,0,0,0,0,0,0,0,0,0,0,null,0,0,0,0,0,0,0,0,0,0,0,null,1,1,1,1,1,1,1,1,1,1,1,null,0,0,30.8,0,null,0,0,1.062016260162596,1.0178805194805152,null,692,692,0," "," "," "," ",null,304.92,0,0,0,0,0,0,null,0,0,0,0,0,0,0,0,0,0,0,0,0,0,0,0,0,0,0,0,0,0,0,0,0,0,0,0,0,0,0,0,0,0,0,0,0,0,"","","","","","","","","","","","","","","","","","","","","","","","","","","","","","","","","","","","","","","","","","","","","","","","","","","","","","","","","","","","","","","","","","","","","","","","","","","","","","","","","","","","","","","","","","","","","","",null,null,null,null,null,null,null,null,"offfarm","vitaminer og mineraler","Calciumformiat: Ca(HCO2)2",0,0,null,null,{"$f":"'background data'!$G$10","v":0.47300000000000003},{"$f":"'background data'!$H$10","v":0.13},{"$f":"'background data'!$J$10","v":0.39100000000000001},{"$f":"'background data'!$L$10","v":5.5E-2},{"$f":"'background data'!$M$10","v":3.97},{"$f":"'background data'!$N$10","v":4.5999999999999999E-3},{"$f":"'background data'!$O$10","v":2.73}]
[48400,484,0,"CALCIUMJODAT 1%-opløsning","2010-05-12",-0.112682926829268,-0.108,70,70,0,1,99,0,0,99,0,null,0,0,0,0,0,0,null,1.0383838383838384,0,0,0,0,0,0,0,0,0,0,5959.5959595959594,0,null,0,0,0,0,0,0,0,0,0,0,0,null,1,1,1,1,1,1,1,1,1,1,1,null,0,0,100,0,null,0,0,-0.11382113821138182,-0.10909090909090909,null,0,0,0," "," "," "," ",null,1.028,0,0,0,0,0,0,null,0,0,0,0,5900,0,0,0,0,0,0,0,0,0,0,0,0,0,0,0,0,0,0,0,0,0,0,0,0,0,0,0,0,0,0,0,0,0,"","","","","","","","","","","","","","","","","","","","","","","","","","","","","","","","","","","","","","","","","","","","","","","","","","","","","","","","","","","","","","","","","","","","","","","","","","","","","","","","","","","","","","","","","","","","","","",null,null,null,null,null,null,null,null,"offfarm","vitaminer og mineraler",0,0,0,null,null,{"$f":"'background data'!$G$10","v":0.47300000000000003},{"$f":"'background data'!$H$10","v":0.13},{"$f":"'background data'!$J$10","v":0.39100000000000001},{"$f":"'background data'!$L$10","v":5.5E-2},{"$f":"'background data'!$M$10","v":3.97},{"$f":"'background data'!$N$10","v":4.5999999999999999E-3},{"$f":"'background data'!$O$10","v":2.73}]
[67900,679,0,"CIKORIE: PULVER AF CIKORIERØDDER","2016-11-21",1.22,1.2380368068575101,96.3,88.8,90,1,95.4,6.3,0.40253164556962001,5.0316455696202604,4.78006329113924,null,50,50,50,50,50,50,null,2.5786163522012577,2.4213836477987418,1.4240506329113942,0,13.502109704641404,1.2341772151898742,0,360.75949367088572,19.514767932489519,59.071729957805864,129.74683544303775,0,0,null,2.8730158730158699,0.73015873015873001,0.55559142857142896,2.5238095238095202,0.92727272727272703,2.4363636363636401,3.2727272727272698,1.25454545454545,2.16363636363636,1.2,2.9272727272727299,null,1,1,1,1,1,1,1,1,1,1,1,null,6.6037735849056602,0.42194092827004187,5.2742616033755345,5.0105485232067499,null,0,0,1.2788259958071277,1.2977325019470753,null,947.25738396624536,746.5298315648206,101.49186256781203," ",156,62.308814357364767,67.501215553811946,null,2.46,2.31,1.3585443037974703,0,12.881012658227901,1.1774050632911401,0,null,344.16455696202502,18.617088607595004,56.354430379746802,123.77848101265802,0,0,31.5,25.819672131147541,0.74180327868852625,0.18852459016393444,0.14345188524590166,0.3319764754098361,0.65163934426229431,0.23941877794336805,0.629061102831596,0.84500745156482793,0.32391952309985,0.55864381520119177,0.30983606557377052,0.86847988077495897,0.75581222056631725,0,0,0,0,0,0,0,0,0,0,0,0,0,0,0,0,0,"4.4.6","",4,4,4,"","","","",4,4,4,4,4,4,"","","","","","","",4,4,"","","","","","","","","","","","",0.05,"",0.1,"","","","",0.65,0.7,0.04,"",0.01,0.02,"","","","","","","",0.09,7.0000000000000007E-2,"","","","","","","","","","","","",2013,2013,2013,"","","","",2013,2013,2013,2013,2013,2013,"","","","","","","",21013,2013,"","",null,null,null,null,null,null,null,null,"offfarm","cikorie","\n\nIndholdet af opløselige og uopløselige fibre er beregnet, se versionsbeskrivelsen for 3. juni 2016",0,0,null,null,{"$f":"'background data'!$G$10","v":0.47300000000000003},{"$f":"'background data'!$H$10","v":0.13},{"$f":"'background data'!$J$10","v":0.39100000000000001},{"$f":"'background data'!$L$10","v":5.5E-2},{"$f":"'background data'!$M$10","v":3.97},{"$f":"'background data'!$N$10","v":4.5999999999999999E-3},{"$f":"'background data'!$O$10","v":2.73}]
[94700,947,0,"CITRONSYRE (1% vand)","2010-05-12",1.5695119733062399,1.5042855016883101,100,100,100,1,99,1E-4,0,0,0,null,0,0,0,0,0,0,null,0,0,0,0,0,0,0,0,0,0,0,0,0,null,0,0,0,0,0,0,0,0,0,0,0,null,1,1,1,1,1,1,1,1,1,1,1,null,1.0101010101010101E-4,0,0,0,null,0,0,1.5853656296022625,1.5194803047356669,null,1000,999.99908080808086,0," "," "," "," ",null,0,0,0,0,0,0,0,null,0,0,0,0,0,0,0,0,0,0,0,0,0,0,0,0,0,0,0,0,0,0,0,0,0,0,0,0,0,0,0,0,0,0,0,0,0,0,"","","","","","","","","","","","","","","","","","","","","","","","","","","","","","","","","","","","","","","","","","","","","","","","","","","","","","","","","","","","","","","","","","","","","","","","","","","","","","","","","","","","","","","","","","","","","","",null,null,null,null,null,null,null,null,"offfarm","citruskvas",0,0,0,null,null,{"$f":"'background data'!$G$10","v":0.47300000000000003},{"$f":"'background data'!$H$10","v":0.13},{"$f":"'background data'!$J$10","v":0.39100000000000001},{"$f":"'background data'!$L$10","v":5.5E-2},{"$f":"'background data'!$M$10","v":3.97},{"$f":"'background data'!$N$10","v":4.5999999999999999E-3},{"$f":"'background data'!$O$10","v":2.73}]
[71000,710,0,"CITRUSKVAS TØR (Obs.: Gamle data)","2010-05-12",0.669398910975609,0.79532880545454498,92.5,46.4,80,1,88.2,5.9976000000000003,2.4695999999999998,5.9093999999999998,11.6424,null,11.4296743697479," "," "," "," "," ",null,14.700000000000001,1.3,0.39999999999999997,0,10,1.7,1.1000000000000001,100,5.8,12,12,0,4.9999999999999996E-2,null,2.62,1.0900000000000001,1.38,2.9,0.78,2.8,5.0199999999999996,1.78,3.41,2.21,3.71,null,1,1,1,1,1,1,1,1,1,1,1,null,6.8,2.8,6.6999999999999993,13.2,null,0,0,0.75895568137824143,0.90173333951762469,null,932.99999999999989,159.53785714285715,614.44714285714281," "," "," "," ",null,12.965400000000001,1.1466000000000001,0.35279999999999995,0,8.82,1.4994000000000001,0.97020000000000006,null,88.2,5.1155999999999997,10.584,10.584,0,4.4099999999999993E-2,6.8550614999999899,10.240622426482808,0.26830430757384843,0.11162278444866262,0.14132058948546294,0.25294337393412569,0.29697805036800035,7.9876854926565863E-2,0.28673742794151907,0.5140792458094362,0.18228307919139425,0.34920522474306426,0.22631775562527037,0.57552298036833316,0.37992709202251124,0,0,0,0,0,0,0,0,0,0,0,0,0,0,0,0,0,"5.13.2","","","","","","","","","","","","","","","","","","","","","","","","","","","","","","","","","","","","","","","","","","","","","","","","","","","","","","","","","","","","","","","","","","","","","","","","","","","","","","","","","","","","","","","","","","","","","",null,null,null,null,null,null,null,null,"offfarm","citruskvas","Citruskvas er et biprodukt, der fremkommer ved presning af citrusfrugter (Citrus ssp.) ved fremstilling af citrussaft og som består af citrusskaller samt rester og cellevægge af selve frugten, der tørres, findeles og sælges som citruskvas.\n\nDer er ikke forsøgsmæssig eller erfaringsmæssig baggrund for brug af citruskvas i foder til svin. Det vurderes, at citruskvas kun er relevant at overveje i foder til drægtige søer.",0,0,null,null,{"$f":"'background data'!$G$10","v":0.47300000000000003},{"$f":"'background data'!$H$10","v":0.13},{"$f":"'background data'!$J$10","v":0.39100000000000001},{"$f":"'background data'!$L$10","v":5.5E-2},{"$f":"'background data'!$M$10","v":3.97},{"$f":"'background data'!$N$10","v":4.5999999999999999E-3},{"$f":"'background data'!$O$10","v":2.73}]
[99940,999,40,"CYSTIN,L98,5","2010-05-12",1.1389897018970201,1.09165506493506,100,100,100,1,100,84.8,0,15.2,0,null,100,0,0,0,0,0,null,0,0,0,0,0,0,0,0,0,0,0,0,0,null,0,0,116.700019,0,0,0,0,0,0,0,0,null,1,1,1,1,1,1,1,1,1,1,1,null,84.8,0,15.2,0,null,0,0,1.1389897018970201,1.09165506493506,null,848,76.320000000000107,0,0,0," "," ",null,0,0,0,0,0,0,0,null,0,0,0,0,0,0,848,744.51946192984155,0,0,868.85435353082289,868.85435353082289,0,0,0,0,0,0,0,0,0,0,0,0,0,0,0,0,0,0,0,0,0,0,0,0,0,0,"","","","","","","","","","","","","","","","","","","","","","","","","","","","","","","","","","","","","","","","","","","","","","","","","","","","","","","","","","","","","","","","","","","","","","","","","","","","","","","","","","","","","","","","","","","","","","",null,null,null,null,null,null,null,null,"offfarm","vitaminer og mineraler","","","",null,null,{"$f":"'background data'!$G$10","v":0.47300000000000003},{"$f":"'background data'!$H$10","v":0.13},{"$f":"'background data'!$J$10","v":0.39100000000000001},{"$f":"'background data'!$L$10","v":5.5E-2},{"$f":"'background data'!$M$10","v":3.97},{"$f":"'background data'!$N$10","v":4.5999999999999999E-3},{"$f":"'background data'!$O$10","v":2.73}]
[47100,471,0,"Ca-Na-FOSFAT","2010-05-12",-0.112682926829268,-0.108,70,70,0,1,99,0,0,99,0,null,0,50,50,50,50,50,null,303.03030000000098,181.81817999999998,50.505050505050505,0,0,0,0,0,0,0,0,0,0,null,0,0,0,0,0,0,0,0,0,0,0,null,1,1,1,1,1,1,1,1,1,1,1,null,0,0,100,0,null,0,0,-0.11382113821138182,-0.10909090909090909,null,0,0,0," "," "," "," ",null,299.99999700000097,179.99999819999999,50,0,0,0,0,null,0,0,0,0,0,0,0,0,0,0,0,0,0,0,0,0,0,0,0,0,0,0,0,0,0,0,0,0,0,0,0,0,0,0,0,0,0,0,"11.3.16","","","","","","","","","","","","","","","","","","","","","","","","","","","","","","","","","","","","","","","","","","","","","","","","","","","","","","","","","","","","","","","","","","","","","","","","","","","","","","","","","","","","","","","","","","","","","",null,null,null,null,null,null,null,null,"offfarm","vitaminer og mineraler",0,0,0,null,null,{"$f":"'background data'!$G$10","v":0.47300000000000003},{"$f":"'background data'!$H$10","v":0.13},{"$f":"'background data'!$J$10","v":0.39100000000000001},{"$f":"'background data'!$L$10","v":5.5E-2},{"$f":"'background data'!$M$10","v":3.97},{"$f":"'background data'!$N$10","v":4.5999999999999999E-3},{"$f":"'background data'!$O$10","v":2.73}]
[47101,471,1,"Ca-Na-FOSFAT Nagel","2010-05-12",-0.112682926829268,-0.108,70,70,0,1,99,0,0,99,0,null,0,59,59,59,59,59,null,309.09090909090907,181.81817999999998,51.515151515151516,0,0,0,0,0,0,0,0,0,0,null,0,0,0,0,0,0,0,0,0,0,0,null,1,1,1,1,1,1,1,1,1,1,1,null,0,0,100,0,null,0,0,-0.11382113821138182,-0.10909090909090909,null,0,0,0," "," "," "," ",null,306,179.99999819999999,51,0,0,0,0,null,0,0,0,0,0,0,0,0,0,0,0,0,0,0,0,0,0,0,0,0,0,0,0,0,0,0,0,0,0,0,0,0,0,0,0,0,0,0,"","","","","","","","","","","","","","","","","","","","","","","","","","","","","","","","","","","","","","","","","","","","","","","","","","","","","","","","","","","","","","","","","","","","","","","","","","","","","","","","","","","","","","","","","","","","","","",null,null,null,null,null,null,null,null,"offfarm","vitaminer og mineraler",0,0,0,null,null,{"$f":"'background data'!$G$10","v":0.47300000000000003},{"$f":"'background data'!$H$10","v":0.13},{"$f":"'background data'!$J$10","v":0.39100000000000001},{"$f":"'background data'!$L$10","v":5.5E-2},{"$f":"'background data'!$M$10","v":3.97},{"$f":"'background data'!$N$10","v":4.5999999999999999E-3},{"$f":"'background data'!$O$10","v":2.73}]
[47300,473,0,"Ca-Na-FOSFAT+ P-syre","2010-05-12",-0.112682926829268,-0.108,70,70,0,1,99,0,0,99,0,null,0,55,55,55,55,55,null,202.02020202020202,207.07070707070707,30.303030303030305,0,0,0,0,0,0,0,0,0,0,null,0,0,0,0,0,0,0,0,0,0,0,null,1,1,1,1,1,1,1,1,1,1,1,null,0,0,100,0,null,0,0,-0.11382113821138182,-0.10909090909090909,null,0,0,0," "," "," "," ",null,200,205,30,0,0,0,0,null,0,0,0,0,0,0,0,0,0,0,0,0,0,0,0,0,0,0,0,0,0,0,0,0,0,0,0,0,0,0,0,0,0,0,0,0,0,0,"","","","","","","","","","","","","","","","","","","","","","","","","","","","","","","","","","","","","","","","","","","","","","","","","","","","","","","","","","","","","","","","","","","","","","","","","","","","","","","","","","","","","","","","","","","","","","",null,null,null,null,null,null,null,null,"offfarm","vitaminer og mineraler",0,0,0,null,null,{"$f":"'background data'!$G$10","v":0.47300000000000003},{"$f":"'background data'!$H$10","v":0.13},{"$f":"'background data'!$J$10","v":0.39100000000000001},{"$f":"'background data'!$L$10","v":5.5E-2},{"$f":"'background data'!$M$10","v":3.97},{"$f":"'background data'!$N$10","v":4.5999999999999999E-3},{"$f":"'background data'!$O$10","v":2.73}]
[47301,473,1,"Ca-Na-FOSFAT+ P-syre, Nagel","2010-05-12",-0.112682926829268,-0.108,70,70,0,1,99,0,0,99,0,null,0,63,63,63,63,63,null,203.03030303030303,208.08080808080808,32.323232323232325,0,0,0,0,0,0,0,0,0,0,null,0,0,0,0,0,0,0,0,0,0,0,null,1,1,1,1,1,1,1,1,1,1,1,null,0,0,100,0,null,0,0,-0.11382113821138182,-0.10909090909090909,null,0,0,0," "," "," "," ",null,201,206,32,0,0,0,0,null,0,0,0,0,0,0,0,0,0,0,0,0,0,0,0,0,0,0,0,0,0,0,0,0,0,0,0,0,0,0,0,0,0,0,0,0,0,0,"","","","","","","","","","","","","","","","","","","","","","","","","","","","","","","","","","","","","","","","","","","","","","","","","","","","","","","","","","","","","","","","","","","","","","","","","","","","","","","","","","","","","","","","","","","","","","",null,null,null,null,null,null,null,null,"offfarm","vitaminer og mineraler",0,0,0,null,null,{"$f":"'background data'!$G$10","v":0.47300000000000003},{"$f":"'background data'!$H$10","v":0.13},{"$f":"'background data'!$J$10","v":0.39100000000000001},{"$f":"'background data'!$L$10","v":5.5E-2},{"$f":"'background data'!$M$10","v":3.97},{"$f":"'background data'!$N$10","v":4.5999999999999999E-3},{"$f":"'background data'!$O$10","v":2.73}]
[46102,461,2,"DCP dihydrat","2010-05-12",-0.112682926829268,-0.108,70,70,0,1,99,0,0,99,0,null,0,55,55,55,55,55,null,252.52525000000102,183.83838,0,0,0,0,0,0,0,0,0,0,0,null,0,0,0,0,0,0,0,0,0,0,0,null,1,1,1,1,1,1,1,1,1,1,1,null,0,0,100,0,null,0,0,-0.11382113821138182,-0.10909090909090909,null,0,0,0," "," "," "," ",null,249.999997500001,181.9999962,0,0,0,0,0,null,0,0,0,0,0,0,0,0,0,0,0,0,0,0,0,0,0,0,0,0,0,0,0,0,0,0,0,0,0,0,0,0,0,0,0,0,0,0,"","","","","","","","","","","","","","","","","","","","","","","","","","","","","","","","","","","","","","","","","","","","","","","","","","","","","","","","","","","","","","","","","","","","","","","","","","","","","","","","","","","","","","","","","","","","","","",null,null,null,null,null,null,null,null,"offfarm","vitaminer og mineraler",0,0,0,null,null,{"$f":"'background data'!$G$10","v":0.47300000000000003},{"$f":"'background data'!$H$10","v":0.13},{"$f":"'background data'!$J$10","v":0.39100000000000001},{"$f":"'background data'!$L$10","v":5.5E-2},{"$f":"'background data'!$M$10","v":3.97},{"$f":"'background data'!$N$10","v":4.5999999999999999E-3},{"$f":"'background data'!$O$10","v":2.73}]
[46100,461,0,"DICALCIUMFOSFAT","2010-05-12",-0.112682926829268,-0.108,70,70,0,1,99,0,0,99,0,null,0,50,50,50,50,50,null,252.52525000000102,181.81817999999998,0,0,0,0,0,0,0,0,0,0,0,null,0,0,0,0,0,0,0,0,0,0,0,null,1,1,1,1,1,1,1,1,1,1,1,null,0,0,100,0,null,0,0,-0.11382113821138182,-0.10909090909090909,null,0,0,0," "," "," "," ",null,249.999997500001,179.99999819999999,0,0,0,0,0,null,0,0,0,0,0,0,0,0,0,0,0,0,0,0,0,0,0,0,0,0,0,0,0,0,0,0,0,0,0,0,0,0,0,0,0,0,0,0,"11.3.1","","","","","","","","","","","","","","","","","","","","","","","","","","","","","","","","","","","","","","","","","","","","","","","","","","","","","","","","","","","","","","","","","","","","","","","","","","","","","","","","","","","","","","","","","","","","","",null,null,null,null,null,null,null,null,"offfarm","vitaminer og mineraler",0,0,0,null,null,{"$f":"'background data'!$G$10","v":0.47300000000000003},{"$f":"'background data'!$H$10","v":0.13},{"$f":"'background data'!$J$10","v":0.39100000000000001},{"$f":"'background data'!$L$10","v":5.5E-2},{"$f":"'background data'!$M$10","v":3.97},{"$f":"'background data'!$N$10","v":4.5999999999999999E-3},{"$f":"'background data'!$O$10","v":2.73}]
[39012,390,12,"E-10 VIT TILSKUD (kun E-vit )","2010-05-12",0.400229055361982,0.40812811354360001,64.2,70,30,1,97.3,1,0.9,51.7,18.2,null,0,0,0,0,0,0,null,0,0,0,0,0,0,0,0,0,0,0,0,0,null,0,0,0,0,0,0,0,0,0,0,0,null,1,1,1,1,1,1,1,1,1,1,1,null,1.0277492291880781,0.92497430626927035,53.134635149023644,18.705035971223023,null,0,0,0.41133510314694965,0.41945335410441936,null,468.65364850976363,321.38217589194039,-38.831302305094653,0,0," "," ",null,0,0,0,0,0,0,0,null,0,0,0,0,0,0,0,0,0,0,0,0,0,0,0,0,0,0,0,0,0,0,0,0,0,0,9100,0,0,0,0,0,0,0,0,0,0,0,"","","","","","","","","","","","","","","","","","","","","","","","","","","","","","","","","","","","","","","","","","","","","","","","","","","","","","","","","","","","","","","","","","","","","","","","","","","","","","","","","","","","","","","","","","","","","","",null,null,null,null,null,null,null,null,"offfarm","vitaminer og mineraler",0,0,0,null,null,{"$f":"'background data'!$G$10","v":0.47300000000000003},{"$f":"'background data'!$H$10","v":0.13},{"$f":"'background data'!$J$10","v":0.39100000000000001},{"$f":"'background data'!$L$10","v":5.5E-2},{"$f":"'background data'!$M$10","v":3.97},{"$f":"'background data'!$N$10","v":4.5999999999999999E-3},{"$f":"'background data'!$O$10","v":2.73}]
[39013,390,13,"E-25 VIT TILSKUD (kun E-vit )","2010-05-12",0.39516743128145598,0.40159457291280098,61.7,70,30,1,97.4,1,0.8,51.5,17.100000000000001,null,0,0,0,0,0,0,null,0,0,0,0,0,0,0,0,0,0,0,0,0,null,0,0,0,0,0,0,0,0,0,0,0,null,1,1,1,1,1,1,1,1,1,1,1,null,1.0266940451745379,0.82135523613963035,52.874743326488705,17.5564681724846,null,59,4.8459958932238187,0.40571604854358928,0.41231475658398453,null,471.25256673511291,329.32986212965704,-55.877090055734804,0,0," "," ",null,0,0,0,0,0,0,0,null,0,0,0,0,0,0,0,0,0,0,0,0,0,0,0,0,0,0,0,0,0,0,0,0,0,0,22750,0,0,0,0,0,0,0,0,0,0,0,"","","","","","","","","","","","","","","","","","","","","","","","","","","","","","","","","","","","","","","","","","","","","","","","","","","","","","","","","","","","","","","","","","","","","","","","","","","","","","","","","","","","","","","","","","","","","","",null,null,null,null,null,null,null,null,"offfarm","vitaminer og mineraler",0,0,0,null,null,{"$f":"'background data'!$G$10","v":0.47300000000000003},{"$f":"'background data'!$H$10","v":0.13},{"$f":"'background data'!$J$10","v":0.39100000000000001},{"$f":"'background data'!$L$10","v":5.5E-2},{"$f":"'background data'!$M$10","v":3.97},{"$f":"'background data'!$N$10","v":4.5999999999999999E-3},{"$f":"'background data'!$O$10","v":2.73}]
[58600,586,0,"EP 100  fermenteret tilskudsfoder","2016-11-24",0.816414869054648,0.86143758411910198,78.900000000000006,64.699972500000001,86,1,88.3,29.668800000000001,4.5915999999999997,6.9756999999999998," ",null,72.5,27,40,45,50,53,null,7.0000000000000009,10.4,1.1000000000000001," ",15.799999999999999,5.3000000000000007,6.2,481.00000000000006,12.999999999999998,69,79.000000000000014,0,7.9999999999999988E-2,null,4.9404761904761898,1.9047619047619,2.2023809523809499,4.375,1.36904761904762,3.8095238095238102,6.7559523809523796,2.6488095238095202,4.0178571428571397,3.3630952380952399,4.8214285714285703,null,0.91,1.19,0.99,1,1.21,1.05,1.1100000000000001,1.1299999999999999,1.1299999999999999,1.0900000000000001,1.01,null,33.6,5.2,7.8999999999999995," ",null,116,60.320000000000007,0.92459215068476563,0.97558050296614041,null,921.00000000000011,183.63720960714272,186.8317903928573," "," ",49.884418558928537,282.67837183392754,null,6.1810000000000009,9.1832000000000011,0.97130000000000005," ",13.9514,4.6799000000000008,5.4746000000000006,null,424.72300000000007,11.478999999999999,60.927,69.757000000000019,0,7.0639999999999994E-2,215.09880000000001,263.46751896994425,11.845060540357077,5.9719304299853899,5.7445328689696646,11.716463298955055,11.52670395493506,4.3644649124604449,10.538700758797768,19.757711534183585,7.8859905901212057,11.961895838947902,9.6581233070023895,21.620019145950302,12.82992721841139,0,0,0,0,0,0,0,0,0,0,0,0,0,0,0,0,0,"",8,8,8,8,"",8,8,"",8,8,4,4,4,4,4,4,4,4,4,4,4,4,4,4,"",4,4,4,4,4,4,4,"",4,2.7,1.4,0.1,0.1,"",0.6,1.3,"",2.1,1.6,9.8000000000000007,6.7,4.9000000000000004,5.4,6,4.4000000000000004,4.5,6.3,4.5999999999999996,4.5,4.5,0.6,0.9,0.2,"",1.2,0.4,0.8,56,2.6,7.4,7.8,"",0.02,2013,2013,2013,2013,"",2013,2013,"",2013,2013,2013,2013,2013,2013,2013,2013,2013,2013,2013,2013,2013,2013,2013,2013,"",null,null,null,null,null,null,null,null,"offfarm","vitaminer og mineraler","Indholdet af opløselige og uopløselige fibre er beregnet, se versionsbeskrivelsen for 3. juni 2016\n\nSom følge af ændringen af proteinfordøjeligheden i \"Sojaskråfoder, afskallet, toastet\" i november 2016 fra 88 til 89,5 procent har proteinfodermidler til smågrise, der fik ændret proteinfordøjelighed med baggrund i et fordøjelighedsforsøg [175], fået et tillæg på 1,5 procentenheder proteinfordøjelighed for at bevare balancen mellem disse og \"Sojaskråfoder, afskallet, toastet\".","Der er stor variation i fodermidlets næringsindhold. [171]",0,null,null,{"$f":"'background data'!$G$10","v":0.47300000000000003},{"$f":"'background data'!$H$10","v":0.13},{"$f":"'background data'!$J$10","v":0.39100000000000001},{"$f":"'background data'!$L$10","v":5.5E-2},{"$f":"'background data'!$M$10","v":3.97},{"$f":"'background data'!$N$10","v":4.5999999999999999E-3},{"$f":"'background data'!$O$10","v":2.73}]
[99920,999,20,"FENYLALANIN,L98,5","2010-05-12",1.1974318292682899,1.14766842857143,100,100,100,1,99,52.47,0,15.048,0,null,100,0,0,0,0,0,null,0,0,0,0,0,0,0,0,0,0,0,0,0,null,0,0,0,0,0,0,0,0,188.67924500000001,0,0,null,1,1,1,1,1,1,1,1,1,1,1,null,53,0,15.2,0,null,0,0,1.209527100271,1.1592610389610405,null,848,365.7,0,0,0," "," ",null,0,0,0,0,0,0,0,null,0,0,0,0,0,0,524.70000000000005,438.18778420198373,0,0,0,0,0,0,0,0,0,826.76940291453207,0,826.76940291453207,0,0,0,0,0,0,0,0,0,0,0,0,0,0,0,0,0,0,"","","","","","","","","","","","","","","","","","","","","","","","","","","","","","","","","","","","","","","","","","","","","","","","","","","","","","","","","","","","","","","","","","","","","","","","","","","","","","","","","","","","","","","","","","","","","","",null,null,null,null,null,null,null,null,"offfarm","vitaminer og mineraler","","","",null,null,{"$f":"'background data'!$G$10","v":0.47300000000000003},{"$f":"'background data'!$H$10","v":0.13},{"$f":"'background data'!$J$10","v":0.39100000000000001},{"$f":"'background data'!$L$10","v":5.5E-2},{"$f":"'background data'!$M$10","v":3.97},{"$f":"'background data'!$N$10","v":4.5999999999999999E-3},{"$f":"'background data'!$O$10","v":2.73}]
[83000,830,0,"FISKEMEL","2016-11-21",1.14322762119628,1.10549164563043,94.1,93.999971700000003,95,1,91.9,69.476399999999998,8.3628999999999998,15.4392,0,null,91.1,70,70,70,70,70,null,31.447225244831337,23.068552774755169,10,11.999999999999998,11.999999999999998,2.2999999999999998,9.3000000000000007,140,4.5999999999999996,5.9,83.999999999999986,0,2.3799999999999994,null,7.52,2.79,0.94,4.1900000000000004,0.97,4.07,7.32,2.54,3.82,3.11,4.93,null,1.02,1.05,0.98,1.03,1,1.02,1.03,1,1.02,0.95,1.02,null,75.599999999999994,9.1,16.8,0,null,159,144.69,1.2439908826945374,1.2029288853432318,null,831.99999999999977,5.4934285714286615,1.1889077942857778,0,0,0,0,null,28.9,21.200000000000003,9.1900000000000013,11.027999999999999,11.027999999999999,2.1137000000000001,8.5467000000000013,null,128.66,4.2274000000000003,5.4221000000000004,77.195999999999984,0,2.1872199999999995,632.93000400000005,553.63428267915572,42.46596401862196,16.218716311085867,5.1000790120403821,21.318795323126249,23.893194737584324,5.3702525419878109,22.983573611142472,41.741810376877623,14.062310780050554,21.571806190310621,16.357124881755652,37.928931072066277,27.840053538804025,0,0,0,0,0,0,0,0,0,0,0,0,0,0,0,0,0,"10.4.2",8,8,8,8,"",8,8,"",8,8,"","","","","","","","","","","",8,8,"","","","","","","","","","","",0.7,1.8,2.2000000000000002,1.6,"",1.3,1,"",6.1,5.6,"","","","","","","","","","","",9,3.1,"","","","","","","","","","","",2016,2016,2016,2016,"",2016,2016,"",2016,2016,"","","","","","","","","","","",2016,2016,"","",{"$f":"'background data'!$G$18","v":0.54099999999999993},{"$f":"'background data'!$H$18","v":0.11600000000000001},{"$f":"'background data'!$J$18","v":0.25},{"$f":"'background data'!$L$18","v":1.2999999999999999E-2},{"$f":"'background data'!$M$18","v":8.86},{"$f":"'background data'!$N$18","v":6.9299999999999995E-3},{"$f":"'background data'!$O$18","v":1.75},"as soybean cake","offfarm","fiskemel","Fiskemel fremstilles ved tørring og formaling af hele eller dele af fisk, hvoraf en del af olien kan være fjernet. Der skal være et indhold af råprotein i tørstof på mindst 61 pct. i fiskemel. \nHvis fiskemel har et indhold af råprotein i tørstof på mere end 75 pct., kan det betegnes som proteinrigt.\nAnvendelse af fiskemel i ren form kræver en godkendelse hos Plantedirektoratet. For bedrifter, der både har svin og drøvtyggere, stilles der, udover krav til godkendelse, yderligere krav. Læs mere på Plantedirektoratets hjemmeside [124].\n\nKvalitet \nPå de danske fiskemelsfabrikker fremstilles 2 fiskemelskvaliteter der anvendes i foder til svin – Standard Fiskemel og LT fiskemel. Der fremstilles desuden andre kvaliteter af fiskemel – og produkter, der bruges i aquaindustrien. Disse produkter ses der bort fra her. Ved produktion af LT Fiskemel stilles der krav til friskheden af de fisk der anvendes ved fremstillingen.\nDer stilles desuden krav til temperaturen under fremstillingen (LT = Low temperature). Begge forhold giver en højere fordøjelighed af råprotein og for, at et parti fiskemel er af LT kvalitet, skal det derfor også opfylde et minimumskrav til proteinfordøjeligheden. For fiskemel af Standardkvalitet er der ingen krav til hverken friskhed, procestemperatur eller proteinfordøjelighed. Fisk, der ikke er helt frisk, er kendetegnet ved, at en proces hvorved proteinet gradvist omdannes til andre kvælstofforbindelser er begyndt. Ved processen dannes aminer eksempelvis cadevarin og histamin og i sidste ende ammoniak. Læs mere herom på www.vsp.lf.dk -> VIDEN -> Foder -> Råvarer -> Beskrivelse af råvarer [173]\n\nVed afprøvning i to besætninger blev der ikke fundet nogen effekt på produktionsresultaterne ved at anvende LT-fiskemel frem for Standard fiskemel [125].\nFiskemel har et indhold af råfedt på ca. 9 pct., som hovedsageligt består af umættede fedtsyrer.Ud fra forsøg og generel erfaring vurderes det, at fiskemel kan bruges i henhold til følgende kilder: [126], [127], [128], [129], [130], [131], [132], [133], [134].","Brug af fiskemel i foder til slagtesvin giver afsmag i kødet. Denne afsmag skyldes indhold af fiskeolie i fiskemel. Fiskemel må derfor kun bruges i foder til grise indtil en vægt af ca. 35-40 kg [135], samt i foder til søer. \nForsøg har ikke kunnet bekræfte en positiv effekt af brug af fiskemel i foder til søer i goldperioden [132].\nHvis fisk før formaling og varmebehandling er i en begyndende forrådnelse forringes kvaliteten af fiskemel. Dette kan være årsag til lavere daglig foderoptagelse og eventuelt ædevægring. Desuden, hvis fiskemel udsættes for opvarmning ved en for høj temperatur, vil dele af proteinet være ufordøjeligt, og dermed årsag til fx lavere daglig tilvækst.    \nProblemer omkring fiskemel ses ved, at grisene mister pludselig deres ædelyst eller reducerer deres daglige foderoptagelse. Undersøg oprindelse og kvalitetstype af den brugte fiskemel. Hvis det vurderes nødvendigt, kan der gennemføres en analyse af fiskemelspartiet, men kemisk analyse vil ikke altid afdække en kvalitetsmæssig forringelse.","Fiskemel opbevares tørt; derudover er der ingen specielle forhold.\nFiskemel leveres som melvare eller som 4 mm piller. Fiskemel LT leveres som melvare. Melvare af fiskemel danner let bro i silo, og kræver derfor 60° kegle, vibrator og trykluftspjæld i siloen. Alternativt kan fiskemel lagres i mineralpåslag med omrører.",null,null,{"$f":"'background data'!$G$18","v":0.54099999999999993},{"$f":"'background data'!$H$18","v":0.11600000000000001},{"$f":"'background data'!$J$18","v":0.25},{"$f":"'background data'!$L$18","v":1.2999999999999999E-2},{"$f":"'background data'!$M$18","v":8.86},{"$f":"'background data'!$N$18","v":6.9299999999999995E-3},{"$f":"'background data'!$O$18","v":1.75},"as soybean cake"]
[83300,833,0,"FISKEMEL,  LT","2013-08-12",1.17361420162601,1.13877048623377,95.2,93.1,96,1,91.6,70.623599999999996,9.0684000000000005,13.74,0,null,92,70,70,70,70,70,null,35.200000000000003,23.9,7.2999828331707102,18,13,2.2000000000000002,10,332.00000000000006,5,15.000000000000002,106.00000000000001,0,2.38,null,8.5706874189364495,3.38132295719844,1.06874189364462,4.6549935149156898,1.2075226977950699,5.0259403372243803,8.1024643320363197,2.6796368352788602,4.4643320363164696,3.7626459143968898,6.0648508430609596,null,1.02,1.05,0.98,1.03,1,1.02,1.03,1,1.02,0.95,1.02,null,77.099999999999994,9.9,15.000000000000002,0,null,159,157.41,1.281238211382107,1.2431992207792248,null,850.00000000000011,-13.939999999999891,25.50000000000011,0,0,0,0,null,32.243200000000002,21.892399999999999,6.6867842751843698,16.488,11.907999999999999,2.0152000000000001,9.16,null,304.11200000000002,4.58,13.74,97.096000000000004,0,2.1800799999999998,649.73712,553.62070354960531,48.398081987508533,19.655689142172662,5.7984408629102111,25.45413000508287,26.544138082888708,6.6850956550542735,28.381139180023542,46.202627641071537,14.835024300045195,25.20977575681059,19.789247444196299,44.999023201006885,34.247795304720015,0,0,0,0,0,0,0,0,0,0,0,0,0,0,0,0,0,"10.4.2","","","","","","","","","","",8,8,8,8,8,8,8,8,8,8,8,8,8,8,"",8,8,"",8,8,8,8,"",8,"","","","","","","","","","","","","","","","","","","","","","","","","","","","","","","","","","","","","","","","","","","","",2013,2013,2013,2013,2013,2013,2013,2013,2013,2013,2013,2013,2013,2013,"",{"$f":"'background data'!$G$18","v":0.54099999999999993},{"$f":"'background data'!$H$18","v":0.11600000000000001},{"$f":"'background data'!$J$18","v":0.25},{"$f":"'background data'!$L$18","v":1.2999999999999999E-2},{"$f":"'background data'!$M$18","v":8.86},{"$f":"'background data'!$N$18","v":6.9299999999999995E-3},{"$f":"'background data'!$O$18","v":1.75},null,"offfarm","fiskemel","Fiskemel fremstilles ved tørring og formaling af hele eller dele af fisk, hvoraf en del af olien kan være fjernet. Der skal være et indhold af råprotein i tørstof på mindst 61 pct. i fiskemel. \nHvis fiskemel har et indhold af råprotein i tørstof på mere end 75 pct., kan det betegnes som proteinrigt.\nAnvendelse af fiskemel i ren form kræver en godkendelse hos Plantedirektoratet. For bedrifter, der både har svin og drøvtyggere, stilles der, udover krav til godkendelse, yderligere krav. Læs mere på Plantedirektoratets hjemmeside [124].\n\nKvalitet \nPå de danske fiskemelsfabrikker fremstilles 2 fiskemelskvaliteter der anvendes i foder til svin – Standard Fiskemel og LT fiskemel. Der fremstilles desuden andre kvaliteter af fiskemel – og produkter, der bruges i aquaindustrien. Disse produkter ses der bort fra her. Ved produktion af LT Fiskemel stilles der krav til friskheden af de fisk der anvendes ved fremstillingen.\nDer stilles desuden krav til temperaturen under fremstillingen (LT = Low temperature). Begge forhold giver en højere fordøjelighed af råprotein og for, at et parti fiskemel er af LT kvalitet, skal det derfor også opfylde et minimumskrav til proteinfordøjeligheden. For fiskemel af Standardkvalitet er der ingen krav til hverken friskhed, procestemperatur eller proteinfordøjelighed. Fisk, der ikke er helt frisk, er kendetegnet ved, at en proces hvorved proteinet gradvist omdannes til andre kvælstofforbindelser er begyndt. Ved processen dannes aminer eksempelvis cadevarin og histamin og i sidste ende ammoniak. Læs mere herom på www.vsp.lf.dk -> VIDEN -> Foder -> Råvarer -> Beskrivelse af råvarer [173]\n\nVed afprøvning i to besætninger blev der ikke fundet nogen effekt på produktionsresultaterne ved at anvende LT-fiskemel frem for Standard fiskemel [125].\nFiskemel har et indhold af råfedt på ca. 9 pct., som hovedsageligt består af umættede fedtsyrer.Ud fra forsøg og generel erfaring vurderes det, at fiskemel kan bruges i henhold til følgende kilder: [126], [127], [128], [129], [130], [131], [132], [133], [134].","Brug af fiskemel i foder til slagtesvin giver afsmag i kødet. Denne afsmag skyldes indhold af fiskeolie i fiskemel. Fiskemel må derfor kun bruges i foder til grise indtil en vægt af ca. 35-40 kg [135], samt i foder til søer. \nForsøg har ikke kunnet bekræfte en positiv effekt af brug af fiskemel i foder til søer i goldperioden [132].\nHvis fisk før formaling og varmebehandling er i en begyndende forrådnelse forringes kvaliteten af fiskemel. Dette kan være årsag til lavere daglig foderoptagelse og eventuelt ædevægring. Desuden, hvis fiskemel udsættes for opvarmning ved en for høj temperatur, vil dele af proteinet være ufordøjeligt, og dermed årsag til fx lavere daglig tilvækst.    \nProblemer omkring fiskemel ses ved, at grisene mister pludselig deres ædelyst eller reducerer deres daglige foderoptagelse. Undersøg oprindelse og kvalitetstype af den brugte fiskemel. Hvis det vurderes nødvendigt, kan der gennemføres en analyse af fiskemelspartiet, men kemisk analyse vil ikke altid afdække en kvalitetsmæssig forringelse.","Fiskemel opbevares tørt; derudover er der ingen specielle forhold.\nFiskemel leveres som melvare eller som 4 mm piller. Fiskemel LT leveres som melvare. Melvare af fiskemel danner let bro i silo, og kræver derfor 60° kegle, vibrator og trykluftspjæld i siloen. Alternativt kan fiskemel lagres i mineralpåslag med omrører.",null,null,{"$f":"'background data'!$G$18","v":0.54099999999999993},{"$f":"'background data'!$H$18","v":0.11600000000000001},{"$f":"'background data'!$J$18","v":0.25},{"$f":"'background data'!$L$18","v":1.2999999999999999E-2},{"$f":"'background data'!$M$18","v":8.86},{"$f":"'background data'!$N$18","v":6.9299999999999995E-3},{"$f":"'background data'!$O$18","v":1.75}]
[83500,835,0,"FISKEMEL, ISLAND (Obs.: Gamle data)","2010-05-12",1.3382661088207599,1.2933860367168299,93.7,93.7,93.7,1,91.3,68.3,13.799999565,10.300000369999999,0,null,91,70,70,70,70,70,null,16.648410000000002,18.181820000000002,8.3423600000000011,0,15.92633,2.2000000000000002,0,332,5.0000000000000009,15,106.00000000000001,0,2.3800000000000003,null,7.22,2.79,0.91,4.09,1.1599999999999999,4.51,7.59,2.0499999999999998,3.77,3.3,5.46,null,1.02,1.05,0.98,1.03,1,1.02,1.03,1,1.02,0.95,1.02,null,74.808324205914573,15.115005,11.28149,0,null,159,240.32857950000002,1.4657898234619495,1.416633117981194,null,887.18510000000003,3.9211399261770317,0,0,0,0," ",null,15.19999833,16.60000166,7.6165746800000003,0,14.540739289999999,2.0085999999999999,0,null,303.11599999999999,4.5650000000000004,13.694999999999999,96.778000000000006,0,2.1729400000000001,621.53,464.42930587824094,34.20243180209718,13.605456515703068,4.1417805498221529,17.747237065525219,19.565013368732657,5.3873799481875952,21.364676929010841,36.307689845643239,9.5208007705039392,17.859164528241877,14.559858739282856,32.419023267524729,25.864996902970997,0,0,0,0,0,0,0,0,0,0,0,0,0,0,0,0,0,"10.4.2","","","","","","","","","","","","","","","","","","","","","","","","","","","","","","","","","","","","","","","","","","","","","","","","","","","","","","","","","","","","","","","","","","","","","","","","","","","","","","","","","","","","","","","","","","","","","",{"$f":"'background data'!$G$18","v":0.54099999999999993},{"$f":"'background data'!$H$18","v":0.11600000000000001},{"$f":"'background data'!$J$18","v":0.25},{"$f":"'background data'!$L$18","v":1.2999999999999999E-2},{"$f":"'background data'!$M$18","v":8.86},{"$f":"'background data'!$N$18","v":6.9299999999999995E-3},{"$f":"'background data'!$O$18","v":1.75},null,"offfarm","fiskemel","Islandsk fiskemel bruges stort set ikke i Danmark \n\nFiskemel fremstilles ved tørring og formaling af hele eller dele af fisk, hvoraf en del af olien kan være fjernet. Der skal være et indhold af råprotein i tørstof på mindst 61 pct. i fiskemel. \nHvis fiskemel har et indhold af råprotein i tørstof på mere end 75 pct., kan det betegnes som proteinrigt.\nAnvendelse af fiskemel i ren form kræver en godkendelse hos Plantedirektoratet. For bedrifter, der både har svin og drøvtyggere, stilles der, udover krav til godkendelse, yderligere krav. Læs mere på Plantedirektoratets hjemmeside [124].\n\nKvalitet \nPå de danske fiskemelsfabrikker fremstilles 2 fiskemelskvaliteter der anvendes i foder til svin – Standard Fiskemel og LT fiskemel. Der fremstilles desuden andre kvaliteter af fiskemel – og produkter, der bruges i aquaindustrien. For fiskemel af Standardkvalitet er der ingen krav til hverken friskhed, procestemperatur eller proteinfordøjelighed. Fisk, der ikke er helt frisk, er kendetegnet ved, at en proces hvorved proteinet gradvist omdannes til andre kvælstofforbindelser er begyndt. Ved processen dannes aminer eksempelvis cadevarin og histamin og i sidste ende ammoniak. Læs mere herom på www.vsp.lf.dk -> VIDEN -> Foder -> Råvarer -> Beskrivelse af råvarer [173]\n\nVed afprøvning i to besætninger blev der ikke fundet nogen effekt på produktionsresultaterne ved at anvende LT-fiskemel frem for Standard fiskemel [125].\nFiskemel har et indhold af råfedt på ca. 9 pct., som hovedsageligt består af umættede fedtsyrer.Ud fra forsøg og generel erfaring vurderes det, at fiskemel kan bruges i henhold til følgende kilder: [126], [127], [128], [129], [130], [131], [132], [133], [134].","Brug af fiskemel i foder til slagtesvin giver afsmag i kødet. Denne afsmag skyldes indhold af fiskeolie i fiskemel. Fiskemel må derfor kun bruges i foder til grise indtil en vægt af ca. 35-40 kg [135], samt i foder til søer. \nForsøg har ikke kunnet bekræfte en positiv effekt af brug af fiskemel i foder til søer i goldperioden [132].\nHvis fisk før formaling og varmebehandling er i en begyndende forrådnelse forringes kvaliteten af fiskemel. Dette kan være årsag til lavere daglig foderoptagelse og eventuelt ædevægring. Desuden, hvis fiskemel udsættes for opvarmning ved en for høj temperatur, vil dele af proteinet være ufordøjeligt, og dermed årsag til fx lavere daglig tilvækst.    \nProblemer omkring fiskemel ses ved, at grisene mister pludselig deres ædelyst eller reducerer deres daglige foderoptagelse. Undersøg oprindelse og kvalitetstype af den brugte fiskemel. Hvis det vurderes nødvendigt, kan der gennemføres en analyse af fiskemelspartiet, men kemisk analyse vil ikke altid afdække en kvalitetsmæssig forringelse.","Fiskemel opbevares tørt; derudover er der ingen specielle forhold.\nFiskemel leveres som melvare eller som 4 mm piller. Fiskemel LT leveres som melvare. Melvare af fiskemel danner let bro i silo, og kræver derfor 60° kegle, vibrator og trykluftspjæld i siloen. Alternativt kan fiskemel lagres i mineralpåslag med omrører.",null,null,{"$f":"'background data'!$G$18","v":0.54099999999999993},{"$f":"'background data'!$H$18","v":0.11600000000000001},{"$f":"'background data'!$J$18","v":0.25},{"$f":"'background data'!$L$18","v":1.2999999999999999E-2},{"$f":"'background data'!$M$18","v":8.86},{"$f":"'background data'!$N$18","v":6.9299999999999995E-3},{"$f":"'background data'!$O$18","v":1.75}]
[83600,836,0,"FISKEPROTEIN, hydrolyseret, H-35 Lakseproteinkoncentrat","2013-08-19",0.73852807039743495,0.71244586487442496,97.6,96.2,97.7,1,50,35,6.0311284046692499,5,0,null,92,70,70,70,70,70,null,13.999981219296,15,10,13,10,2,0,700,100,9,1000,0,2.38,null,6.4,2.5,0.8,3.8,0.66,4.0999999999999996,6.5,2.2999999999999998,3.3,2.7,4.9000000000000004,null,1.02,1.05,0.98,1.03,1,1.02,1.03,1,1.02,0.95,1.02,null,70,12.0622568093385,10,0,null,159,191.78988326848199,1.4770561407948699,1.4248917297488499,null,900,106.396108949417,17.999999999999901,0,0,0," ",null,6.999990609648,7.5,5,6.5,5,1,0,null,350,50,4.5,500,0,1.19,322,436.0023848879805,28.462235685487368,11.44506260330949,3.4182586975217673,14.863321300831254,17.065133344515559,2.8776157402606715,18.233619736015346,29.190359668250295,10.028054852423551,14.675840275329426,11.183461172376699,25.859301447706123,21.791399196701267,0,0,0,0,0,0,0,0,0,0,0,0,0,0,0,0,0,"10.4.4","","","","","","","","","","","","","","","","","","","","","","","","","","","","","","","","","","","","","","","","","","","","","","","","","","","","","","","","","","","","","","","","","","","","","","","","","","","","","","","","","","","","","","","","","","","","","",{"$f":"'background data'!$G$18","v":0.54099999999999993},{"$f":"'background data'!$H$18","v":0.11600000000000001},{"$f":"'background data'!$J$18","v":0.25},{"$f":"'background data'!$L$18","v":1.2999999999999999E-2},{"$f":"'background data'!$M$18","v":8.86},{"$f":"'background data'!$N$18","v":6.9299999999999995E-3},{"$f":"'background data'!$O$18","v":1.75},null,"offfarm","fiskeprotein","Fremstilles ud fra fraskær i produktionen af lakseprodukter i Norge. Råvaren er farmlaks. Eksempler er produkterne H-pro og H-35 fra firmaet Hordafor A/S. Der tilsættes organisk syre som konserveringsmiddel.  \n\nUd fra forsøg og generel erfaring vurderes det, at fiskeprotein, hydrolyseret kan bruges i henhold til følgende kilder: [136], [137].","Brug af store andele af fiskeensilage i foder til slagtesvin giver afsmag i kødet. Denne afsmag skyldes indhold af fiskeolie i råvaren. Fiskeprotein, hydrolyseret  må derfor kun bruges i mindre omfang i foder til slagtesvin [136] og de olieholdige produkter må ikke anvendes til slagtesvin over ca. 35-40 kg.\nDer er ikke dokumenterede eksempler på, at fiskeprotein, hydrolyseret har været årsag til problemer.",0,null,null,{"$f":"'background data'!$G$18","v":0.54099999999999993},{"$f":"'background data'!$H$18","v":0.11600000000000001},{"$f":"'background data'!$J$18","v":0.25},{"$f":"'background data'!$L$18","v":1.2999999999999999E-2},{"$f":"'background data'!$M$18","v":8.86},{"$f":"'background data'!$N$18","v":6.9299999999999995E-3},{"$f":"'background data'!$O$18","v":1.75}]
[83900,839,0,"FISKEPROTEIN, hydrolyseret, H-PRO Lakseproteinkoncentrat","2013-08-19",0.63652148229347505,0.614063862250111,97.6,96.2,97.7,1,43,30,5.0247191011236101,4,0,null,92,70,70,70,70,70,null,13.999999999999998,15,10,13,10,2,0,700,100,9,1000,0,2.3800000000000003,null,7,2.6,0.9,4.2,0.8,4,6.6,2.2999999999999998,3.5,3,4.9000000000000004,null,1.02,1.05,0.98,1.03,1,1.02,1.03,1,1.02,0.95,1.02,null,69.767441860465112,11.685393258427,9.3023255813953494,0,null,159,185.79775280898906,1.4802825169615699,1.4280554936049092,null,906.97674418604652,118.83773190488604,18.139534883720792,0,0,0,0,null,6.02,6.45,4.3,5.59,4.3,0.86,0,null,301,43,3.87,430,0,1.0234000000000001,276,433.60673233766403,30.959520688909212,11.837463792818228,3.8244113792181968,15.661875172036426,18.757827240927345,3.4688538587013125,17.691154679376691,29.476585664314403,9.9729548437662725,15.479760344454606,12.357791871623425,27.837552216078034,21.671664482236448,0,0,0,0,0,0,0,0,0,0,0,0,0,0,0,0,0,"10.4.4","","","","","","","","","","","","","","","","","","","","","","","","","","","","","","","","","","","","","","","","","","","","","","","","","","","","","","","","","","","","","","","","","","","","","","","","","","","","","","","","","","","","","","","","","","","","","",{"$f":"'background data'!$G$18","v":0.54099999999999993},{"$f":"'background data'!$H$18","v":0.11600000000000001},{"$f":"'background data'!$J$18","v":0.25},{"$f":"'background data'!$L$18","v":1.2999999999999999E-2},{"$f":"'background data'!$M$18","v":8.86},{"$f":"'background data'!$N$18","v":6.9299999999999995E-3},{"$f":"'background data'!$O$18","v":1.75},null,"offfarm","fiskeprotein","Fremstilles ud fra fraskær i produktionen af lakseprodukter i Norge. Råvaren er farmlaks. Eksempler er produkterne H-pro og H-35 fra firmaet Hordafor A/S. Der tilsættes organisk syre som konserveringsmiddel.  \n\nUd fra forsøg og generel erfaring vurderes det, at fiskeprotein, hydrolyseret kan bruges i henhold til følgende kilder: [136], [137].","Brug af store andele af fiskeensilage i foder til slagtesvin giver afsmag i kødet. Denne afsmag skyldes indhold af fiskeolie i råvaren. Fiskeprotein, hydrolyseret  må derfor kun bruges i mindre omfang i foder til slagtesvin [136] og de olieholdige produkter må ikke anvendes til slagtesvin over ca. 35-40 kg.\nDer er ikke dokumenterede eksempler på, at fiskeprotein, hydrolyseret har været årsag til problemer.",0,null,null,{"$f":"'background data'!$G$18","v":0.54099999999999993},{"$f":"'background data'!$H$18","v":0.11600000000000001},{"$f":"'background data'!$J$18","v":0.25},{"$f":"'background data'!$L$18","v":1.2999999999999999E-2},{"$f":"'background data'!$M$18","v":8.86},{"$f":"'background data'!$N$18","v":6.9299999999999995E-3},{"$f":"'background data'!$O$18","v":1.75}]
[46000,460,0,"FODERKRIDT, 36 % calcium","2013-11-04",-0.112682926829268,-0.108,70,70,0,1,99,0,0,99,0,null,0,0,0,0,0,0,null,363.63636363636363,0,0,0,0,0,0,0,0,0,0,0,0,null,0,0,0,0,0,0,0,0,0,0,0,null,1,1,1,1,1,1,1,1,1,1,1,null,0,0,100,0,null,0,0,-0.11382113821138182,-0.10909090909090909,null,0,0,0," "," "," "," ",null,360,0,0,0,0,0,0,null,0,0,0,0,0,0,0,0,0,0,0,0,0,0,0,0,0,0,0,0,0,0,0,0,0,0,0,0,0,0,0,0,0,0,0,0,0,0,"11.1.1","","","","","","","","","","","","","","","","","","","","","","","","","","","","","","","","","","","","","","","","","","","","","","","","","","","","","","","","","","","","","","","","","","","","","","","","","","","","","","","","","","","","","","","","","","","","","",null,null,null,null,null,null,null,null,"offfarm","foderkridt",0,0,0,null,null,{"$f":"'background data'!$G$10","v":0.47300000000000003},{"$f":"'background data'!$H$10","v":0.13},{"$f":"'background data'!$J$10","v":0.39100000000000001},{"$f":"'background data'!$L$10","v":5.5E-2},{"$f":"'background data'!$M$10","v":3.97},{"$f":"'background data'!$N$10","v":4.5999999999999999E-3},{"$f":"'background data'!$O$10","v":2.73}]
[55900,559,0,"FODERRIS (formalet)","2010-05-12",1.34595729318622,1.29708708379963,97.9,96.9,93,1,87.8,7.6386000000000003,1.4925999999999999,0.878,0.96579999999999999,null,90.244305882352904,28,45,52,58,61,null,0.5,2.3000000000000003,0.4,0.8,2.5,1.5,0.70000000000000007,20,24,13,19,0,0.30000000000000004,null,3.9,2.7,2.2000000000000002,3.5,1.3,4.5,8.6999999999999993,2.5,5.2,4.9000000000000004,6.3,null,1,1,1,1,1,1,1,1,1,1,1,null,8.7000000000000011,1.7,1,1.1000000000000001,null,92,15.64,1.5329809717382916,1.4773201410018566,null,990.00000000000011,859.40714285714353,14.142857142857062," "," "," "," ",null,0.439,2.0194000000000001,0.35120000000000001,0.70240000000000002,2.1949999999999998,1.3169999999999999,0.61460000000000004,null,17.559999999999999,21.071999999999999,11.414,16.681999999999999,0,0.26340000000000002,68.934015491294105,51.215603823587834,1.9974085491199254,1.382821303236871,1.126743284118932,2.5095645873558032,1.7925461338255715,0.66580284970664305,2.3047021720614489,4.4557575326521368,1.2803900955896939,2.6632113988265651,2.5095645873558032,5.1727759861823683,3.2265830408860348,0,0,0,0,0,0,0,0,0,0,0,0,0,0,0,0,0,"1.6.7","","","","","","","","","","","","","","","","","","","","","","","","","","","","","","","","","","","","","","","","","","","","","","","","","","","","","","","","","","","","","","","","","","","","","","","","","","","","","","","","","","","","","","","","","","","","","",null,null,null,null,null,null,null,null,"offfarm","foderris","Ris er de uafskallede korn fra risplanten (Oryza sativa), og importeres fra bl.a. Kina, Indien og Thailand.\n\nRis kan indeholde de produktionshæmmende stoffer trypsin- og pepsininhibitorer.","Der er ingen specielle forhold omkring brug, opbevaring og håndtering af ris, man bør være opmærksom på.","Ris er lagerfast ved 86 procent tørstof.",null,null,{"$f":"'background data'!$G$10","v":0.47300000000000003},{"$f":"'background data'!$H$10","v":0.13},{"$f":"'background data'!$J$10","v":0.39100000000000001},{"$f":"'background data'!$L$10","v":5.5E-2},{"$f":"'background data'!$M$10","v":3.97},{"$f":"'background data'!$N$10","v":4.5999999999999999E-3},{"$f":"'background data'!$O$10","v":2.73}]
[67600,676,0,"FODERSUKKER  (Obs.: Gamle data)","2010-05-12",1.4423562926829301,1.3843612425973999,99,99,90,1,96,2.2080000000000002,9.6000000000000002E-2,3.456,0.38400000000000001,null," ",0,0,0,0,0,null,0,0,0,0,0,0,0,0,0,0,0,0,0,null,0,0,0,0,0,0,0,0,0,0,0,null,1,1,1,1,1,1,1,1,1,1,1,null,2.3000000000000003,0.1,3.6,0.4,null,0,0,1.5024544715447188,1.4420429610389582,null,964,932.46,0," "," "," "," ",null,0,0,0,0,0,0,0,null,0,0,0,0,0,0,0,0,0,0,0,0,0,0,0,0,0,0,0,0,0,0,0,0,0,0,0,0,0,0,0,0,0,0,0,0,0,0,"4.1.3","","","","","","","","","","","","","","","","","","","","","","","","","","","","","","","","","","","","","","","","","","","","","","","","","","","","","","","","","","","","","","","","","","","","","","","","","","","","","","","","","","","","","","","","","","","","","",{"$f":"256/1000","v":0.25600000000000001},{"$f":"38/1000","v":3.7999999999999999E-2},{"$f":"118/1000","v":0.11799999999999999},{"$f":"16/1000","v":1.6E-2},{"$f":"1.3","v":1.3},null,{"$f":"0.82","v":0.82},"as conventional (roer (rod) - Mogensen et al., 2018)","offfarm","fodersukker","Fodersukker er ekstraheret fra sukkerroer, og kan også benævnes saccharose.\n\nFodersukker kan tilsættes foder til nyfravænnede grise for at øge grisenes foderoptagelse. Der er dog ikke forsøgsmæssigt grundlag til at vurdere effekten af tilsætning af fodersukker",0,0,null,null,{"$f":"'background data'!$G$10","v":0.47300000000000003},{"$f":"'background data'!$H$10","v":0.13},{"$f":"'background data'!$J$10","v":0.39100000000000001},{"$f":"'background data'!$L$10","v":5.5E-2},{"$f":"'background data'!$M$10","v":3.97},{"$f":"'background data'!$N$10","v":4.5999999999999999E-3},{"$f":"'background data'!$O$10","v":2.73}]
[39004,390,4,"FORBL  300 E-10 (kun E-vit )","2010-05-12",0.45799119794648102,0.44025273257937703,65,84,90,1,91.1,1,1.4000002030000001,49.799999933000002,15.999999587,null,70,0,0,0,0,0,null,0,0,0,0,0,0,0,0,0,0,0,0,0,null,0,0,0,0,0,0,0,0,0,0,0,null,1,1,1,1,1,0,0,0,0,0.8,0,null,1.0976948408342482,1.5367730000000002,54.665203000000005,17.563117000000002,null,0,0,0.50273457513334907,0.48326315321556207,null,453.34797000000003,392.83205120555107,-123.05159185714271," "," "," "," ",null,0,0,0,0,0,0,0,null,0,0,0,0,0,0,7.0000000000000098,15.284136532287683,0,0,0,0,0,0,0,0,0,0,0,0,0,0,0,0,0,0,9100.0000003719997,0,0,0,0,0,0,0,0,0,0,0,"","","","","","","","","","","","","","","","","","","","","","","","","","","","","","","","","","","","","","","","","","","","","","","","","","","","","","","","","","","","","","","","","","","","","","","","","","","","","","","","","","","","","","","","","","","","","","",null,null,null,null,null,null,null,null,"offfarm","vitaminer og mineraler",0,0,0,null,null,{"$f":"'background data'!$G$10","v":0.47300000000000003},{"$f":"'background data'!$H$10","v":0.13},{"$f":"'background data'!$J$10","v":0.39100000000000001},{"$f":"'background data'!$L$10","v":5.5E-2},{"$f":"'background data'!$M$10","v":3.97},{"$f":"'background data'!$N$10","v":4.5999999999999999E-3},{"$f":"'background data'!$O$10","v":2.73}]
[39005,390,5,"FORBL  301 E-25 (kun E-vit )","2010-05-12",0.45799119794648102,0.44025273257937703,65,84,90,1,91.1,1,1.4000002030000001,49.799999933000002,15.999999587,null,70,0,0,0,0,0,null,0,0,0,0,0,0,0,0,0,0,0,0,0,null,0,0,0,0,0,0,0,0,0,0,0,null,1,1,1,1,1,0,0,0,0,0.8,0,null,1.0976948408342482,1.5367730000000002,54.665203000000005,17.563117000000002,null,0,0,0.50273457513334907,0.48326315321556207,null,453.34797000000003,392.83205120555107,-123.05159185714271," "," "," "," ",null,0,0,0,0,0,0,0,null,0,0,0,0,0,0,7.0000000000000098,15.284136532287683,0,0,0,0,0,0,0,0,0,0,0,0,0,0,0,0,0,0,22750.000000018899,0,0,0,0,0,0,0,0,0,0,0,"","","","","","","","","","","","","","","","","","","","","","","","","","","","","","","","","","","","","","","","","","","","","","","","","","","","","","","","","","","","","","","","","","","","","","","","","","","","","","","","","","","","","","","","","","","","","","",null,null,null,null,null,null,null,null,"offfarm","vitaminer og mineraler",0,0,0,null,null,{"$f":"'background data'!$G$10","v":0.47300000000000003},{"$f":"'background data'!$H$10","v":0.13},{"$f":"'background data'!$J$10","v":0.39100000000000001},{"$f":"'background data'!$L$10","v":5.5E-2},{"$f":"'background data'!$M$10","v":3.97},{"$f":"'background data'!$N$10","v":4.5999999999999999E-3},{"$f":"'background data'!$O$10","v":2.73}]
[47400,474,0,"FOSFORSYRE 75%","2010-05-12",-8.5365853658536495E-2,-8.1818181818181707E-2,70,70,0,1,75,0,0,75,0,null,0,75,75,75,75,75,null,0,332,0,0,0,0,0,0,0,0,0,0,0,null,0,0,0,0,0,0,0,0,0,0,0,null,1,1,1,1,1,1,1,1,1,1,1,null,0,0,100,0,null,0,0,-0.113821138211382,-0.10909090909090895,null,0,0,0," "," "," "," ",null,0,249,0,0,0,0,0,null,0,0,0,0,0,0,0,0,0,0,0,0,0,0,0,0,0,0,0,0,0,0,0,0,0,0,0,0,0,0,0,0,0,0,0,0,0,0,"","","","","","","","","","","","","","","","","","","","","","","","","","","","","","","","","","","","","","","","","","","","","","","","","","","","","","","","","","","","","","","","","","","","","","","","","","","","","","","","","","","","","","","","","","","","","","",null,null,null,null,null,null,null,null,"offfarm","vitaminer og mineraler",0,0,0,null,null,{"$f":"'background data'!$G$10","v":0.47300000000000003},{"$f":"'background data'!$H$10","v":0.13},{"$f":"'background data'!$J$10","v":0.39100000000000001},{"$f":"'background data'!$L$10","v":5.5E-2},{"$f":"'background data'!$M$10","v":3.97},{"$f":"'background data'!$N$10","v":4.5999999999999999E-3},{"$f":"'background data'!$O$10","v":2.73}]
[88900,889,0,"Fedtsyredestillater fra fysisk raffinering, palme (PFAD)","2010-05-12",3.7704943592503599,3.62001550276204,97,97,90,1,98.5,9.9494949494949495E-5,98.5,0,0,null,0,0,0,0,0,0,null,0,0,0,0,0,0,0,0,0,0,0,0,0,null,0,0,0,0,0,0,0,0,0,0,0,null,1,1,1,1,1,1,1,1,1,1,1,null,1.0101010101010101E-4,100,0,0,null,57,570,3.8279130550765075,3.67514264239801,null,1000,-9.1919191907823146E-4,0,0,0,0,0,null,0,0,0,0,0,0,0,null,0,0,0,0,0,0,0,0,0,0,0,0,0,0,0,0,0,0,0,0,0,0,0,0,0,0,0,0,0,0,0,0,0,0,0,0,0,0,"13.6.5","","","","","","","","","","","","","","","","","","","","","","","","","","","","","","","","","","","","","","","","","","","","","","","","","","","","","","","","","","","","","","","","","","","","","","","","","","","","","","","","","","","","","","","","","","","","","",null,null,null,null,null,null,null,null,"offfarm","PFAD","Læs udførlig beskrivelse vedr. foderfedt og fedtkvalitet her:\nhttp://vsp.lf.dk/Viden/Foder/Raavarer/Foder_raavareliste/Foderfedt_fedtkvalitet.aspx?full=1 \n(Klik på referencenr. 172 i fanen [Liste over referencer] )\n","Læs udførlig beskrivelse vedr. foderfedt og fedtkvalitet her:\nhttp://vsp.lf.dk/Viden/Foder/Raavarer/Foder_raavareliste/Foderfedt_fedtkvalitet.aspx?full=1 \n(Klik på referencenr. 172 i fanen [Liste over referencer] )\n",0,null,null,{"$f":"'background data'!$G$10","v":0.47300000000000003},{"$f":"'background data'!$H$10","v":0.13},{"$f":"'background data'!$J$10","v":0.39100000000000001},{"$f":"'background data'!$L$10","v":5.5E-2},{"$f":"'background data'!$M$10","v":3.97},{"$f":"'background data'!$N$10","v":4.5999999999999999E-3},{"$f":"'background data'!$O$10","v":2.73}]
[88400,884,0,"Foderblanding af olie og fedtstoffer (Blandingsfedt) (Obs.: Gl. data)","2010-05-12",3.5622558890542,3.42008774301559,97,97,90,0.94,99,1E-4,99,0,0,null,0,0,0,0,0,0,null,0,0,0,0,0,0,0,0,0,0,0,0,0,null,0,0,0,0,0,0,0,0,0,0,0,null,1,1,1,1,1,1,1,1,1,1,1,null,1.0101010101010101E-4,100,0,0,null,65,650,3.598238271771919,3.4546340838541312,null,1000,-9.1919191907823222E-4,0,0,0," "," ",null,0,0,0,0,0,0,0,null,0,0,0,0,0,0,0,0,0,0,0,0,0,0,0,0,0,0,0,0,0,0,0,0,0,0,0,0,0,0,0,0,0,0,0,0,0,0,"","","","","","","","","","","","","","","","","","","","","","","","","","","","","","","","","","","","","","","","","","","","","","","","","","","","","","","","","","","","","","","","","","","","","","","","","","","","","","","","","","","","","","","","","","","","","","",null,null,null,null,null,null,null,null,"offfarm","blandingsfedt","Kvaliteten af blandingsfedt afhænger meget af, hvad der er blandet i den pågældende leverance; normalt består det af planteolie og et eller flere industrirestprodukter.\n\nLæs udførlig beskrivelse vedr. foderfedt og fedtkvalitet her:\nhttp://vsp.lf.dk/Viden/Foder/Raavarer/Foder_raavareliste/Foderfedt_fedtkvalitet.aspx?full=1 \n(Klik på referencenr. 172 i fanen [Liste over referencer] )","SPECIELLE PRODUKTER:\n\nDet er ikke tilladt at bruge friturefedt, hvori der har været tilberedt animalsk protein, da det hører til kategorien ”madaffald”, som er forbudt at anvende i svinefoder. Vær opmærksom på, at fedt/olierester fra fødevareindustrien kan indeholde store mængder af fx salte, der skal tages højde for ved optimering af foderet – bed altid om en indholdsdeklaration for ”øvrige fedtkilder”.\n\nLæs udførlig beskrivelse vedr. foderfedt og fedtkvalitet her:\nhttp://vsp.lf.dk/Viden/Foder/Raavarer/Foder_raavareliste/Foderfedt_fedtkvalitet.aspx?full=1 \n(Klik på referencenr. 172 i fanen [Liste over referencer] )\n",0,null,null,{"$f":"'background data'!$G$10","v":0.47300000000000003},{"$f":"'background data'!$H$10","v":0.13},{"$f":"'background data'!$J$10","v":0.39100000000000001},{"$f":"'background data'!$L$10","v":5.5E-2},{"$f":"'background data'!$M$10","v":3.97},{"$f":"'background data'!$N$10","v":4.5999999999999999E-3},{"$f":"'background data'!$O$10","v":2.73}]
[72600,726,0,"GLYCEROL, CONCERINE CD80 FEED","2010-05-12",1.2529276351783201,1.20085791527481,100,100,91,1,85.2,0.70000320000000005,9.99999999999997E-2,5.8,0,null,50,67,67,67,67,67,null,4.9999999999999996E-2,0.91,22.3,0,48.999999999999993,3.9999999999999996,6.6999999999999993,150,4.5999999999999996,13,7.8,0,0.44,null,0,0,0,0,0,0,0,0,0,0,0,null,1,1,1,1,1,1,1,1,1,1,1,null,0.8216,0.11737089201877898,6.8075117370892011,0,null,0,0,1.4705723417585916,1.4094576470361619,null,931.92488262910797,923.30982497652576,0,0,0,0,0,null,4.2599999999999992E-2,0.77532000000000001,18.999600000000001,0,41.74799999999999,3.4079999999999995,5.7083999999999993,null,127.8,3.9191999999999996,11.076000000000001,6.6456,0,0.37487999999999999,3.500016,2.7934701907200474,0,0,0,0,0,0,0,0,0,0,0,0,0,0,0,0,0,0,0,0,0,0,0,0,0,0,0,0,0,0,"13.8.1","","","","","","","","","","","","","","","","","","","","","","","","","","","","","","","","","","","","","","","","","","","","","","","","","","","","","","","","","","","","","","","","","","","","","","","","","","","","","","","","","","","","","","","","","","","","","",null,null,null,null,null,null,null,null,"offfarm","vitaminer og mineraler",0,0,0,null,null,{"$f":"'background data'!$G$10","v":0.47300000000000003},{"$f":"'background data'!$H$10","v":0.13},{"$f":"'background data'!$J$10","v":0.39100000000000001},{"$f":"'background data'!$L$10","v":5.5E-2},{"$f":"'background data'!$M$10","v":3.97},{"$f":"'background data'!$N$10","v":4.5999999999999999E-3},{"$f":"'background data'!$O$10","v":2.73}]
[74000,740,0,"GRÆSENSILAGE  1. SLÆT","2013-09-16",0.20593777346109199,0.23176176203784801,60.15,50.2,75,1,31.6,5.0876000000000001,1.4536,3.1284000000000001,8.0896000000000008,null,53.681622271517298,27,27,27,27,27,null,5.9,3.5,1.3,11.999999999999998,30.5,1.6,0,219.99999999999997,6.4999999999999991,77,51,0,0.02,null,3.63,1.31,0.74,3.67,1.1200000000000001,3.89,6.63,1.53,4.29,2.31,5.14,null,1,1,1,1,1,1,1,1,1,1,1,null,16.100000000000001,4.5999999999999996,9.9,25.6,null,120,55.2,0.6517018147502911,0.73342329758812663,null,901,222.75078571428608,128.0707142857139,0,45,37.999999999999993,489,null,1.8644000000000001,1.1060000000000001,0.4108,3.7919999999999994,9.6379999999999999,0.50560000000000005,0,null,69.52,2.0539999999999998,24.332000000000001,16.116,0,6.3200000000000001E-3,27.3110621468572,132.61803159203868,4.8140345467909968,1.7372962138557051,0.98137343378108488,2.7186696476367751,4.8670817594278226,1.48532195383083,5.1588414289302786,8.7925754945521533,2.0290558833581862,5.6893135552984404,3.0634765297760871,8.7527900850745279,6.8165668238307875,0,0,0,18.96,0,23.7,0,0,0,0,0,0,0,0,0,0,0,"6.6.3","","","","","","","","","","","","","","","","","","","","","","","","","","","","","","","","","","","","","","","","","","","","","","","","","","","","","","","","","","","","","","","","","","","","","","","","","","","","","","","","","","","","","","","","","","","","","",{"$f":"'background data'!$G$13","v":0.252},{"$f":"'background data'!$H$13","v":-4.5999999999999999E-2},{"$f":"'background data'!$J$13","v":0.219},{"$f":"'background data'!$L$13","v":1.0999999999999999E-2},{"$f":"'background data'!$M$13","v":1.65},{"$f":"'background data'!$N$13","v":1.9E-3},{"$f":"'background data'!$O$13","v":1.53},null,"offfarm","græsensilage","Græsensilage består af finsnittet græs, ofte rajgræsser eller kløvergræs.\n\nKvaliteten af græsensilage er afhængig af næringsindholdet og sammensætningen af den friske råvare. \n\nGenerelt gælder det, at indholdet af næringsstoffer i ensilage varierer en del. Indgår ensilage som en væsentlig del af foderrationen bør ensilagen derfor analyseres for indhold af næringsstoffer. Oftest aftager fordøjeligheden med stigende slætnummer.\n\nEnsilage er et godt strukturfoder til løsgående drægtige søer. Ensilage bør ikke bruges i stier med spaltegulv","Søer kan i drægtighedsperioden komme i dårligt huld, hvis energiindholdet i ensilagen er for lavt. Dette kan løse ved at sætte en højere stub ved høst af helsæd eller reducere mængden af helsædsensilage i blandingen.","Ensilage kan opbevares i markstak, plansilo, silowarp eller ensileringssække.\nHåndtering og transport af ensilage \nDer skal fjernes 20 cm af stakken dagligt. Der skal bruges en siloklo ved udtagning af majsensilage fra stakken. Majsensilage skal blandes med tilskudsfoder i en blandevogn før udfodring.",null,null,{"$f":"'background data'!$G$13","v":0.252},{"$f":"'background data'!$H$13","v":-4.5999999999999999E-2},{"$f":"'background data'!$J$13","v":0.219},{"$f":"'background data'!$L$13","v":1.0999999999999999E-2},{"$f":"'background data'!$M$13","v":1.65},{"$f":"'background data'!$N$13","v":1.9E-3},{"$f":"'background data'!$O$13","v":1.53},null,"kløvergræs ensilage"]
[74100,741,0,"GRÆSENSILAGE  2. SLÆT","2013-09-16",0.21901364552845501,0.246454042597402,60.2,50.2,75,1,33.6,5.3087999999999997,1.5456000000000001,3.36,9.0719999999999992,null,53.278839059674503,27,27,27,27,27,null,6.5,3.7,2,12,28.099999999999998,2,0,220,6.8999999999999995,99,55,0,0.02,null,3.63,1.31,0.74,3.67,1.1200000000000001,3.89,6.63,1.53,4.29,2.31,5.14,null,1,1,1,1,1,1,1,1,1,1,1,null,15.799999999999999,4.5999999999999996,10,26.999999999999996,null,120,55.199999999999996,0.65182632597754464,0.73349417439702969,null,899.99999999999989,224.82857142857114,128.57142857142887,0,18,24,572,null,2.1840000000000002,1.2432000000000001,0.67200000000000004,4.032,9.4415999999999993,0.67200000000000004,0,null,73.92,2.3184,33.264000000000003,18.48,0,6.7200000000000003E-3,28.284670080000001,129.14569780230957,4.6879888302238379,1.6918086412102555,0.95567816373709091,2.6474868049473552,4.7396471093447614,1.4464318153858673,5.0237676445098423,8.5623597642931237,1.9759291763753366,5.5403504357190805,2.9832656192333467,8.5236160549524325,6.6380888670387117,0,0,0,20.16,0,25.2,0,0,0,0,0,0,0,0,0,0,0,"6.6.3","","","","","","","","","","","","","","","","","","","","","","","","","","","","","","","","","","","","","","","","","","","","","","","","","","","","","","","","","","","","","","","","","","","","","","","","","","","","","","","","","","","","","","","","","","","","","",{"$f":"'background data'!$G$13","v":0.252},{"$f":"'background data'!$H$13","v":-4.5999999999999999E-2},{"$f":"'background data'!$J$13","v":0.219},{"$f":"'background data'!$L$13","v":1.0999999999999999E-2},{"$f":"'background data'!$M$13","v":1.65},{"$f":"'background data'!$N$13","v":1.9E-3},{"$f":"'background data'!$O$13","v":1.53},null,"offfarm","græsensilage","Græsensilage består af finsnittet græs, ofte rajgræsser eller kløvergræs.\n\nKvaliteten af græsensilage er afhængig af næringsindholdet og sammensætningen af den friske råvare. \n\nGenerelt gælder det, at indholdet af næringsstoffer i ensilage varierer en del. Indgår ensilage som en væsentlig del af foderrationen bør ensilagen derfor analyseres for indhold af næringsstoffer. Oftest aftager fordøjeligheden med stigende slætnummer.\n\nEnsilage er et godt strukturfoder til løsgående drægtige søer. Ensilage bør ikke bruges i stier med spaltegulv","Søer kan i drægtighedsperioden komme i dårligt huld, hvis energiindholdet i ensilagen er for lavt. Dette kan løse ved at sætte en højere stub ved høst af helsæd eller reducere mængden af helsædsensilage i blandingen.","Ensilage kan opbevares i markstak, plansilo, silowarp eller ensileringssække.\nHåndtering og transport af ensilage \nDer skal fjernes 20 cm af stakken dagligt. Der skal bruges en siloklo ved udtagning af majsensilage fra stakken. Majsensilage skal blandes med tilskudsfoder i en blandevogn før udfodring.",null,null,{"$f":"'background data'!$G$13","v":0.252},{"$f":"'background data'!$H$13","v":-4.5999999999999999E-2},{"$f":"'background data'!$J$13","v":0.219},{"$f":"'background data'!$L$13","v":1.0999999999999999E-2},{"$f":"'background data'!$M$13","v":1.65},{"$f":"'background data'!$N$13","v":1.9E-3},{"$f":"'background data'!$O$13","v":1.53},null,"kløvergræs ensilage"]
[71600,716,0,"GRÆSGRØNMEL (grønpiller)","2016-11-21",0.36370000000000002,0.47570000000000001,45.97,36.069992740000004,77,1,93.63,13.53,3.57,9.07,27.07,null,47.430308292682902,50,50,50,50,50,null,8.1170564989853684,3.2041012495994874,2.2000000000000002,0,19,2.2000000000000002,2.5,420,8.1000000000000014,89,34,0,6.9999999999999896E-2,null,4.08,1.59,0.83,3.98,1.38,4.0199999999999996,7.13,1.92,4.6900000000000004,2.98,5.12,null,1,1,1,1,1,1,1,1,1,1,1,null,14.450496635693689,3.8128804870233903,9.6870661112891163,28.911673608886041,null,0,0,0.3884438748264446,0.50806365481149207,null,903.12933888710893,118.95580476342944,127.72838588144826,21,70,255.77598974687604,325.53307785966143,null,7.6,2.9999999999999996,2.05986,0,17.7897,2.05986,2.3407499999999999,null,393.24599999999998,7.5840300000000003,83.330699999999993,31.834199999999996,0,6.5540999999999891E-2,64.173207120000001,176.44544162771513,7.1989740184107776,2.8054825218806703,1.4644971655100358,4.2699796873907339,7.0225285767830625,2.4349470944624692,7.0931067534341485,12.580559988056091,3.3877524792521307,8.2752912123398392,5.2580741605059105,13.533365372845752,9.0340066113390431,0,0,0,0,0,0,0,0,0,0,0,0,0,0,0,0,0,"6.5.1","",3,3,3,3,3,3,"",3,3,"","","","","","","","","","","",2,2,"","","","","","","","","","","","",1.68,0.42,1.47,1.5,3.91,3.32,"",6.11,5.4,"","","","","","","","","","","",2.23,0.2,"","","","","","","","","","","","",2013,2013,2013,2013,2013,2013,"",2013,2013,"","","","","","","","","","","",2013,2013,"","",{"$f":"'background data'!$G$13","v":0.252},{"$f":"'background data'!$H$13","v":-4.5999999999999999E-2},{"$f":"'background data'!$J$13","v":0.219},{"$f":"'background data'!$L$13","v":1.0999999999999999E-2},{"$f":"'background data'!$M$13","v":1.65},{"$f":"'background data'!$N$13","v":1.9E-3},{"$f":"'background data'!$O$13","v":1.53},"as grass clover silage","offfarm","grønpiller","Græsgrønmel er fintsnittet græs og kløver, som kunsttørres i en tromletørrer og derefter pelleteres. Der produceres en del grønpiller i Danmark.\n\nGræsgrønmel har et lavt indhold af energi, som følge af et højt indhold af træstof. Græsgrønmel har stor variation i indhold af træstof afhængig af, i hvilket udviklingstrin græsset høstes. Der kan være stor variation i indhold af næringsstoffer fra parti til parti.\n\nUd fra forsøg og generel erfaring vurderes, at græsgrønmel kan bruges i henhold til følgende kilder: [96], [97], [98].\n\nIndholdet af opløselige og uopløselige fibre er beregnet, se versionsbeskrivelsen for 3. juni 2016","På grund af det lave indhold af energi er græsgrønmel  primært egnet i foder til søer. Brug af græsgrønmel  i foder til diegivende søer betyder, at foderets indhold af energi falder. Dette kan betyde både en lavere foderoptagelse og en lavere mælkeydelse, men kan afhjælpes ved at reducere iblandingen af græsgrønmel i foderet til de diegivende søer.","Græsgrønmel opbevares tørt; ellers ingen specielle forhold.\n\nGræsgrøntmel bør ikke transporteres med flexsnegle. Sneglevindinger ved almindelige kornsnegle fræses ned ved indløb. Der kan forventes 6-7 gange større slitage ved formaling på hammermølle eller kornrive. Slitagen kan begrænses, men er stadig stor ved valsning på valser med ens periferihastighed.",null,null,{"$f":"'background data'!$G$13","v":0.252},{"$f":"'background data'!$H$13","v":-4.5999999999999999E-2},{"$f":"'background data'!$J$13","v":0.219},{"$f":"'background data'!$L$13","v":1.0999999999999999E-2},{"$f":"'background data'!$M$13","v":1.65},{"$f":"'background data'!$N$13","v":1.9E-3},{"$f":"'background data'!$O$13","v":1.53},"as grass clover silage"]
[93600,936,0,"GÆRFLØDE, SPRIT","2010-05-12",0.22336864823848199,0.237100033953247,86.9,65.5,95,1,23.8,10.8766,1.3566,2.2848000000000002,0,null,85,50,50,50,50,50,null,10.199999999999999,5.6,3.4999999999999996,5.6,22,0.3,0,180,33,50,76,0,0.12,null,6.7,1.6,1,4.9000000000000004,1.3,4.0999999999999996,7,2.2999999999999998,4.2,3.6,2.6,null,1,1,1,1,1,1,1,1,1,1,1,null,45.699999999999996,5.7,9.6,0,null,0,0,0.93852373209446205,0.99621863005565958,null,903.99999999999989,38.050285714285714,276.36571428571386," "," "," "," ",null,2.4276,1.3328,0.83299999999999996,1.3328,5.2360000000000007,7.1400000000000005E-2,0,null,42.84,7.854000000000001,11.9,18.088000000000001,0,2.8560000000000002E-2,92.451099999999997,413.89470155764013,27.730945004361889,6.6223152249222412,4.1389470155764014,10.761262240498644,20.280840376324367,5.3806311202493218,16.969682763863243,28.972629109034809,9.5195781358257214,17.383577465420885,14.900209256075044,32.283786721495929,10.761262240498644,0,0,0,0,0,0,0,0,0,0,0,0,0,0,0,0,0,"12.1.5","","","","","","","","","","","","","","","","","","","","","","","","","","","","","","","","","","","","","","","","","","","","","","","","","","","","","","","","","","","","","","","","","","","","","","","","","","","","","","","","","","","","","","","","","","","","","",null,null,null,null,null,null,null,null,"offfarm","gærfløde","Gærfløde er et biprodukt fra fremstillingen af henholdsvis øl, spiritus og insulin, og produktionen foregår i Danmark.\n\nBeskrivelse\n\nDer er stor variation i indhold af tørstof og råprotein i gærfløde.\n\nDer er tre typer gærfløde på det danske marked: \n\nØl-gærfløde er et biprodukt fra ølfremstillingen. Brug af øl-gærfløde i foder til hangrise kan medføre forhøjet skatol i spækket hos hangrise, og må derfor ikke bruges i foder til hangrise [4].\n\nNovo-gærfløde er et biprodukt fra fremstilling af insulin på basis af gensplejsede gær. Gæren opvarmes til 80 °C, således at gærcellerne dræbes, hvorefter gæren køles og der tilsættes mælkesyrebakterier for at konservere gærfløden. Novo-gærfløde medfører formentlig ikke samme skatolproblemer som ved øl-gærfløde.\n\nSprit-gærfløde er et biprodukt fra fremstilling af sprit. Under fremstilling gennemblæses gærfløden med damp og varmes op til kogepunktet, hvorved spritten damper af og gærcellerne dræbes. Sprit-gærfløde tilsættes ca. 0,7 pct. mælkesyre for at konservere gærfløden.\n","Øl-gærfløde kan medføre forhøjet skatol i spækket og må derfor ikke bruges i foder til hangrise [4]. Dette er sandsynligvis ikke gældende for Novo-gærfløde fra produktion af insulin. Ved produktion af hangrise er der måling af skatoltal på slagteriet. Ved for højt skatoltal er der fradrag i afregning for det enkelte slagtesvin.\n\nIndholdet af næringsstoffer og mineraler varierer afhængig af gærflødens oprindelse. Ved brug af gærfløde i foder til grise er det vigtigt at kende produktets oprindelse samt det kemiske indhold af næringsstoffer.\n\nDet er sandsynligvis visse næringsstoffer i øl-gærfløde, der er årsag til, at de skatolproducerende tarmbakterier får specielt gode vækstbetingelser, og dermed også stor produktion af skatol i tarmen.","Der sker tab af tørstof, som følge af forgæring i gærfløden, hvis gærfløde opbevares over en længere periode. Holdbarheden på gærfløde er 8-14 dage fra levering. Holdbarheden afhænger dog meget af temperaturen. I vintermånederne har nogle producenter leverancer hver 3. uge. Opbevares gærfløden i åben tank kan det reducere holdbarheden og det er vigtigt at holde en god hygiejne (luk tanken, så der ikke kommer urenheder i). pH-værdien kan bruges som mål for, at gærflødens kvalitet er ok. Er pH over 4,8 bør gærfløden kasseres.\n\nProduktet leveres flydende og kræver derfor opbevaringstank på ejendommen. Læs mere om opbevaring af gærfløde i afsnittet: opbevaring og håndtering af flydende råvarer.",null,null,{"$f":"'background data'!$G$10","v":0.47300000000000003},{"$f":"'background data'!$H$10","v":0.13},{"$f":"'background data'!$J$10","v":0.39100000000000001},{"$f":"'background data'!$L$10","v":5.5E-2},{"$f":"'background data'!$M$10","v":3.97},{"$f":"'background data'!$N$10","v":4.5999999999999999E-3},{"$f":"'background data'!$O$10","v":2.73}]
[93100,931,0,"GÆRFLØDE, ØL","2010-05-12",0.114078565311653,0.119653671584416,89.6,70,90,1,11.6,4.2804000000000002,0.20880000000000001,0.69599999999999995,0.27839999999999998,null,85,50,50,50,50,50,null,2.5862100000000003,11.6,0,0,18.103450000000002,1.8000000000000003,0,570,22,12,54.000000000000007,0,0.12000000000000001,null,6.2,1.4,1.19,4.3000000000000096,0.6,0,0,0,0,0,0,null,1,1,1,1,1,1,1,1,1,1,1,null,36.900000000000006,1.8000000000000003,6,2.4,null,0,0,0.98343590785907764,1.0314971688311725,null,940.00000000000011,225.79,263.2," "," "," "," ",null,0.30000036000000002,1.3455999999999999,0,0,2.1000002000000002,0.20880000000000001,0,null,66.11999999999999,2.5519999999999996,1.3919999999999999,6.2640000000000002,0,1.392E-2,36.383400000000002,318.9328328297575,19.773835635444964,4.465059659616605,3.7953007106741143,8.2603603702907193,13.714111811679572,1.9135969969785451,0,0,0,0,0,0,0,0,0,0,0,0,0,0,0,0,0,0,0,0,0,0,0,0,"12.1.5","","","","","","","","","","","","","","","","","","","","","","","","","","","","","","","","","","","","","","","","","","","","","","","","","","","","","","","","","","","","","","","","","","","","","","","","","","","","","","","","","","","","","","","","","","","","","",null,null,null,null,null,null,null,null,"offfarm","gærfløde","Gærfløde er et biprodukt fra fremstillingen af henholdsvis øl, spiritus og insulin, og produktionen foregår i Danmark.\n\nBeskrivelse\n\nDer er stor variation i indhold af tørstof og råprotein i gærfløde.\n\nDer er tre typer gærfløde på det danske marked: \n\nØl-gærfløde er et biprodukt fra ølfremstillingen. Brug af øl-gærfløde i foder til hangrise kan medføre forhøjet skatol i spækket hos hangrise, og må derfor ikke bruges i foder til hangrise [4].\n\nNovo-gærfløde er et biprodukt fra fremstilling af insulin på basis af gensplejsede gær. Gæren opvarmes til 80 °C, således at gærcellerne dræbes, hvorefter gæren køles og der tilsættes mælkesyrebakterier for at konservere gærfløden. Novo-gærfløde medfører formentlig ikke samme skatolproblemer som ved øl-gærfløde.\n\nSprit-gærfløde er et biprodukt fra fremstilling af sprit. Under fremstilling gennemblæses gærfløden med damp og varmes op til kogepunktet, hvorved spritten damper af og gærcellerne dræbes. Sprit-gærfløde tilsættes ca. 0,7 pct. mælkesyre for at konservere gærfløden.\n","Øl-gærfløde kan medføre forhøjet skatol i spækket og må derfor ikke bruges i foder til hangrise [4]. Dette er sandsynligvis ikke gældende for Novo-gærfløde fra produktion af insulin. Ved produktion af hangrise er der måling af skatoltal på slagteriet. Ved for højt skatoltal er der fradrag i afregning for det enkelte slagtesvin.\n\nIndholdet af næringsstoffer og mineraler varierer afhængig af gærflødens oprindelse. Ved brug af gærfløde i foder til grise er det vigtigt at kende produktets oprindelse samt det kemiske indhold af næringsstoffer.\n\nDet er sandsynligvis visse næringsstoffer i øl-gærfløde, der er årsag til, at de skatolproducerende tarmbakterier får specielt gode vækstbetingelser, og dermed også stor produktion af skatol i tarmen.","Der sker tab af tørstof, som følge af forgæring i gærfløden, hvis gærfløde opbevares over en længere periode. Holdbarheden på gærfløde er 8-14 dage fra levering. Holdbarheden afhænger dog meget af temperaturen. I vintermånederne har nogle producenter leverancer hver 3. uge. Opbevares gærfløden i åben tank kan det reducere holdbarheden og det er vigtigt at holde en god hygiejne (luk tanken, så der ikke kommer urenheder i). pH-værdien kan bruges som mål for, at gærflødens kvalitet er ok. Er pH over 4,8 bør gærfløden kasseres.\n\nProduktet leveres flydende og kræver derfor opbevaringstank på ejendommen. Læs mere om opbevaring af gærfløde i afsnittet: opbevaring og håndtering af flydende råvarer.",null,null,{"$f":"'background data'!$G$10","v":0.47300000000000003},{"$f":"'background data'!$H$10","v":0.13},{"$f":"'background data'!$J$10","v":0.39100000000000001},{"$f":"'background data'!$L$10","v":5.5E-2},{"$f":"'background data'!$M$10","v":3.97},{"$f":"'background data'!$N$10","v":4.5999999999999999E-3},{"$f":"'background data'!$O$10","v":2.73}]
[53010,530,10,"HAVRE,   flerårigt gns, varmebehandlet","2016-11-04",0.83289922570654296,0.86901812764378705,69.400000000000006,63.699969799999998,91,1,85,9.1999999999999904,4.8,2.2999999999999998,11,null,67.278493167701797,27,39,43,47,50,null,0.9882352941176471,3.6470588235294117,0.1,0,5.5,1.2,1.4,66,2.7,42.999999999999993,31,0,0.03,null,4.18,1.64,2.73,3.27,1.23,3.7,7.1100000000000101,2.1,4.5199999999999996,3.22,5.14,null,1.04,1.1499999999999999,0.95,0.92,1.07,1.1000000000000001,1.1200000000000001,1.1599999999999999,1.1599999999999999,1.1100000000000001,1.08,null,10.823529411764696,5.6470588235294121,2.7058823529411762,12.941176470588236,null,110,62.117647058823529,0.97988144200769767,1.02237426781622,null,972.94117647058829,442.72537815126117,79.225629838655635,471,18,40,258,null,0.84,3.0999999999999996,8.5000000000000006E-2,0,4.6749999999999998,1.02,1.19,null,56.1,2.2949999999999999,36.54999999999999,26.349999999999998,0,2.5499999999999998E-2,61.8962137142857,74.314168874127063,3.230585549296042,1.4015652249660384,1.9273379697504855,3.3289031947165117,2.2356674564092374,0.97804877655238598,3.0245866731769615,5.9177858957844869,1.8102931537737355,3.8964405024082205,2.6561370238990496,6.5525775263072701,4.1253281425405319,0,0,0,0,0,0,0,0,0,0,0,0,0,0,0,0,0,"1.4.1","",24,12,12,"",12,16,"",12,12,"","","","","","","","","","","",12,24,"","","","","","","","","","","","",0.77,0.72,0.37,"",3.43,2.78,"",5.17,4.43,"","","","","","","","","","","",0.09,0.3,"","","","","","","","","","","","","14-'16","14-'16","14-'16","","14-'16","14-'16","","14-'16","14-'16","","","","","","","","","","","","14-'16","14-'16","","",{"$f":"'background data'!$G$10","v":0.47300000000000003},{"$f":"'background data'!$H$10","v":0.13},{"$f":"'background data'!$J$10","v":0.39100000000000001},{"$f":"'background data'!$L$10","v":5.5E-2},{"$f":"'background data'!$M$10","v":3.97},{"$f":"'background data'!$N$10","v":4.5999999999999999E-3},{"$f":"'background data'!$O$10","v":2.73},"as barley","offfarm","havre","Havre er frø fra dyrkede sorter af havreplanter (Avena sativa), og dyrkes i Danmark\nSom kornart har havre et relativt højt indhold af råfedt samt et jodtalsprodukt på 53 mod 34 for byg. Hvis der bruges meget havre i foder til slagtesvin, øger det risikoen for blødt spæk.\nHavre har et højt indhold af fibre, hvilket betyder et noget lavere energiindhold end i de øvrige kornarter. Havre anvendes i dag kun i begrænsede mængder i foder til smågrise, primært begrundet i det lave energiindhold. Havre anvendes i nogle besætninger som ”problemløser”, da erfaringen er, at det er godt til at stabilisere mave-tarm-kanalen og dermed til at reducere problemer med diarré hos smågrise samt til at forbedre mavesundheden hos søer. \nNøgen havre eller afskallet havre adskiller sig fra almindelig havre ved, at indholdet af skaller - og dermed svært fordøjelige fibre - er lavt. Havre har i forhold til hvede et højt indhold af uopløselige fibre i form af beta-glucaner. Indholdet af beta-glucaner er et par procentpoint højere i nøgen havre end i almindelig havre. Nøgen havre har en god aminosyresammensætning og generelt en høj fordøjelighed, og anses derfor for en god råvare til smågrise. \nHavre og nøgen havre giver et lavere udbytte i marken sammenlignet med hvede. Dog betyder havre i sædskiftet, at udbyttet i hvede året efter øges. \nTilsætning af det kulhydratspaltende enzymxylanase påvirker ikke foderværdien i havre – modsat de øvrige kornarter. En undersøgelse har vist, at EFOSi-værdien ikke blev påvirket i havre ved tilsætning af xylanase. \n\nUd fra forsøg og generel erfaring vurderes, at havre kan bruges i henhold til følgende kilder: [3], [29], [30],","Havre er et godt strukturfoder især til sofoder, og erfaringer viser, at brug af havre kan afhjælpe problemer med diarré hos smågrise. Dette har forsøg dog ikke kunnet bekræfte [4].\n\nDer er ikke eksempler på, at havre skulle have forårsaget problemer.\n","Havre bør ikke blandes med andre kornarter i siloen, da det er tilbøjelig til at \"stå stille\" under tømning af siloen, hvilket samtidig betyder svingende blandingsnøjagtighed. Hvis havreandelen i en blanding er over 10 procent, opstår der ofte problemer med \"hængning\" i siloer og foderautomater. Dette forværres ved høj fugtighed og ved grov formaling.\n\nVed transport af fugtige partier med et vandindhold på 20 procent eller derover, bør der bruges kæderedler frem for sidesnegl eller sneglerende.",null,null,{"$f":"'background data'!$G$10","v":0.47300000000000003},{"$f":"'background data'!$H$10","v":0.13},{"$f":"'background data'!$J$10","v":0.39100000000000001},{"$f":"'background data'!$L$10","v":5.5E-2},{"$f":"'background data'!$M$10","v":3.97},{"$f":"'background data'!$N$10","v":4.5999999999999999E-3},{"$f":"'background data'!$O$10","v":2.73},"as barley","havre"]
[53000,530,0,"HAVRE,   flerårigt gns.","2016-11-04",0.83289922570654296,0.86901812764378705,69.400000000000006,63.699969799999998,91,1,85,9.1999999999999904,4.8,2.2999999999999998,11,null,67.278493167701797,27,39,43,47,50,null,0.9882352941176471,3.6470588235294117,0.1,0,5.5,1.2,1.4,66,2.7,42.999999999999993,31,0,0.03,null,4.18,1.64,2.73,3.27,1.23,3.7,7.1100000000000101,2.1,4.53,3.22,5.14,null,1.04,1.1499999999999999,0.95,0.92,1.07,1.1000000000000001,1.1200000000000001,1.1599999999999999,1.1599999999999999,1.1100000000000001,1.08,null,10.823529411764696,5.6470588235294121,2.7058823529411762,12.941176470588236,null,110,62.117647058823529,0.97988144200769767,1.02237426781622,null,972.94117647058829,442.72537815126117,79.225629838655635,471,18,40,258,null,0.84,3.0999999999999996,8.5000000000000006E-2,0,4.6749999999999998,1.02,1.19,null,56.1,2.2949999999999999,36.54999999999999,26.349999999999998,0,2.5499999999999998E-2,61.8962137142857,74.314168874127063,3.230585549296042,1.4015652249660384,1.9273379697504855,3.3289031947165117,2.2356674564092374,0.97804877655238598,3.0245866731769615,5.9177858957844869,1.8102931537737355,3.9050609459976346,2.6561370238990496,6.5611979698966723,4.1253281425405319,0,0,0,0,0,0,0,0,0,0,0,0,0,0,0,0,0,"1.4.1","",24,12,12,"",12,16,"",12,12,"","","","","","","","","","","",12,24,"","","","","","","","","","","","",0.77,0.72,0.37,"",3.43,2.78,"",5.17,4.43,"","","","","","","","","","","",0.09,0.3,"","","","","","","","","","","","","14-'16","14-'16","14-'16","","14-'16","14-'16","","14-'16","14-'16","","","","","","","","","","","","14-'16","14-'16","","",{"$f":"'background data'!$G$10","v":0.47300000000000003},{"$f":"'background data'!$H$10","v":0.13},{"$f":"'background data'!$J$10","v":0.39100000000000001},{"$f":"'background data'!$L$10","v":5.5E-2},{"$f":"'background data'!$M$10","v":3.97},{"$f":"'background data'!$N$10","v":4.5999999999999999E-3},{"$f":"'background data'!$O$10","v":2.73},"as barley","offfarm","havre","Havre er frø fra dyrkede sorter af havreplanter (Avena sativa), og dyrkes i Danmark\nSom kornart har havre et relativt højt indhold af råfedt samt et jodtalsprodukt på 53 mod 34 for byg. Hvis der bruges meget havre i foder til slagtesvin, øger det risikoen for blødt spæk.\nHavre har et højt indhold af fibre, hvilket betyder et noget lavere energiindhold end i de øvrige kornarter. Havre anvendes i dag kun i begrænsede mængder i foder til smågrise, primært begrundet i det lave energiindhold. Havre anvendes i nogle besætninger som ”problemløser”, da erfaringen er, at det er godt til at stabilisere mave-tarm-kanalen og dermed til at reducere problemer med diarré hos smågrise samt til at forbedre mavesundheden hos søer. \nNøgen havre eller afskallet havre adskiller sig fra almindelig havre ved, at indholdet af skaller - og dermed svært fordøjelige fibre - er lavt. Havre har i forhold til hvede et højt indhold af uopløselige fibre i form af beta-glucaner. Indholdet af beta-glucaner er et par procentpoint højere i nøgen havre end i almindelig havre. Nøgen havre har en god aminosyresammensætning og generelt en høj fordøjelighed, og anses derfor for en god råvare til smågrise. \nHavre og nøgen havre giver et lavere udbytte i marken sammenlignet med hvede. Dog betyder havre i sædskiftet, at udbyttet i hvede året efter øges. \nTilsætning af det kulhydratspaltende enzymxylanase påvirker ikke foderværdien i havre – modsat de øvrige kornarter. En undersøgelse har vist, at EFOSi-værdien ikke blev påvirket i havre ved tilsætning af xylanase. \n\nUd fra forsøg og generel erfaring vurderes, at havre kan bruges i henhold til følgende kilder: [3], [29], [30],","Havre er et godt strukturfoder især til sofoder, og erfaringer viser, at brug af havre kan afhjælpe problemer med diarré hos smågrise. Dette har forsøg dog ikke kunnet bekræfte [4].\n\nDer er ikke eksempler på, at havre skulle have forårsaget problemer.\n","Havre bør ikke blandes med andre kornarter i siloen, da det er tilbøjelig til at \"stå stille\" under tømning af siloen, hvilket samtidig betyder svingende blandingsnøjagtighed. Hvis havreandelen i en blanding er over 10 procent, opstår der ofte problemer med \"hængning\" i siloer og foderautomater. Dette forværres ved høj fugtighed og ved grov formaling.\n\nVed transport af fugtige partier med et vandindhold på 20 procent eller derover, bør der bruges kæderedler frem for sidesnegl eller sneglerende.",null,null,{"$f":"'background data'!$G$10","v":0.47300000000000003},{"$f":"'background data'!$H$10","v":0.13},{"$f":"'background data'!$J$10","v":0.39100000000000001},{"$f":"'background data'!$L$10","v":5.5E-2},{"$f":"'background data'!$M$10","v":3.97},{"$f":"'background data'!$N$10","v":4.5999999999999999E-3},{"$f":"'background data'!$O$10","v":2.73},"as barley","havre"]
[53100,531,0,"HAVRE,  2016","2016-11-04",0.84505108401083995,0.87572611948052104,69.900000000000006,65.500004700000005,91,1,85,9.8000000000000096,4.4000000000000004,2.4,11,null,70.066820408163295,27,39,43,47,50,null,1.03529411764706,3.7647058823529411,0.1,0,4.7058799999999996,1.3,0,79.000000000000014,4,45,40,0,0.03,null,4.18,1.64,2.73,3.27,1.23,3.7,7.1100000000000101,2.1,4.5199999999999996,3.22,5.14,null,1.04,1.1499999999999999,0.95,0.92,1.07,1.1000000000000001,1.1200000000000001,1.1599999999999999,1.1599999999999999,1.1100000000000001,1.08,null,11.529411764705893,5.1764705882352944,2.8235294117647061,12.941176470588236,null,110,56.941176470588232,0.99417774589510588,1.0302660229182601,null,971.76470588235293,463.05176470588236,61.082287694117653,471,18,40,258,null,0.880000000000001,3.1999999999999997,8.5000000000000006E-2,0,3.9999979999999997,1.105,0,null,67.150000000000006,3.4,38.25,34,0,2.5499999999999998E-2,68.665484000000006,81.256015522866534,3.5323615068100538,1.5324884527612628,2.1073747625855437,3.6398632153468062,2.4445059709899168,1.0694104202964487,3.3071198317806796,6.4705790281169309,1.9793965381370404,4.2604154058949497,2.9042525068182954,7.1646679127132451,4.510683933705379,0,0,0,0,0,0,0,0,0,0,0,0,0,0,0,0,0,"1.4.1","",8,4,4,"",4,4,"",4,4,"","","","","","","","","","","",4,8,"","","","","","","","","","","","",0.37,4.55,2.1,"",2.27,2.2000000000000002,"",4.16,3.79,"","","","","","","","","","","",7.0000000000000007E-2,0.25,"","","","","","","","","","","","",2016,2016,2016,"",2016,2016,"",2016,2016,"","","","","","","","","","","",2016,2016,"","",{"$f":"'background data'!$G$10","v":0.47300000000000003},{"$f":"'background data'!$H$10","v":0.13},{"$f":"'background data'!$J$10","v":0.39100000000000001},{"$f":"'background data'!$L$10","v":5.5E-2},{"$f":"'background data'!$M$10","v":3.97},{"$f":"'background data'!$N$10","v":4.5999999999999999E-3},{"$f":"'background data'!$O$10","v":2.73},"as barley","offfarm","havre","Havre er frø fra dyrkede sorter af havreplanter (Avena sativa), og dyrkes i Danmark\nSom kornart har havre et relativt højt indhold af råfedt samt et jodtalsprodukt på 53 mod 34 for byg. Hvis der bruges meget havre i foder til slagtesvin, øger det risikoen for blødt spæk.\nHavre har et højt indhold af fibre, hvilket betyder et noget lavere energiindhold end i de øvrige kornarter. Havre anvendes i dag kun i begrænsede mængder i foder til smågrise, primært begrundet i det lave energiindhold. Havre anvendes i nogle besætninger som ”problemløser”, da erfaringen er, at det er godt til at stabilisere mave-tarm-kanalen og dermed til at reducere problemer med diarré hos smågrise samt til at forbedre mavesundheden hos søer. \nNøgen havre eller afskallet havre adskiller sig fra almindelig havre ved, at indholdet af skaller - og dermed svært fordøjelige fibre - er lavt. Havre har i forhold til hvede et højt indhold af uopløselige fibre i form af beta-glucaner. Indholdet af beta-glucaner er et par procentpoint højere i nøgen havre end i almindelig havre. Nøgen havre har en god aminosyresammensætning og generelt en høj fordøjelighed, og anses derfor for en god råvare til smågrise. \nHavre og nøgen havre giver et lavere udbytte i marken sammenlignet med hvede. Dog betyder havre i sædskiftet, at udbyttet i hvede året efter øges. \nTilsætning af det kulhydratspaltende enzymxylanase påvirker ikke foderværdien i havre – modsat de øvrige kornarter. En undersøgelse har vist, at EFOSi-værdien ikke blev påvirket i havre ved tilsætning af xylanase. \n\nUd fra forsøg og generel erfaring vurderes, at havre kan bruges i henhold til følgende kilder: [3], [29], [30],","Havre er et godt strukturfoder især til sofoder, og erfaringer viser, at brug af havre kan afhjælpe problemer med diarré hos smågrise. Dette har forsøg dog ikke kunnet bekræfte [4].\n\nDer er ikke eksempler på, at havre skulle have forårsaget problemer.\n","Havre bør ikke blandes med andre kornarter i siloen, da det er tilbøjelig til at \"stå stille\" under tømning af siloen, hvilket samtidig betyder svingende blandingsnøjagtighed. Hvis havreandelen i en blanding er over 10 procent, opstår der ofte problemer med \"hængning\" i siloer og foderautomater. Dette forværres ved høj fugtighed og ved grov formaling.\n\nVed transport af fugtige partier med et vandindhold på 20 procent eller derover, bør der bruges kæderedler frem for sidesnegl eller sneglerende.",null,null,{"$f":"'background data'!$G$10","v":0.47300000000000003},{"$f":"'background data'!$H$10","v":0.13},{"$f":"'background data'!$J$10","v":0.39100000000000001},{"$f":"'background data'!$L$10","v":5.5E-2},{"$f":"'background data'!$M$10","v":3.97},{"$f":"'background data'!$N$10","v":4.5999999999999999E-3},{"$f":"'background data'!$O$10","v":2.73},"as barley","havre"]
[53110,531,10,"HAVRE,  2016, varmebehandlet","2016-11-04",0.84505108401083995,0.87572611948052104,69.900000000000006,65.500004700000005,91,1,85,9.8000000000000096,4.4000000000000004,2.4,11,null,70.066820408163295,27,39,43,47,50,null,1.03529411764706,3.7647058823529411,0.1,0,4.7058799999999996,1.3,0,79.000000000000014,4,45,40,0,0.03,null,4.18,1.64,2.73,3.27,1.23,3.7,7.1100000000000101,2.1,4.5199999999999996,3.22,5.14,null,1.04,1.1499999999999999,0.95,0.92,1.07,1.1000000000000001,1.1200000000000001,1.1599999999999999,1.1599999999999999,1.1100000000000001,1.08,null,11.529411764705893,5.1764705882352944,2.8235294117647061,12.941176470588236,null,110,56.941176470588232,0.99417774589510588,1.0302660229182601,null,971.76470588235293,463.05176470588236,61.082287694117653,471,18,40,258,null,0.880000000000001,3.1999999999999997,8.5000000000000006E-2,0,3.9999979999999997,1.105,0,null,67.150000000000006,3.4,38.25,34,0,2.5499999999999998E-2,68.665484000000006,81.256015522866534,3.5323615068100538,1.5324884527612628,2.1073747625855437,3.6398632153468062,2.4445059709899168,1.0694104202964487,3.3071198317806796,6.4705790281169309,1.9793965381370404,4.2604154058949497,2.9042525068182954,7.1646679127132451,4.510683933705379,0,0,0,0,0,0,0,0,0,0,0,0,0,0,0,0,0,"1.4.1","",8,4,4,"",4,4,"",4,4,"","","","","","","","","","","",4,8,"","","","","","","","","","","","",0.37,4.55,2.1,"",2.27,2.2000000000000002,"",4.16,3.79,"","","","","","","","","","","",7.0000000000000007E-2,0.25,"","","","","","","","","","","","",2016,2016,2016,"",2016,2016,"",2016,2016,"","","","","","","","","","","",2016,2016,"","",{"$f":"'background data'!$G$10","v":0.47300000000000003},{"$f":"'background data'!$H$10","v":0.13},{"$f":"'background data'!$J$10","v":0.39100000000000001},{"$f":"'background data'!$L$10","v":5.5E-2},{"$f":"'background data'!$M$10","v":3.97},{"$f":"'background data'!$N$10","v":4.5999999999999999E-3},{"$f":"'background data'!$O$10","v":2.73},"as barley","offfarm","havre","Havre er frø fra dyrkede sorter af havreplanter (Avena sativa), og dyrkes i Danmark\nSom kornart har havre et relativt højt indhold af råfedt samt et jodtalsprodukt på 53 mod 34 for byg. Hvis der bruges meget havre i foder til slagtesvin, øger det risikoen for blødt spæk.\nHavre har et højt indhold af fibre, hvilket betyder et noget lavere energiindhold end i de øvrige kornarter. Havre anvendes i dag kun i begrænsede mængder i foder til smågrise, primært begrundet i det lave energiindhold. Havre anvendes i nogle besætninger som ”problemløser”, da erfaringen er, at det er godt til at stabilisere mave-tarm-kanalen og dermed til at reducere problemer med diarré hos smågrise samt til at forbedre mavesundheden hos søer. \nNøgen havre eller afskallet havre adskiller sig fra almindelig havre ved, at indholdet af skaller - og dermed svært fordøjelige fibre - er lavt. Havre har i forhold til hvede et højt indhold af uopløselige fibre i form af beta-glucaner. Indholdet af beta-glucaner er et par procentpoint højere i nøgen havre end i almindelig havre. Nøgen havre har en god aminosyresammensætning og generelt en høj fordøjelighed, og anses derfor for en god råvare til smågrise. \nHavre og nøgen havre giver et lavere udbytte i marken sammenlignet med hvede. Dog betyder havre i sædskiftet, at udbyttet i hvede året efter øges. \nTilsætning af det kulhydratspaltende enzymxylanase påvirker ikke foderværdien i havre – modsat de øvrige kornarter. En undersøgelse har vist, at EFOSi-værdien ikke blev påvirket i havre ved tilsætning af xylanase. \n\nUd fra forsøg og generel erfaring vurderes, at havre kan bruges i henhold til følgende kilder: [3], [29], [30],","Havre er et godt strukturfoder især til sofoder, og erfaringer viser, at brug af havre kan afhjælpe problemer med diarré hos smågrise. Dette har forsøg dog ikke kunnet bekræfte [4].\n\nDer er ikke eksempler på, at havre skulle have forårsaget problemer.\n","Havre bør ikke blandes med andre kornarter i siloen, da det er tilbøjelig til at \"stå stille\" under tømning af siloen, hvilket samtidig betyder svingende blandingsnøjagtighed. Hvis havreandelen i en blanding er over 10 procent, opstår der ofte problemer med \"hængning\" i siloer og foderautomater. Dette forværres ved høj fugtighed og ved grov formaling.\n\nVed transport af fugtige partier med et vandindhold på 20 procent eller derover, bør der bruges kæderedler frem for sidesnegl eller sneglerende.",null,null,{"$f":"'background data'!$G$10","v":0.47300000000000003},{"$f":"'background data'!$H$10","v":0.13},{"$f":"'background data'!$J$10","v":0.39100000000000001},{"$f":"'background data'!$L$10","v":5.5E-2},{"$f":"'background data'!$M$10","v":3.97},{"$f":"'background data'!$N$10","v":4.5999999999999999E-3},{"$f":"'background data'!$O$10","v":2.73},"as barley","havre"]
[53310,533,10,"HAVRE, 10,0 % råprotein, varmebehandlet","2016-11-21",0.84460739997018897,0.87530092467531895,69.900000000000006,65.500004700000005,91,1,85,9.9999999999999591,4.4000000000000004,2.4,11,null,70.4854839999999,27,39,43,47,50,null,1.03529411764706,3.7647058823529411,0.1,0,5.5,1.2,1.4,66,2.7,42.999999999999993,31,0,0.03,null,4.18,1.64,2.73,3.27,1.23,3.7,7.1100000000000101,2.1,4.5199999999999996,3.22,5.14,null,1.04,1.1499999999999999,0.95,0.92,1.07,1.1000000000000001,1.1200000000000001,1.1599999999999999,1.1599999999999999,1.1100000000000001,1.08,null,11.764705882352892,5.1764705882352944,2.8235294117647061,12.941176470588236,null,110,56.941176470588232,0.99365576467081052,1.0297657937356695,null,971.76470588235293,460.91058823529414,61.082287694117653,471,18,40,258,null,0.880000000000001,3.1999999999999997,8.5000000000000006E-2,0,4.6749999999999998,1.02,1.19,null,56.1,2.2949999999999999,36.54999999999999,26.349999999999998,0,2.5499999999999998E-2,70.485483999999602,83.453547769635264,3.6278926286415927,1.5739339109353299,2.164367761405491,3.7383016723408211,2.5106165311017095,1.0983321421961711,3.3965593942241625,6.6455729159916093,2.0329284236683147,4.375636416657529,2.9827967043823085,7.3584331210398259,4.6326733437880065,0,0,0,0,0,0,0,0,0,0,0,0,0,0,0,0,0,"1.4.1","","","","","","","","","","","","","","","","","","","","","","","","","","","","","","","","","","","","","","","","","","","","","","","","","","","","","","","","","","","","","","","","","","","","","","","","","","","","","","","","","","","","","","","","","","","","","",{"$f":"'background data'!$G$10","v":0.47300000000000003},{"$f":"'background data'!$H$10","v":0.13},{"$f":"'background data'!$J$10","v":0.39100000000000001},{"$f":"'background data'!$L$10","v":5.5E-2},{"$f":"'background data'!$M$10","v":3.97},{"$f":"'background data'!$N$10","v":4.5999999999999999E-3},{"$f":"'background data'!$O$10","v":2.73},"as barley","offfarm","havre","Tabelværdierne er dannet ved kopi af VSPs fodermiddelkode 53010 (gennemsnit af de seneste år i udgaven svarende til varmebehandlet foder), hvor eneste ændring er råproteinkoncentration med de afledte beregnede konsekvenser.\n\nHavre er frø fra dyrkede sorter af havreplanter (Avena sativa), og dyrkes i Danmark\nSom kornart har havre et relativt højt indhold af råfedt samt et jodtalsprodukt på 53 mod 34 for byg. Hvis der bruges meget havre i foder til slagtesvin, øger det risikoen for blødt spæk.\nHavre har et højt indhold af fibre, hvilket betyder et noget lavere energiindhold end i de øvrige kornarter. Havre anvendes i dag kun i begrænsede mængder i foder til smågrise, primært begrundet i det lave energiindhold. Havre anvendes i nogle besætninger som ”problemløser”, da erfaringen er, at det er godt til at stabilisere mave-tarm-kanalen og dermed til at reducere problemer med diarré hos smågrise samt til at forbedre mavesundheden hos søer. \nNøgen havre eller afskallet havre adskiller sig fra almindelig havre ved, at indholdet af skaller - og dermed svært fordøjelige fibre - er lavt. Havre har i forhold til hvede et højt indhold af uopløselige fibre i form af beta-glucaner. Indholdet af beta-glucaner er et par procentpoint højere i nøgen havre end i almindelig havre. Nøgen havre har en god aminosyresammensætning og generelt en høj fordøjelighed, og anses derfor for en god råvare til smågrise. \nHavre og nøgen havre giver et lavere udbytte i marken sammenlignet med hvede. Dog betyder havre i sædskiftet, at udbyttet i hvede året efter øges. \nTilsætning af det kulhydratspaltende enzymxylanase påvirker ikke foderværdien i havre – modsat de øvrige kornarter. En undersøgelse har vist, at EFOSi-værdien ikke blev påvirket i havre ved tilsætning af xylanase. \n\nUd fra forsøg og generel erfaring vurderes, at havre kan bruges i henhold til følgende kilder: [3], [29], [30],","Havre er et godt strukturfoder især til sofoder, og erfaringer viser, at brug af havre kan afhjælpe problemer med diarré hos smågrise. Dette har forsøg dog ikke kunnet bekræfte [4].\n\nDer er ikke eksempler på, at havre skulle have forårsaget problemer.\n","Havre bør ikke blandes med andre kornarter i siloen, da det er tilbøjelig til at \"stå stille\" under tømning af siloen, hvilket samtidig betyder svingende blandingsnøjagtighed. Hvis havreandelen i en blanding er over 10 procent, opstår der ofte problemer med \"hængning\" i siloer og foderautomater. Dette forværres ved høj fugtighed og ved grov formaling.\n\nVed transport af fugtige partier med et vandindhold på 20 procent eller derover, bør der bruges kæderedler frem for sidesnegl eller sneglerende.",null,null,{"$f":"'background data'!$G$10","v":0.47300000000000003},{"$f":"'background data'!$H$10","v":0.13},{"$f":"'background data'!$J$10","v":0.39100000000000001},{"$f":"'background data'!$L$10","v":5.5E-2},{"$f":"'background data'!$M$10","v":3.97},{"$f":"'background data'!$N$10","v":4.5999999999999999E-3},{"$f":"'background data'!$O$10","v":2.73},"as barley","havre"]
[53360,533,60,"HAVRE, 11,5 % råprotein, varmebehandlet","2016-11-21",0.84128016419783203,0.87211196363636301,69.900000000000006,65.500004700000005,91,1,85,11.5,4.4000000000000004,2.4,11,null,73.1612904347826,27,39,43,47,50,null,1.03529411764706,3.7647058823529411,0.1,0,5.5,1.2,1.4,66,2.7,42.999999999999993,31,0,0.03,null,4.18,1.64,2.73,3.27,1.23,3.7,7.1100000000000101,2.1,4.5199999999999996,3.22,5.14,null,1.04,1.1499999999999999,0.95,0.92,1.07,1.1000000000000001,1.1200000000000001,1.1599999999999999,1.1599999999999999,1.1100000000000001,1.08,null,13.529411764705882,5.1764705882352944,2.8235294117647061,12.941176470588236,null,110,56.941176470588232,0.98974136964450832,1.0260140748663094,null,971.76470588235293,444.85176470588237,61.082287694117653,471,18,40,258,null,0.880000000000001,3.1999999999999997,8.5000000000000006E-2,0,4.6749999999999998,1.02,1.19,null,56.1,2.2949999999999999,36.54999999999999,26.349999999999998,0,2.5499999999999998E-2,84.135484000000105,100.00887644869653,4.3475858769777416,1.8861674098224139,2.5937302106969526,4.4798976205193668,3.008667039082582,1.3162168229412932,4.0703612714619428,7.9639068493626155,2.4362162302902441,5.2436654099580489,3.5745172620293064,8.818182671987369,5.5516927494200345,0,0,0,0,0,0,0,0,0,0,0,0,0,0,0,0,0,"1.4.1","","","","","","","","","","","","","","","","","","","","","","","","","","","","","","","","","","","","","","","","","","","","","","","","","","","","","","","","","","","","","","","","","","","","","","","","","","","","","","","","","","","","","","","","","","","","","",{"$f":"'background data'!$G$10","v":0.47300000000000003},{"$f":"'background data'!$H$10","v":0.13},{"$f":"'background data'!$J$10","v":0.39100000000000001},{"$f":"'background data'!$L$10","v":5.5E-2},{"$f":"'background data'!$M$10","v":3.97},{"$f":"'background data'!$N$10","v":4.5999999999999999E-3},{"$f":"'background data'!$O$10","v":2.73},"as barley","offfarm","havre","Tabelværdierne er dannet ved kopi af VSPs fodermiddelkode 53010 (gennemsnit af de seneste år i udgaven svarende til varmebehandlet foder), hvor eneste ændring er råproteinkoncentration med de afledte beregnede konsekvenser.\n\nHavre er frø fra dyrkede sorter af havreplanter (Avena sativa), og dyrkes i Danmark\nSom kornart har havre et relativt højt indhold af råfedt samt et jodtalsprodukt på 53 mod 34 for byg. Hvis der bruges meget havre i foder til slagtesvin, øger det risikoen for blødt spæk.\nHavre har et højt indhold af fibre, hvilket betyder et noget lavere energiindhold end i de øvrige kornarter. Havre anvendes i dag kun i begrænsede mængder i foder til smågrise, primært begrundet i det lave energiindhold. Havre anvendes i nogle besætninger som ”problemløser”, da erfaringen er, at det er godt til at stabilisere mave-tarm-kanalen og dermed til at reducere problemer med diarré hos smågrise samt til at forbedre mavesundheden hos søer. \nNøgen havre eller afskallet havre adskiller sig fra almindelig havre ved, at indholdet af skaller - og dermed svært fordøjelige fibre - er lavt. Havre har i forhold til hvede et højt indhold af uopløselige fibre i form af beta-glucaner. Indholdet af beta-glucaner er et par procentpoint højere i nøgen havre end i almindelig havre. Nøgen havre har en god aminosyresammensætning og generelt en høj fordøjelighed, og anses derfor for en god råvare til smågrise. \nHavre og nøgen havre giver et lavere udbytte i marken sammenlignet med hvede. Dog betyder havre i sædskiftet, at udbyttet i hvede året efter øges. \nTilsætning af det kulhydratspaltende enzymxylanase påvirker ikke foderværdien i havre – modsat de øvrige kornarter. En undersøgelse har vist, at EFOSi-værdien ikke blev påvirket i havre ved tilsætning af xylanase. \n\nUd fra forsøg og generel erfaring vurderes, at havre kan bruges i henhold til følgende kilder: [3], [29], [30],","Havre er et godt strukturfoder især til sofoder, og erfaringer viser, at brug af havre kan afhjælpe problemer med diarré hos smågrise. Dette har forsøg dog ikke kunnet bekræfte [4].\n\nDer er ikke eksempler på, at havre skulle have forårsaget problemer.\n","Havre bør ikke blandes med andre kornarter i siloen, da det er tilbøjelig til at \"stå stille\" under tømning af siloen, hvilket samtidig betyder svingende blandingsnøjagtighed. Hvis havreandelen i en blanding er over 10 procent, opstår der ofte problemer med \"hængning\" i siloer og foderautomater. Dette forværres ved høj fugtighed og ved grov formaling.\n\nVed transport af fugtige partier med et vandindhold på 20 procent eller derover, bør der bruges kæderedler frem for sidesnegl eller sneglerende.",null,null,{"$f":"'background data'!$G$10","v":0.47300000000000003},{"$f":"'background data'!$H$10","v":0.13},{"$f":"'background data'!$J$10","v":0.39100000000000001},{"$f":"'background data'!$L$10","v":5.5E-2},{"$f":"'background data'!$M$10","v":3.97},{"$f":"'background data'!$N$10","v":4.5999999999999999E-3},{"$f":"'background data'!$O$10","v":2.73},"as barley","havre"]
[53500,535,0,"HAVRE, Nøgen","2010-05-12",1.3052531634727,1.27459345840445,95.7,90.5,98,1,85,12.41,6.46,1.7849999999999999,2.38,null,92.284096477495098,27,39,43,47,50,null,0.9,5.0999999999999996,0.1,0,4.7,1.7000000000000002,2,56,4.2,53,40,0,0.03,null,4.0599999999999996,1.81,3.32,3.76,1.38,3.09,7.15,2.61,4.57,2.8,3.94,null,1.04,1.1499999999999999,0.95,0.92,1.07,1.1000000000000001,1.1200000000000001,1.1599999999999999,1.1599999999999999,1.1100000000000001,1.08,null,14.6,7.6,2.1,2.8,null,110,83.600000000000009,1.535591957026706,1.4995217157699412,null,979,657.59728571428593,72.725714285714361,471,18,40,258,null,0.76500000000000001,4.335,8.5000000000000006E-2,0,3.9950000000000001,1.4450000000000001,1.7,null,47.6,3.57,45.05,34,0,2.5499999999999998E-2,114.52456372857201,87.741265015495472,3.7047871740142617,1.8263344312975256,2.7673594985887187,4.5936939298862445,3.035145839416002,1.2955875192187951,2.9823255978766738,7.0263205024408419,2.6564545396091286,4.6513399410014236,2.7269985166815855,7.3783384576830091,3.7335663089393432,0,0,0,0,0,0,0,0,0,0,0,0,0,0,0,0,0,"1.4.1","","",3,3,3,3,3,"",3,"",3,3,3,3,"","",3,3,3,3,1,3,3,3,"",3,3,3,3,3,3,3,"","","","",1.1000000000000001,0.4,0.3,0.8,0.8,"",2,"",0.27,0.28999999999999998,0.19,0.43,"","",0.51,0.52,0.41,0.52,"",0.05,0.19,0.13,"",0.56999999999999995,7.0000000000000007E-2,0.09,6.21,0.68,12.89,5.0999999999999996,"","","","",2005,2005,2005,2005,2005,"",2005,"",2005,2005,2005,2005,"","",2005,2005,2005,2005,2005,2005,2005,2005,"",{"$f":"'background data'!$G$10","v":0.47300000000000003},{"$f":"'background data'!$H$10","v":0.13},{"$f":"'background data'!$J$10","v":0.39100000000000001},{"$f":"'background data'!$L$10","v":5.5E-2},{"$f":"'background data'!$M$10","v":3.97},{"$f":"'background data'!$N$10","v":4.5999999999999999E-3},{"$f":"'background data'!$O$10","v":2.73},"as barley","offfarm","havre","Havre er frø fra dyrkede sorter af havreplanter (Avena sativa), og dyrkes i Danmark\nSom kornart har havre et relativt højt indhold af råfedt samt et jodtalsprodukt på 53 mod 34 for byg. Hvis der bruges meget havre i foder til slagtesvin, øger det risikoen for blødt spæk.\nHavre har et højt indhold af fibre, hvilket betyder et noget lavere energiindhold end i de øvrige kornarter. Havre anvendes i dag kun i begrænsede mængder i foder til smågrise, primært begrundet i det lave energiindhold. Havre anvendes i nogle besætninger som ”problemløser”, da erfaringen er, at det er godt til at stabilisere mave-tarm-kanalen og dermed til at reducere problemer med diarré hos smågrise samt til at forbedre mavesundheden hos søer. \nNøgen havre eller afskallet havre adskiller sig fra almindelig havre ved, at indholdet af skaller - og dermed svært fordøjelige fibre - er lavt. Havre har i forhold til hvede et højt indhold af uopløselige fibre i form af beta-glucaner. Indholdet af beta-glucaner er et par procentpoint højere i nøgen havre end i almindelig havre. Nøgen havre har en god aminosyresammensætning og generelt en høj fordøjelighed, og anses derfor for en god råvare til smågrise. \nHavre og nøgen havre giver et lavere udbytte i marken sammenlignet med hvede. Dog betyder havre i sædskiftet, at udbyttet i hvede året efter øges. \nTilsætning af det kulhydratspaltende enzymxylanase påvirker ikke foderværdien i havre – modsat de øvrige kornarter. En undersøgelse har vist, at EFOSi-værdien ikke blev påvirket i havre ved tilsætning af xylanase. \n\nUd fra forsøg og generel erfaring vurderes, at havre kan bruges i henhold til følgende kilder: [3], [29], [30],","Havre er et godt strukturfoder især til sofoder, og erfaringer viser, at brug af havre kan afhjælpe problemer med diarré hos smågrise. Dette har forsøg dog ikke kunnet bekræfte [4].\n\nDer er ikke eksempler på, at havre skulle have forårsaget problemer.\n","Havre bør ikke blandes med andre kornarter i siloen, da det er tilbøjelig til at \"stå stille\" under tømning af siloen, hvilket samtidig betyder svingende blandingsnøjagtighed. Hvis havreandelen i en blanding er over 10 procent, opstår der ofte problemer med \"hængning\" i siloer og foderautomater. Dette forværres ved høj fugtighed og ved grov formaling.\n\nVed transport af fugtige partier med et vandindhold på 20 procent eller derover, bør der bruges kæderedler frem for sidesnegl eller sneglerende.",null,null,{"$f":"'background data'!$G$10","v":0.47300000000000003},{"$f":"'background data'!$H$10","v":0.13},{"$f":"'background data'!$J$10","v":0.39100000000000001},{"$f":"'background data'!$L$10","v":5.5E-2},{"$f":"'background data'!$M$10","v":3.97},{"$f":"'background data'!$N$10","v":4.5999999999999999E-3},{"$f":"'background data'!$O$10","v":2.73},"as barley","havre"]
[53700,537,0,"HAVRESKALMEL","2014-06-24",7.4442403222997E-2,0.21588845429387801,25.1,21.5,82,1,89.1,4.1877000000000004,1.6037999999999999,4.5441000000000003,25.660799999999998,null,-26.993623708206702,20,37,44,50,54,null,1.4000000000000001,1.7,0.2,0,7.0000000000000009,1.3000000000000003,1.3,160,6.3,36,30.000000000000004,0,0.23000000000000115,null,4.13,1.74,2.39,3.48,0.64,3.58,6.97,2.02,4.59,3.03,5.04,null,1,1,1,1,1,1,1,1,1,1,1,null,4.7000000000000011,1.8,5.1000000000000005,28.8,null,110,19.8,8.3549274099884399E-2,0.24229905083487993,null,949,129.16328571428619,48.805714285714259," "," ",13.000000000000002,640,null,1.2474000000000001,1.5146999999999997,0.1782,0,6.2370000000000001,1.1583000000000001,1.1582999999999999,null,142.55999999999997,5.6132999999999988,32.075999999999993,26.73,0,0.204930000000001,-11.304119800285701,-151.850549026789,-6.2714276748063531,-2.6421995530661255,-3.6292281217402538,-6.2714276748064197,-5.2843991061322644,-0.97184351377145117,-5.4362496551590445,-10.583983267167175,-3.0673810903411356,-6.9699402003296456,-4.6010716355117101,-11.571011835841343,-7.6532676709501875,0,0,0,0,0,0,0,0,0,0,0,0,0,0,0,0,0,"1.4.11","","",3,3,2,3,3,"",2,"","","","","","","","","","","","",3,3,3,"",3,3,3,3,3,3,3,"","","","",0.5,1.6,6.5,14,11.5,"",19.600000000000001,"","","","","","","","","","","","",0.78,0.52,"","",3.56,0.82,0.8,139.19999999999999,4.18,3.94,17.48,"","","","",2005,2005,2005,2005,2005,"",2005,"","","","","","","","","","","","",2005,2005,2005,"",{"$f":"'background data'!$G$10","v":0.47300000000000003},{"$f":"'background data'!$H$10","v":0.13},{"$f":"'background data'!$J$10","v":0.39100000000000001},{"$f":"'background data'!$L$10","v":5.5E-2},{"$f":"'background data'!$M$10","v":3.97},{"$f":"'background data'!$N$10","v":4.5999999999999999E-3},{"$f":"'background data'!$O$10","v":2.73},"as barley","offfarm","havreskalmel","Havreskalmel er et biprodukt fra fremstilling af havregryn ud fra renset havre, og består hovedsagelig af havreskaller og havreklid.\n\nHavreskalmel er et biprodukt fra fremstilling af havregryn ud fra renset havre. Havreskalmel består hovedsagelig af havreskaller og havreklid.\n\nKvalitet\nHavreskalmel har et meget højt indhold af fibre og et lavt indhold af energi.\n\nDet vurderes, at havreskalmel kun bør anvendes i foder til søer. Det maksimale indhold af havreskalmel i foder kan ses i oversigten Maksimalt indhold af råvarer i foder.","Havreskalmel er godt i foder til søer, på grund af råvarens høje indhold af træstof. \n\nHavreskalmels egenskab som strukturfoder er dog reduceret væsentlig, som følge af en meget fin formaling. Havreskalmel er ikke velegnet i foder til smågrise og slagtesvin på grund af det lave energiindhold.\n\nDer er ikke eksempler på, at havreskalmel har været årsag til problemer.","Havreskalmel skal opbevares tørt.\n\nHavreskalmel danner meget let bro i siloer og kan være vanskeligt at få ud af siloen. Trykluft og vibrator i silosiderne kan afhjælpe problemet. Ved udtagning med sug fra hammermølle bør der sættes stort sugehoved på siloens bund.\n\nHvis havreandelen i en blanding er over ca. 10 procent, opstår der ofte problemer med \"hængning\" i siloer og foderautomater. Dette forværres ved høj fugtighed og ved grov formaling.",null,null,{"$f":"'background data'!$G$10","v":0.47300000000000003},{"$f":"'background data'!$H$10","v":0.13},{"$f":"'background data'!$J$10","v":0.39100000000000001},{"$f":"'background data'!$L$10","v":5.5E-2},{"$f":"'background data'!$M$10","v":3.97},{"$f":"'background data'!$N$10","v":4.5999999999999999E-3},{"$f":"'background data'!$O$10","v":2.73},"as barley"]
[65200,652,0,"HESTEBØNNER,  gennemsnit af høst 2012, 2014 og 2015","2016-11-21",0.84096817286643399,0.86923717179962601,79.8,70.400038800000004,82,1,84.8,24.4,1.7,3.1," ",null,80,37,41,43,44,45,null,1.5094339622641511,5.1768867924528301,0.22," ",12.750000000000002,1.3800000000000001,2.2000000000000002,74.55,13.950000000000001,18.73,51.93,0,1.9999999999999882E-2,null,6.3240418118466897,0.74564459930313598,1.2404181184669001,3.5261324041811801,0.87456445993031395,3.9790940766550502,7.3728222996515704,2.6341463414634099,4.28571428571429,3.6585365853658498,4.4390243902439002,null,1.04,0.94,0.94,0.98,0.93,0.99,1.03,1.05,1,0.96,0.98,null,28.773584905660378,2.0047169811320757,3.6556603773584908," ",null,130,26.061320754716981,0.99170775102173825,1.0250438346693702,null,963.44339622641508,358.16576819406959,129.37615061320753,375,32,65.183611859838336,206.41477088948821,null,1.28,4.3899999999999997,0.18656," ",10.812000000000001,1.1702400000000002,1.8656000000000001,null,63.218399999999995,11.829600000000001,15.883039999999999,44.036639999999998,0,1.6959999999999899E-2,195.2,232.11342152778766,15.266107821458224,1.6268967203668931,2.7064263198626861,4.3333230402295797,8.0209340395261002,1.8878827870115567,9.1436512930622413,17.626709405971575,6.4199175612807444,9.9477180654766322,8.1522762682930168,18.099994333769683,10.097499966755178,0,0,0,0,0,0,0,0,0,0,0,0,0,0,0,0,0,"3.7.1",30,30,30,30,"",30,30,"",30,30,24,24,24,24,14,14,14,14,14,14,14,28,28,12,"",12,12,4,12,12,12,12,"","",1.4,1.9,0.5,0.4,2,4.2,6,"",9.8000000000000007,7.8,1.18,0.11,0.17,0.6,0.17,0.7,1.28,0.5,0.74,0.68,0.78,0.39,0.95,0.12,"",0.53,0.17,0.25,11,1.01,1.76,7.07,"","","12-15","12-15","12-15","12-15",2005,"12-15","12-15","","12-15","12-15","2012&'14","2012&'14","2012&'14","2012&'14","2012&'14","2012&'14","2012&'14","2012&'14","2012&'14","2012&'14","2012&'14","12-15","12-15","2012&'14","",{"$f":"'background data'!$G$20","v":0.14000000000000001},{"$f":"'background data'!$H$20","v":7.0000000000000007E-2},{"$f":"'background data'!$J$20","v":0.51702999999999999},{"$f":"'background data'!$L$20","v":2.1999999999999999E-2},{"$f":"'background data'!$M$20","v":0.72},{"$f":"'background data'!$N$20","v":1.2900000000000001E-3},{"$f":"'background data'!$O$20","v":3.47},null,"offfarm","hestebønner","Bønner af bælgplanten hestebønne (Vicia fabe). Hestebønner dyrkes kun i begrænset omfang i Danmark.\n\nKvalitet\nMellem sorterne kan der være stor forskel i næringsindhold og indhold af anti-nutritionelle forbindelser. Brug derfor hvidblomstrende sorter eller sorter med et lavt indhold af tanniner, som f.eks. Fuego og Espresso i foder til svin.\n\nUd fra forsøg og generel erfaring vurderes, at hestebønne kan bruges i henhold til følgende kilder: [82].\n\nAnalyseværdierne stammer dels fra en afprøvning af hestebønnesorterne Columbo, Fuego og Espresso i foder til smågrise (høst 2012), dels fra en afprøvning af Fuego hestebønner til slagtesvin (høst 2014).\n\nDer er observeret store forskelle mellem høstår mht. analyseret koncentration af råprotein og energi. Derfor anbefales det at anvende aktuelle analyser for det enkelte parti hestebønner.\n\nIndholdet af opløselige og uopløselige fibre er beregnet, se versionsbeskrivelsen for 3. juni 2016","Hestebønner kan ikke anbefales til søer.\n\nHestebønner har et varierende indhold af stoffer, som kan hæmme væksten hos grise.\n\nBrug hvidblomstrende sorter eller sorterne Fuego eller Espresso i foder til svin, idet de har lavt indhold af tanniner og glykosider. Brug af hestebønner i foder med højt indhold af tanniner eller glykosider kan betyde en lavere daglig foderoptagelse og en dårligere foderudnyttelse","Hestebønner skal opbevares tørt og er lagerfast ved 88-89 pct. tørstof. \nHestebønner bør ikke transporteres med flexsnegle. Sneglevindinger på kornsnegle fræses ned ved indløb.\n\nDer er ingen problemer ved transport af hestebønner som løsvare.",null,null,{"$f":"'background data'!$G$20","v":0.14000000000000001},{"$f":"'background data'!$H$20","v":7.0000000000000007E-2},{"$f":"'background data'!$J$20","v":0.51702999999999999},{"$f":"'background data'!$L$20","v":2.1999999999999999E-2},{"$f":"'background data'!$M$20","v":0.72},{"$f":"'background data'!$N$20","v":1.2900000000000001E-3},{"$f":"'background data'!$O$20","v":3.47}]
[65201,652,1,"HESTEBØNNER, gennemsnit af høst 2012","2016-11-21",0.93274996634115104,0.95111828897959305,83.2,74.500025600000001,82,1,88,26.84,1.8480000000000001,3.52,8.4480000000000004,null,80,37,41,43,44,45,null,1.68,6.1799999999999988,0.19999999999999998," ",12.799999999999999,1.4000000000000001,2.1999999999999997,78,13.899999999999999,18.299999999999997,51.800000000000004,0,1.9999999999999886E-2,null,6.2622950819672099,0.72131147540983598,1.1803278688524601,3.46229508196721,0.82950819672131104,3.8262295081967199,7.0950819672131198,2.58688524590164,4.1573770491803304,3.58688524590164,4.2819672131147497,null,1.04,0.94,0.94,0.98,0.93,0.99,1.03,1.05,1,0.96,0.98,null,30.5,2.1,4,9.6000000000000014,null,130,27.3,1.0599431435694897,1.0808162374768102,null,960,381.48571428571364,119.31393462857045,375,32,54.015428571428629,171.0488571428568,null,1.4783999999999999,5.4383999999999988,0.17599999999999999," ",11.263999999999999,1.2320000000000002,1.9359999999999997,null,68.64,12.231999999999999,16.103999999999999,45.584000000000003,0,1.75999999999999E-2,214.72,230.20102680064497,14.992502283173808,1.5608384374548649,2.554099261289779,4.1149376987446544,7.8108340529656326,1.7758688392106148,8.7199394194619284,16.82294008709815,6.2527882181309717,9.5703246551874592,7.9267647995773567,17.497089454764826,9.6599898420199928,0,0,0,0,0,0,0,0,0,0,0,0,0,0,0,0,0,"3.7.1",9,9,9,9,4,9,9,"",9,9,9,9,9,9,9,9,9,9,9,9,9,9,9,9,"",9,9,4,9,9,9,9,"","",1.4,1.51,0.05,0.51,2,1.84,1.99,"",2.98,2.36,1.35,0.15,0.24,0.7,0.21,0.77,1.37,0.46,0.66,0.38,0.8,0.56000000000000005,0.71,0.13,"",0.53,0.17,0.25,11,1.01,1.76,7.07,"","",2012,2012,2012,2012,2005,2012,2012,"",2012,2012,2012,2012,2012,2012,2012,2012,2012,2012,2012,2012,2012,2012,2012,2012,"",{"$f":"'background data'!$G$20","v":0.14000000000000001},{"$f":"'background data'!$H$20","v":7.0000000000000007E-2},{"$f":"'background data'!$J$20","v":0.51702999999999999},{"$f":"'background data'!$L$20","v":2.1999999999999999E-2},{"$f":"'background data'!$M$20","v":0.72},{"$f":"'background data'!$N$20","v":1.2900000000000001E-3},{"$f":"'background data'!$O$20","v":3.47},null,"offfarm","hestebønner","Bønner af bælgplanten hestebønne (Vicia fabe). Hestebønner dyrkes kun i begrænset omfang i Danmark.\n\nKvalitet\nMellem sorterne kan der være stor forskel i næringsindhold og indhold af anti-nutritionelle forbindelser. Brug derfor hvidblomstrende sorter eller sorter med et lavt indhold af tanniner, som f.eks. Fuego og Espresso i foder til svin.\n\nUd fra forsøg og generel erfaring vurderes, at hestebønne kan bruges i henhold til følgende kilder: [82].\n\nAnalyseværdierne stammer dels fra en afprøvning af hestebønnesorterne Columbo, Fuego og Espresso i foder til smågrise (høst 2012), dels fra en afprøvning af Fuego hestebønner til slagtesvin (høst 2014).\n\nDer er observeret store forskelle mellem høstår mht. analyseret koncentration af råprotein og energi. Derfor anbefales det at anvende aktuelle analyser for det enkelte parti hestebønner.\n\nIndholdet af opløselige og uopløselige fibre er beregnet, se versionsbeskrivelsen for 3. juni 2016","Hestebønner kan ikke anbefales til søer.\n\nHestebønner har et varierende indhold af stoffer, som kan hæmme væksten hos grise.\n\nBrug hvidblomstrende sorter eller sorterne Fuego eller Espresso i foder til svin, idet de har lavt indhold af tanniner og glykosider. Brug af hestebønner i foder med højt indhold af tanniner eller glykosider kan betyde en lavere daglig foderoptagelse og en dårligere foderudnyttelse","Hestebønner skal opbevares tørt og er lagerfast ved 88-89 pct. tørstof. \nHestebønner bør ikke transporteres med flexsnegle. Sneglevindinger på kornsnegle fræses ned ved indløb.\n\nDer er ingen problemer ved transport af hestebønner som løsvare.",null,null,{"$f":"'background data'!$G$20","v":0.14000000000000001},{"$f":"'background data'!$H$20","v":7.0000000000000007E-2},{"$f":"'background data'!$J$20","v":0.51702999999999999},{"$f":"'background data'!$L$20","v":2.1999999999999999E-2},{"$f":"'background data'!$M$20","v":0.72},{"$f":"'background data'!$N$20","v":1.2900000000000001E-3},{"$f":"'background data'!$O$20","v":3.47}]
[65202,652,2,"HESTEBØNNER, gennemsnit af høst 2014","2016-11-21",0.82447780877029797,0.86176624914285704,77.099999999999994,67.399971899999997,82,1,88,24.376000000000001,1.5840000000000001,2.992,8.4480000000000004,null,80,37,41,43,44,45,null,1.4500000000000002,4.58,0.22," ",12.75,1.38,2.1999999999999997,74.55,13.95,18.729999999999997,51.93,0,1.9999999999999886E-2,null,6.3501805054151603,0.76173285198555996,1.27797833935018,3.55595667870036,0.89530685920577602,3.9638989169675098,7.3212996389891698,2.6064981949458499,4.1913357400721996,3.5090252707581202,4.3971119133574001,null,1.04,0.94,0.94,0.98,0.93,0.99,1.03,1.05,1,0.96,0.98,null,27.7,1.8,3.4,9.6000000000000014,null,130,23.4,0.93690660087533861,0.97927982857142848,null,966,341.39599999999996,133.86038778,375,32,73.121759999999995,231.55223999999998,null,1.2760000000000002,4.0304000000000002,0.19359999999999999," ",11.22,1.2143999999999999,1.9359999999999997,null,65.603999999999999,12.276,16.482399999999998,45.698399999999999,0,1.75999999999999E-2,195.00800000000001,236.52304273762428,15.620425756768967,1.6935732959054295,2.8413504585332801,4.5349237544387213,8.2424437961959711,1.9693745334659085,9.2817789861607469,17.83605749429816,6.4732172815665203,9.9134748237682953,7.9676672071960999,17.881142030964394,10.192179232250464,0,0,0,0,0,0,0,0,0,0,0,0,0,0,0,0,0,"3.7.1",15,15,15,15,4,15,15,"",15,15,15,15,15,15,5,5,5,5,5,5,5,13,13,12,"",12,12,4,12,12,12,12,"","",1.4,1.1000000000000001,0.6,0.1,2,3.5,6,"",9.5,7.5,0.56999999999999995,0.06,0.1,0.34,0.03,0.23,0.3,0.1,0.12,0.14000000000000001,0.28999999999999998,0.19,0.34,0.13,"",0.53,0.17,0.25,11,1.01,1.76,7.07,"","",2014,2014,2014,2014,2005,2014,2014,"",2014,2014,2014,2014,2014,2014,2014,2014,2014,2014,2014,2014,2014,2014,2014,"2012&'14","",{"$f":"'background data'!$G$20","v":0.14000000000000001},{"$f":"'background data'!$H$20","v":7.0000000000000007E-2},{"$f":"'background data'!$J$20","v":0.51702999999999999},{"$f":"'background data'!$L$20","v":2.1999999999999999E-2},{"$f":"'background data'!$M$20","v":0.72},{"$f":"'background data'!$N$20","v":1.2900000000000001E-3},{"$f":"'background data'!$O$20","v":3.47},null,"offfarm","hestebønner","Bønner af bælgplanten hestebønne (Vicia fabe). Hestebønner dyrkes kun i begrænset omfang i Danmark.\n\nKvalitet\nMellem sorterne kan der være stor forskel i næringsindhold og indhold af anti-nutritionelle forbindelser. Brug derfor hvidblomstrende sorter eller sorter med et lavt indhold af tanniner, som f.eks. Fuego og Espresso i foder til svin.\n\nUd fra forsøg og generel erfaring vurderes, at hestebønne kan bruges i henhold til følgende kilder: [82].\n\nAnalyseværdierne stammer dels fra en afprøvning af hestebønnesorterne Columbo, Fuego og Espresso i foder til smågrise (høst 2012), dels fra en afprøvning af Fuego hestebønner til slagtesvin (høst 2014).\n\nDer er observeret store forskelle mellem høstår mht. analyseret koncentration af råprotein og energi. Derfor anbefales det at anvende aktuelle analyser for det enkelte parti hestebønner.\n\nIndholdet af opløselige og uopløselige fibre er beregnet, se versionsbeskrivelsen for 3. juni 2016","Hestebønner kan ikke anbefales til søer.\n\nHestebønner har et varierende indhold af stoffer, som kan hæmme væksten hos grise.\n\nBrug hvidblomstrende sorter eller sorterne Fuego eller Espresso i foder til svin, idet de har lavt indhold af tanniner og glykosider. Brug af hestebønner i foder med højt indhold af tanniner eller glykosider kan betyde en lavere daglig foderoptagelse og en dårligere foderudnyttelse","Hestebønner skal opbevares tørt og er lagerfast ved 88-89 pct. tørstof. \nHestebønner bør ikke transporteres med flexsnegle. Sneglevindinger på kornsnegle fræses ned ved indløb.\n\nDer er ingen problemer ved transport af hestebønner som løsvare.",null,null,{"$f":"'background data'!$G$20","v":0.14000000000000001},{"$f":"'background data'!$H$20","v":7.0000000000000007E-2},{"$f":"'background data'!$J$20","v":0.51702999999999999},{"$f":"'background data'!$L$20","v":2.1999999999999999E-2},{"$f":"'background data'!$M$20","v":0.72},{"$f":"'background data'!$N$20","v":1.2900000000000001E-3},{"$f":"'background data'!$O$20","v":3.47}]
[65203,652,3,"HESTEBØNNER, gennemsnit af høst 2015","2016-11-21",0.858616755769264,0.88288629758812798,81.400000000000006,71.899968799999996,82,1,83.5,24.3,1.9,2.9," ",null,80,37,41,43,44,45,null,1.3532934131736525,4.9580838323353289,0.22," ",12.75,1.3800000000000001,2.1999999999999997,74.55,13.950000000000001,18.73,51.93,0,1.9999999999999879E-2,null,6.3501805054151603,0.76173285198555996,1.27797833935018,3.55595667870036,0.89530685920577602,3.9638989169675098,7.3212996389891698,2.6064981949458499,4.1913357400721996,3.5090252707581202,4.3971119133574001,null,1.04,0.94,0.94,0.98,0.93,0.99,1.03,1.05,1,0.96,0.98,null,29.101796407185628,2.2754491017964074,3.4730538922155687," ",null,130,29.580838323353294,1.02828353984343,1.0573488593869798,null,965.26946107784431,367.83028229255808,131.00128566638082,375,32,61.794025662959761,195.68108126603954,null,1.1299999999999997,4.1399999999999997,0.1837," ",10.64625,1.1523000000000001,1.8369999999999997,null,62.249249999999996,11.648250000000001,15.63955,43.361550000000001,0,1.6699999999999899E-2,194.4,226.41067588511061,14.952586066324333,1.6211658287022659,2.7198706320407662,4.3410364607430436,7.8900442394186605,1.8851753893913967,8.8849434260156297,17.073490116095837,6.1964596891155903,9.4896315777116627,7.6270155192026872,17.116647096914363,9.7564201864080538,0,0,0,0,0,0,0,0,0,0,0,0,0,0,0,0,0,"3.7.1",6,6,6,6,"",6,6,"",6,6,"","","","","","","","","","","",6,6,"","","","","","","","","","","",1.4,1.1000000000000001,0.6,0.1,2,3.5,6,"",9.5,7.5,"","","","","","","","","","","",0.19,0.34,"","","","","","","","","","","",2015,2015,2015,2015,"",2015,2015,"",2015,2015,"2012&'14","2012&'14","2012&'14","2012&'14","2012&'14","2012&'14","2012&'14","2012&'14","2012&'14","2012&'14","2012&'14",2015,2015,"2012&'14","",{"$f":"'background data'!$G$20","v":0.14000000000000001},{"$f":"'background data'!$H$20","v":7.0000000000000007E-2},{"$f":"'background data'!$J$20","v":0.51702999999999999},{"$f":"'background data'!$L$20","v":2.1999999999999999E-2},{"$f":"'background data'!$M$20","v":0.72},{"$f":"'background data'!$N$20","v":1.2900000000000001E-3},{"$f":"'background data'!$O$20","v":3.47},null,"offfarm","hestebønner","Bønner af bælgplanten hestebønne (Vicia fabe). Hestebønner dyrkes kun i begrænset omfang i Danmark.\n\nKvalitet\nMellem sorterne kan der være stor forskel i næringsindhold og indhold af anti-nutritionelle forbindelser. Brug derfor hvidblomstrende sorter eller sorter med et lavt indhold af tanniner, som f.eks. Fuego og Espresso i foder til svin.\n\nUd fra forsøg og generel erfaring vurderes, at hestebønne kan bruges i henhold til følgende kilder: [82].\n\nAnalyseværdierne stammer dels fra en afprøvning af hestebønnesorterne Columbo, Fuego og Espresso i foder til smågrise (høst 2012), dels fra en afprøvning af Fuego hestebønner til slagtesvin (høst 2014).\n\nDer er observeret store forskelle mellem høstår mht. analyseret koncentration af råprotein og energi. Derfor anbefales det at anvende aktuelle analyser for det enkelte parti hestebønner.\n\nIndholdet af opløselige og uopløselige fibre er beregnet, se versionsbeskrivelsen for 3. juni 2016","Hestebønner kan ikke anbefales til søer.\n\nHestebønner har et varierende indhold af stoffer, som kan hæmme væksten hos grise.\n\nBrug hvidblomstrende sorter eller sorterne Fuego eller Espresso i foder til svin, idet de har lavt indhold af tanniner og glykosider. Brug af hestebønner i foder med højt indhold af tanniner eller glykosider kan betyde en lavere daglig foderoptagelse og en dårligere foderudnyttelse","Hestebønner skal opbevares tørt og er lagerfast ved 88-89 pct. tørstof. \nHestebønner bør ikke transporteres med flexsnegle. Sneglevindinger på kornsnegle fræses ned ved indløb.\n\nDer er ingen problemer ved transport af hestebønner som løsvare.",null,null,{"$f":"'background data'!$G$20","v":0.14000000000000001},{"$f":"'background data'!$H$20","v":7.0000000000000007E-2},{"$f":"'background data'!$J$20","v":0.51702999999999999},{"$f":"'background data'!$L$20","v":2.1999999999999999E-2},{"$f":"'background data'!$M$20","v":0.72},{"$f":"'background data'!$N$20","v":1.2900000000000001E-3},{"$f":"'background data'!$O$20","v":3.47}]
[65210,652,10,"HESTEBØNNER, høst 2012, Columbo","2016-11-21",0.94209188115430098,0.95852236842760696,84.9,75.599969099999996,82,1,88,28.512,1.8480000000000001,4.1360000000000001," ",null,80,37,41,43,44,45,null,2.3000000000000003,6.9,0.30000000000000004," ",13.4,1.5999999999999999,2.1999999999999997,86.600000000000009,14.9,19.200000000000003,50.2,0,1.9999999999999886E-2,null,6.4506172839506197,0.74074074074074103,1.1419753086419799,3.5493827160493798,0.86419753086419804,3.9197530864197501,7.2222222222222197,2.62345679012346,4.1666666666666696,3.5185185185185199,4.3518518518518503,null,1.04,0.94,0.94,0.98,0.93,0.99,1.03,1.05,1,0.96,0.98,null,32.4,2.1,4.7," ",null,130,27.3,1.0705589558571602,1.0892299641222807,null,953,367.27372217571366,126.61327782428636,375,32,50.775805714285681,160.79005142857045,null,2.0240000000000005,6.0720000000000001,0.26400000000000007," ",11.792,1.4079999999999999,1.9359999999999997,null,76.208000000000013,13.112,16.896000000000004,44.176000000000002,0,1.75999999999999E-2,228.096,242.1165117361214,16.242729935482515,1.6858483039404009,2.5990161352414511,4.2848644391818409,8.4217687878583067,1.9458993721014202,9.3954657470933665,18.010778289703698,6.6694131705088893,10.088187989005048,8.1781577297534227,18.266345718758494,10.325820861634945,0,0,0,0,0,0,0,0,0,0,0,0,0,0,0,0,0,"3.7.1",3,3,3,3,"",3,3,"",3,3,3,3,3,3,3,3,3,3,3,3,3,3,3,3,"",3,3,"",3,3,3,3,"","","","","","","","","","","","","","","","","","","","","","","","","","","","","","","","","","","","",2012,2012,2012,2012,"",2012,2012,"",2012,2012,2012,2012,2012,2012,2012,2012,2012,2012,2012,2012,2012,2012,2012,2012,"",{"$f":"'background data'!$G$20","v":0.14000000000000001},{"$f":"'background data'!$H$20","v":7.0000000000000007E-2},{"$f":"'background data'!$J$20","v":0.51702999999999999},{"$f":"'background data'!$L$20","v":2.1999999999999999E-2},{"$f":"'background data'!$M$20","v":0.72},{"$f":"'background data'!$N$20","v":1.2900000000000001E-3},{"$f":"'background data'!$O$20","v":3.47},null,"offfarm","hestebønner","Bønner af bælgplanten hestebønne (Vicia fabe). Hestebønner dyrkes kun i begrænset omfang i Danmark.\n\nKvalitet\nMellem sorterne kan der være stor forskel i næringsindhold og indhold af anti-nutritionelle forbindelser. Brug derfor hvidblomstrende sorter eller sorter med et lavt indhold af tanniner, som f.eks. Fuego og Espresso i foder til svin.\n\nUd fra forsøg og generel erfaring vurderes, at hestebønne kan bruges i henhold til følgende kilder: [82].\n\nHovedparten af analyseværdierne stammer fra en igangværende afprøvning af hestebønnesorterne Columbo, Fuego og Espresso i foder til smågrise (høst 2012).\n\nDer er observeret store forskelle mellem høstår mht. analyseret koncentration af råprotein og energi. Derfor anbefales det at anvende aktuelle analyser for det enkelte parti hestebønner.\n\nIndholdet af opløselige og uopløselige fibre er beregnet, se versionsbeskrivelsen for 3. juni 2016","Hestebønner kan ikke anbefales til søer.\n\nHestebønner har et varierende indhold af stoffer, som kan hæmme væksten hos grise.\n\nBrug hvidblomstrende sorter eller sorterne Fuego eller Espresso i foder til svin, idet de har lavt indhold af tanniner og glykosider. Brug af hestebønner i foder med højt indhold af tanniner eller glykosider kan betyde en lavere daglig foderoptagelse og en dårligere foderudnyttelse","Hestebønner skal opbevares tørt og er lagerfast ved 88-89 pct. tørstof. \nHestebønner bør ikke transporteres med flexsnegle. Sneglevindinger på kornsnegle fræses ned ved indløb.\n\nDer er ingen problemer ved transport af hestebønner som løsvare.",null,null,{"$f":"'background data'!$G$20","v":0.14000000000000001},{"$f":"'background data'!$H$20","v":7.0000000000000007E-2},{"$f":"'background data'!$J$20","v":0.51702999999999999},{"$f":"'background data'!$L$20","v":2.1999999999999999E-2},{"$f":"'background data'!$M$20","v":0.72},{"$f":"'background data'!$N$20","v":1.2900000000000001E-3},{"$f":"'background data'!$O$20","v":3.47}]
[65230,652,30,"HESTEBØNNER, høst 2012, Espresso","2016-11-21",0.90856974490506404,0.93095360913704195,81.400000000000006,72.800008599999998,82,1,88,25.783999999999999,1.8480000000000001,3.3439999999999999," ",null,80,37,41,43,44,45,null,1.4000000000000001,6.3,0.19999999999999998," ",12.6,1.4000000000000001,2.1999999999999997,69.600000000000009,13.8,19.399999999999999,60.1,0,1.9999999999999886E-2,null,6.21160409556314,0.68259385665529004,1.1262798634812301,3.3788395904436901,0.78498293515358397,3.7542662116040999,7.0648464163822497,2.55972696245734,4.1296928327645004,3.6177474402730398,4.2662116040955604,null,1.04,0.94,0.94,0.98,0.93,0.99,1.03,1.05,1,0.96,0.98,null,29.3,2.1,3.8," ",null,130,27.3,1.0324656192103001,1.0579018285648205,null,962,377.87954675999993,118.18845323999999,375,32,58.500137142857049,185.25043428571362,null,1.2320000000000002,5.5439999999999996,0.17599999999999999," ",11.087999999999999,1.2320000000000002,1.9359999999999997,null,61.248000000000005,12.144,17.071999999999999,52.887999999999998,0,1.75999999999999E-2,206.27199999999999,227.02935152386485,14.6662510772823,1.4567071019278701,2.4035667181809854,3.8602738201088447,7.5175384589915932,1.6573917505445288,8.4380533723374906,16.520453255427721,6.1018980998308274,9.3756148581527707,7.8848146112861617,17.260429469438954,9.4918414886257487,0,0,0,0,0,0,0,0,0,0,0,0,0,0,0,0,0,"3.7.1",3,3,3,3,"",3,3,"",3,3,3,3,3,3,3,3,3,3,3,3,3,3,3,3,"",3,3,"",3,3,3,3,"","","","","","","","","","","","","","","","","","","","","","","","","","","","","","","","","","","","",2012,2012,2012,2012,"",2012,2012,"",2012,2012,2012,2012,2012,2012,2012,2012,2012,2012,2012,2012,2012,2012,2012,2012,"",{"$f":"'background data'!$G$20","v":0.14000000000000001},{"$f":"'background data'!$H$20","v":7.0000000000000007E-2},{"$f":"'background data'!$J$20","v":0.51702999999999999},{"$f":"'background data'!$L$20","v":2.1999999999999999E-2},{"$f":"'background data'!$M$20","v":0.72},{"$f":"'background data'!$N$20","v":1.2900000000000001E-3},{"$f":"'background data'!$O$20","v":3.47},null,"offfarm","hestebønner","Bønner af bælgplanten hestebønne (Vicia fabe). Hestebønner dyrkes kun i begrænset omfang i Danmark.\n\nKvalitet\nMellem sorterne kan der være stor forskel i næringsindhold og indhold af anti-nutritionelle forbindelser. Brug derfor hvidblomstrende sorter eller sorter med et lavt indhold af tanniner, som f.eks. Fuego og Espresso i foder til svin.\n\nUd fra forsøg og generel erfaring vurderes, at hestebønne kan bruges i henhold til følgende kilder: [82].\n\nHovedparten af analyseværdierne stammer fra en igangværende afprøvning af hestebønnesorterne Columbo, Fuego og Espresso i foder til smågrise (høst 2012).\n\nDer er observeret store forskelle mellem høstår mht. analyseret koncentration af råprotein og energi. Derfor anbefales det at anvende aktuelle analyser for det enkelte parti hestebønner.\n\nIndholdet af opløselige og uopløselige fibre er beregnet, se versionsbeskrivelsen for 3. juni 2016","Hestebønner kan ikke anbefales til søer.\n\nHestebønner har et varierende indhold af stoffer, som kan hæmme væksten hos grise.\n\nBrug hvidblomstrende sorter eller sorterne Fuego eller Espresso i foder til svin, idet de har lavt indhold af tanniner og glykosider. Brug af hestebønner i foder med højt indhold af tanniner eller glykosider kan betyde en lavere daglig foderoptagelse og en dårligere foderudnyttelse","Hestebønner skal opbevares tørt og er lagerfast ved 88-89 pct. tørstof. \nHestebønner bør ikke transporteres med flexsnegle. Sneglevindinger på kornsnegle fræses ned ved indløb.\n\nDer er ingen problemer ved transport af hestebønner som løsvare.",null,null,{"$f":"'background data'!$G$20","v":0.14000000000000001},{"$f":"'background data'!$H$20","v":7.0000000000000007E-2},{"$f":"'background data'!$J$20","v":0.51702999999999999},{"$f":"'background data'!$L$20","v":2.1999999999999999E-2},{"$f":"'background data'!$M$20","v":0.72},{"$f":"'background data'!$N$20","v":1.2900000000000001E-3},{"$f":"'background data'!$O$20","v":3.47}]
[65220,652,20,"HESTEBØNNER, høst 2012, Fuego","2016-11-21",0.95043545201728696,0.96616021792913898,83.2,75.199987199999995,82,1,88,26.135999999999999,1.9359999999999999,3.08," ",null,80,37,41,43,44,45,null,1.2999999999999998,5.3999999999999995,0.30000000000000004," ",12.4,1.2000000000000002,2.1999999999999997,77.900000000000006,13,16.400000000000002,45,0,1.9999999999999886E-2,null,6.1279461279461298,0.74074074074074103,1.2794612794612801,3.5016835016835,0.84175084175084203,3.8047138047138001,7.0033670033669999,2.5925925925925899,4.1750841750841801,3.6363636363636398,4.2424242424242404,null,1.04,0.94,0.94,0.98,0.93,0.99,1.03,1.05,1,0.96,0.98,null,29.7,2.1999999999999997,3.5," ",null,130,28.599999999999998,1.0800402863832805,1.0979093385558398,null,965,400.98410925714319,110.28589074285705,375,32,52.388571428571368,165.89714285714317,null,1.1439999999999999,4.7519999999999998,0.26400000000000007," ",10.912000000000001,1.0560000000000003,1.9359999999999997,null,68.552000000000007,11.44,14.432000000000002,39.6,0,1.75999999999999E-2,209.08799999999999,219.9917938206255,14.020217755679461,1.5317947125287998,2.6458272307315633,4.1776219432603634,7.5493480222889504,1.722157981929139,8.2863575672435505,15.869037679505324,5.9886654984503709,9.1848425702887404,7.6797135297381889,16.864556100026942,9.146325488542379,0,0,0,0,0,0,0,0,0,0,0,0,0,0,0,0,0,"3.7.1",3,3,3,3,"",3,3,"",3,3,3,3,3,3,3,3,3,3,3,3,3,3,3,3,"",3,3,"",3,3,3,3,"","","","","","","","","","","","","","","","","","","","","","","","","","","","","","","","","","","","",2012,2012,2012,2012,"",2012,2012,"",2012,2012,2012,2012,2012,2012,2012,2012,2012,2012,2012,2012,2012,2012,2012,2012,"",{"$f":"'background data'!$G$20","v":0.14000000000000001},{"$f":"'background data'!$H$20","v":7.0000000000000007E-2},{"$f":"'background data'!$J$20","v":0.51702999999999999},{"$f":"'background data'!$L$20","v":2.1999999999999999E-2},{"$f":"'background data'!$M$20","v":0.72},{"$f":"'background data'!$N$20","v":1.2900000000000001E-3},{"$f":"'background data'!$O$20","v":3.47},null,"offfarm","hestebønner","Bønner af bælgplanten hestebønne (Vicia fabe). Hestebønner dyrkes kun i begrænset omfang i Danmark.\n\nKvalitet\nMellem sorterne kan der være stor forskel i næringsindhold og indhold af anti-nutritionelle forbindelser. Brug derfor hvidblomstrende sorter eller sorter med et lavt indhold af tanniner, som f.eks. Fuego og Espresso i foder til svin.\n\nUd fra forsøg og generel erfaring vurderes, at hestebønne kan bruges i henhold til følgende kilder: [82].\n\nHovedparten af analyseværdierne stammer fra en igangværende afprøvning af hestebønnesorterne Columbo, Fuego og Espresso i foder til smågrise (høst 2012).\n\nDer er observeret store forskelle mellem høstår mht. analyseret koncentration af råprotein og energi. Derfor anbefales det at anvende aktuelle analyser for det enkelte parti hestebønner.\n\nIndholdet af opløselige og uopløselige fibre er beregnet, se versionsbeskrivelsen for 3. juni 2016","Hestebønner kan ikke anbefales til søer.\n\nHestebønner har et varierende indhold af stoffer, som kan hæmme væksten hos grise.\n\nBrug hvidblomstrende sorter eller sorterne Fuego eller Espresso i foder til svin, idet de har lavt indhold af tanniner og glykosider. Brug af hestebønner i foder med højt indhold af tanniner eller glykosider kan betyde en lavere daglig foderoptagelse og en dårligere foderudnyttelse","Hestebønner skal opbevares tørt og er lagerfast ved 88-89 pct. tørstof. \nHestebønner bør ikke transporteres med flexsnegle. Sneglevindinger på kornsnegle fræses ned ved indløb.\n\nDer er ingen problemer ved transport af hestebønner som løsvare.",null,null,{"$f":"'background data'!$G$20","v":0.14000000000000001},{"$f":"'background data'!$H$20","v":7.0000000000000007E-2},{"$f":"'background data'!$J$20","v":0.51702999999999999},{"$f":"'background data'!$L$20","v":2.1999999999999999E-2},{"$f":"'background data'!$M$20","v":0.72},{"$f":"'background data'!$N$20","v":1.2900000000000001E-3},{"$f":"'background data'!$O$20","v":3.47}]
[99910,999,10,"HISTIDIN,L98,5","2010-05-12",1.3499146341463499,1.29381428571429,100,100,100,1,99,99,0,0,0,null,100,0,0,0,0,0,null,0,0,0,0,0,0,0,0,0,0,0,0,0,null,0,0,0,0,0,0,0,100,0,0,0,null,1,1,1,1,1,1,1,1,1,1,1,null,100,0,0,0,null,0,0,1.3635501355013635,1.3068831168831212,null,1000,90,0,0,0," "," ",null,0,0,0,0,0,0,0,null,0,0,0,0,0,0,990,733.37970784059962,0,0,0,0,0,0,0,0,733.37970784059962,0,0,0,0,0,0,0,0,0,0,0,0,0,0,0,0,0,0,0,0,0,"","","","","","","","","","","","","","","","","","","","","","","","","","","","","","","","","","","","","","","","","","","","","","","","","","","","","","","","","","","","","","","","","","","","","","","","","","","","","","","","","","","","","","","","","","","","","","",null,null,null,null,null,null,null,null,"offfarm","vitaminer og mineraler","","","",null,null,{"$f":"'background data'!$G$10","v":0.47300000000000003},{"$f":"'background data'!$H$10","v":0.13},{"$f":"'background data'!$J$10","v":0.39100000000000001},{"$f":"'background data'!$L$10","v":5.5E-2},{"$f":"'background data'!$M$10","v":3.97},{"$f":"'background data'!$N$10","v":4.5999999999999999E-3},{"$f":"'background data'!$O$10","v":2.73}]
[51000,510,0,"HVEDE,  2016","2016-11-09",1.1393234378532799,1.1230089236790399,90.8,86.000039599999994,93,1,85,9.8999999999999897,2.1,1.5,2.7,null,83.663555300952396,50,54,56,57,58,null,0.43529411764705883,3.2941176470588234,0.1,1,5.8,1.2,1.3,32,3.2,29,40,0,6.0000000000000123E-2,null,2.9030935294117701,1.5375035294117601,2.3079347058823498,2.8916517647058799,1.34148882352941,3.3452023529411798,6.6590935294117601,2.2747205882352901,4.4124194117647102,2.7541000000000002,4.2787847058823498,null,0.92,1,0.98,0.93,0.99,0.99,1,0.99,1.02,1,0.96,null,11.647058823529401,2.4705882352941178,1.7647058823529411,3.1764705882352939,null,105,25.941176470588353,1.3403805151215058,1.3211869690341647,null,982.35294117647061,694.66274060504236,67.360788806722709,670,18.999999999999996,25,113,null,0.37,2.8,8.5000000000000006E-2,0.85,4.93,1.02,1.105,null,27.2,2.72,24.65,34,0,5.1000000000000101E-2,82.826919747942796,72.698337448412175,1.9416606720183973,1.1177395040930114,1.6442735573599407,2.762013061452961,1.9550299646971208,0.96548767104452948,2.4075874299246633,4.8410502850171406,1.6371472087513592,3.2719106646760259,2.0021849116667174,5.2740955763427522,2.9861811304064672,0,0,0,0,0,0,0,0,0,0,0,0,0,0,0,0,0,"1.11.1","",32,16,16,"",16,16,"",16,16,"","","","","","","","","","","",16,32,"","","","","","","","","","","","",0.6,0.3,0.1,"",0.9,1.1000000000000001,"",1.9,1.6,"","","","","","","","","","","",0.1,0.3,"","","","","","","","","","","","",2016,2016,2016,"",2016,2016,"",2016,2016,"","","","","","","","","","","",2016,2016,"","",{"$f":"'background data'!$G$10","v":0.47300000000000003},{"$f":"'background data'!$H$10","v":0.13},{"$f":"'background data'!$J$10","v":0.39100000000000001},{"$f":"'background data'!$L$10","v":5.5E-2},{"$f":"'background data'!$M$10","v":3.97},{"$f":"'background data'!$N$10","v":4.5999999999999999E-3},{"$f":"'background data'!$O$10","v":2.73},"as barley","offfarm","hvede","Hvede, som dyrkes i stor udstrækning i Danmark, er frø fra dyrkede sorter af hvedeplanter (Triticum aestivum og Triticum durum).\n\nHvede kan indgå i et foder til grise som eneste kornart. Er der før høst brugt stråforkortningsmidler, bør hvede i foder til søer maksimalt udgøre 30 pct. af FEso.\n\nEn igangværende undersøgelse tyder på, at der er forskel i foderværdien (indhold af FEsv) mellem forskellige sorter. Der er ud fra de foreløbige tal et potentiale på 3,5 FEsv pr. 100 kg i vinterhvede, men flere analyser skal vise, om der i fremtiden skal vælges sort efter FEsv pr. ha.\n\nHvede har et lavt indhold af fibre.\n\nUd fra forsøg og generel erfaring vurderes, at hvede kan bruges i henhold til følgende kilder: [1], [3], [5], [6], [9], [11], [12], [14], [15]. [17], [18], [19], [20], \n","En høj andel af hvede eller hvede som eneste kornart øger risikoen for mave-tarm-problemer, som fx Salmonella og mavesår. Det anbefales i sådanne tilfælde at anvende en grovere formaling. Man bør dog være opmærksom på, at grovere formaling forringer foderudnyttelsen, og ændringen bør derfor altid ske udfra en ordentlig diagnose. Læs mere i afsnittet Formaling og foderstruktur.\n\nHvede kan være inficeret med hvede stinkbrand og kan indeholde Fusarium-toksiner.\n\nÅrsagen til problemer med mave- og fordøjelsesforstyrrelser samt svineri i stierne kan skyldes manglende struktur i foderet som følge af det lave indhold af fibre i hvede. Manglende struktur i foderet giver risiko for dannelse af maveforandringer og -sår i den hvide del af maven. En grov formaling eller valsning af hvede afhjælper i mange tilfælde problemet med manglende struktur i foderet og dermed risiko for mavesår, men øger samtidig risikoen for en væsentlig forringelse af foderudnyttelsen.\n","Hvede opbevares tørt og er lagerfast ved 86 pct. tørstof. Ellers ingen specielle forhold.\n\nVed transport af fugtige partier med et vandindhold på 20 pct. eller derover, bør transport fra korngrav foretages med kæderedler frem for med sidesnegl eller sneglerende.\n",null,null,{"$f":"'background data'!$G$10","v":0.47300000000000003},{"$f":"'background data'!$H$10","v":0.13},{"$f":"'background data'!$J$10","v":0.39100000000000001},{"$f":"'background data'!$L$10","v":5.5E-2},{"$f":"'background data'!$M$10","v":3.97},{"$f":"'background data'!$N$10","v":4.5999999999999999E-3},{"$f":"'background data'!$O$10","v":2.73},"as barley","hvede"]
[51001,510,1,"HVEDE,  2016 + xylanase","2016-11-09",1.1490208330333,1.12982480714842,90.8,86.799987599999994,93,1,85,9.8999999999999897,2.1,1.5,2.7,null,84.299704424761899,50,54,56,57,58,null,0.43529411764705883,3.2941176470588234,0.1,1,5.8,1.2,1.3,32,3.2,29,40,0,6.0000000000000123E-2,null,2.9030935294117701,1.5375035294117601,2.3079347058823498,2.8916517647058799,1.34148882352941,3.3452023529411798,6.6590935294117601,2.2747205882352901,4.4124194117647102,2.7541000000000002,4.2787847058823498,null,0.92,1,0.98,0.93,0.99,0.99,1,0.99,1.02,1,0.96,null,11.647058823529401,2.4705882352941178,1.7647058823529411,3.1764705882352939,null,105,25.941176470588353,1.3517892153332942,1.3292056554687295,null,982.35294117647061,705.88890161344466,56.134627798319407,670,18.999999999999996,25,113,null,0.37,2.8,8.5000000000000006E-2,0.85,4.93,1.02,1.105,null,27.2,2.72,24.65,34,0,5.1000000000000101E-2,83.456707380514302,72.632893139280114,1.939912755274926,1.116733295530302,1.6427933536749328,2.7595266492052346,1.9532700126836049,0.96461852223280631,2.4054200778014088,4.8366922872623563,1.6356734203294396,3.2689652337279798,2.0003825099489094,5.2693477436768985,2.9834929181600485,0,0,0,0,0,0,0,0,0,0,0,0,0,0,0,0,0,"1.11.1","",32,16,16,"",16,16,"",16,16,"","","","","","","","","","","",16,32,"","","","","","","","","","","","",0.6,0.3,0.1,"",0.9,1.1000000000000001,"",1.9,1.6,"","","","","","","","","","","",0.1,0.3,"","","","","","","","","","","","",2016,2016,2016,"",2016,2016,"",2016,2016,"","","","","","","","","","","",2016,2016,"","",{"$f":"'background data'!$G$10","v":0.47300000000000003},{"$f":"'background data'!$H$10","v":0.13},{"$f":"'background data'!$J$10","v":0.39100000000000001},{"$f":"'background data'!$L$10","v":5.5E-2},{"$f":"'background data'!$M$10","v":3.97},{"$f":"'background data'!$N$10","v":4.5999999999999999E-3},{"$f":"'background data'!$O$10","v":2.73},"as barley","offfarm","hvede","Hvede, som dyrkes i stor udstrækning i Danmark, er frø fra dyrkede sorter af hvedeplanter (Triticum aestivum og Triticum durum).\n\nEn igangværende undersøgelse tyder på, at der er forskel i foderværdien (indhold af FEsv) mellem forskellige sorter. Der er ud fra de foreløbige tal et potentiale på 3,5 FEsv pr. 100 kg i vinterhvede, men flere analyser skal vise, om der i fremtiden skal vælges sort efter FEsv pr. ha.\n\nHvede har et lavt indhold af fibre.\n\nUd fra forsøg og generel erfaring vurderes, at hvede kan bruges i henhold til følgende kilder: [1], [3], [5], [6], [9], [11], [12], [14], [15]. [17], [18], [19], [20], \n","En høj andel af hvede eller hvede som eneste kornart øger risikoen for mave-tarm-problemer, som fx Salmonella og mavesår. Det anbefales i sådanne tilfælde at anvende en grovere formaling. Man bør dog være opmærksom på, at grovere formaling forringer foderudnyttelsen, og ændringen bør derfor altid ske udfra en ordentlig diagnose. Læs mere i afsnittet Formaling og foderstruktur.\n\nHvede kan være inficeret med hvede stinkbrand og kan indeholde Fusarium-toksiner.\n\nÅrsagen til problemer med mave- og fordøjelsesforstyrrelser samt svineri i stierne kan skyldes manglende struktur i foderet som følge af det lave indhold af fibre i hvede. Manglende struktur i foderet giver risiko for dannelse af maveforandringer og -sår i den hvide del af maven. En grov formaling eller valsning af hvede afhjælper i mange tilfælde problemet med manglende struktur i foderet og dermed risiko for mavesår, men øger samtidig risikoen for en væsentlig forringelse af foderudnyttelsen.\n","Hvede opbevares tørt og er lagerfast ved 86 pct. tørstof. Ellers ingen specielle forhold.\n\nVed transport af fugtige partier med et vandindhold på 20 pct. eller derover, bør transport fra korngrav foretages med kæderedler frem for med sidesnegl eller sneglerende.\n",null,null,{"$f":"'background data'!$G$10","v":0.47300000000000003},{"$f":"'background data'!$H$10","v":0.13},{"$f":"'background data'!$J$10","v":0.39100000000000001},{"$f":"'background data'!$L$10","v":5.5E-2},{"$f":"'background data'!$M$10","v":3.97},{"$f":"'background data'!$N$10","v":4.5999999999999999E-3},{"$f":"'background data'!$O$10","v":2.73},"as barley","hvede"]
[51010,510,10,"HVEDE,  2016, varmebehandlet","2016-11-09",1.1393234378532799,1.1230089236790399,90.8,86.000039599999994,93,1,85,9.8999999999999897,2.1,1.5,2.7,null,83.663555300952396,28,43,48,54,57,null,0.43529411764705883,3.2941176470588234,0.1,1,5.8,1.2,1.3,32,3.2,29,40,0,6.0000000000000123E-2,null,2.9030935294117701,1.5375035294117601,2.3079347058823498,2.8916517647058799,1.34148882352941,3.3452023529411798,6.6590935294117601,2.2747205882352901,4.4124194117647102,2.7541000000000002,4.2787847058823498,null,0.92,1,0.98,0.93,0.99,0.99,1,0.99,1.02,1,0.96,null,11.647058823529401,2.4705882352941178,1.7647058823529411,3.1764705882352939,null,105,25.941176470588353,1.3403805151215058,1.3211869690341647,null,982.35294117647061,694.66274060504236,67.360788806722709,670,18.999999999999996,25,113,null,0.37,2.8,8.5000000000000006E-2,0.85,4.93,1.02,1.105,null,27.2,2.72,24.65,34,0,5.1000000000000101E-2,82.826919747942796,72.698337448412175,1.9416606720183973,1.1177395040930114,1.6442735573599407,2.762013061452961,1.9550299646971208,0.96548767104452948,2.4075874299246633,4.8410502850171406,1.6371472087513592,3.2719106646760259,2.0021849116667174,5.2740955763427522,2.9861811304064672,0,0,0,0,0,0,0,0,0,0,0,0,0,0,0,0,0,"1.11.1","",32,16,16,"",16,16,"",16,16,"","","","","","","","","","","",16,32,"","","","","","","","","","","","",0.6,0.3,0.1,"",0.9,1.1000000000000001,"",1.9,1.6,"","","","","","","","","","","",0.1,0.3,"","","","","","","","","","","","",2016,2016,2016,"",2016,2016,"",2016,2016,"","","","","","","","","","","",2016,2016,"","",{"$f":"'background data'!$G$10","v":0.47300000000000003},{"$f":"'background data'!$H$10","v":0.13},{"$f":"'background data'!$J$10","v":0.39100000000000001},{"$f":"'background data'!$L$10","v":5.5E-2},{"$f":"'background data'!$M$10","v":3.97},{"$f":"'background data'!$N$10","v":4.5999999999999999E-3},{"$f":"'background data'!$O$10","v":2.73},"as barley","offfarm","hvede","Hvede, som dyrkes i stor udstrækning i Danmark, er frø fra dyrkede sorter af hvedeplanter (Triticum aestivum og Triticum durum).\n\nEn igangværende undersøgelse tyder på, at der er forskel i foderværdien (indhold af FEsv) mellem forskellige sorter. Der er ud fra de foreløbige tal et potentiale på 3,5 FEsv pr. 100 kg i vinterhvede, men flere analyser skal vise, om der i fremtiden skal vælges sort efter FEsv pr. ha.\n\nHvede har et lavt indhold af fibre.\n\nUd fra forsøg og generel erfaring vurderes, at hvede kan bruges i henhold til følgende kilder: [1], [3], [5], [6], [9], [11], [12], [14], [15]. [17], [18], [19], [20], \n","En høj andel af hvede eller hvede som eneste kornart øger risikoen for mave-tarm-problemer, som fx Salmonella og mavesår. Det anbefales i sådanne tilfælde at anvende en grovere formaling. Man bør dog være opmærksom på, at grovere formaling forringer foderudnyttelsen, og ændringen bør derfor altid ske udfra en ordentlig diagnose. Læs mere i afsnittet Formaling og foderstruktur.\n\nHvede kan være inficeret med hvede stinkbrand og kan indeholde Fusarium-toksiner.\n\nÅrsagen til problemer med mave- og fordøjelsesforstyrrelser samt svineri i stierne kan skyldes manglende struktur i foderet som følge af det lave indhold af fibre i hvede. Manglende struktur i foderet giver risiko for dannelse af maveforandringer og -sår i den hvide del af maven. En grov formaling eller valsning af hvede afhjælper i mange tilfælde problemet med manglende struktur i foderet og dermed risiko for mavesår, men øger samtidig risikoen for en væsentlig forringelse af foderudnyttelsen.\n","Hvede opbevares tørt og er lagerfast ved 86 pct. tørstof. Ellers ingen specielle forhold.\n\nVed transport af fugtige partier med et vandindhold på 20 pct. eller derover, bør transport fra korngrav foretages med kæderedler frem for med sidesnegl eller sneglerende.\n",null,null,{"$f":"'background data'!$G$10","v":0.47300000000000003},{"$f":"'background data'!$H$10","v":0.13},{"$f":"'background data'!$J$10","v":0.39100000000000001},{"$f":"'background data'!$L$10","v":5.5E-2},{"$f":"'background data'!$M$10","v":3.97},{"$f":"'background data'!$N$10","v":4.5999999999999999E-3},{"$f":"'background data'!$O$10","v":2.73},"as barley","hvede"]
[51011,510,11,"HVEDE,  2016, varmebehandlet  + xylanase","2016-11-09",1.1490208330333,1.12982480714842,90.8,86.799987599999994,93,1,85,9.8999999999999897,2.1,1.5,2.7,null,84.299704424761899,28,43,48,54,57,null,0.43529411764705883,3.2941176470588234,0.1,1,5.8,1.2,1.3,32,3.2,29,40,0,6.0000000000000123E-2,null,2.9030935294117701,1.5375035294117601,2.3079347058823498,2.8916517647058799,1.34148882352941,3.3452023529411798,6.6590935294117601,2.2747205882352901,4.4124194117647102,2.7541000000000002,4.2787847058823498,null,0.92,1,0.98,0.93,0.99,0.99,1,0.99,1.02,1,0.96,null,11.647058823529401,2.4705882352941178,1.7647058823529411,3.1764705882352939,null,105,25.941176470588353,1.3517892153332942,1.3292056554687295,null,982.35294117647061,705.88890161344466,56.134627798319407,670,18.999999999999996,25,113,null,0.37,2.8,8.5000000000000006E-2,0.85,4.93,1.02,1.105,null,27.2,2.72,24.65,34,0,5.1000000000000101E-2,83.456707380514302,72.632893139280114,1.939912755274926,1.116733295530302,1.6427933536749328,2.7595266492052346,1.9532700126836049,0.96461852223280631,2.4054200778014088,4.8366922872623563,1.6356734203294396,3.2689652337279798,2.0003825099489094,5.2693477436768985,2.9834929181600485,0,0,0,0,0,0,0,0,0,0,0,0,0,0,0,0,0,"1.11.1","",32,16,16,"",16,16,"",16,16,"","","","","","","","","","","",16,32,"","","","","","","","","","","","",0.6,0.3,0.1,"",0.9,1.1000000000000001,"",1.9,1.6,"","","","","","","","","","","",0.1,0.3,"","","","","","","","","","","","",2016,2016,2016,"",2016,2016,"",2016,2016,"","","","","","","","","","","",2016,2016,"","",{"$f":"'background data'!$G$10","v":0.47300000000000003},{"$f":"'background data'!$H$10","v":0.13},{"$f":"'background data'!$J$10","v":0.39100000000000001},{"$f":"'background data'!$L$10","v":5.5E-2},{"$f":"'background data'!$M$10","v":3.97},{"$f":"'background data'!$N$10","v":4.5999999999999999E-3},{"$f":"'background data'!$O$10","v":2.73},"as barley","offfarm","hvede","Hvede, som dyrkes i stor udstrækning i Danmark, er frø fra dyrkede sorter af hvedeplanter (Triticum aestivum og Triticum durum).\n\nEn igangværende undersøgelse tyder på, at der er forskel i foderværdien (indhold af FEsv) mellem forskellige sorter. Der er ud fra de foreløbige tal et potentiale på 3,5 FEsv pr. 100 kg i vinterhvede, men flere analyser skal vise, om der i fremtiden skal vælges sort efter FEsv pr. ha.\n\nHvede har et lavt indhold af fibre.\n\nUd fra forsøg og generel erfaring vurderes, at hvede kan bruges i henhold til følgende kilder: [1], [3], [5], [6], [9], [11], [12], [14], [15]. [17], [18], [19], [20], \n","En høj andel af hvede eller hvede som eneste kornart øger risikoen for mave-tarm-problemer, som fx Salmonella og mavesår. Det anbefales i sådanne tilfælde at anvende en grovere formaling. Man bør dog være opmærksom på, at grovere formaling forringer foderudnyttelsen, og ændringen bør derfor altid ske udfra en ordentlig diagnose. Læs mere i afsnittet Formaling og foderstruktur.\n\nHvede kan være inficeret med hvede stinkbrand og kan indeholde Fusarium-toksiner.\n\nÅrsagen til problemer med mave- og fordøjelsesforstyrrelser samt svineri i stierne kan skyldes manglende struktur i foderet som følge af det lave indhold af fibre i hvede. Manglende struktur i foderet giver risiko for dannelse af maveforandringer og -sår i den hvide del af maven. En grov formaling eller valsning af hvede afhjælper i mange tilfælde problemet med manglende struktur i foderet og dermed risiko for mavesår, men øger samtidig risikoen for en væsentlig forringelse af foderudnyttelsen.\n","Hvede opbevares tørt og er lagerfast ved 86 pct. tørstof. Ellers ingen specielle forhold.\n\nVed transport af fugtige partier med et vandindhold på 20 pct. eller derover, bør transport fra korngrav foretages med kæderedler frem for med sidesnegl eller sneglerende.\n",null,null,{"$f":"'background data'!$G$10","v":0.47300000000000003},{"$f":"'background data'!$H$10","v":0.13},{"$f":"'background data'!$J$10","v":0.39100000000000001},{"$f":"'background data'!$L$10","v":5.5E-2},{"$f":"'background data'!$M$10","v":3.97},{"$f":"'background data'!$N$10","v":4.5999999999999999E-3},{"$f":"'background data'!$O$10","v":2.73},"as barley","hvede"]
[51200,512,0,"HVEDE,  gns. 2014-2016","2016-11-04",1.14588545296168,1.1293494768089001,91.3,86.199982000000006,93,1,85,8.9999999999999591,2.1,1.5,2.7,null,82.773614285714302,50,54,56,57,58,null,0.42352941176470588,3.1764705882352939,0.1,1,5.8,1.2,1.3,32,3.2,29,40,0,6.0000000000000123E-2,null,3.0647441176470598,1.57315411764706,2.3666888235294099,2.9711270588235301,1.38336529411765,3.3435294117647101,6.7149041176470599,2.2959923529411799,4.3632476470588202,2.74708,4.3238588235294104,null,0.91984139059636005,0.99983194794455499,0.979886924127779,0.92986562968623399,0.99002632466492502,0.98995993262128801,0.99999453250972503,0.989953559452181,1.0199454358815301,0.99999479025510996,0.95993645905861302,null,10.588235294117599,2.4705882352941178,1.7647058823529411,3.1764705882352939,null,105,25.941176470588236,1.348100532896094,1.3286464433045884,null,982.35294117647061,704.99915966386584,71.571681176470463,670,18.999999999999996,25.000000000000117,113,null,0.36,2.6999999999999997,8.5000000000000006E-2,0.85,4.93,1.02,1.105,null,27.2,2.72,24.65,34,0,5.1000000000000101E-2,74.496252857142906,65.011954436281826,1.8327380240909477,1.0225663649140895,1.5076840644056195,2.5302504293197003,1.7961170777908526,0.89038296171360809,2.1518697853493385,4.3654665371283627,1.4776734869416781,2.893210445337234,1.7859210936864356,4.6791315390236772,2.6984055079294849,0,0,0,0,0,0,0,0,0,0,0,0,0,0,0,0,0,"1.11.1","",115,45,45,"",45,45,"",43,43,"","","","","","","","","","","",45,115,"","","","","","","","","","","","",0.69,0.27,0.11,"",0.88,1.18,"",1.92,1.56,"","","","","","","","","","","",0.08,0.22,"","","","","","","","","","","","","14-'16","14-'16","14-'16","","14-'16","14-'16","","14-'16","14-'16","","","","","","","","","","","","14-'16","14-'16","","",{"$f":"'background data'!$G$10","v":0.47300000000000003},{"$f":"'background data'!$H$10","v":0.13},{"$f":"'background data'!$J$10","v":0.39100000000000001},{"$f":"'background data'!$L$10","v":5.5E-2},{"$f":"'background data'!$M$10","v":3.97},{"$f":"'background data'!$N$10","v":4.5999999999999999E-3},{"$f":"'background data'!$O$10","v":2.73},"as barley","offfarm","hvede","Hvede, som dyrkes i stor udstrækning i Danmark, er frø fra dyrkede sorter af hvedeplanter (Triticum aestivum og Triticum durum).\n\nEn igangværende undersøgelse tyder på, at der er forskel i foderværdien (indhold af FEsv) mellem forskellige sorter. Der er ud fra de foreløbige tal et potentiale på 3,5 FEsv pr. 100 kg i vinterhvede, men flere analyser skal vise, om der i fremtiden skal vælges sort efter FEsv pr. ha.\n\nHvede har et lavt indhold af fibre.\n\nUd fra forsøg og generel erfaring vurderes, at hvede kan bruges i henhold til følgende kilder: [1], [3], [5], [6], [9], [11], [12], [14], [15]. [17], [18], [19], [20], \n","En høj andel af hvede eller hvede som eneste kornart øger risikoen for mave-tarm-problemer, som fx Salmonella og mavesår. Det anbefales i sådanne tilfælde at anvende en grovere formaling. Man bør dog være opmærksom på, at grovere formaling forringer foderudnyttelsen, og ændringen bør derfor altid ske udfra en ordentlig diagnose. Læs mere i afsnittet Formaling og foderstruktur.\n\nHvede kan være inficeret med hvede stinkbrand og kan indeholde Fusarium-toksiner.\n\nÅrsagen til problemer med mave- og fordøjelsesforstyrrelser samt svineri i stierne kan skyldes manglende struktur i foderet som følge af det lave indhold af fibre i hvede. Manglende struktur i foderet giver risiko for dannelse af maveforandringer og -sår i den hvide del af maven. En grov formaling eller valsning af hvede afhjælper i mange tilfælde problemet med manglende struktur i foderet og dermed risiko for mavesår, men øger samtidig risikoen for en væsentlig forringelse af foderudnyttelsen.\n","Hvede opbevares tørt og er lagerfast ved 86 pct. tørstof. Ellers ingen specielle forhold.\n\nVed transport af fugtige partier med et vandindhold på 20 pct. eller derover, bør transport fra korngrav foretages med kæderedler frem for med sidesnegl eller sneglerende.\n",null,null,{"$f":"'background data'!$G$10","v":0.47300000000000003},{"$f":"'background data'!$H$10","v":0.13},{"$f":"'background data'!$J$10","v":0.39100000000000001},{"$f":"'background data'!$L$10","v":5.5E-2},{"$f":"'background data'!$M$10","v":3.97},{"$f":"'background data'!$N$10","v":4.5999999999999999E-3},{"$f":"'background data'!$O$10","v":2.73},"as barley","hvede"]
[51201,512,1,"HVEDE,  gns. 2014-2016 + xylanase","2016-11-04",1.1555834785133601,1.1361658033395201,91.3,87.000043899999994,93,1,85,8.9999999999999591,2.1,1.5,2.7,null,83.473423809523794,50,54,56,57,58,null,0.42352941176470588,3.1764705882352939,0.1,1,5.8,1.2,1.3,32,3.2,29,40,0,6.0000000000000123E-2,null,3.0647441176470598,1.57315411764706,2.3666888235294099,2.9711270588235301,1.38336529411765,3.3435294117647101,6.7149041176470599,2.2959923529411799,4.3632476470588202,2.74708,4.3238588235294104,null,0.91984139059636005,0.99983194794455499,0.979886924127779,0.92986562968623399,0.99002632466492502,0.98995993262128801,0.99999453250972503,0.989953559452181,1.0199454358815301,0.99999479025510996,0.95993645905861302,null,10.588235294117599,2.4705882352941178,1.7647058823529411,3.1764705882352939,null,105,25.941176470588236,1.3595099747216002,1.3366656509876709,null,982.35294117647061,716.22605042016824,60.343921739495762,670,18.999999999999996,25.000000000000117,113,null,0.36,2.6999999999999997,8.5000000000000006E-2,0.85,4.93,1.02,1.105,null,27.2,2.72,24.65,34,0,5.1000000000000101E-2,75.126081428571098,65.011384140953297,1.8327219470180098,1.0225573947973492,1.507670838758342,2.5302282335556825,1.7961013219627593,0.89037515113095689,2.1518509088012383,4.3654282425532598,1.4776605245520116,2.8931850656295333,1.7859054272991584,4.6790904929286912,2.6983818370820534,0,0,0,0,0,0,0,0,0,0,0,0,0,0,0,0,0,"1.11.1","",115,45,45,"",45,45,"",43,43,"","","","","","","","","","","",45,115,"","","","","","","","","","","","",0.69,0.27,0.11,"",0.88,1.18,"",1.92,1.56,"","","","","","","","","","","",0.08,0.22,"","","","","","","","","","","","","14-'16","14-'16","14-'16","","14-'16","14-'16","","14-'16","14-'16","","","","","","","","","","","","14-'16","14-'16","","",{"$f":"'background data'!$G$10","v":0.47300000000000003},{"$f":"'background data'!$H$10","v":0.13},{"$f":"'background data'!$J$10","v":0.39100000000000001},{"$f":"'background data'!$L$10","v":5.5E-2},{"$f":"'background data'!$M$10","v":3.97},{"$f":"'background data'!$N$10","v":4.5999999999999999E-3},{"$f":"'background data'!$O$10","v":2.73},"as barley","offfarm","hvede","Hvede, som dyrkes i stor udstrækning i Danmark, er frø fra dyrkede sorter af hvedeplanter (Triticum aestivum og Triticum durum).\n\nEn igangværende undersøgelse tyder på, at der er forskel i foderværdien (indhold af FEsv) mellem forskellige sorter. Der er ud fra de foreløbige tal et potentiale på 3,5 FEsv pr. 100 kg i vinterhvede, men flere analyser skal vise, om der i fremtiden skal vælges sort efter FEsv pr. ha.\n\nHvede har et lavt indhold af fibre.\n\nUd fra forsøg og generel erfaring vurderes, at hvede kan bruges i henhold til følgende kilder: [1], [3], [5], [6], [9], [11], [12], [14], [15]. [17], [18], [19], [20], \n","En høj andel af hvede eller hvede som eneste kornart øger risikoen for mave-tarm-problemer, som fx Salmonella og mavesår. Det anbefales i sådanne tilfælde at anvende en grovere formaling. Man bør dog være opmærksom på, at grovere formaling forringer foderudnyttelsen, og ændringen bør derfor altid ske udfra en ordentlig diagnose. Læs mere i afsnittet Formaling og foderstruktur.\n\nHvede kan være inficeret med hvede stinkbrand og kan indeholde Fusarium-toksiner.\n\nÅrsagen til problemer med mave- og fordøjelsesforstyrrelser samt svineri i stierne kan skyldes manglende struktur i foderet som følge af det lave indhold af fibre i hvede. Manglende struktur i foderet giver risiko for dannelse af maveforandringer og -sår i den hvide del af maven. En grov formaling eller valsning af hvede afhjælper i mange tilfælde problemet med manglende struktur i foderet og dermed risiko for mavesår, men øger samtidig risikoen for en væsentlig forringelse af foderudnyttelsen.\n","Hvede opbevares tørt og er lagerfast ved 86 pct. tørstof. Ellers ingen specielle forhold.\n\nVed transport af fugtige partier med et vandindhold på 20 pct. eller derover, bør transport fra korngrav foretages med kæderedler frem for med sidesnegl eller sneglerende.\n",null,null,{"$f":"'background data'!$G$10","v":0.47300000000000003},{"$f":"'background data'!$H$10","v":0.13},{"$f":"'background data'!$J$10","v":0.39100000000000001},{"$f":"'background data'!$L$10","v":5.5E-2},{"$f":"'background data'!$M$10","v":3.97},{"$f":"'background data'!$N$10","v":4.5999999999999999E-3},{"$f":"'background data'!$O$10","v":2.73},"as barley","hvede"]
[51210,512,10,"HVEDE,  gns. 2014-2016, varmebehandlet","2016-11-04",1.14588545296168,1.1293494768089001,91.3,86.199982000000006,93,1,85,8.9999999999999591,2.1,1.5,2.7,null,82.773614285714302,28,43,48,54,57,null,0.42352941176470588,3.1764705882352939,0.1,1,5.8,1.2,1.3,32,3.2,29,40,0,6.0000000000000123E-2,null,3.0647441176470598,1.57315411764706,2.3666888235294099,2.9711270588235301,1.38336529411765,3.3435294117647101,6.7149041176470599,2.2959923529411799,4.3632476470588202,2.74708,4.3238588235294104,null,0.92,1,0.98,0.93,0.99,0.99,1,0.99,1.02,1,0.96,null,10.588235294117599,2.4705882352941178,1.7647058823529411,3.1764705882352939,null,105,25.941176470588236,1.348100532896094,1.3286464433045884,null,982.35294117647061,704.99915966386584,71.571681176470463,670,18.999999999999996,25,113,null,0.36,2.6999999999999997,8.5000000000000006E-2,0.85,4.93,1.02,1.105,null,27.2,2.72,24.65,34,0,5.1000000000000101E-2,74.496252857142906,65.011954436281826,1.8330540454050539,1.0227382381771901,1.5078580464094793,2.5305962845866694,1.7963766258455391,0.89035928655209884,2.1519568795627366,4.3654904054046977,1.4777428073310808,2.8933652236929688,1.7859303979282013,4.6792956216211783,2.6985841231123997,0,0,0,0,0,0,0,0,0,0,0,0,0,0,0,0,0,"1.11.1","",115,45,45,"",45,45,"",43,43,"","","","","","","","","","","",45,115,"","","","","","","","","","","","",0.69,0.27,0.11,"",0.88,1.18,"",1.92,1.56,"","","","","","","","","","","",0.08,0.22,"","","","","","","","","","","","","14-'16","14-'16","14-'16","","14-'16","14-'16","","14-'16","14-'16","","","","","","","","","","","","14-'16","14-'16","","",{"$f":"'background data'!$G$10","v":0.47300000000000003},{"$f":"'background data'!$H$10","v":0.13},{"$f":"'background data'!$J$10","v":0.39100000000000001},{"$f":"'background data'!$L$10","v":5.5E-2},{"$f":"'background data'!$M$10","v":3.97},{"$f":"'background data'!$N$10","v":4.5999999999999999E-3},{"$f":"'background data'!$O$10","v":2.73},"as barley","offfarm","hvede","Hvede, som dyrkes i stor udstrækning i Danmark, er frø fra dyrkede sorter af hvedeplanter (Triticum aestivum og Triticum durum).\n\nEn igangværende undersøgelse tyder på, at der er forskel i foderværdien (indhold af FEsv) mellem forskellige sorter. Der er ud fra de foreløbige tal et potentiale på 3,5 FEsv pr. 100 kg i vinterhvede, men flere analyser skal vise, om der i fremtiden skal vælges sort efter FEsv pr. ha.\n\nHvede har et lavt indhold af fibre.\n\nUd fra forsøg og generel erfaring vurderes, at hvede kan bruges i henhold til følgende kilder: [1], [3], [5], [6], [9], [11], [12], [14], [15]. [17], [18], [19], [20], \n","En høj andel af hvede eller hvede som eneste kornart øger risikoen for mave-tarm-problemer, som fx Salmonella og mavesår. Det anbefales i sådanne tilfælde at anvende en grovere formaling. Man bør dog være opmærksom på, at grovere formaling forringer foderudnyttelsen, og ændringen bør derfor altid ske udfra en ordentlig diagnose. Læs mere i afsnittet Formaling og foderstruktur.\n\nHvede kan være inficeret med hvede stinkbrand og kan indeholde Fusarium-toksiner.\n\nÅrsagen til problemer med mave- og fordøjelsesforstyrrelser samt svineri i stierne kan skyldes manglende struktur i foderet som følge af det lave indhold af fibre i hvede. Manglende struktur i foderet giver risiko for dannelse af maveforandringer og -sår i den hvide del af maven. En grov formaling eller valsning af hvede afhjælper i mange tilfælde problemet med manglende struktur i foderet og dermed risiko for mavesår, men øger samtidig risikoen for en væsentlig forringelse af foderudnyttelsen.\n","Hvede opbevares tørt og er lagerfast ved 86 pct. tørstof. Ellers ingen specielle forhold.\n\nVed transport af fugtige partier med et vandindhold på 20 pct. eller derover, bør transport fra korngrav foretages med kæderedler frem for med sidesnegl eller sneglerende.\n",null,null,{"$f":"'background data'!$G$10","v":0.47300000000000003},{"$f":"'background data'!$H$10","v":0.13},{"$f":"'background data'!$J$10","v":0.39100000000000001},{"$f":"'background data'!$L$10","v":5.5E-2},{"$f":"'background data'!$M$10","v":3.97},{"$f":"'background data'!$N$10","v":4.5999999999999999E-3},{"$f":"'background data'!$O$10","v":2.73},"as barley","hvede"]
[51211,512,11,"HVEDE,  gns. 2014-2016, varmebehandlet  + xylanase","2016-11-04",1.1555834785133601,1.1361658033395201,91.3,87.000043899999994,93,1,85,8.9999999999999591,2.1,1.5,2.7,null,83.473423809523794,28,43,48,54,57,null,0.42352941176470588,3.1764705882352939,0.1,1,5.8,1.2,1.3,32,3.2,29,40,0,6.0000000000000123E-2,null,3.0647441176470598,1.57315411764706,2.3666888235294099,2.9711270588235301,1.38336529411765,3.3435294117647101,6.7149041176470599,2.2959923529411799,4.3632476470588202,2.74708,4.3238588235294104,null,0.92,1,0.98,0.93,0.99,0.99,1,0.99,1.02,1,0.96,null,10.588235294117599,2.4705882352941178,1.7647058823529411,3.1764705882352939,null,105,25.941176470588236,1.3595099747216002,1.3366656509876709,null,982.35294117647061,716.22605042016824,60.343921739495762,670,18.999999999999996,25,113,null,0.36,2.6999999999999997,8.5000000000000006E-2,0.85,4.93,1.02,1.105,null,27.2,2.72,24.65,34,0,5.1000000000000101E-2,75.126081428571098,65.011384140953297,1.8330379655599329,1.0227292665527463,1.5078448192359952,2.5305740857887589,1.7963608677406426,0.89035147617713606,2.1519380022506267,4.3654521106202164,1.4777298443333251,2.8933398426275221,1.7859147314592989,4.679254574086821,2.6985604506981251,0,0,0,0,0,0,0,0,0,0,0,0,0,0,0,0,0,"1.11.1","",115,45,45,"",45,45,"",43,43,"","","","","","","","","","","",45,115,"","","","","","","","","","","","",0.69,0.27,0.11,"",0.88,1.18,"",1.92,1.56,"","","","","","","","","","","",0.08,0.22,"","","","","","","","","","","","","14-'16","14-'16","14-'16","","14-'16","14-'16","","14-'16","14-'16","","","","","","","","","","","","14-'16","14-'16","","",{"$f":"'background data'!$G$10","v":0.47300000000000003},{"$f":"'background data'!$H$10","v":0.13},{"$f":"'background data'!$J$10","v":0.39100000000000001},{"$f":"'background data'!$L$10","v":5.5E-2},{"$f":"'background data'!$M$10","v":3.97},{"$f":"'background data'!$N$10","v":4.5999999999999999E-3},{"$f":"'background data'!$O$10","v":2.73},"as barley","offfarm","hvede","Hvede, som dyrkes i stor udstrækning i Danmark, er frø fra dyrkede sorter af hvedeplanter (Triticum aestivum og Triticum durum).\n\nEn igangværende undersøgelse tyder på, at der er forskel i foderværdien (indhold af FEsv) mellem forskellige sorter. Der er ud fra de foreløbige tal et potentiale på 3,5 FEsv pr. 100 kg i vinterhvede, men flere analyser skal vise, om der i fremtiden skal vælges sort efter FEsv pr. ha.\n\nHvede har et lavt indhold af fibre.\n\nUd fra forsøg og generel erfaring vurderes, at hvede kan bruges i henhold til følgende kilder: [1], [3], [5], [6], [9], [11], [12], [14], [15]. [17], [18], [19], [20], \n","En høj andel af hvede eller hvede som eneste kornart øger risikoen for mave-tarm-problemer, som fx Salmonella og mavesår. Det anbefales i sådanne tilfælde at anvende en grovere formaling. Man bør dog være opmærksom på, at grovere formaling forringer foderudnyttelsen, og ændringen bør derfor altid ske udfra en ordentlig diagnose. Læs mere i afsnittet Formaling og foderstruktur.\n\nHvede kan være inficeret med hvede stinkbrand og kan indeholde Fusarium-toksiner.\n\nÅrsagen til problemer med mave- og fordøjelsesforstyrrelser samt svineri i stierne kan skyldes manglende struktur i foderet som følge af det lave indhold af fibre i hvede. Manglende struktur i foderet giver risiko for dannelse af maveforandringer og -sår i den hvide del af maven. En grov formaling eller valsning af hvede afhjælper i mange tilfælde problemet med manglende struktur i foderet og dermed risiko for mavesår, men øger samtidig risikoen for en væsentlig forringelse af foderudnyttelsen.\n","Hvede opbevares tørt og er lagerfast ved 86 pct. tørstof. Ellers ingen specielle forhold.\n\nVed transport af fugtige partier med et vandindhold på 20 pct. eller derover, bør transport fra korngrav foretages med kæderedler frem for med sidesnegl eller sneglerende.\n",null,null,{"$f":"'background data'!$G$10","v":0.47300000000000003},{"$f":"'background data'!$H$10","v":0.13},{"$f":"'background data'!$J$10","v":0.39100000000000001},{"$f":"'background data'!$L$10","v":5.5E-2},{"$f":"'background data'!$M$10","v":3.97},{"$f":"'background data'!$N$10","v":4.5999999999999999E-3},{"$f":"'background data'!$O$10","v":2.73},"as barley","hvede"]
[51300,513,0,"HVEDE, 10% råprotein","2016-11-04",1.1391011420828501,1.1227959888682799,90.8,86.000039599999994,93,1,85,9.9999999999999591,2.1,1.5,2.7,null,83.756888571428505,50,54,56,57,58,null,0.43529411764705883,3.2941176470588234,0.1,1,5.8,1.2,1.3,32,3.2,29,40,0,6.0000000000000123E-2,null,2.8851323529411799,1.53354235294118,2.30140647058824,2.88282117647059,1.33683588235294,3.34538823529412,6.6528923529411799,2.27235705882353,4.4178829411764697,2.75488,4.2737764705882402,null,0.91984139059636005,0.99983194794455499,0.979886924127779,0.92986562968623399,0.99002632466492502,0.98995993262128801,0.99999453250972503,0.989953559452181,1.0199454358815301,0.99999479025510996,0.95993645905861302,null,11.764705882352892,2.4705882352941178,1.7647058823529411,3.1764705882352939,null,105,25.941176470588236,1.3401189906857061,1.3209364574920941,null,982.35294117647061,693.59159663865648,67.360788806722709,670,18.999999999999996,25.000000000000117,113,null,0.37,2.8,8.5000000000000006E-2,0.85,4.93,1.02,1.105,null,27.2,2.72,24.65,34,0,5.1000000000000101E-2,83.756888571428306,73.528930379508324,1.9513579273260531,1.12740779399226,1.6581642233367639,2.7855720173290242,1.9710432197338266,0.97315739009360402,2.4351313457216244,4.891773840545615,1.6540538466411543,3.3132132662203579,2.0256232442036715,5.3388365104240298,3.0165639656075136,0,0,0,0,0,0,0,0,0,0,0,0,0,0,0,0,0,"","","","","","","","","","","","","","","","","","","","","","","","","","","","","","","","","","","","","","","","","","","","","","","","","","","","","","","","","","","","","","","","","","","","","","","","","","","","","","","","","","","","","","","","","","","","","","",{"$f":"'background data'!$G$10","v":0.47300000000000003},{"$f":"'background data'!$H$10","v":0.13},{"$f":"'background data'!$J$10","v":0.39100000000000001},{"$f":"'background data'!$L$10","v":5.5E-2},{"$f":"'background data'!$M$10","v":3.97},{"$f":"'background data'!$N$10","v":4.5999999999999999E-3},{"$f":"'background data'!$O$10","v":2.73},"as barley","offfarm","hvede","","","",null,null,{"$f":"'background data'!$G$10","v":0.47300000000000003},{"$f":"'background data'!$H$10","v":0.13},{"$f":"'background data'!$J$10","v":0.39100000000000001},{"$f":"'background data'!$L$10","v":5.5E-2},{"$f":"'background data'!$M$10","v":3.97},{"$f":"'background data'!$N$10","v":4.5999999999999999E-3},{"$f":"'background data'!$O$10","v":2.73},"as barley","hvede"]
[51311,513,11,"HVEDE, 10,0 % råprotein, varmebehandlet + xylanase","2016-11-04",1.1487991676345399,1.12961231539889,90.8,86.799987599999994,93,1,85,9.9999999999999591,2.1,1.5,2.7,null,84.386717142857094,28,43,48,54,57,null,0.43529411764705883,3.2941176470588234,0.1,1,5.8,1.2,1.3,32,3.2,29,40,0,6.0000000000000123E-2,null,2.8851323529411799,1.53354235294118,2.30140647058824,2.88282117647059,1.33683588235294,3.34538823529412,6.6528923529411799,2.27235705882353,4.4178829411764697,2.75488,4.2737764705882402,null,0.92,1,0.98,0.93,0.99,0.99,1,0.99,1.02,1,0.96,null,11.764705882352892,2.4705882352941178,1.7647058823529411,3.1764705882352939,null,105,25.941176470588236,1.3515284325112233,1.3289556651751646,null,982.35294117647061,704.81848739495774,56.134627798319173,670,18.999999999999996,25,113,null,0.37,2.8,8.5000000000000006E-2,0.85,4.93,1.02,1.105,null,27.2,2.72,24.65,34,0,5.1000000000000101E-2,84.386717142856796,73.456457421200184,1.9497707369128277,1.1264858855243145,1.6567210308732618,2.7832069163975763,1.9693850283218184,0.97217235790479806,2.4328296477863414,4.8869790385165182,1.652501065418619,3.310124707635842,2.0236372542051568,5.3337619618409988,3.0137902016591296,0,0,0,0,0,0,0,0,0,0,0,0,0,0,0,0,0,"1.11.1","","","","","","","","","","","","","","","","","","","","","","","","","","","","","","","","","","","","","","","","","","","","","","","","","","","","","","","","","","","","","","","","","","","","","","","","","","","","","","","","","","","","","","","","","","","","","",{"$f":"'background data'!$G$10","v":0.47300000000000003},{"$f":"'background data'!$H$10","v":0.13},{"$f":"'background data'!$J$10","v":0.39100000000000001},{"$f":"'background data'!$L$10","v":5.5E-2},{"$f":"'background data'!$M$10","v":3.97},{"$f":"'background data'!$N$10","v":4.5999999999999999E-3},{"$f":"'background data'!$O$10","v":2.73},"as barley","offfarm","hvede","Tabelværdierne er dannet ved kopi af VSPs fodermiddelkode 51211 (gennemsnit af hvede de seneste tre år i udgaven svarende til varmebehandlet foder tilsat xylanase), hvor eneste ændring er råproteinkoncentration med de afledte konsekvenser for råproteinfordøjeligheden og aminosyreandelen i procent af råprotein.\n\nFormålet med denne tabelværdi er at give et eksempel på værdien af korn med højt proteinindhold, som fx tysk korn, hvor gødningsreglerne er anderledes end de danske.\n\nHvede, som dyrkes i stor udstrækning i Danmark, er frø fra dyrkede sorter af hvedeplanter (Triticum aestivum og Triticum durum).\n\nEn igangværende undersøgelse tyder på, at der er forskel i foderværdien (indhold af FEsv) mellem forskellige sorter. Der er ud fra de foreløbige tal et potentiale på 3,5 FEsv pr. 100 kg i vinterhvede, men flere analyser skal vise, om der i fremtiden skal vælges sort efter FEsv pr. ha.\n\nHvede har et lavt indhold af fibre.\n\nUd fra forsøg og generel erfaring vurderes, at hvede kan bruges i henhold til følgende kilder: [1], [3], [5], [6], [9], [11], [12], [14], [15]. [17], [18], [19], [20], \n","En høj andel af hvede eller hvede som eneste kornart øger risikoen for mave-tarm-problemer, som fx Salmonella og mavesår. Det anbefales i sådanne tilfælde at anvende en grovere formaling. Man bør dog være opmærksom på, at grovere formaling forringer foderudnyttelsen, og ændringen bør derfor altid ske udfra en ordentlig diagnose. Læs mere i afsnittet Formaling og foderstruktur.\n\nHvede kan være inficeret med hvede stinkbrand og kan indeholde Fusarium-toksiner.\n\nÅrsagen til problemer med mave- og fordøjelsesforstyrrelser samt svineri i stierne kan skyldes manglende struktur i foderet som følge af det lave indhold af fibre i hvede. Manglende struktur i foderet giver risiko for dannelse af maveforandringer og -sår i den hvide del af maven. En grov formaling eller valsning af hvede afhjælper i mange tilfælde problemet med manglende struktur i foderet og dermed risiko for mavesår, men øger samtidig risikoen for en væsentlig forringelse af foderudnyttelsen.\n","Hvede opbevares tørt og er lagerfast ved 86 pct. tørstof. Ellers ingen specielle forhold.\n\nVed transport af fugtige partier med et vandindhold på 20 pct. eller derover, bør transport fra korngrav foretages med kæderedler frem for med sidesnegl eller sneglerende.\n",null,null,{"$f":"'background data'!$G$10","v":0.47300000000000003},{"$f":"'background data'!$H$10","v":0.13},{"$f":"'background data'!$J$10","v":0.39100000000000001},{"$f":"'background data'!$L$10","v":5.5E-2},{"$f":"'background data'!$M$10","v":3.97},{"$f":"'background data'!$N$10","v":4.5999999999999999E-3},{"$f":"'background data'!$O$10","v":2.73},"as barley","hvede"]
[51361,513,61,"HVEDE, 11,5 % råprotein, varmebehandlet + xylanase","2016-11-04",1.14547193186217,1.12642335435992,90.8,86.799987599999994,93,1,85,11.5,2.1,1.5,2.7,null,85.510188819875793,28,43,48,54,57,null,0.43529411764705883,3.2941176470588234,0.1,1,5.8,1.2,1.3,32,3.2,29,40,0,6.0000000000000123E-2,null,2.61571470588235,1.4741247058823499,2.2034829411764698,2.7503623529411798,1.26704176470588,3.3481764705882302,6.5598747058823497,2.2369041176470601,4.4998358823529401,2.7665799999999998,4.1986529411764701,null,0.92,1,0.98,0.93,0.99,0.99,1,0.99,1.02,1,0.96,null,13.529411764705882,2.4705882352941178,1.7647058823529411,3.1764705882352939,null,105,25.941176470588236,1.3476140374849059,1.3252039463057883,null,982.35294117647061,688.75966386554592,56.134627798319173,670,18.999999999999996,25,113,null,0.37,2.8,8.5000000000000006E-2,0.85,4.93,1.02,1.105,null,27.2,2.72,24.65,34,0,5.1000000000000101E-2,98.336717142857196,85.848211909473179,2.0659007593608876,1.265509701315785,1.8538176906356636,3.1193273919514395,2.1958573179591321,1.0768553721547696,2.8456061352579698,5.6315351385018175,1.901138765258086,3.9402892167380839,2.3750594610451041,6.3153486777831889,3.4602897353131321,0,0,0,0,0,0,0,0,0,0,0,0,0,0,0,0,0,"1.11.1","","","","","","","","","","","","","","","","","","","","","","","","","","","","","","","","","","","","","","","","","","","","","","","","","","","","","","","","","","","","","","","","","","","","","","","","","","","","","","","","","","","","","","","","","","","","","",{"$f":"'background data'!$G$10","v":0.47300000000000003},{"$f":"'background data'!$H$10","v":0.13},{"$f":"'background data'!$J$10","v":0.39100000000000001},{"$f":"'background data'!$L$10","v":5.5E-2},{"$f":"'background data'!$M$10","v":3.97},{"$f":"'background data'!$N$10","v":4.5999999999999999E-3},{"$f":"'background data'!$O$10","v":2.73},"as barley","offfarm","hvede","Tabelværdierne er dannet ved kopi af VSPs fodermiddelkode 51211 (gennemsnit af hvede de seneste tre år i udgaven svarende til varmebehandlet foder tilsat xylanase), hvor eneste ændring er råproteinkoncentration med de afledte konsekvenser for råproteinfordøjeligheden og aminosyreandelen i procent af råprotein.\n\nFormålet med denne tabelværdi er at give et eksempel på værdien af korn med højt proteinindhold, som fx tysk korn, hvor gødningsreglerne er anderledes end de danske.\n\nHvede, som dyrkes i stor udstrækning i Danmark, er frø fra dyrkede sorter af hvedeplanter (Triticum aestivum og Triticum durum).\n\nEn igangværende undersøgelse tyder på, at der er forskel i foderværdien (indhold af FEsv) mellem forskellige sorter. Der er ud fra de foreløbige tal et potentiale på 3,5 FEsv pr. 100 kg i vinterhvede, men flere analyser skal vise, om der i fremtiden skal vælges sort efter FEsv pr. ha.\n\nHvede har et lavt indhold af fibre.\n\nUd fra forsøg og generel erfaring vurderes, at hvede kan bruges i henhold til følgende kilder: [1], [3], [5], [6], [9], [11], [12], [14], [15]. [17], [18], [19], [20], \n","En høj andel af hvede eller hvede som eneste kornart øger risikoen for mave-tarm-problemer, som fx Salmonella og mavesår. Det anbefales i sådanne tilfælde at anvende en grovere formaling. Man bør dog være opmærksom på, at grovere formaling forringer foderudnyttelsen, og ændringen bør derfor altid ske udfra en ordentlig diagnose. Læs mere i afsnittet Formaling og foderstruktur.\n\nHvede kan være inficeret med hvede stinkbrand og kan indeholde Fusarium-toksiner.\n\nÅrsagen til problemer med mave- og fordøjelsesforstyrrelser samt svineri i stierne kan skyldes manglende struktur i foderet som følge af det lave indhold af fibre i hvede. Manglende struktur i foderet giver risiko for dannelse af maveforandringer og -sår i den hvide del af maven. En grov formaling eller valsning af hvede afhjælper i mange tilfælde problemet med manglende struktur i foderet og dermed risiko for mavesår, men øger samtidig risikoen for en væsentlig forringelse af foderudnyttelsen.\n","Hvede opbevares tørt og er lagerfast ved 86 pct. tørstof. Ellers ingen specielle forhold.\n\nVed transport af fugtige partier med et vandindhold på 20 pct. eller derover, bør transport fra korngrav foretages med kæderedler frem for med sidesnegl eller sneglerende.\n",null,null,{"$f":"'background data'!$G$10","v":0.47300000000000003},{"$f":"'background data'!$H$10","v":0.13},{"$f":"'background data'!$J$10","v":0.39100000000000001},{"$f":"'background data'!$L$10","v":5.5E-2},{"$f":"'background data'!$M$10","v":3.97},{"$f":"'background data'!$N$10","v":4.5999999999999999E-3},{"$f":"'background data'!$O$10","v":2.73},"as barley","hvede"]
[51100,511,0,"HVEDE, 2015","2015-10-27",1.1504822106078201,1.1335380074211501,91.6,86.399959600000003,93,1,85,8.5999999999999694,2.1,1.5,2.7,null,82.398667774086405,50,54,56,57,58,null,0.42352941176470588,3.0588235294117645,0.1,1,5.8,1.2,1.3,32,3.2,29,40,0,6.0000000000000123E-2,null,3.1365888235294102,1.5889988235294099,2.3928017647058799,3.0064494117647098,1.4019770588235301,3.3427858823529402,6.7397088235294103,2.3054464705882398,4.3413935294117598,2.74396,4.3438917647058801,null,0.92,1,0.98,0.93,0.99,0.99,1,0.99,1.02,1,0.96,null,10.117647058823493,2.4705882352941178,1.7647058823529411,3.1764705882352939,null,105,25.941176470588236,1.3535084830680237,1.3335741263778236,null,982.35294117647061,710.8252100840341,72.975356873949778,670,18.999999999999996,25,113,null,0.36,2.5999999999999996,8.5000000000000006E-2,0.85,4.93,1.02,1.105,null,27.2,2.72,24.65,34,0,5.1000000000000101E-2,70.862854285714306,61.594046072451839,1.7773958078626293,0.97872866745542197,1.4443469529478747,2.4230756204032882,1.7221682673193979,0.85489905158159918,2.038367505715077,4.1512593579138013,1.4058175836571309,2.7275207293061645,1.690115986609644,4.4176367159158083,2.5685555470947614,0,0,0,0,0,0,0,0,0,0,0,0,0,0,0,0,0,"1.11.1","",32,16,16,"",16,16,"",16,16,"","","","","","","","","","","",16,32,"","","","","","","","","","","","",0.6,0.3,0.1,"",0.9,1.1000000000000001,"",1.9,1.6,"","","","","","","","","","","",0.1,0.3,"","","","","","","","","","","","",2015,2015,2015,"",2015,2015,"",2015,2015,"","","","","","","","","","","",2015,2015,"","",{"$f":"'background data'!$G$10","v":0.47300000000000003},{"$f":"'background data'!$H$10","v":0.13},{"$f":"'background data'!$J$10","v":0.39100000000000001},{"$f":"'background data'!$L$10","v":5.5E-2},{"$f":"'background data'!$M$10","v":3.97},{"$f":"'background data'!$N$10","v":4.5999999999999999E-3},{"$f":"'background data'!$O$10","v":2.73},"as barley","offfarm","hvede","Hvede, som dyrkes i stor udstrækning i Danmark, er frø fra dyrkede sorter af hvedeplanter (Triticum aestivum og Triticum durum).\n\nEn igangværende undersøgelse tyder på, at der er forskel i foderværdien (indhold af FEsv) mellem forskellige sorter. Der er ud fra de foreløbige tal et potentiale på 3,5 FEsv pr. 100 kg i vinterhvede, men flere analyser skal vise, om der i fremtiden skal vælges sort efter FEsv pr. ha.\n\nHvede har et lavt indhold af fibre.\n\nUd fra forsøg og generel erfaring vurderes, at hvede kan bruges i henhold til følgende kilder: [1], [3], [5], [6], [9], [11], [12], [14], [15]. [17], [18], [19], [20], \n","En høj andel af hvede eller hvede som eneste kornart øger risikoen for mave-tarm-problemer, som fx Salmonella og mavesår. Det anbefales i sådanne tilfælde at anvende en grovere formaling. Man bør dog være opmærksom på, at grovere formaling forringer foderudnyttelsen, og ændringen bør derfor altid ske udfra en ordentlig diagnose. Læs mere i afsnittet Formaling og foderstruktur.\n\nHvede kan være inficeret med hvede stinkbrand og kan indeholde Fusarium-toksiner.\n\nÅrsagen til problemer med mave- og fordøjelsesforstyrrelser samt svineri i stierne kan skyldes manglende struktur i foderet som følge af det lave indhold af fibre i hvede. Manglende struktur i foderet giver risiko for dannelse af maveforandringer og -sår i den hvide del af maven. En grov formaling eller valsning af hvede afhjælper i mange tilfælde problemet med manglende struktur i foderet og dermed risiko for mavesår, men øger samtidig risikoen for en væsentlig forringelse af foderudnyttelsen.\n","Hvede opbevares tørt og er lagerfast ved 86 pct. tørstof. Ellers ingen specielle forhold.\n\nVed transport af fugtige partier med et vandindhold på 20 pct. eller derover, bør transport fra korngrav foretages med kæderedler frem for med sidesnegl eller sneglerende.\n",null,null,{"$f":"'background data'!$G$10","v":0.47300000000000003},{"$f":"'background data'!$H$10","v":0.13},{"$f":"'background data'!$J$10","v":0.39100000000000001},{"$f":"'background data'!$L$10","v":5.5E-2},{"$f":"'background data'!$M$10","v":3.97},{"$f":"'background data'!$N$10","v":4.5999999999999999E-3},{"$f":"'background data'!$O$10","v":2.73},"as barley","hvede"]
[51101,511,1,"HVEDE, 2015 + xylanase","2015-10-27",1.1601802361594999,1.1403543339517701,91.6,87.199994000000004,93,1,85,8.5999999999999694,2.1,1.5,2.7,null,83.131026578073104,50,54,56,57,58,null,0.42352941176470588,3.0588235294117645,0.1,1,5.8,1.2,1.3,32,3.2,29,40,0,6.0000000000000123E-2,null,3.1365888235294102,1.5889988235294099,2.3928017647058799,3.0064494117647098,1.4019770588235301,3.3427858823529402,6.7397088235294103,2.3054464705882398,4.3413935294117598,2.74396,4.3438917647058801,null,0.92,1,0.98,0.93,0.99,0.99,1,0.99,1.02,1,0.96,null,10.117647058823493,2.4705882352941178,1.7647058823529411,3.1764705882352939,null,105,25.941176470588236,1.3649179248935295,1.3415933340609061,null,982.35294117647061,722.05210084033638,61.747983361344588,670,18.999999999999996,25,113,null,0.36,2.5999999999999996,8.5000000000000006E-2,0.85,4.93,1.02,1.105,null,27.2,2.72,24.65,34,0,5.1000000000000101E-2,71.492682857142896,61.622048565318075,1.7782038650792586,0.97917362673762343,1.4450035962084617,2.4241772229460938,1.7229512164467085,0.85528771422221817,2.0392942084595407,4.1531466443963048,1.4064567103157499,2.7287607416877964,1.6908843638128948,4.4196451055006909,2.5697232891570301,0,0,0,0,0,0,0,0,0,0,0,0,0,0,0,0,0,"1.11.1","",32,16,16,"",16,16,"",16,16,"","","","","","","","","","","",16,32,"","","","","","","","","","","","",0.6,0.3,0.1,"",0.9,1.1000000000000001,"",1.9,1.6,"","","","","","","","","","","",0.1,0.3,"","","","","","","","","","","","",2015,2015,2015,"",2015,2015,"",2015,2015,"","","","","","","","","","","",2015,2015,"","",{"$f":"'background data'!$G$10","v":0.47300000000000003},{"$f":"'background data'!$H$10","v":0.13},{"$f":"'background data'!$J$10","v":0.39100000000000001},{"$f":"'background data'!$L$10","v":5.5E-2},{"$f":"'background data'!$M$10","v":3.97},{"$f":"'background data'!$N$10","v":4.5999999999999999E-3},{"$f":"'background data'!$O$10","v":2.73},"as barley","offfarm","hvede","Hvede, som dyrkes i stor udstrækning i Danmark, er frø fra dyrkede sorter af hvedeplanter (Triticum aestivum og Triticum durum).\n\nEn igangværende undersøgelse tyder på, at der er forskel i foderværdien (indhold af FEsv) mellem forskellige sorter. Der er ud fra de foreløbige tal et potentiale på 3,5 FEsv pr. 100 kg i vinterhvede, men flere analyser skal vise, om der i fremtiden skal vælges sort efter FEsv pr. ha.\n\nHvede har et lavt indhold af fibre.\n\nUd fra forsøg og generel erfaring vurderes, at hvede kan bruges i henhold til følgende kilder: [1], [3], [5], [6], [9], [11], [12], [14], [15]. [17], [18], [19], [20], \n","En høj andel af hvede eller hvede som eneste kornart øger risikoen for mave-tarm-problemer, som fx Salmonella og mavesår. Det anbefales i sådanne tilfælde at anvende en grovere formaling. Man bør dog være opmærksom på, at grovere formaling forringer foderudnyttelsen, og ændringen bør derfor altid ske udfra en ordentlig diagnose. Læs mere i afsnittet Formaling og foderstruktur.\n\nHvede kan være inficeret med hvede stinkbrand og kan indeholde Fusarium-toksiner.\n\nÅrsagen til problemer med mave- og fordøjelsesforstyrrelser samt svineri i stierne kan skyldes manglende struktur i foderet som følge af det lave indhold af fibre i hvede. Manglende struktur i foderet giver risiko for dannelse af maveforandringer og -sår i den hvide del af maven. En grov formaling eller valsning af hvede afhjælper i mange tilfælde problemet med manglende struktur i foderet og dermed risiko for mavesår, men øger samtidig risikoen for en væsentlig forringelse af foderudnyttelsen.\n","Hvede opbevares tørt og er lagerfast ved 86 pct. tørstof. Ellers ingen specielle forhold.\n\nVed transport af fugtige partier med et vandindhold på 20 pct. eller derover, bør transport fra korngrav foretages med kæderedler frem for med sidesnegl eller sneglerende.\n",null,null,{"$f":"'background data'!$G$10","v":0.47300000000000003},{"$f":"'background data'!$H$10","v":0.13},{"$f":"'background data'!$J$10","v":0.39100000000000001},{"$f":"'background data'!$L$10","v":5.5E-2},{"$f":"'background data'!$M$10","v":3.97},{"$f":"'background data'!$N$10","v":4.5999999999999999E-3},{"$f":"'background data'!$O$10","v":2.73},"as barley","hvede"]
[51110,511,10,"HVEDE, 2015, varmebehandlet","2015-10-27",1.1504822106078201,1.1335380074211501,91.6,86.399959600000003,93,1,85,8.5999999999999694,2.1,1.5,2.7,null,82.398667774086405,28,43,48,54,57,null,0.42352941176470588,3.0588235294117645,0.1,1,5.8,1.2,1.3,32,3.2,29,40,0,6.0000000000000123E-2,null,3.1365888235294102,1.5889988235294099,2.3928017647058799,3.0064494117647098,1.4019770588235301,3.3427858823529402,6.7397088235294103,2.3054464705882398,4.3413935294117598,2.74396,4.3438917647058801,null,0.92,1,0.98,0.93,0.99,0.99,1,0.99,1.02,1,0.96,null,10.117647058823493,2.4705882352941178,1.7647058823529411,3.1764705882352939,null,105,25.941176470588236,1.3535084830680237,1.3335741263778236,null,982.35294117647061,710.8252100840341,72.975356873949778,670,18.999999999999996,25,113,null,0.36,2.5999999999999996,8.5000000000000006E-2,0.85,4.93,1.02,1.105,null,27.2,2.72,24.65,34,0,5.1000000000000101E-2,70.862854285714306,61.594046072451839,1.7773958078626293,0.97872866745542197,1.4443469529478747,2.4230756204032882,1.7221682673193979,0.85489905158159918,2.038367505715077,4.1512593579138013,1.4058175836571309,2.7275207293061645,1.690115986609644,4.4176367159158083,2.5685555470947614,0,0,0,0,0,0,0,0,0,0,0,0,0,0,0,0,0,"1.11.1","",32,16,16,"",16,16,"",16,16,"","","","","","","","","","","",16,32,"","","","","","","","","","","","",0.6,0.3,0.1,"",0.9,1.1000000000000001,"",1.9,1.6,"","","","","","","","","","","",0.1,0.3,"","","","","","","","","","","","",2015,2015,2015,"",2015,2015,"",2015,2015,"","","","","","","","","","","",2015,2015,"","",{"$f":"'background data'!$G$10","v":0.47300000000000003},{"$f":"'background data'!$H$10","v":0.13},{"$f":"'background data'!$J$10","v":0.39100000000000001},{"$f":"'background data'!$L$10","v":5.5E-2},{"$f":"'background data'!$M$10","v":3.97},{"$f":"'background data'!$N$10","v":4.5999999999999999E-3},{"$f":"'background data'!$O$10","v":2.73},"as barley","offfarm","hvede","Hvede, som dyrkes i stor udstrækning i Danmark, er frø fra dyrkede sorter af hvedeplanter (Triticum aestivum og Triticum durum).\n\nEn igangværende undersøgelse tyder på, at der er forskel i foderværdien (indhold af FEsv) mellem forskellige sorter. Der er ud fra de foreløbige tal et potentiale på 3,5 FEsv pr. 100 kg i vinterhvede, men flere analyser skal vise, om der i fremtiden skal vælges sort efter FEsv pr. ha.\n\nHvede har et lavt indhold af fibre.\n\nUd fra forsøg og generel erfaring vurderes, at hvede kan bruges i henhold til følgende kilder: [1], [3], [5], [6], [9], [11], [12], [14], [15]. [17], [18], [19], [20], \n","En høj andel af hvede eller hvede som eneste kornart øger risikoen for mave-tarm-problemer, som fx Salmonella og mavesår. Det anbefales i sådanne tilfælde at anvende en grovere formaling. Man bør dog være opmærksom på, at grovere formaling forringer foderudnyttelsen, og ændringen bør derfor altid ske udfra en ordentlig diagnose. Læs mere i afsnittet Formaling og foderstruktur.\n\nHvede kan være inficeret med hvede stinkbrand og kan indeholde Fusarium-toksiner.\n\nÅrsagen til problemer med mave- og fordøjelsesforstyrrelser samt svineri i stierne kan skyldes manglende struktur i foderet som følge af det lave indhold af fibre i hvede. Manglende struktur i foderet giver risiko for dannelse af maveforandringer og -sår i den hvide del af maven. En grov formaling eller valsning af hvede afhjælper i mange tilfælde problemet med manglende struktur i foderet og dermed risiko for mavesår, men øger samtidig risikoen for en væsentlig forringelse af foderudnyttelsen.\n","Hvede opbevares tørt og er lagerfast ved 86 pct. tørstof. Ellers ingen specielle forhold.\n\nVed transport af fugtige partier med et vandindhold på 20 pct. eller derover, bør transport fra korngrav foretages med kæderedler frem for med sidesnegl eller sneglerende.\n",null,null,{"$f":"'background data'!$G$10","v":0.47300000000000003},{"$f":"'background data'!$H$10","v":0.13},{"$f":"'background data'!$J$10","v":0.39100000000000001},{"$f":"'background data'!$L$10","v":5.5E-2},{"$f":"'background data'!$M$10","v":3.97},{"$f":"'background data'!$N$10","v":4.5999999999999999E-3},{"$f":"'background data'!$O$10","v":2.73},"as barley","hvede"]
[51111,511,11,"HVEDE, 2015, varmebehandlet  + xylanase","2015-10-27",1.1601802361594999,1.1403543339517701,91.6,87.199994000000004,93,1,85,8.5999999999999694,2.1,1.5,2.7,null,83.131026578073104,28,43,48,54,57,null,0.42352941176470588,3.0588235294117645,0.1,1,5.8,1.2,1.3,32,3.2,29,40,0,6.0000000000000123E-2,null,3.1365888235294102,1.5889988235294099,2.3928017647058799,3.0064494117647098,1.4019770588235301,3.3427858823529402,6.7397088235294103,2.3054464705882398,4.3413935294117598,2.74396,4.3438917647058801,null,0.92,1,0.98,0.93,0.99,0.99,1,0.99,1.02,1,0.96,null,10.117647058823493,2.4705882352941178,1.7647058823529411,3.1764705882352939,null,105,25.941176470588236,1.3649179248935295,1.3415933340609061,null,982.35294117647061,722.05210084033638,61.747983361344588,670,18.999999999999996,25,113,null,0.36,2.5999999999999996,8.5000000000000006E-2,0.85,4.93,1.02,1.105,null,27.2,2.72,24.65,34,0,5.1000000000000101E-2,71.492682857142896,61.622048565318075,1.7782038650792586,0.97917362673762343,1.4450035962084617,2.4241772229460938,1.7229512164467085,0.85528771422221817,2.0392942084595407,4.1531466443963048,1.4064567103157499,2.7287607416877964,1.6908843638128948,4.4196451055006909,2.5697232891570301,0,0,0,0,0,0,0,0,0,0,0,0,0,0,0,0,0,"1.11.1","",32,16,16,"",16,16,"",16,16,"","","","","","","","","","","",16,32,"","","","","","","","","","","","",0.6,0.3,0.1,"",0.9,1.1000000000000001,"",1.9,1.6,"","","","","","","","","","","",0.1,0.3,"","","","","","","","","","","","",2015,2015,2015,"",2015,2015,"",2015,2015,"","","","","","","","","","","",2015,2015,"","",{"$f":"'background data'!$G$10","v":0.47300000000000003},{"$f":"'background data'!$H$10","v":0.13},{"$f":"'background data'!$J$10","v":0.39100000000000001},{"$f":"'background data'!$L$10","v":5.5E-2},{"$f":"'background data'!$M$10","v":3.97},{"$f":"'background data'!$N$10","v":4.5999999999999999E-3},{"$f":"'background data'!$O$10","v":2.73},"as barley","offfarm","hvede","Hvede, som dyrkes i stor udstrækning i Danmark, er frø fra dyrkede sorter af hvedeplanter (Triticum aestivum og Triticum durum).\n\nEn igangværende undersøgelse tyder på, at der er forskel i foderværdien (indhold af FEsv) mellem forskellige sorter. Der er ud fra de foreløbige tal et potentiale på 3,5 FEsv pr. 100 kg i vinterhvede, men flere analyser skal vise, om der i fremtiden skal vælges sort efter FEsv pr. ha.\n\nHvede har et lavt indhold af fibre.\n\nUd fra forsøg og generel erfaring vurderes, at hvede kan bruges i henhold til følgende kilder: [1], [3], [5], [6], [9], [11], [12], [14], [15]. [17], [18], [19], [20], \n","En høj andel af hvede eller hvede som eneste kornart øger risikoen for mave-tarm-problemer, som fx Salmonella og mavesår. Det anbefales i sådanne tilfælde at anvende en grovere formaling. Man bør dog være opmærksom på, at grovere formaling forringer foderudnyttelsen, og ændringen bør derfor altid ske udfra en ordentlig diagnose. Læs mere i afsnittet Formaling og foderstruktur.\n\nHvede kan være inficeret med hvede stinkbrand og kan indeholde Fusarium-toksiner.\n\nÅrsagen til problemer med mave- og fordøjelsesforstyrrelser samt svineri i stierne kan skyldes manglende struktur i foderet som følge af det lave indhold af fibre i hvede. Manglende struktur i foderet giver risiko for dannelse af maveforandringer og -sår i den hvide del af maven. En grov formaling eller valsning af hvede afhjælper i mange tilfælde problemet med manglende struktur i foderet og dermed risiko for mavesår, men øger samtidig risikoen for en væsentlig forringelse af foderudnyttelsen.\n","Hvede opbevares tørt og er lagerfast ved 86 pct. tørstof. Ellers ingen specielle forhold.\n\nVed transport af fugtige partier med et vandindhold på 20 pct. eller derover, bør transport fra korngrav foretages med kæderedler frem for med sidesnegl eller sneglerende.\n",null,null,{"$f":"'background data'!$G$10","v":0.47300000000000003},{"$f":"'background data'!$H$10","v":0.13},{"$f":"'background data'!$J$10","v":0.39100000000000001},{"$f":"'background data'!$L$10","v":5.5E-2},{"$f":"'background data'!$M$10","v":3.97},{"$f":"'background data'!$N$10","v":4.5999999999999999E-3},{"$f":"'background data'!$O$10","v":2.73},"as barley","hvede"]
[51400,514,0,"HVEDEGLUTEN 80% protein (Obs.: Gamle data)","2016-05-27",1.29950735578784,1.26482970686456,94.6,92,93,1,93,80,6.6,0.999999999999999,0.999999999999999,null,92.245360714285695,20,37,44,50,54,null," "," ",0,0,0,0,0,0,0,0,0,0,0,null," "," "," "," "," "," "," "," "," "," "," ",null,1,1,1,1,1,1,1,1,1,1,1,null,86.021505376344081,7.096774193548387,1.0752688172042999,1.0752688172042999,null,0,0,1.3973197374062796,1.3600319428651182,null,989.24731182795699,47.450076804915476,36.743471582181186," "," ",1.7117050691244191,26.816712749616023,null," "," ",0,0,0,0,0,null,0,0,0,0,0,0,737.96288571428602,567.87895999779721," "," "," "," "," "," "," "," "," "," "," "," "," ",0,0,0,0,0,0,0,0,0,0,0,0,0,0,0,0,0,"1.11.18","","","","","","","","","","","","","","","","","","","","","","","","","","","","","","","","","","","","","","","","","","","","","","","","","","","","","","","","","","","","","","","","","","","","","","","","","","","","","","","","","","","","","","","","","","","","","",{"$f":"'background data'!$G$10","v":0.47300000000000003},{"$f":"'background data'!$H$10","v":0.13},{"$f":"'background data'!$J$10","v":0.39100000000000001},{"$f":"'background data'!$L$10","v":5.5E-2},{"$f":"'background data'!$M$10","v":3.97},{"$f":"'background data'!$N$10","v":4.5999999999999999E-3},{"$f":"'background data'!$O$10","v":2.73},"as barley","offfarm","hvedegluten","Gluten udgør hovedparten af proteinindholdet i en del kornsorter, især hvede, rug og byg. \n\nSammen med stivelse udgør gluten det meste af det indre af kornet, hviden.  \n\nHvedegluten dannes ved ekstraktion fra hvedemel hvorved stivelsen vaskes ud og bruges til andet formål.   \n\nIndholdet af opløselige og uopløselige fibre er beregnet, se versionsbeskrivelsen for 3. juni 2016\n\n",0,"Hvedegluten opbevares tørt.\n",null,null,{"$f":"'background data'!$G$10","v":0.47300000000000003},{"$f":"'background data'!$H$10","v":0.13},{"$f":"'background data'!$J$10","v":0.39100000000000001},{"$f":"'background data'!$L$10","v":5.5E-2},{"$f":"'background data'!$M$10","v":3.97},{"$f":"'background data'!$N$10","v":4.5999999999999999E-3},{"$f":"'background data'!$O$10","v":2.73},"as barley"]
[51500,515,0,"HVEDEGLUTENFODER","2016-05-27",0.84558178353658597,0.88886649212987001,74.099999999999994,63.7,84,1,90.5,15.023,4.6154999999999999,6.2445000000000004,5.2115171650055396,null,67.948521686747,26,40,46,51,54,null,1.8,9.9,5.8011049723756907," ",15,3.4,4.5,160.00000000000003,10.000000000000002,99,64,0,0,null,2.7988058428403901,1.39940292142019,1.9991470306002801,3.1319970146071001,1.2661264527135101,2.99872054590042,6.1307175605075201,2.3989764367203299,3.9316558268472099,2.4656146710736699,4.4647617016739503,null,1,1.1100000000000001,1.07,1.03,1.07,1.08,1.08,1.07,1.08,1.1000000000000001,1.05,null,16.599999999999998,5.1000000000000005,6.9,5.7585825027685527,null,105,53.55,0.93434451219512271,0.98217291948051932,null,931,351.02100000000002,138.32,276.54867256637237,33.185840707964644,21.08154,330.27746000000002,null,1.629,8.9595000000000002,5.25," ",13.575000000000001,3.077,4.0724999999999998,null,144.80000000000004,9.0500000000000025,89.594999999999999,57.92,0,0,102.07906413000001,120.72050997014333,3.3787326865510763,1.8751966410358509,2.5823171247211989,4.4575137657570263,3.8943916513318544,1.635467512323419,3.9096763944376893,7.993116184183708,3.0987805496654106,5.1260201615960659,3.2741528653006893,8.4001730268967538,5.6593772499730601,0,0,0,0,0,0,0,0,0,0,0,0,0,0,0,0,0,"1.11.16","","",2,2,"",2,2,"",2,"","","","","","","","","","","","",2,2,2,"",2,2,2,2,2,2,2,"","","","",0.4,1.2,"",3.5,3.5,"",3.2,"","","","","","","","","","","","",1.06,1.6,6.83,"",4.74,0.56000000000000005,3.6,24.08,0.83,30.8,24.42,"","","","",2005,2005,"",2005,2005,"",2005,"","","","","","","","","","","","",2005,2005,2005,"",{"$f":"'background data'!$G$10","v":0.47300000000000003},{"$f":"'background data'!$H$10","v":0.13},{"$f":"'background data'!$J$10","v":0.39100000000000001},{"$f":"'background data'!$L$10","v":5.5E-2},{"$f":"'background data'!$M$10","v":3.97},{"$f":"'background data'!$N$10","v":4.5999999999999999E-3},{"$f":"'background data'!$O$10","v":2.73},"as barley","offfarm","hvedeglutenfoder","Råvaren hvedeglutenfoder kan være mere eller mindre renset for små stykker hvede eller hvedemel hvorved proteinindholdet kan variere.\n\nHvedeglutenfoder består af klid, hvorfra kimen kan være delvis fjernet, og af gluten, hvortil meget små mængder af brudhvede, der stammer fra sigtningen af hveden, og meget små restmængder fra hydrolysen af stivelsen kan være tilsat.\n\nIndholdet af opløselige og uopløselige fibre er beregnet, se versionsbeskrivelsen for 3. juni 2016",0,"Hvedeglutenfoder opbevares tørt.\n\nHvedeglutenfoder er et meget findelt foder, som støver meget, hvilket man skal være opmærksom på under transport og forarbejdning.",null,null,{"$f":"'background data'!$G$10","v":0.47300000000000003},{"$f":"'background data'!$H$10","v":0.13},{"$f":"'background data'!$J$10","v":0.39100000000000001},{"$f":"'background data'!$L$10","v":5.5E-2},{"$f":"'background data'!$M$10","v":3.97},{"$f":"'background data'!$N$10","v":4.5999999999999999E-3},{"$f":"'background data'!$O$10","v":2.73},"as barley"]
[51800,518,0,"HVEDEKLID","2016-11-21",0.63203029376720599,0.70147547631317198,62.2,52.299999200000002,83,1,87.3,14.4918,4.1031000000000004,4.9760999999999997,8.6426999999999996,null,62.714496729776201,20,37,44,50,54,null,3.3,9.6000000000000014,0.1,0,15,4.5,1.9000000000000001,185,12.000000000000002,111.00000000000001,89.000000000000014,0,0.05,null,3.9,1.6,2,3.29,1.4,3.29,6.19,2.59,3.89,2.81,4.79,null,1,1.1000000000000001,1.04,1.03,1.04,1.07,1.08,1.1499999999999999,1.1299999999999999,1.1399999999999999,1.04,null,16.600000000000001,4.7000000000000011,5.6999999999999993,9.9,null,105,49.35,0.72397513604490948,0.80352288237476743,null,943.00000000000011,256.52885714285685,133.36715363428638,220,37.000000000000007,27.611468571428638,432.57967428571368,null,2.8809,8.3808000000000007,8.7300000000000003E-2,0,13.095000000000001,3.9285000000000001,1.6587000000000001,null,161.505,10.476000000000001,96.903000000000006,77.697000000000017,0,4.3650000000000001E-2,90.884594370857499,143.79784524115354,5.6081159644049521,2.5308420762442836,2.9909951810159843,5.521837257260283,4.8728775816869572,2.0936966267111874,5.0621155460243017,9.6131735500615569,4.283018820507726,6.32092188326535,4.6064201744550823,10.927342057720448,7.1634334585332615,0,0,0,0,0,0,0,0,0,0,0,0,0,0,0,0,0,"1.11.7",9,9,9,9,9,9,9,"",9,9,"","","","","","","","","","","",6,6,5,"",5,5,5,5,5,5,5,"","",0.8,1,0.2,1.3,1.3,3.3,3.3,"",6,5,"","","","","","","","","","","",0.42,1.58,0.03,"",0.79,0.13,0.08,29.61,1.51,5.81,5.17,"","",2016,2016,2016,2016,2016,2016,2016,"",2016,2016,"","","","","","","","","","","",2016,2016,2005,"",{"$f":"'background data'!$G$10","v":0.47300000000000003},{"$f":"'background data'!$H$10","v":0.13},{"$f":"'background data'!$J$10","v":0.39100000000000001},{"$f":"'background data'!$L$10","v":5.5E-2},{"$f":"'background data'!$M$10","v":3.97},{"$f":"'background data'!$N$10","v":4.5999999999999999E-3},{"$f":"'background data'!$O$10","v":2.73},"as barley","offfarm","hvedeklid","Hvedeklid er et biprodukt fra fremstilling af mel ud fra renset hvede. Hvedeklid består hovedsagelig af skaldele eller dele af korn, hvorfra størstedelen af endosperm er fjernet.\n\nKvalitet\nHvedeklid har, i sammenligning med hvede, et højt indhold af træstof og opfattes som et godt strukturfoder. Hvedeklid har et lavt indhold af energi.\n\nEt forsøg har vist, at iblanding af 15 procent hvedeklid af korndelen i foder til slagtesvin forringede produktiviteten statistisk sikkert sammenlignet med en ren hvedebaseret blanding [15]. Derimod påvirkede iblanding af 15 procent hvedeklid ikke mave-tarm-sundhed eller forekomst af Salmonella.\n\nEn anden undersøgelse antydede også, at produktiviteten forringes ved brug af hvedeklid i slagtesvinefoder [21], men at faldet kan modvirkes ved tilsætning af kulhydratspaltende.\n\nIndholdet af opløselige og uopløselige fibre er beregnet, se versionsbeskrivelsen for 3. juni 2016\n","Der er ingen specielle forhold at være opmærksom på omkring hvedeklid, og der er ingen eksempler på problemer forårsaget af produktet.","Hvedeklid opbevares tørt.\n\nHvedeklid danner let bro, og kan være vanskelig at få ud af siloen. Det kan afhjælpes ved trykluft eller vibrator i silosiden. Der er ingen problemer ved transport af hvedeklid som løsvare.",null,null,{"$f":"'background data'!$G$10","v":0.47300000000000003},{"$f":"'background data'!$H$10","v":0.13},{"$f":"'background data'!$J$10","v":0.39100000000000001},{"$f":"'background data'!$L$10","v":5.5E-2},{"$f":"'background data'!$M$10","v":3.97},{"$f":"'background data'!$N$10","v":4.5999999999999999E-3},{"$f":"'background data'!$O$10","v":2.73},"as barley"]
[51801,518,1,"HVEDEKLID +xylanase","2016-11-21",0.63561593433849095,0.70399559570092796,62.2,52.599989800000003,83,1,87.3,14.4918,4.1031000000000004,4.9760999999999997,8.6426999999999996,null,62.875180034423401,20,37,44,50,54,null,3.3,9.6000000000000014,0.1,0,15,4.5,1.9000000000000001,185,12.000000000000002,111.00000000000001,89.000000000000014,0,0.05,null,3.9,1.6,2,3.29,1.4,3.29,6.19,2.59,3.89,2.81,4.79,null,1,1.1000000000000001,1.04,1.03,1.04,1.07,1.08,1.1499999999999999,1.1299999999999999,1.1399999999999999,1.04,null,16.600000000000001,4.7000000000000011,5.6999999999999993,9.9,null,105,49.35,0.72808239901316263,0.806409617068646,null,943.00000000000011,260.5702857142864,129.32585169428637,220,37.000000000000007,27.368982857142839,428.78073142857045,null,2.8809,8.3808000000000007,8.7300000000000003E-2,0,13.095000000000001,3.9285000000000001,1.6587000000000001,null,161.505,10.476000000000001,96.903000000000006,77.697000000000017,0,4.3650000000000001E-2,91.117453402285804,143.35300372404149,5.5907671452376082,2.5230128655431301,2.9817424774600716,5.5047553430031853,4.8578032371965953,2.087219734222042,5.0464557900974372,9.583435004959604,4.2697692159205713,6.3013679846976807,4.5921701212959398,10.893538105993636,7.1412732335168512,0,0,0,0,0,0,0,0,0,0,0,0,0,0,0,0,0,"1.11.7",9,9,9,9,9,9,9,"",9,9,"","","","","","","","","","","",6,6,5,"",5,5,5,5,5,5,5,"","",0.8,1,0.2,1.3,1.3,3.3,3.3,"",6,5,"","","","","","","","","","","",0.42,1.58,0.03,"",0.79,0.13,0.08,29.61,1.51,5.81,5.17,"","",2016,2016,2016,2016,2016,2016,2016,"",2016,2016,"","","","","","","","","","","",2016,2016,2005,"",{"$f":"'background data'!$G$10","v":0.47300000000000003},{"$f":"'background data'!$H$10","v":0.13},{"$f":"'background data'!$J$10","v":0.39100000000000001},{"$f":"'background data'!$L$10","v":5.5E-2},{"$f":"'background data'!$M$10","v":3.97},{"$f":"'background data'!$N$10","v":4.5999999999999999E-3},{"$f":"'background data'!$O$10","v":2.73},"as barley","offfarm","hvedeklid","Hvedeklid er et biprodukt fra fremstilling af mel ud fra renset hvede. Hvedeklid består hovedsagelig af skaldele eller dele af korn, hvorfra størstedelen af endosperm er fjernet.\n\nKvalitet\nHvedeklid har, i sammenligning med hvede, et højt indhold af træstof og opfattes som et godt strukturfoder. Hvedeklid har et lavt indhold af energi.\n\nEt forsøg har vist, at iblanding af 15 procent hvedeklid af korndelen i foder til slagtesvin forringede produktiviteten statistisk sikkert sammenlignet med en ren hvedebaseret blanding [15]. Derimod påvirkede iblanding af 15 procent hvedeklid ikke mave-tarm-sundhed eller forekomst af Salmonella.\n\nEn anden undersøgelse antydede også, at produktiviteten forringes ved brug af hvedeklid i slagtesvinefoder [21], men at faldet kan modvirkes ved tilsætning af kulhydratspaltende.\n\nIndholdet af opløselige og uopløselige fibre er beregnet, se versionsbeskrivelsen for 3. juni 2016\n","Der er ingen specielle forhold at være opmærksom på omkring hvedeklid, og der er ingen eksempler på problemer forårsaget af produktet.","Hvedeklid opbevares tørt.\n\nHvedeklid danner let bro, og kan være vanskelig at få ud af siloen. Det kan afhjælpes ved trykluft eller vibrator i silosiden. Der er ingen problemer ved transport af hvedeklid som løsvare.\n",null,null,{"$f":"'background data'!$G$10","v":0.47300000000000003},{"$f":"'background data'!$H$10","v":0.13},{"$f":"'background data'!$J$10","v":0.39100000000000001},{"$f":"'background data'!$L$10","v":5.5E-2},{"$f":"'background data'!$M$10","v":3.97},{"$f":"'background data'!$N$10","v":4.5999999999999999E-3},{"$f":"'background data'!$O$10","v":2.73},"as barley"]
[51700,517,0,"HVEDESTRØMEL","2016-11-21",0.72713916535036804,0.79028389877699401,68.8,56.3,88,1,88.1,17.179500000000001,4.8455000000000004,4.7573999999999996,6.4512581740000003,null,71.614042197802206,20,37,44,50,54,null,0.90000000000000013,11.900000000000002,0.1,0,13,4.2000000000000011,2.2000000000000002,150,13,145,106.00000000000001,0,7.0000000000000007E-2,null,3.9000000000000101,1.6,2.0000000000000102,3.3,1.41,3.3,6.2100000000000204,2.59,3.9100000000000099,2.8,4.8100000000000103,null,1.01,1.0900000000000001,1.05,0.94,1.1399999999999999,1.05,1.03,1.0900000000000001,1.1000000000000001,1.04,1.03,null,19.5,5.5000000000000009,5.3999999999999995,7.3226540000000009,null,105,57.75,0.82535660085172313,0.89703053209647443,null,946.00000000000011,251.11942857142907,168.92857142857093," "," ",26.341834285714306,412.68873714285701,null,0.79290000000000005,10.4839,8.8099999999999998E-2,0,11.452999999999999,3.7002000000000006,1.9381999999999999,null,132.14999999999998,11.452999999999999,127.74499999999999,93.385999999999996,0,6.1669999999999996E-2,123.02934379371401,169.19642024017918,6.6646469932607069,2.9507855689887355,3.5531248250437848,6.5039103940325065,5.2484729558503602,2.7196632589406415,5.8626559613222362,10.822310627822651,4.776584139800498,7.2771380345301342,4.9269997573940287,12.204137791924165,8.3824982479592336,0,0,0,0,0,0,0,0,0,0,0,0,0,0,0,0,0,"1.11.4","","",3,3,"",3,3,"",3,"","","","","","","","","","","","",3,3,3,"",3,3,3,3,3,3,3,"","","","","",0.5,"",3,2.2000000000000002,"",4.9000000000000004,"","","","","","","","","","","","",0.12,2.0699999999999998,"","",1.75,0.52,0.18,17.61,1.27,34.74,4.51,"","","","",2005,2005,"",2005,2005,"",2005,"","","","","","","","","","","","",2005,2005,2005,"",{"$f":"'background data'!$G$10","v":0.47300000000000003},{"$f":"'background data'!$H$10","v":0.13},{"$f":"'background data'!$J$10","v":0.39100000000000001},{"$f":"'background data'!$L$10","v":5.5E-2},{"$f":"'background data'!$M$10","v":3.97},{"$f":"'background data'!$N$10","v":4.5999999999999999E-3},{"$f":"'background data'!$O$10","v":2.73},"as barley","offfarm","hvedestrømel","Hvedestrømel er et biprodukt fra fremstilling af mel ud fra renset hvede. Hvedestrømel består hovedsagelig af dele af endosperm, fine skaldele og enkelte andre kornbestanddele.\n\nKvalitet\nHvedestrømel har et lavere indhold af træstof end hvedeklid. Hvedestrømel har en kemisk sammensætning, der minder meget om hvedeklid. Sammensætning og kvalitet kan variere. Hvedestrømel anvendes ofte som bærestof i forblandinger.\n\n","Hvedestrømel er et meget findelt foder, som støver meget. På grund af den høje grad af findeling opfattes råvaren som strukturfattig.\n\nDer er ingen eksempler på, at hvedestrømel har forårsaget problemer.","Hvedestrømel opbevares tørt.\n\nHvedestrømel er et meget findelt foder, som støver meget, hvilket man skal være opmærksom på under transport og forarbejdning.",null,null,{"$f":"'background data'!$G$10","v":0.47300000000000003},{"$f":"'background data'!$H$10","v":0.13},{"$f":"'background data'!$J$10","v":0.39100000000000001},{"$f":"'background data'!$L$10","v":5.5E-2},{"$f":"'background data'!$M$10","v":3.97},{"$f":"'background data'!$N$10","v":4.5999999999999999E-3},{"$f":"'background data'!$O$10","v":2.73},"as barley"]
[62500,625,0,"HØRFRØ (Obs.: Gamle data)","2013-09-16",1.82963163917925,1.8098179754508299,88.6,77.8,93,1,92,21.896000000000001,35.880000000000003,4.2320000000000002,6.9,null,75,12,12,12,12,12,null,2.6,5.7,0.39999999999999997,0,8.9,4.0999999999999996,2.5,75,14,30,50,0,0.35000000000000003,null,3.74,1.89,2.0699999999999998,3.51,1.41,4.1399999999999997,5.77,2.06,4.37,2.36,5.08,null,1.0900000000000001,1.1299999999999999,1.1299999999999999,1.05,1.1200000000000001,1.08,1.07,1.08,1.07,1,1.0900000000000001,null,23.8,39,4.6000000000000005,7.5,null,190,741,1.9887300425861414,1.9671934515769891,null,954,103.17542857142902,147.18857142857067," "," ",138,283.99999999999994,null,2.3920000000000003,5.2440000000000007,0.36799999999999999,0,8.1880000000000006,3.7719999999999998,2.3000000000000003,null,69,12.88,27.6,46,0,0.32200000000000006,164.22,89.755771863273552,3.6589837957782096,1.9169140196839334,2.0994772596538316,4.016391279337765,3.307948972020947,1.4174231492648159,4.0131600715506872,5.5414315990666463,1.9968864124141099,4.1968901365548081,2.1182362159732562,6.3151263525280639,4.9699565996131838,0,0,0,0,0,0,0,0,0,0,0,0,0,0,0,0,0,"2.8.1","","",2,2,"",2,2,"","","",2,2,2,2,"","",2,2,2,2,"",2,2,2,"",2,2,2,2,2,2,2,"","","","",4.4000000000000004,0.3,"",0.4,0.1,"","","",0.18,0.15,0.06,0.22,"","",0.08,0.08,0.03,0.06,"",0.25,0.19,0.01,"",0.06,0.28000000000000003,0.02,3.58,1.43,1.32,3.41,"","","","",2005,2005,"",2005,2005,"","","",2005,2005,2005,2005,"","",2005,2005,2005,2005,"",2005,2005,2005,"",null,null,null,null,null,null,null,null,"offfarm","hørfrø","Frø af hør ( Linum usitatissimum L.). Hørfrø importeres fra bl.a. Canada, Argentina, Indien, Kina og europæiske lande.\n\nHørfrø kan indeholde det uønskede stof Linamarin, der kan medføre indhold af blåsyre.","Et højt indhold af blåsyre forhindrer ilttransport i blodet og kan medføre kvælning. Kontroller derfor indholdet af blåsyre.","Hørfrø er lagerfaste ved 91-92 procent tørstof.\nVi har ikke erfaringer med håndtering af hørfrø, men da det er meget olieholdige frø kan der tages udgangspunkt i opbevaring/håndtering af rapsfrø.",null,null,{"$f":"'background data'!$G$10","v":0.47300000000000003},{"$f":"'background data'!$H$10","v":0.13},{"$f":"'background data'!$J$10","v":0.39100000000000001},{"$f":"'background data'!$L$10","v":5.5E-2},{"$f":"'background data'!$M$10","v":3.97},{"$f":"'background data'!$N$10","v":4.5999999999999999E-3},{"$f":"'background data'!$O$10","v":2.73}]
[99800,998,0,"ISOLEUCIN,L98,5","2010-05-12",1.1672371646341499,1.1187286071428599,100,100,100,1,99,66.082499999999996,0,15.048,0,null,100,0,0,0,0,0,null,0,0,0,0,0,0,0,0,0,0,0,0,0,null,0,0,0,0,0,149.81273400000001,0,0,0,0,0,null,1,1,1,1,1,1,1,1,1,1,1,null,66.75,0,15.2,0,null,0,0,1.179027439024394,1.1300288961038989,null,848,240.57500000000002,0,0,0," "," ",null,0,0,0,0,0,0,0,null,0,0,0,0,0,0,660.82500000000005,566.14458485574698,0,0,0,0,0,0,848.15668096534444,0,0,0,0,0,0,0,0,0,0,0,0,0,0,0,0,0,0,0,0,0,0,0,"","","","","","","","","","","","","","","","","","","","","","","","","","","","","","","","","","","","","","","","","","","","","","","","","","","","","","","","","","","","","","","","","","","","","","","","","","","","","","","","","","","","","","","","","","","","","","",null,null,null,null,null,null,null,null,"offfarm","vitaminer og mineraler","","","",null,null,{"$f":"'background data'!$G$10","v":0.47300000000000003},{"$f":"'background data'!$H$10","v":0.13},{"$f":"'background data'!$J$10","v":0.39100000000000001},{"$f":"'background data'!$L$10","v":5.5E-2},{"$f":"'background data'!$M$10","v":3.97},{"$f":"'background data'!$N$10","v":4.5999999999999999E-3},{"$f":"'background data'!$O$10","v":2.73}]
[46900,469,0,"JERNSULFAT,HEPT 1%-opløsning","2010-05-12",-0.112682926829268,-0.108,70,70,0,1,99,0,0,99,0,null,0,0,0,0,0,0,null,0,0,0,0,0,0,0,2020.2020202020201,0,0,0,0,0,null,0,0,0,0,0,0,0,0,0,0,0,null,1,1,1,1,1,1,1,1,1,1,1,null,0,0,100,0,null,0,0,-0.11382113821138182,-0.10909090909090909,null,0,0,0," "," "," "," ",null,0,0,0,0,0,0,0,null,1999.9999999999998,0,0,0,0,0,0,0,0,0,0,0,0,0,0,0,0,0,0,0,0,0,0,0,0,0,0,0,0,0,0,0,0,0,0,0,0,0,"","","","","","","","","","","","","","","","","","","","","","","","","","","","","","","","","","","","","","","","","","","","","","","","","","","","","","","","","","","","","","","","","","","","","","","","","","","","","","","","","","","","","","","","","","","","","","",null,null,null,null,null,null,null,null,"offfarm","vitaminer og mineraler",0,0,0,null,null,{"$f":"'background data'!$G$10","v":0.47300000000000003},{"$f":"'background data'!$H$10","v":0.13},{"$f":"'background data'!$J$10","v":0.39100000000000001},{"$f":"'background data'!$L$10","v":5.5E-2},{"$f":"'background data'!$M$10","v":3.97},{"$f":"'background data'!$N$10","v":4.5999999999999999E-3},{"$f":"'background data'!$O$10","v":2.73}]
[48500,485,0,"KALIUMJODID 1%-opløsning","2010-05-12",-0.112682926829268,-0.108,70,70,0,1,99,0,0,99,0,null,0,0,0,0,0,0,null,0,0,0,0,2.3838383838383836,0,0,0,0,0,0,7717.1717171717173,0,null,0,0,0,0,0,0,0,0,0,0,0,null,1,1,1,1,1,1,1,1,1,1,1,null,0,0,100,0,null,0,0,-0.11382113821138182,-0.10909090909090909,null,0,0,0," "," "," "," ",null,0,0,0,0,2.36,0,0,null,0,0,0,0,7640,0,0,0,0,0,0,0,0,0,0,0,0,0,0,0,0,0,0,0,0,0,0,0,0,0,0,0,0,0,0,0,0,0,"","","","","","","","","","","","","","","","","","","","","","","","","","","","","","","","","","","","","","","","","","","","","","","","","","","","","","","","","","","","","","","","","","","","","","","","","","","","","","","","","","","","","","","","","","","","","","",null,null,null,null,null,null,null,null,"offfarm","vitaminer og mineraler",0,0,0,null,null,{"$f":"'background data'!$G$10","v":0.47300000000000003},{"$f":"'background data'!$H$10","v":0.13},{"$f":"'background data'!$J$10","v":0.39100000000000001},{"$f":"'background data'!$L$10","v":5.5E-2},{"$f":"'background data'!$M$10","v":3.97},{"$f":"'background data'!$N$10","v":4.5999999999999999E-3},{"$f":"'background data'!$O$10","v":2.73}]
[48600,486,0,"KALIUMKLORID","2010-05-12",-0.112682926829268,-0.108,70,70,0,1,99,0,0,99,0,null,0,0,0,0,0,0,null,0,0,0,480.80808000000002,529.29292999999893,0,0,0,0,0,0,0,0,null,0,0,0,0,0,0,0,0,0,0,0,null,1,1,1,1,1,1,1,1,1,1,1,null,0,0,100,0,null,0,0,-0.11382113821138182,-0.10909090909090909,null,0,0,0," "," "," "," ",null,0,0,0,475.99999919999999,524.00000069999896,0,0,null,0,0,0,0,0,0,0,0,0,0,0,0,0,0,0,0,0,0,0,0,0,0,0,0,0,0,0,0,0,0,0,0,0,0,0,0,0,0,"11.5.1","","","","","","","","","","","","","","","","","","","","","","","","","","","","","","","","","","","","","","","","","","","","","","","","","","","","","","","","","","","","","","","","","","","","","","","","","","","","","","","","","","","","","","","","","","","","","",null,null,null,null,null,null,null,null,"offfarm","vitaminer og mineraler",0,0,0,null,null,{"$f":"'background data'!$G$10","v":0.47300000000000003},{"$f":"'background data'!$H$10","v":0.13},{"$f":"'background data'!$J$10","v":0.39100000000000001},{"$f":"'background data'!$L$10","v":5.5E-2},{"$f":"'background data'!$M$10","v":3.97},{"$f":"'background data'!$N$10","v":4.5999999999999999E-3},{"$f":"'background data'!$O$10","v":2.73}]
[69100,691,0,"KARTOFFELPROTEIN","2010-05-12",1.0929776829268301,1.0660547922077901,90,90,90,1,90,77.31,1.98,2.0699999999999998,0.63,null,89,67,67,67,67,67,null,0.5,4.3,9.9999999999999992E-2,0,7.4,0.5,8.8000000000000007,160,11,4.4000000000000004,21,0,0,null,7.8997289972899702,2.27642276422764,1.6,5.8265582655826504,1.3020830000000001,5.8,10.3,2.2000000000000002,6.3,5.8,7.0999999999999899,null,0.99,1.01,0.8,0.97,0.8,0.97,0.99,0.98,1,0.96,0.98,null,85.9,2.2000000000000002,2.2999999999999998,0.7,null,0,0,1.2144196476964779,1.1845053246753223,null,977,76.269999999999897,0,0,0," "," ",null,0.45,3.87,0.09,0,6.66,0.45,7.9200000000000008,null,144,9.9,3.9600000000000004,18.900000000000002,0,0,688.05899999999997,629.52703495050446,49.233620428507066,14.474003697886447,8.0579460473664586,22.531949745252909,35.579366704316456,6.5575716019956625,35.41719098631539,64.192871753902949,13.572602873532878,39.660203201881785,35.052065306044092,74.712268507925884,43.802491091856012,0,0,0,0,0,0,0,0,0,0,0,0,0,0,0,0,0,"4.8.10","","",1,2,"",2,2,"",2,"","","","","","","","","","","","","","","","","","","","","","","","","","","","",0.1,"",0.1,0.9,"",2.1,"","","","","","","","","","","","","","","","","","","","","","","","","","","",2005,2005,"",2005,2005,"",2005,"","","","","","","","","","","","","","","","",null,null,null,null,null,null,null,null,"offfarm","kartoffelprotein","Kartoffelprotein er et tørret biprodukt fra fremstilling af kartoffelstivelse ud fra knolde af kartoffelplanten (Solanum tuberosum). Kartoffelprotein fremstilles hovedsageligt i Danmark, Tyskland, Frankrig, Holland og Polen.\n\nProduktet er ved teknisk behandling koncentreret med hensyn til indhold af protein, og der skal være et indhold af råprotein i tørstof på mindst 76 pct.\n\nDer sælges en kvalitet kartoffelprotein (Protastar), som er kartoffelproteinkoncentrat, der har været igennem en proces, hvor bitterstoffet solanin fjernes ved hjælp af en syrebehandling med efterfølgende ekstraktion og dekantering. Indholdet af solanin er herefter under 40 ppm. Under processen fjernes også en stor del af kaliumindholdet, men til gengæld stiger indholdet af klorid.\n\nKvalitet\nKartoffelprotein kan ernæringsmæssigt erstatte en del af skummetmælkspulver og/eller fiskemel i blandinger til smågrise. Det skal bemærkes, at produktet kan indeholde det bitre og giftige stof \"solanin\". \nUd fra forsøg og generel erfaring vurderes, at kartoffelprotein kan bruges i henhold til følgende kilder: [95].","Kartoffelprotein kan indeholde det bitre og giftige stof solanin, hvilket giver lavere foderoptagelse og dermed også lavere daglig tilvækst. Indholdet af solanin varierer fra 800 til 4.000 ppm i varen.\n\nForsøg har vist, at hvis en fuldfoderblanding til smågrise har et indhold på mindre end 200 ppm solanin, er der ingen påvirkning af dødelighed og frekvens af diarré.\n\nSolanin har en bitter smag og det irriterer slimhinden i tarmkanalen. Solanin kan være årsag til mavepine og diarré. Et synligt tegn er ædevægring, reduceret tilvækst og evt. begyndende diarré. Der kan kun gennemføres analyse for indhold af solanin i en renvare af kartoffelprotein, fordi analysen ikke er følsom nok til at måle den lave koncentration, der er i et fuldfoder.\n\nReducer indholdet af kartoffelprotein i blandingen. Alternativt kan en prøve af partiet med kartoffelprotein analyseres for indhold af solanin.","Kartoffelprotein opbevares tørt\nVaren bør ikke transporteres på bånd i ren form af hensyn til belægninger på returbåndet. Kartoffelproteinkoncentrat kan være vanskeligt at få ud af silo.",null,null,{"$f":"'background data'!$G$10","v":0.47300000000000003},{"$f":"'background data'!$H$10","v":0.13},{"$f":"'background data'!$J$10","v":0.39100000000000001},{"$f":"'background data'!$L$10","v":5.5E-2},{"$f":"'background data'!$M$10","v":3.97},{"$f":"'background data'!$N$10","v":4.5999999999999999E-3},{"$f":"'background data'!$O$10","v":2.73}]
[69200,692,0,"KARTOFFELPROTEIN,  PROTASTAR","2011-06-17",1.13912669376694,1.11067935064935,90,90,90,1,90.5,79.5,3,0.7,1.8,null,89,67,67,67,67,67,null,0.55555999999999994,2.2099447513812156,5.5248618784530391E-2,3.3149171270718232,5.5248618784530391E-2,5.5248618784530391E-2,8.8000000000000007,146.96132596685084,34.254143646408842,2,6.6298342541436464,0,0,null,8,2.5,1.6,6.2,1.5,5.9,10.8,2.2000000000000002,6.6,6,7,null,0.99,1.01,0.8,0.97,0.8,0.97,0.99,0.98,1,0.96,0.98,null,87.845303867403317,3.3149171270718232,0.77348066298342533,1.988950276243094,null,0,0,1.258703529024243,1.2272700007175137,null,992.26519337016578,61.491712707182536,0,0,0," "," ",null,0.50278179999999995,2,0.05,3,0.05,0.05,7.9640000000000013,null,133,31.000000000000004,1.81,6,0,0,707.55,621.13371925314686,49.193790564849238,15.68362641114196,7.9505116064402808,23.634138017582242,37.354981875884256,7.4536046310377637,35.547482752857597,66.411617262546471,13.391642987097848,40.994825470707703,35.777302228981263,76.772127699688966,42.609773140765881,0,0,0,0,0,0,0,0,0,0,0,0,0,0,0,0,0,"4.8.10","","",3,4,"",4,4,"",1,"","","","","","","","","","","","","","","","","","","","","","","","","","","",2.1,0.1,"",1.8,1.7,"","","","","","","","","","","","","","","","","","","","","","","","","","","","","",2005,2005,"",2005,2005,"",2005,"","","","","","","","","","","","","","","","",null,null,null,null,null,null,null,null,"offfarm","kartoffelprotein","Kartoffelprotein er et tørret biprodukt fra fremstilling af kartoffelstivelse ud fra knolde af kartoffelplanten (Solanum tuberosum). Kartoffelprotein fremstilles hovedsageligt i Danmark, Tyskland, Frankrig, Holland og Polen.\n\nProduktet er ved teknisk behandling koncentreret med hensyn til indhold af protein, og der skal være et indhold af råprotein i tørstof på mindst 76 pct.\n\nDer sælges en kvalitet kartoffelprotein (Protastar), som er kartoffelproteinkoncentrat, der har været igennem en proces, hvor bitterstoffet solanin fjernes ved hjælp af en syrebehandling med efterfølgende ekstraktion og dekantering. Indholdet af solanin er herefter under 40 ppm. Under processen fjernes også en stor del af kaliumindholdet, men til gengæld stiger indholdet af klorid.\n\nKvalitet\nKartoffelprotein kan ernæringsmæssigt erstatte en del af skummetmælkspulver og/eller fiskemel i blandinger til smågrise. Det skal bemærkes, at produktet kan indeholde det bitre og giftige stof \"solanin\". \nUd fra forsøg og generel erfaring vurderes, at kartoffelprotein kan bruges i henhold til følgende kilder: [95].","Kartoffelprotein kan indeholde det bitre og giftige stof solanin, hvilket giver lavere foderoptagelse og dermed også lavere daglig tilvækst. Indholdet af solanin varierer fra 800 til 4.000 ppm i varen.\n\nForsøg har vist, at hvis en fuldfoderblanding til smågrise har et indhold på mindre end 200 ppm solanin, er der ingen påvirkning af dødelighed og frekvens af diarré.\n\nSolanin har en bitter smag og det irriterer slimhinden i tarmkanalen. Solanin kan være årsag til mavepine og diarré. Et synligt tegn er ædevægring, reduceret tilvækst og evt. begyndende diarré. Der kan kun gennemføres analyse for indhold af solanin i en renvare af kartoffelprotein, fordi analysen ikke er følsom nok til at måle den lave koncentration, der er i et fuldfoder.\n\nReducer indholdet af kartoffelprotein i blandingen. Alternativt kan en prøve af partiet med kartoffelprotein analyseres for indhold af solanin.","Kartoffelprotein opbevares tørt\nVaren bør ikke transporteres på bånd i ren form af hensyn til belægninger på returbåndet. Kartoffelproteinkoncentrat kan være vanskeligt at få ud af silo.",null,null,{"$f":"'background data'!$G$10","v":0.47300000000000003},{"$f":"'background data'!$H$10","v":0.13},{"$f":"'background data'!$J$10","v":0.39100000000000001},{"$f":"'background data'!$L$10","v":5.5E-2},{"$f":"'background data'!$M$10","v":3.97},{"$f":"'background data'!$N$10","v":4.5999999999999999E-3},{"$f":"'background data'!$O$10","v":2.73}]
[46700,467,0,"KOBBEROXID 100%-opløsning","2010-05-12",-0.112682926829268,-0.108,70,70,0,1,99,0,0,99,0,null,0,0,0,0,0,0,null,0,0,0,0,0,0,0,0,808080.80808080803,0,0,0,0,null,0,0,0,0,0,0,0,0,0,0,0,null,1,1,1,1,1,1,1,1,1,1,1,null,0,0,100,0,null,0,0,-0.11382113821138182,-0.10909090909090909,null,0,0,0," "," "," "," ",null,0,0,0,0,0,0,0,null,0,799999.99999999988,0,0,0,0,0,0,0,0,0,0,0,0,0,0,0,0,0,0,0,0,0,0,0,0,0,0,0,0,0,0,0,0,0,0,0,0,"","","","","","","","","","","","","","","","","","","","","","","","","","","","","","","","","","","","","","","","","","","","","","","","","","","","","","","","","","","","","","","","","","","","","","","","","","","","","","","","","","","","","","","","","","","","","","",null,null,null,null,null,null,null,null,"offfarm","vitaminer og mineraler",0,0,0,null,null,{"$f":"'background data'!$G$10","v":0.47300000000000003},{"$f":"'background data'!$H$10","v":0.13},{"$f":"'background data'!$J$10","v":0.39100000000000001},{"$f":"'background data'!$L$10","v":5.5E-2},{"$f":"'background data'!$M$10","v":3.97},{"$f":"'background data'!$N$10","v":4.5999999999999999E-3},{"$f":"'background data'!$O$10","v":2.73}]
[46800,468,0,"KOBBERSULFAT 100%-opløsning","2010-05-12",-0.112682926829268,-0.108,70,70,0,1,99,0,0,99,0,null,0,0,0,0,0,0,null,0,0,0,0,0,0,0,0,252525.25252525252,0,0,0,0,null,0,0,0,0,0,0,0,0,0,0,0,null,1,1,1,1,1,1,1,1,1,1,1,null,0,0,100,0,null,0,0,-0.11382113821138182,-0.10909090909090909,null,0,0,0," "," "," "," ",null,0,0,0,0,0,0,0,null,0,250000,0,0,0,0,0,0,0,0,0,0,0,0,0,0,0,0,0,0,0,0,0,0,0,0,0,0,0,0,0,0,0,0,0,0,0,0,"","","","","","","","","","","","","","","","","","","","","","","","","","","","","","","","","","","","","","","","","","","","","","","","","","","","","","","","","","","","","","","","","","","","","","","","","","","","","","","","","","","","","","","","","","","","","","",null,null,null,null,null,null,null,null,"offfarm","vitaminer og mineraler",0,0,0,null,null,{"$f":"'background data'!$G$10","v":0.47300000000000003},{"$f":"'background data'!$H$10","v":0.13},{"$f":"'background data'!$J$10","v":0.39100000000000001},{"$f":"'background data'!$L$10","v":5.5E-2},{"$f":"'background data'!$M$10","v":3.97},{"$f":"'background data'!$N$10","v":4.5999999999999999E-3},{"$f":"'background data'!$O$10","v":2.73}]
[59000,590,0,"KOKOSKAGE, FEDTRIG","2016-11-21",0.91104604223451402,0.98957134226747301,75.2,53,85,1,92.9,20.299999837000001,12.700000405999999,6.3999999120000002,11.999999835000001,null,68,35,35,35,35,35,null,1.4,5.599999999999989,0.75349999999999895,0,22.927880000000002,3.4,0,356,25,109,57,0,0.11,null,2.89,1.51,1.59,3.23,0.83,3.59,6.64,2,4.6500000000000004,2.64,5.26,null,1,1,1,1,1,1,1,1,1,1,1,null,21.851452999999999,13.670613999999999,6.8891280000000004,12.917115000000001,null,10,13.670613999999999,0.98067388830410551,1.0652005837109504,null,931.10871999999995,73.446099568571469,295.29447977142951," "," ",88.079594153657041,401.2514844777707,null,1.3006,5.2023999999999901,0.70000149999999906,0,21.300000520000001,3.1586000000000003,0,null,330.72399999999999,23.225000000000001,101.26100000000001,52.953000000000003,0,0.10219,138.03999889159999,151.51813683645514,4.3788741545735537,2.2879238662304728,2.4091383756996372,4.6970622419301096,4.8940358198175016,1.2576005357425779,5.43950111242874,10.060804285940623,3.0303627367291028,7.0455933628951648,4.0000788124824158,11.045672175377536,7.9698539975975411,0,0,0,0,0,0,0,0,0,0,0,0,0,0,0,0,0,"2.4.1","","","","","","","","","","","","","","","","","","","","","","","","","","","","","","","","","","","","","","","","","","","","","","","","","","","","","","","","","","","","","","","","","","","","","","","","","","","","","","","","","","","","","","","","","","","","","",{"$f":"'background data'!$G$18","v":0.54099999999999993},{"$f":"'background data'!$H$18","v":0.11600000000000001},{"$f":"'background data'!$J$18","v":0.25},{"$f":"'background data'!$L$18","v":1.2999999999999999E-2},{"$f":"'background data'!$M$18","v":8.86},{"$f":"'background data'!$N$18","v":6.9299999999999995E-3},{"$f":"'background data'!$O$18","v":1.75},"as soybean cake","offfarm","kokoskage","Kvaliteten af kokoskage varierer, og kagerne kan være forurenede med sand og andre urenheder. Kokosfedt har et lavt jodtal, hvilket giver god kvalitet og konsistens af spæk i den slagtede gris. Proteinet i kokoskager har en lav fordøjelighed, hvorfor det ikke er en specielt velegnet råvare i svinefoder.\n\nKokoskage dyrkes hovedsagelig i Indonesien, Filippinerne, Fiji, Mexico og Afrika. Danmark importerer kokoskage fortrinsvis fra Indonesien.\n\nUd fra forsøg og generel erfaring vurderes det, at kokoskage, fedtrig kan bruges i henhold til følgende kilder: [53], [60], [61].\n\nIndholdet af opløselige og uopløselige fibre er beregnet, se versionsbeskrivelsen for 3. juni 2016\n","Kokoskage kan indeholde aflatoksin B1. Ifølge bekendtgørelsen [1], må der maksimalt være 0,02 mg aflatoksin B1 pr. kg ublandet foderstof. Dårlig opbevaring af kokoskage efter olieudvinding af kokosfedt samt lang transport fra leverandør til modtager kan give problemer med harskning og vækst af skimmelsvampe med efterfølgende dannelse af toksin, primært aflatoksin. Kokoskage har samtidig høj risiko for indhold af foderbåren Salmonella.\n\nEt forsøg viser, at søer, der fik et foder med 20 procent kokoskage fik 0,3 flere levendefødte grise pr. kuld end i kontrolgruppen, og søernes sundhed var ikke påvirket af kokoskagerne [60].\n\nSvineri og tjæreagtig diarré kan skyldes, at foderets totale indhold af protein er højt, som følge af en lav fordøjelighed af proteinet i kokoskager. Reducer eller undgå brug af kokoskager i svinefoder.\n","Kokoskage skal opbevares tørt \nHos hjemmeblandere af svinefoder kræves en stenfælde eller forknuser før formaling/valsning af kokoskage. \nKokoskage danner let bro under udtagning fra silo, og dermed kan der opstå problemer med at få råvaren ud af en silo. Der kræves derfor et stort sugehoved under silo ved sugetransport fra hammermølle.\nDer er ingen problemer ved håndtering og transport af kokoskage som løsvare.\n\n\n",null,null,{"$f":"'background data'!$G$18","v":0.54099999999999993},{"$f":"'background data'!$H$18","v":0.11600000000000001},{"$f":"'background data'!$J$18","v":0.25},{"$f":"'background data'!$L$18","v":1.2999999999999999E-2},{"$f":"'background data'!$M$18","v":8.86},{"$f":"'background data'!$N$18","v":6.9299999999999995E-3},{"$f":"'background data'!$O$18","v":1.75},"as soybean cake"]
[72000,720,0,"KOLBEMAJS","2010-05-04"," "," "," "," "," "," ",88," "," "," "," ",null," "," "," "," "," "," ",null," "," ",0.3," "," "," "," "," "," "," "," "," "," ",null," "," "," "," "," "," "," "," "," "," "," ",null,1,1,1,1,1,1,1,1,1,1,1,null," "," "," "," ",null," "," "," "," ",null," "," "," "," "," "," "," ",null," "," ",0.26400000000000001," "," "," "," ",null," "," "," "," "," "," "," "," "," "," "," "," "," "," "," "," "," "," "," "," "," "," ",0,0," "," "," "," "," "," "," "," "," "," "," "," "," "," ","1.2.5","","","","","","","","","","","","","","","","","","","","","","","","","","","","","","","","","","","","","","","","","","","","","","","","","","","","","","","","","","","","","","","","","","","","","","","","","","","","","","","","","","","","","","","","","","","","","",{"$f":"'background data'!$G$15","v":0.221},{"$f":"'background data'!$H$15","v":6.7000000000000004E-2},{"$f":"'background data'!$J$15","v":0.20100000000000001},{"$f":"'background data'!$L$15","v":1.4999999999999999E-2},{"$f":"'background data'!$M$15","v":1.74},{"$f":"'background data'!$N$15","v":2.3999999999999998E-3},{"$f":"'background data'!$O$15","v":1.41},"as maize silage","offfarm","kolbemajs",0,0,0,null,null,{"$f":"'background data'!$G$15","v":0.221},{"$f":"'background data'!$H$15","v":6.7000000000000004E-2},{"$f":"'background data'!$J$15","v":0.20100000000000001},{"$f":"'background data'!$L$15","v":1.4999999999999999E-2},{"$f":"'background data'!$M$15","v":1.74},{"$f":"'background data'!$N$15","v":2.3999999999999998E-3},{"$f":"'background data'!$O$15","v":1.41},"as maize silage"]
[57000,570,0,"KORNBÆRME, tørret (DDGS)","2016-11-21",0.89844327476293095,0.92267383979221096,71.3,67.800025599999998,83,1,88.8,28.7712,6.66,4.8840000000000003,6.66,null,62.583559999999999,0,0,0,0,0,null,1.1000000000000001,8.4,3.9845047039291557,0,9.8505810736026582,2.8998339789706757,0,113.38129496402927,11.765356945213066,64.814609850581093,72.307692307692349,0,0.05,null,1.9327456741756399,1.5638263140711699,1.8641854391119801,3.02317988899771,1.1394058112961101,3.1929480901077301,5.9092393078681003,2.01436500163239,4.2442050277505698,2.8207639569049898,3.8850799869408998,null,1,1.1000000000000001,1.04,1.03,1.04,1.07,1.08,1.1499999999999999,1.1299999999999999,1.1399999999999999,1.04,null,32.4,7.5,5.5000000000000009,7.5,null,105,78.750000000000014,1.0117604445528503,1.0390471168831206,null,945,258.94499999999999,47.249654400000004,35," ",15.668100000000001,245.46690000000001,null,0.97680000000000011,7.4592000000000001,3.5382401770890901,0,8.7473159933591607,2.5750525733259599,0,null,100.68258992805799,10.447636967349203,57.555373547316009,64.209230769230814,0,4.4400000000000002E-2,180.0604121472,200.41377926136951,3.8734886491260498,3.4475357588251794,3.8855278706030703,7.3330636294282492,6.24063514149229,2.3748672974438896,6.847045492845302,12.790364208296623,4.6426247820732947,9.6117480161590354,6.4446476010864533,16.056395617245478,8.0976850543216106,0,0,0,0,0,0,0,0,0,0,0,0,0,0,0,0,0,"1.12.10",15,15,15,15,15,15,15,"",15,15,7,6,5,7,6,5,5,5,5,5,5,4,4,12,"",9,13,"",9,8,9,9,"","",0.8,0.8,0.6,0.2,0.4,0.6,0.7,"",1.2,1.5,0.62222222222222223,0.6333333333333333,0.5444444444444444,1.0777777777777777,1.1777777777777778,2.4333333333333331,6.5555555555555554,0.6333333333333333,4.0111111111111111,1.8777777777777778,3.4777777777777774,0.14000000000000001,0.74,1,"",3.3555555555555556,0.22222222222222224,"",7.8555555555555561,1.5666666666666664,9.1777777777777771,8.9777777777777779,"","",2016,2016,2016,2016,2016,2016,2016,"",2016,2016,2013,2013,2013,2013,2013,2013,2013,2013,2013,2013,2013,2016,2016,2013,"",{"$f":"'background data'!$G$10","v":0.47300000000000003},{"$f":"'background data'!$H$10","v":0.13},{"$f":"'background data'!$J$10","v":0.39100000000000001},{"$f":"'background data'!$L$10","v":5.5E-2},{"$f":"'background data'!$M$10","v":3.97},{"$f":"'background data'!$N$10","v":4.5999999999999999E-3},{"$f":"'background data'!$O$10","v":2.73},"as barley","offfarm","kornbærme, tørret","Restprodukt fra bioethanolproduktionen.\n\nIndholdet af opløselige og uopløselige fibre er beregnet, se versionsbeskrivelsen for 3. juni 2016","Der er MEGET STOR VARIATION i næringsindholdet mellem partier af kornbærme! Eksempel: Standardafvigelsen i forhold til middelværdien (CV) på aminosyrer går fra ca. 10 pct. for lysin til 30 pct. for tryptofan og valin.\n\nIndholdet i bærme varierer meget alt efter, hvilken kornart og hvilken fabrik det kommer fra: Da der er forskellige behandlingsprocessor i forbindelse med fremstilling af  bioethanol, er der også forskel på restproduktet. På længere sigt er det intentionen at få fastlagt en analyseprofil pr. oprindelse/leverandør, da der givetvis vil forekomme spredning herpå mellem de forskellige procesanlæg, også som naturlig konsekvens af hvilken/hvilke kornarter, der danner basis for ethanolproduktionen på anlægget hen over tid.",0,null,null,{"$f":"'background data'!$G$10","v":0.47300000000000003},{"$f":"'background data'!$H$10","v":0.13},{"$f":"'background data'!$J$10","v":0.39100000000000001},{"$f":"'background data'!$L$10","v":5.5E-2},{"$f":"'background data'!$M$10","v":3.97},{"$f":"'background data'!$N$10","v":4.5999999999999999E-3},{"$f":"'background data'!$O$10","v":2.73},"as barley"]
[74500,745,0,"KORNHALM, Byg","2010-05-12",-0.14585505226480799,3.9425760667903598E-2,15,7,7,1,90,3.6,1.71,4.05,40.68,null,-147.39427142857099,37,37,37,37,37,null,4.5999999999999996,0.9,1.4,17,20,0.9,1.1000000000000001,470,3,30,147,0,4.9999999999999996E-2,null,3.09,1.34,1.26,3.42,0.24,2.82,4.82,1.06,3.24,2.0299999999999998,3.78,null,1,1,1,1,1,1,1,1,1,1,1,null,4,1.9,4.5,45.2,null,0,0,-0.16206116918312,4.3806400742115108E-2,null,955,-20.722857142857112,109.142857142857,201,22.254339999999999," "," ",null,4.1399999999999997,0.81,1.26,15.3,18,0.81,0.9900000000000001,null,423,2.7,27,132.30000000000001,0,4.4999999999999998E-2,-53.061937714285698,363.79910664972226,11.241392395476431,4.8749080291062903,4.5838687437865016,9.4587767728927918,12.441929447420495,0.87311785595933578,10.259134807522191,17.535116940516609,3.8562705304870666,11.787091055451025,7.3851218649893635,19.172212920440387,13.751606231359505,0,0,0,0,0,0,0,0,0,0,0,0,0,0,0,0,0,"6.3.1","","","","","","","","","","","","","","","","","","","","","","","","","","","","","","","","","","","","","","","","","","","","","","","","","","","","","","","","","","","","","","","","","","","","","","","","","","","","","","","","","","","","","","","","","","","","","",{"$f":"'background data'!$G$11","v":6.0999999999999999E-2},{"$f":"'background data'!$H$11","v":1.2E-2},{"$f":"'background data'!$J$11","v":3.6999999999999998E-2},{"$f":"'background data'!$L$11","v":5.0000000000000001E-3},{"$f":"'background data'!$M$11","v":0.3},{"$f":"'background data'!$N$11","v":4.0000000000000002E-4},{"$f":"'background data'!$O$11","v":0.26},null,"offfarm","halm","Halm er tørrede stængler, blade og avner af korn. Hvede og byg dyrkes i stor udstrækning i Danmark, hvoraf restproduktet af begge kornsorter laves til halm.\n\nHalm består næsten udelukkende af tungtopløselige cellevægsstoffer. Indholdet af næringsstoffer, vitaminer og mineraler er med undtagelse af kalcium generelt lavt.\n\nFoderdata stammer fra følgende kilder [106], [107], [108].\n","Søer, gylte, polte og slagtesvin, der fodres med fint formalet eller pelleteret foder, har øget risiko for at udvikle maveforandringer (forhorninger, sår og ar i den hvide del af maven, forsnævret spiserørsåbning), hvilket kan give reduceret vækst og utrivelighed. Maveforandringer kan bl.a. forebygges ved at tildele strukturfoder som fx frisk halm [109], [110]. Undersøgelser har dog også vist, at halm ikke har nogen indflydelse på maveindholdets konsistens og dermed maveforandringer [111], [112].\n\nHalm kan indeholde betydelige mængder skimmelsvampe af Fusarium-familien. Disse skimmelsvampe kan danne en lang række forskellige toksiner, som kan give forskellige symptomer på forgiftning [113]. \nHalm, som indeholder svampetoksiner, kan ikke afgiftes og bør derfor kasseres eller fortyndes med halm uden svampetoksiner.\n","Halm bør opbevares tørt og er lagerfast fra omkring 85 % tørstof. Der er ingen speciele forhold, der gør sig gældende omkring håndtering og transport af halm.",null,null,{"$f":"'background data'!$G$11","v":6.0999999999999999E-2},{"$f":"'background data'!$H$11","v":1.2E-2},{"$f":"'background data'!$J$11","v":3.6999999999999998E-2},{"$f":"'background data'!$L$11","v":5.0000000000000001E-3},{"$f":"'background data'!$M$11","v":0.3},{"$f":"'background data'!$N$11","v":4.0000000000000002E-4},{"$f":"'background data'!$O$11","v":0.26}]
[74600,746,0,"KORNHALM, Hvede","2010-05-12",-0.14555395470383301,4.2341643784786699E-2,15,7,7,1,90,2.97,1.71,2.79,40.770000000000003,null,-182.00457142857101,37,37,37,37,37,null,3.6,0.9,9.9999999999999992E-2,9.5,15,0.9,0.9,291,3,35,46,0,4.9999999999999996E-2,null,3.38,1.26,1.26,2.46,0.24,1.84,3.38,1.06,3.24,2.0299999999999998,2.76,null,1,1,1,1,1,1,1,1,1,1,1,null,3.3000000000000003,1.9,3.1,45.300000000000004,null,0,0,-0.16172661633759222,4.7046270871985221E-2,null,969,-13.852857142857111,110.74285714285699,201,22.254339999999999," "," ",null,3.24,0.81,0.09,8.5500000000000007,13.5,0.81,0.81,null,261.90000000000003,2.7,31.5,41.4,0,4.4999999999999998E-2,-54.055357714285698,371.37677106936218,12.552534862144464,4.6793473154739642,4.6793473154739642,9.3586946309479284,9.1358685683063214,0.89130425056647145,6.8333325876762787,12.552534862144464,3.9365937733352427,12.032607382647358,7.5389484527080537,19.571555835355412,10.249998881514427,0,0,0,0,0,0,0,0,0,0,0,0,0,0,0,0,0,"6.3.1","","","","","","","","","","","","","","","","","","","","","","","","","","","","","","","","","","","","","","","","","","","","","","","","","","","","","","","","","","","","","","","","","","","","","","","","","","","","","","","","","","","","","","","","","","","","","",{"$f":"'background data'!$G$11","v":6.0999999999999999E-2},{"$f":"'background data'!$H$11","v":1.2E-2},{"$f":"'background data'!$J$11","v":3.6999999999999998E-2},{"$f":"'background data'!$L$11","v":5.0000000000000001E-3},{"$f":"'background data'!$M$11","v":0.3},{"$f":"'background data'!$N$11","v":4.0000000000000002E-4},{"$f":"'background data'!$O$11","v":0.26},"as barley straw","offfarm","halm","Halm er tørrede stængler, blade og avner af korn. Hvede og byg dyrkes i stor udstrækning i Danmark, hvoraf restproduktet af begge kornsorter laves til halm.\n\nHalm består næsten udelukkende af tungtopløselige cellevægsstoffer. Indholdet af næringsstoffer, vitaminer og mineraler er med undtagelse af kalcium generelt lavt.\n\nFoderdata stammer fra følgende kilder [106], [107], [108].\n","Søer, gylte, polte og slagtesvin, der fodres med fint formalet eller pelleteret foder, har øget risiko for at udvikle maveforandringer (forhorninger, sår og ar i den hvide del af maven, forsnævret spiserørsåbning), hvilket kan give reduceret vækst og utrivelighed. Maveforandringer kan bl.a. forebygges ved at tildele strukturfoder som fx frisk halm [109], [110]. Undersøgelser har dog også vist, at halm ikke har nogen indflydelse på maveindholdets konsistens og dermed maveforandringer [111], [112].\n\nHalm kan indeholde betydelige mængder skimmelsvampe af Fusarium-familien. Disse skimmelsvampe kan danne en lang række forskellige toksiner, som kan give forskellige symptomer på forgiftning [113]. \nHalm, som indeholder svampetoksiner, kan ikke afgiftes og bør derfor kasseres eller fortyndes med halm uden svampetoksiner.\n","Halm bør opbevares tørt og er lagerfast fra omkring 85 % tørstof. Der er ingen speciele forhold, der gør sig gældende omkring håndtering og transport af halm.",null,null,{"$f":"'background data'!$G$11","v":6.0999999999999999E-2},{"$f":"'background data'!$H$11","v":1.2E-2},{"$f":"'background data'!$J$11","v":3.6999999999999998E-2},{"$f":"'background data'!$L$11","v":5.0000000000000001E-3},{"$f":"'background data'!$M$11","v":0.3},{"$f":"'background data'!$N$11","v":4.0000000000000002E-4},{"$f":"'background data'!$O$11","v":0.26},"as barley straw"]
[73200,732,0,"KORNPLANTER, Helsæd af Byg, gns.","2010-05-12",0.245591569802555,0.26750605488979601,67.2,57.2,75,1,32.1,3.5952000000000002,0.64200000000000002,1.8297000000000001,6.9336000000000002,null,47.7444581632653,37,37,37,37,37,null,3.1999999999999997,2.9,0.6,0,16.5,1.2,0,57.999999999999993,5.8,25,54,0,0.04,null,2.64,1.7,1.21,3.24,0,3.73,6.3,0.96,5.07,8.7799999999999994,4.67,null,1,1,1,1,1,1,1,1,1,1,1,null,11.2,2,5.7,21.6,null,120,23.999999999999996,0.76508277197057628,0.83335219591836762,null,942.99999999999989,377.66171428571334,134.71428571428598,228,17.999999999999996," "," ",null,1.0271999999999999,0.93089999999999995,0.19259999999999999,0,5.2965,0.38519999999999999,0,null,18.617999999999999,1.8617999999999999,8.0250000000000004,17.334,0,1.2840000000000001E-2,17.165087598857099,69.892820884108872,1.8451704713404724,1.1881779550298521,0.8457031326977178,2.0338810877275741,2.2645273966451396,0,2.6070022189772577,4.4032477156988703,0.67097108048744869,3.5435660188243285,6.1365896736247869,9.6801556924490875,3.2639947352878944,0,0,0,0,0,0,0,0,0,0,0,0,0,0,0,0,0,"6.2.1","","","","","","","","","","","","","","","","","","","","","","","","","","","","","","","","","","","","","","","","","","","","","","","","","","","","","","","","","","","","","","","","","","","","","","","","","","","","","","","","","","","","","","","","","","","","","",{"$f":"'background data'!$G$16","v":0.30099999999999999},{"$f":"'background data'!$H$16","v":9.4E-2},{"$f":"'background data'!$J$16","v":0.27200000000000002},{"$f":"'background data'!$L$16","v":2.8000000000000001E-2},{"$f":"'background data'!$M$16","v":2.2999999999999998},{"$f":"'background data'!$N$16","v":3.2000000000000002E-3},{"$f":"'background data'!$O$16","v":1.91},null,"offfarm","kornplanter, helsæd af byg","Helsæd er betegnelsen for en afgrøde af byg, hvede eller ærter høstet før modenhed. Byg og hvede ensileres i renbestand, mens ærter ofte blandes med byg eller hvede. Afgrøder til ensilage dyrkes efter samme retningslinier som afgrøderne ved alm.brug.\nHelsæd høstes når kerneindholdet er dejagtigt - ca. 5-6 uger efter begyndende skridning. Helsæd skal snittes i 2-4 cm længde.\nGenerelt gælder det, at indholdet af næringsstoffer i ensilage varierer en del. Indgår ensilage som en væsentlig del af foderrationen bør ensilagen derfor analyseres for indhold af næringsstoffer.\nEnsilage er et godt strukturfoder til løsgående drægtige søer. Ensilage bør ikke bruges i stier med spaltegulv. Ærtehelsæd øger søernes ædelyst.\nUd fra generel erfaring vurderes det, at ensilage kan bruges i henhold til følgende kilder: [103], [104], [105].","Søer kan i drægtighedsperioden komme i dårligt huld, hvis energiindholdet i ensilagen er for lavt. Dette kan løse ved at sætte en højere stub ved høst af helsæd eller reducere mængden af helsædsensilage i blandingen.","Ensilage kan opbevares i markstak, plansilo, silowarp eller ensileringssække.\nHåndtering og transport af ensilage \nDer skal fjernes 20 cm af stakken dagligt. Der skal bruges en siloklo ved udtagning af majsensilage fra stakken. Majsensilage skal blandes med tilskudsfoder i en blandevogn før udfodring.",null,null,{"$f":"'background data'!$G$16","v":0.30099999999999999},{"$f":"'background data'!$H$16","v":9.4E-2},{"$f":"'background data'!$J$16","v":0.27200000000000002},{"$f":"'background data'!$L$16","v":2.8000000000000001E-2},{"$f":"'background data'!$M$16","v":2.2999999999999998},{"$f":"'background data'!$N$16","v":3.2000000000000002E-3},{"$f":"'background data'!$O$16","v":1.91}]
[73000,730,0,"KORNPLANTER, Helsæd af Byg-Ært, gns.","2010-05-12",0.22381864854336,0.243616201961039,67.510000000000005,57.5,75,1,29.5,3.9235000000000002,0.59,1.9175,6.5194999999999999,null,52.253000751879704,37,37,37,37,37,null,5.6,2.9,0.6,0,17.600000000000001,1.4,0,58,6.2,29,52,0,0.04,null,2.93,1.3,0.89,2.71,0,3.92,6.1,1.29,4.18,5.66,4.83,null,1,1,1,1,1,1,1,1,1,1,1,null,13.3,2,6.5,22.099999999999998,null,0,0,0.75870728319783054,0.82581763376623396,null,935,357.08349999999996,133.70499999999998,201,22.254339999999999," "," ",null,1.6519999999999999,0.85549999999999993,0.17699999999999999,0,5.1920000000000002,0.41299999999999998,0,null,17.11,1.829,8.5549999999999997,15.34,0,1.18E-2,20.501464845000001,91.598555251879674,2.6838376688800838,1.1907812182744357,0.81522714174172906,2.0060083600161738,2.4823208473259393,0,3.5906633658736746,5.5875118703646605,1.1816213627492478,3.828819609528566,5.1844782272563901,9.0132978367849592,4.4242102186657881,0,0,0,0,0,0,0,0,0,0,0,0,0,0,0,0,0,"6.2.1","","","","","","","","","","","","","","","","","","","","","","","","","","","","","","","","","","","","","","","","","","","","","","","","","","","","","","","","","","","","","","","","","","","","","","","","","","","","","","","","","","","","","","","","","","","","","",{"$f":"'background data'!$G$16","v":0.30099999999999999},{"$f":"'background data'!$H$16","v":9.4E-2},{"$f":"'background data'!$J$16","v":0.27200000000000002},{"$f":"'background data'!$L$16","v":2.8000000000000001E-2},{"$f":"'background data'!$M$16","v":2.2999999999999998},{"$f":"'background data'!$N$16","v":3.2000000000000002E-3},{"$f":"'background data'!$O$16","v":1.91},"as barley silage","offfarm","kornplanter, helsæd af byg-ært","Helsæd er betegnelsen for en afgrøde af byg, hvede eller ærter høstet før modenhed. Byg og hvede ensileres i renbestand, mens ærter ofte blandes med byg eller hvede. Afgrøder til ensilage dyrkes efter samme retningslinier som afgrøderne ved alm.brug.\nHelsæd høstes når kerneindholdet er dejagtigt - ca. 5-6 uger efter begyndende skridning. Helsæd skal snittes i 2-4 cm længde.\nGenerelt gælder det, at indholdet af næringsstoffer i ensilage varierer en del. Indgår ensilage som en væsentlig del af foderrationen bør ensilagen derfor analyseres for indhold af næringsstoffer.\nEnsilage er et godt strukturfoder til løsgående drægtige søer. Ensilage bør ikke bruges i stier med spaltegulv. Ærtehelsæd øger søernes ædelyst.\nUd fra generel erfaring vurderes det, at ensilage kan bruges i henhold til følgende kilder: [103], [104], [105].","Søer kan i drægtighedsperioden komme i dårligt huld, hvis energiindholdet i ensilagen er for lavt. Dette kan løse ved at sætte en højere stub ved høst af helsæd eller reducere mængden af helsædsensilage i blandingen.","Ensilage kan opbevares i markstak, plansilo, silowarp eller ensileringssække.\nHåndtering og transport af ensilage \nDer skal fjernes 20 cm af stakken dagligt. Der skal bruges en siloklo ved udtagning af majsensilage fra stakken. Majsensilage skal blandes med tilskudsfoder i en blandevogn før udfodring.",null,null,{"$f":"'background data'!$G$16","v":0.30099999999999999},{"$f":"'background data'!$H$16","v":9.4E-2},{"$f":"'background data'!$J$16","v":0.27200000000000002},{"$f":"'background data'!$L$16","v":2.8000000000000001E-2},{"$f":"'background data'!$M$16","v":2.2999999999999998},{"$f":"'background data'!$N$16","v":3.2000000000000002E-3},{"$f":"'background data'!$O$16","v":1.91},"as barley silage"]
[73300,733,0,"KORNPLANTER, Helsæd af Hvede, gns.","2010-05-12",0.29852687704219899,0.32546666627087201,66.900000000000006,56.9,75,1,38.799999999999997,3.7248000000000001,0.77600000000000002,1.94,8.4971999999999994,null,42.923705357142801,37,37,37,37,37,null,2.6,2.4000000000000004,0.5,0,12.400000000000002,1,0,58.000000000000007,5.1000000000000005,30.000000000000004,41,0,4.0000000000000008E-2,null,2.54,1,0.91,2.39,0,2.74,4.7,1.68,2.74,1.1599999999999999,3.55,null,1,1,1,1,1,1,1,1,1,1,1,null,9.6000000000000014,2,5,21.9,null,105,21,0.76939916763453353,0.8388316141001857,null,950.00000000000011,393.07571428571396,135.71428571428609,250.00000000000003,20," "," ",null,1.0087999999999999,0.93120000000000003,0.19399999999999998,0,4.8112000000000004,0.38799999999999996,0,null,22.504000000000001,1.9787999999999999,11.64,15.907999999999998,0,1.5520000000000001E-2,15.9882217714286,53.557059685344669,1.3603493160077531,0.53557059685344333,0.4873692431366356,1.0229398399900789,1.2800137264797291,0,1.467463435378435,2.5171818052111883,0.89975860271378871,1.467463435378435,0.62126189234999563,2.0887253277284374,1.9012756188297315,0,0,0,0,0,0,0,0,0,0,0,0,0,0,0,0,0,"6.2.1","","","","","","","","","","","","","","","","","","","","","","","","","","","","","","","","","","","","","","","","","","","","","","","","","","","","","","","","","","","","","","","","","","","","","","","","","","","","","","","","","","","","","","","","","","","","","",{"$f":"'background data'!$G$16","v":0.30099999999999999},{"$f":"'background data'!$H$16","v":9.4E-2},{"$f":"'background data'!$J$16","v":0.27200000000000002},{"$f":"'background data'!$L$16","v":2.8000000000000001E-2},{"$f":"'background data'!$M$16","v":2.2999999999999998},{"$f":"'background data'!$N$16","v":3.2000000000000002E-3},{"$f":"'background data'!$O$16","v":1.91},"as barley silage","offfarm","kornplanter, helsæd af hvede","Helsæd er betegnelsen for en afgrøde af byg, hvede eller ærter høstet før modenhed. Byg og hvede ensileres i renbestand, mens ærter ofte blandes med byg eller hvede. Afgrøder til ensilage dyrkes efter samme retningslinier som afgrøderne ved alm.brug.\nHelsæd høstes når kerneindholdet er dejagtigt - ca. 5-6 uger efter begyndende skridning. Helsæd skal snittes i 2-4 cm længde.\nGenerelt gælder det, at indholdet af næringsstoffer i ensilage varierer en del. Indgår ensilage som en væsentlig del af foderrationen bør ensilagen derfor analyseres for indhold af næringsstoffer.\nEnsilage er et godt strukturfoder til løsgående drægtige søer. Ensilage bør ikke bruges i stier med spaltegulv. Ærtehelsæd øger søernes ædelyst.\nUd fra generel erfaring vurderes det, at ensilage kan bruges i henhold til følgende kilder: [103], [104], [105].","Søer kan i drægtighedsperioden komme i dårligt huld, hvis energiindholdet i ensilagen er for lavt. Dette kan løse ved at sætte en højere stub ved høst af helsæd eller reducere mængden af helsædsensilage i blandingen.","Ensilage kan opbevares i markstak, plansilo, silowarp eller ensileringssække.\nHåndtering og transport af ensilage \nDer skal fjernes 20 cm af stakken dagligt. Der skal bruges en siloklo ved udtagning af majsensilage fra stakken. Majsensilage skal blandes med tilskudsfoder i en blandevogn før udfodring.",null,null,{"$f":"'background data'!$G$16","v":0.30099999999999999},{"$f":"'background data'!$H$16","v":9.4E-2},{"$f":"'background data'!$J$16","v":0.27200000000000002},{"$f":"'background data'!$L$16","v":2.8000000000000001E-2},{"$f":"'background data'!$M$16","v":2.2999999999999998},{"$f":"'background data'!$N$16","v":3.2000000000000002E-3},{"$f":"'background data'!$O$16","v":1.91},"as barley silage"]
[73400,734,0,"KORNPLANTER, Helsæd af Ært, gns.","2010-05-12",0.21759558183314001,0.23596281126159599,68.45,58.5,75,1,29,4.8719999999999999,0.57999999999999996,2.4649999999999999,6.38,null,57.492588010204102,37,37,37,37,37,null,9.2000000000000011,3.2,0.49999999999999994,0,18.7,1.8,0,58,7.3999999999999995,31,62,0,3.9999999999999994E-2,null,3.2,0.93,0.6,2.21,0,4.0999999999999996,5.9,1.59,3.35,2.75,4.97,null,1,1,1,1,1,1,1,1,1,1,1,null,16.8,1.9999999999999998,8.5,22,null,130,26,0.75032959252806897,0.81366486641929647,null,915.00000000000011,323.97678571428588,130.06071428571414,150,27," "," ",null,2.6680000000000001,0.92799999999999994,0.14499999999999996,0,5.4229999999999992,0.52200000000000002,0,null,16.82,2.1459999999999999,8.99,17.98,0,1.1599999999999997E-2,28.010388878571401,128.72682727561426,4.1192584728196566,1.1971594936632124,0.77236096365368823,1.9695204573169007,2.8448628827910798,0,5.2777999183001958,7.5948828092612288,2.0467565536822701,4.3123487137330914,3.5399877500793897,7.85233646381249,6.397723315598034,0,0,0,0,0,0,0,0,0,0,0,0,0,0,0,0,0,"6.2.1","","","","","","","","","","","","","","","","","","","","","","","","","","","","","","","","","","","","","","","","","","","","","","","","","","","","","","","","","","","","","","","","","","","","","","","","","","","","","","","","","","","","","","","","","","","","","",{"$f":"'background data'!$G$16","v":0.30099999999999999},{"$f":"'background data'!$H$16","v":9.4E-2},{"$f":"'background data'!$J$16","v":0.27200000000000002},{"$f":"'background data'!$L$16","v":2.8000000000000001E-2},{"$f":"'background data'!$M$16","v":2.2999999999999998},{"$f":"'background data'!$N$16","v":3.2000000000000002E-3},{"$f":"'background data'!$O$16","v":1.91},"as barley silage","offfarm","kornplanter, helsæd af ært","Helsæd er betegnelsen for en afgrøde af byg, hvede eller ærter høstet før modenhed. Byg og hvede ensileres i renbestand, mens ærter ofte blandes med byg eller hvede. Afgrøder til ensilage dyrkes efter samme retningslinier som afgrøderne ved alm.brug.\nHelsæd høstes når kerneindholdet er dejagtigt - ca. 5-6 uger efter begyndende skridning. Helsæd skal snittes i 2-4 cm længde.\nGenerelt gælder det, at indholdet af næringsstoffer i ensilage varierer en del. Indgår ensilage som en væsentlig del af foderrationen bør ensilagen derfor analyseres for indhold af næringsstoffer.\nEnsilage er et godt strukturfoder til løsgående drægtige søer. Ensilage bør ikke bruges i stier med spaltegulv. Ærtehelsæd øger søernes ædelyst.\nUd fra generel erfaring vurderes det, at ensilage kan bruges i henhold til følgende kilder: [103], [104], [105].","Søer kan i drægtighedsperioden komme i dårligt huld, hvis energiindholdet i ensilagen er for lavt. Dette kan løse ved at sætte en højere stub ved høst af helsæd eller reducere mængden af helsædsensilage i blandingen.","Ensilage kan opbevares i markstak, plansilo, silowarp eller ensileringssække.\nHåndtering og transport af ensilage \nDer skal fjernes 20 cm af stakken dagligt. Der skal bruges en siloklo ved udtagning af majsensilage fra stakken. Majsensilage skal blandes med tilskudsfoder i en blandevogn før udfodring.",null,null,{"$f":"'background data'!$G$16","v":0.30099999999999999},{"$f":"'background data'!$H$16","v":9.4E-2},{"$f":"'background data'!$J$16","v":0.27200000000000002},{"$f":"'background data'!$L$16","v":2.8000000000000001E-2},{"$f":"'background data'!$M$16","v":2.2999999999999998},{"$f":"'background data'!$N$16","v":3.2000000000000002E-3},{"$f":"'background data'!$O$16","v":1.91},"as barley silage"]
[64900,649,0,"LUPIN, blå,","2016-05-30",0.73282595663956596,0.81494891532467395,90,55.7,90,1,79.400000000000006,27.7,5.3,3.4935999999999998,13.6568,null,88,50,54,55,56,57,null,3.1863979848866495,4.6221662468513847,9.9999999999999992E-2,0,11.799999999999999,2.2999999999999998,2.1,41.999999999999993,5,50,41.999999999999993,0,0.10999999999999999,null,4.6570397111913397,0.58844765342960303,0.94945848375451303,3.4259927797833898,0.8,3.95,6.74,2.6,3.85,3.93,3.79,null,0.99,0.95,0.97,0.95,0.98,0.98,0.98,1.02,0.99,0.97,0.94,null,34.886649874055415,6.6750629722921913,4.3999999999999995,17.2,null,116,77.43073047858941,0.92295460533950369,1.0263840243383802,null,955.99999999999989,9.7433753148615114,468.43999999999994," "," ",168.90186801007556,358.91646952141053,null,2.5299999999999998,3.6699999999999995,7.9399999999999998E-2,0,9.3691999999999993,1.8262,1.6674000000000002,null,33.347999999999999,3.97,39.700000000000003,33.347999999999999,0,8.7339999999999987E-2,243.76,332.63013924586085,15.335810499310066,1.8594865365422941,3.0634395242964461,4.9229260608387406,10.826090326249307,2.607820291687549,12.876112690207274,21.970885957467601,8.8213512928002302,12.678197757355985,12.68019353819146,25.358391295547445,11.850281340773037,0,0,0,0,0,0,0,0,0,0,0,0,0,0,0,0,0,"3.9.1","",4,4,4,"","","","","","",4,4,4,4,"",4,4,4,4,4,4,4,4,"","","","","","","","","","","","",0.56999999999999995,0.12,0.15,"","","","","","",0.17,0.02,0.02,0.13,"",0.18,0.17,0.1,0.13,0.24,0.21,0.25,0.21,"","","","","","","","","","","","",2013,2013,2013,"","","","","","",2013,2013,2013,2013,"",2013,2013,2013,2013,2013,2013,2013,2013,"","",{"$f":"'background data'!$G$20","v":0.14000000000000001},{"$f":"'background data'!$H$20","v":7.0000000000000007E-2},{"$f":"'background data'!$J$20","v":0.51702999999999999},{"$f":"'background data'!$L$20","v":2.1999999999999999E-2},{"$f":"'background data'!$M$20","v":0.72},{"$f":"'background data'!$N$20","v":1.2900000000000001E-3},{"$f":"'background data'!$O$20","v":3.47},"as faba beans","offfarm","lupin","Der findes tre arter af lupin, og deres dyrkningsegenskaber og foderværdi er noget forskellige:\n•Smalbladet blå lupin (L. angustifolius) \n•Gul lupin (L. luteus) \n•Hvid lupin (L. albus).\n\nI Europa dyrkes alle tre arter, men under danske forhold er der størst interesse for dyrkning af smalbladet blå lupin på grund af den tidlige modning. Gul lupin dyrkes hovedsagligt i Australien, og hvid lupin i Chile, Ægypten, Sydafrika og Østeuropa.\nUd fra forsøg og generel erfaring vurderes, at lupin kan bruges i henhold til følgende kilder: [170].\n\nIndholdet af opløselige og uopløselige fibre er beregnet, se versionsbeskrivelsen for 3. juni 2016","Fra naturens side har frø af lupin et højt indhold af alkaloider. Der er fremavlet sorter af gul, hvid og blå lupin, som har et lavt indhold af alkaloider. Sorter med under 0,03 procent alkaloider giver sandsynligvis ikke fodringsmæssige problemer. Et højere indhold af alkaloider betyder en bitter smag i foderet samt en lavere foderoptagelse. \nEn lav foderoptagelse eller evt. æde vægring skyldes et for højt indhold af alkaloider i foderet. Afhjælp problemet ved kun at bruge de fremavlede sorter af gul, hvid og blå lupin, som har et lavt indhold af alkaloider. Reducer indholdet af lupin i foderet.\n","Lupin opbevares tørt - lupin er lagerfast ved 89-90 procent tørstof. Ellers ingen specielle forhold.\nDer er ingen problemer forbundet med håndtering og transport af lupin som løsvare. ” \n",null,null,{"$f":"'background data'!$G$20","v":0.14000000000000001},{"$f":"'background data'!$H$20","v":7.0000000000000007E-2},{"$f":"'background data'!$J$20","v":0.51702999999999999},{"$f":"'background data'!$L$20","v":2.1999999999999999E-2},{"$f":"'background data'!$M$20","v":0.72},{"$f":"'background data'!$N$20","v":1.2900000000000001E-3},{"$f":"'background data'!$O$20","v":3.47},"as faba beans"]
[39102,391,2,"LYSIN 40% (60%hv klid)","2014-06-24",0.82085686269629399,0.83534318934878204,76.265766723279,73.657266811279797,96.111650485436897,1,92.2,47.576999999999998,2.4815999999999998,10.674936848,5.016,null,93.074973201336803,30,27,30,32,33,null,0.65899783080260299,5.6694143167028299,6.5896919739696302E-2,0,6.5284164859002161,2.1761388286334058,0,76.737527114967449,8.5900216919739698,62.993492407809107,55.548806941431565,0,2.8633405639913231E-2,null,67.775750047291794,0.316065325682578,0.39508165710322202,0.65188473422031601,0.276557159972255,0.65188473422031601,1.22475313701999,0.51360615423418898,0.77040923135128303,0.55311431994451099,0.94819597704773695,null,1.0701213419578,0.76753395451060902,0.72566846608275803,0.71869088467811604,0.72566846608275803,0.74660121029668303,0.75357879170132502,0.802421861533819,0.78846669872453501,0.79544428012917701,0.72566846608275803,null,51.601952277657261,2.6915401301518433,11.578022611713665,5.4403470715835143,null,0,0,0.89030028492005853,0.9060121359531258,null,884.21977388286325,145.72146790486443,32.949817176591537," "," ",16.607375271149674,240.52060737527114,null,0.60759600000000002,5.2272000000000096,6.0756959999999992E-2,0,6.0191999999999997,2.0064000000000002,0,null,70.751999999999995,7.9200000000000008,58.08,51.215999999999902,0,2.64E-2,442.82279999999997,539.46408944605298,391.26400691228577,1.3086906241745795,1.546634374024503,2.8553249981990825,2.5274087679371564,1.0826440618171509,2.6255605647502502,4.9789729656096506,2.2232869126602228,3.2769315799644159,2.3734889047529872,5.6504204847174035,3.711922497658819,0,0,0,0,0,0,0,0,0,0,0,0,0,0,0,0,0,"","","","","","","","","","","","","","","","","","","","","","","","","","","","","","","","","","","","","","","","","","","","","","","","","","","","","","","","","","","","","","","","","","","","","","","","","","","","","","","","","","","","","","","","","","","","","","",null,null,null,null,null,null,null,null,"offfarm","vitaminer og mineraler",0,0,0,null,null,{"$f":"'background data'!$G$10","v":0.47300000000000003},{"$f":"'background data'!$H$10","v":0.13},{"$f":"'background data'!$J$10","v":0.39100000000000001},{"$f":"'background data'!$L$10","v":5.5E-2},{"$f":"'background data'!$M$10","v":3.97},{"$f":"'background data'!$N$10","v":4.5999999999999999E-3},{"$f":"'background data'!$O$10","v":2.73}]
[99511,995,11,"LYSIN,L(sulfat) Vådfod  FK=75%","2015-10-02",1.0138184281842799,0.97168571428571504,100,100,100,1,96,82,0,19.2,0,null,75,0,0,0,0,0,null,0,1.875,3.2291666666666665,0,0,0,0,0,0,0,0,0,0,null,67.853658536585399,0.146341463414634,0.109756097560976,0.39024390243902402,0.15853658536585399,0.40243902439024398,0.53658536585365901,0,0,0,0.51219512195121997,null,1,0.85,0.85,0.85,0.85,0.85,0.85,0.85,0.85,0.85,0.85,null,85.416666666666671,0,20,0,null,0,0,1.0560608626919583,1.0121726190476199,null,800,22.708333333333439,0," "," "," "," ",null,0,1.7999999999999998,3.0999999999999996,0,0,0,0,null,0,0,0,0,0,0,615,606.61749964581679,411.61216683284448,0.75457298736430878,0.56592974052323353,1.3205027278875403,2.0121946329714899,0.81745406964466971,2.0750757152518489,2.7667676203357989,0,0,0,0,2.6410054557750806,0,0,0,0,0,0,0,0,0,0,0,0,0,0,0,0,0,"","","","","","","","","","","","","","","","","","","","","","","","","","","","","","","","","","","","","","","","","","","","","","","","","","","","","","","","","","","","","","","","","","","","","","","","","","","","","","","","","","","","","","","","","","","","","","",null,null,null,null,null,null,null,null,"offfarm","vitaminer og mineraler","","","",null,null,{"$f":"'background data'!$G$10","v":0.47300000000000003},{"$f":"'background data'!$H$10","v":0.13},{"$f":"'background data'!$J$10","v":0.39100000000000001},{"$f":"'background data'!$L$10","v":5.5E-2},{"$f":"'background data'!$M$10","v":3.97},{"$f":"'background data'!$N$10","v":4.5999999999999999E-3},{"$f":"'background data'!$O$10","v":2.73}]
[48000,480,0,"MAGNESIUMKARBON","2010-05-12",-0.112682926829268,-0.108,70,70,0,1,99,0,0,99,0,null,0,0,0,0,0,0,null,0,0,0,0,0,292.92928999999998,0,0,0,0,0,0,0,null,0,0,0,0,0,0,0,0,0,0,0,null,1,1,1,1,1,1,1,1,1,1,1,null,0,0,100,0,null,0,0,-0.11382113821138182,-0.10909090909090909,null,0,0,0," "," "," "," ",null,0,0,0,0,0,289.99999709999997,0,null,0,0,0,0,0,0,0,0,0,0,0,0,0,0,0,0,0,0,0,0,0,0,0,0,0,0,0,0,0,0,0,0,0,0,0,0,0,0,"11.2.7","","","","","","","","","","","","","","","","","","","","","","","","","","","","","","","","","","","","","","","","","","","","","","","","","","","","","","","","","","","","","","","","","","","","","","","","","","","","","","","","","","","","","","","","","","","","","",null,null,null,null,null,null,null,null,"offfarm","vitaminer og mineraler",0,0,0,null,null,{"$f":"'background data'!$G$10","v":0.47300000000000003},{"$f":"'background data'!$H$10","v":0.13},{"$f":"'background data'!$J$10","v":0.39100000000000001},{"$f":"'background data'!$L$10","v":5.5E-2},{"$f":"'background data'!$M$10","v":3.97},{"$f":"'background data'!$N$10","v":4.5999999999999999E-3},{"$f":"'background data'!$O$10","v":2.73}]
[73500,735,0,"MAJSENSILAGE, Gns.  2003-2007","2010-05-12",0.219611571815718,0.24359062337662299,56,52.5,75,1,32.5,2.5674999999999999,0.71499999999999997,1.1375,6.37,null,34.4902025316456,37,37,37,37,37,null,1.9000000000000001,2.4,0.3,2.3000000000000003,11,1.6,0.89999999999999991,60,5,17,44,0,0.03,null,2.44,1.57,1.3,3.35,0.57999999999999996,3.26,8.34,1.62,3.72,2.15,4.63,null,1,1,1,1,1,1,1,1,1,1,1,null,7.8999999999999995,2.1999999999999997,3.5,19.600000000000001,null,105,23.1,0.67572791327913229,0.74950961038960917,null,965,398.92,48.25,215,20," "," ",null,0.61750000000000005,0.78,9.7500000000000003E-2,0.74750000000000016,3.5750000000000002,0.52,0.29249999999999998,null,19.5,1.625,5.5250000000000004,14.3,0,9.75E-3,8.8553595000000005,40.322827375557296,0.9838769879635979,0.63306838979624946,0.52419675588224479,1.1572651456784944,1.350814717081174,0.23387239877823182,1.3145241724431722,3.3629238031214781,0.65322980348402815,1.5000091783707359,0.86694078857448176,2.3669499669452083,1.8669469074883027,0,0,0,0,0,0,0,0,0,0,0,0,0,0,0,0,0,"6.11.1","","","","","","","","","","","","","","","","","","","","","","","","","","","","","","","","","","","","","","","","","","","","","","","","","","","","","","","","","","","","","","","","","","","","","","","","","","","","","","","","","","","","","","","","","","","","","",{"$f":"'background data'!$G$15","v":0.221},{"$f":"'background data'!$H$15","v":6.7000000000000004E-2},{"$f":"'background data'!$J$15","v":0.20100000000000001},{"$f":"'background data'!$L$15","v":1.4999999999999999E-2},{"$f":"'background data'!$M$15","v":1.74},{"$f":"'background data'!$N$15","v":2.3999999999999998E-3},{"$f":"'background data'!$O$15","v":1.41},null,"offfarm","majsensilage","Majsensilage består af finsnittet fodermajs, som høstes i sidste halvdel af oktober eller i november. Kvaliteten af majsensilage er afhængig af antallet af kolber på majsplanterne. Antal og størrelse af kolber er stærkt temperaturafhængig, idet en varm sommer og efterår er lig med en god majshøst.\n\nKvaliteten og dermed energiindholdet og fordøjeligheden af majsensilage afhænger af antallet af kolber på majsplanterne (jo færre kolber, jo tungere fordøjeligt). Antal og størrelse af kolber er stærkt temperaturafhængig, idet en varm sommer og efterår er lig med en god majshøst. Desuden afhænger majskvaliteten af hvor høj stub, der sættes ved høstning. Grænsen mellem en letfordøjelig, en gennemsnitlig og en tungt fordøjelig majsensilage er flydende, men i tabellen er angivet et typisk energiindhold og FK for protein for hver kvalitet majsensilage \n\nGenerelt gælder det, at indholdet af næringsstoffer i ensilage varierer en del. Indgår ensilage som en væsentlig del af foderrationen bør ensilagen derfor analyseres for indhold af næringsstoffer. Derfor der i denne foderstoftabel præsenteret en gennemsnitlig kvalitet samt en letfordøjelig og en tungt fordøjelig kvalitet.\n\nEnsilage er et godt strukturfoder til løsgående drægtige søer. Ensilage bør ikke bruges i stier med spaltegulv.","Søer kan i drægtighedsperioden komme i dårligt huld, hvis energiindholdet i ensilagen er for lavt. Dette kan løse ved at sætte en højere stub ved høst af helsæd eller reducere mængden af helsædsensilage i blandingen.","Ensilage kan opbevares i markstak, plansilo, silowarp eller ensileringssække.\nHåndtering og transport af ensilage \nDer skal fjernes 20 cm af stakken dagligt. Der skal bruges en siloklo ved udtagning af majsensilage fra stakken. Majsensilage skal blandes med tilskudsfoder i en blandevogn før udfodring.",null,null,{"$f":"'background data'!$G$15","v":0.221},{"$f":"'background data'!$H$15","v":6.7000000000000004E-2},{"$f":"'background data'!$J$15","v":0.20100000000000001},{"$f":"'background data'!$L$15","v":1.4999999999999999E-2},{"$f":"'background data'!$M$15","v":1.74},{"$f":"'background data'!$N$15","v":2.3999999999999998E-3},{"$f":"'background data'!$O$15","v":1.41}]
[54300,543,0,"MAJSGLUTENFODER","2010-05-12",0.71427460675571097,0.76696209252319103,67,58.8,89,1,88.7,20.401,3.9914999999999998,6.2089999999999996,8.1801109140000001,null,69,20,33,38,42,45,null,0.7,10.4,2.4,0,13.999999999999998,4.6999999999999993,5.2,169.99999999999997,5.3999999999999995,23,81.999999999999986,0,0.15,null,2.94,1.68,2.1,3.48,0.58000000000000096,3.1,8.99,2.9,3.6899999999999902,2.93,4.6100000000000003,null,0.96,1.2,0.97,1.03,0.96,1.1599999999999999,1.23,1.0900000000000001,1.22,1.2,1.1200000000000001,null,23,4.5,6.9999999999999991,9.2222220000000004,null,120,54,0.80527013162988836,0.86466977736549155,null,929.99999999999989,261.2071428571432,108.94285714285705," "," "," "," ",null,0.62090000000000001,9.2248000000000001,2.1288,0,12.417999999999999,4.1688999999999998,4.6124000000000001,null,150.78999999999996,4.7897999999999996,20.401,72.733999999999995,0,0.13305,140.76689999999999,197.0767246498848,5.5622934765183487,3.9730667689416777,4.014452881118153,7.9875196500598316,7.0640181183504707,1.0973232028505613,7.0868790184098573,21.792152981610311,6.2295952661828586,8.8719999902884865,6.9292176386899502,15.801217628978463,10.175465447122852,0,0,0,0,0,0,0,0,0,0,0,0,0,0,0,0,0,"1.2.9","","",3,3,"",3,3,"",3,"","","","","","","","","","","","",3,3,3,"",3,3,3,3,3,3,3,"","","","",0.8,0.7,"",5.2,3.7,"",7.8,"","","","","","","","","","","","",0.44,0.44,1.6,"",3.11,0.33,1.8,82.1,1.83,3.27,11.84,"","","","",2005,2005,"",2005,2005,"",2005,"","","","","","","","","","","","",2005,2005,2005,"",{"$f":"'background data'!$G$15","v":0.221},{"$f":"'background data'!$H$15","v":6.7000000000000004E-2},{"$f":"'background data'!$J$15","v":0.20100000000000001},{"$f":"'background data'!$L$15","v":1.4999999999999999E-2},{"$f":"'background data'!$M$15","v":1.74},{"$f":"'background data'!$N$15","v":2.3999999999999998E-3},{"$f":"'background data'!$O$15","v":1.41},"as maize silage","offfarm","majsglutenfoder","Majsglutenfoder er et tørret biprodukt fra produktion af majsstivelse ud fra majs (Zea mays). Råvaren består hovedsagelig af klid og gluten. Majs dyrkes hovedsageligt i USA, Kina og Rumænien.\n\nKvalitet\nFra parti til parti kan indholdet af næringsstoffer variere i majsglutenfoder, men råvaren er generelt mindre ensartet i kvalitet end majsfodermel.\n\nMajsglutenfoder har et relativt højt indhold af råfedt samt et jodtalsprodukt på 50 mod 34 i byg. Hvis der bruges meget majsglutenfoder i foder til slagtesvin, øger det risikoen for blødt spæk.\n\nDet maksimale indhold af majsglutenfoder i foder kan ses i oversigten Maksimalt indhold af råvarer i foder. ","Brug af majsglutenfoder i foder til grise begrænses først og fremmest på grund af det svingende indhold af næringsstoffer.\n\nMajsglutenfoder har ikke vist at være årsag til problemer.\n\nMajsglutenfoder opbevares tørt - majsglutenfoder er lagerfast ved 86 procent tørstof.  Ved brug af majsglutenfoder skal man være opmærksom på, at råvaren opbevares tørt, således at der ikke sker vækst af skimmelsvampe.","Ingen problemer ved håndtering af majsglutenfoder som løsvare. Under transport med fx skib kan der ske vækst af skimmelsvampe, hvis vandprocenten i råvaren er høj.",null,null,{"$f":"'background data'!$G$15","v":0.221},{"$f":"'background data'!$H$15","v":6.7000000000000004E-2},{"$f":"'background data'!$J$15","v":0.20100000000000001},{"$f":"'background data'!$L$15","v":1.4999999999999999E-2},{"$f":"'background data'!$M$15","v":1.74},{"$f":"'background data'!$N$15","v":2.3999999999999998E-3},{"$f":"'background data'!$O$15","v":1.41},"as maize silage"]
[48100,481,0,"MANGANDIOXID 1%-opløsning","2010-05-12",-0.112682926829268,-0.108,70,70,0,1,99,0,0,99,0,null,0,0,0,0,0,0,null,0,0,0,0,0,0,0,0,0,6363.636363636364,0,0,0,null,0,0,0,0,0,0,0,0,0,0,0,null,1,1,1,1,1,1,1,1,1,1,1,null,0,0,100,0,null,0,0,-0.11382113821138182,-0.10909090909090909,null,0,0,0," "," "," "," ",null,0,0,0,0,0,0,0,null,0,0,6300,0,0,0,0,0,0,0,0,0,0,0,0,0,0,0,0,0,0,0,0,0,0,0,0,0,0,0,0,0,0,0,0,0,0,0,"","","","","","","","","","","","","","","","","","","","","","","","","","","","","","","","","","","","","","","","","","","","","","","","","","","","","","","","","","","","","","","","","","","","","","","","","","","","","","","","","","","","","","","","","","","","","","",null,null,null,null,null,null,null,null,"offfarm","vitaminer og mineraler",0,0,0,null,null,{"$f":"'background data'!$G$10","v":0.47300000000000003},{"$f":"'background data'!$H$10","v":0.13},{"$f":"'background data'!$J$10","v":0.39100000000000001},{"$f":"'background data'!$L$10","v":5.5E-2},{"$f":"'background data'!$M$10","v":3.97},{"$f":"'background data'!$N$10","v":4.5999999999999999E-3},{"$f":"'background data'!$O$10","v":2.73}]
[99400,994,0,"METHIONIN,DL 99","2010-05-12",1.45035224647697,1.3900778674026,100,100,100,1,99.7,58.723300000000002,0,0,0,null,100,0,0,0,0,0,null,0,0,0,0,0,0,0,0,0,0,0,0,0,null,0,168.6,0,0,0,0,0,0,0,0,0,null,1,1,1,1,1,1,1,1,1,1,1,null,58.9,0,0,0,null,0,0,1.4547163956639619,1.394260649350652,null,1000,464.01,0," "," "," "," ",null,0,0,0,0,0,0,0,null,0,0,0,0,0,0,587.23299999999995,404.88991651954842,0,682.6443992519587,0,682.6443992519587,0,0,0,0,0,0,0,0,0,0,0,0,0,0,0,0,0,0,0,0,0,0,0,0,0,0,"","","","","","","","","","","","","","","","","","","","","","","","","","","","","","","","","","","","","","","","","","","","","","","","","","","","","","","","","","","","","","","","","","","","","","","","","","","","","","","","","","","","","","","","","","","","","","",null,null,null,null,null,null,null,null,"offfarm","vitaminer og mineraler","","","",null,null,{"$f":"'background data'!$G$10","v":0.47300000000000003},{"$f":"'background data'!$H$10","v":0.13},{"$f":"'background data'!$J$10","v":0.39100000000000001},{"$f":"'background data'!$L$10","v":5.5E-2},{"$f":"'background data'!$M$10","v":3.97},{"$f":"'background data'!$N$10","v":4.5999999999999999E-3},{"$f":"'background data'!$O$10","v":2.73}]
[47200,472,0,"MONODICALC FOSF","2010-05-12",-0.112682926829268,-0.108,70,70,0,1,99,0,0,99,0,null,0,67,67,67,67,67,null,222.22221999999999,222.22221999999999,0,0,0,0,0,0,0,0,0,0,0,null,0,0,0,0,0,0,0,0,0,0,0,null,1,1,1,1,1,1,1,1,1,1,1,null,0,0,100,0,null,0,0,-0.11382113821138182,-0.10909090909090909,null,0,0,0," "," "," "," ",null,219.99999779999999,219.99999779999999,0,0,0,0,0,null,0,0,0,0,0,0,0,0,0,0,0,0,0,0,0,0,0,0,0,0,0,0,0,0,0,0,0,0,0,0,0,0,0,0,0,0,0,0,"11.3.2","","","","","","","","","","","","","","","","","","","","","","","","","","","","","","","","","","","","","","","","","","","","","","","","","","","","","","","","","","","","","","","","","","","","","","","","","","","","","","","","","","","","","","","","","","","","","",null,null,null,null,null,null,null,null,"offfarm","vitaminer og mineraler",0,0,0,null,null,{"$f":"'background data'!$G$10","v":0.47300000000000003},{"$f":"'background data'!$H$10","v":0.13},{"$f":"'background data'!$J$10","v":0.39100000000000001},{"$f":"'background data'!$L$10","v":5.5E-2},{"$f":"'background data'!$M$10","v":3.97},{"$f":"'background data'!$N$10","v":4.5999999999999999E-3},{"$f":"'background data'!$O$10","v":2.73}]
[46600,466,0,"NATRIUMBICARBON","2010-05-12",-0.108130081300813,-0.103636363636364,70,70,0,1,95,0,0,95,0,null,0,0,0,0,0,0,null,0,0,284.21053000000001,0,0,0,0,0,0,0,0,0,0,null,0,0,0,0,0,0,0,0,0,0,0,null,1,1,1,1,1,1,1,1,1,1,1,null,0,0,100,0,null,0,0,-0.11382113821138211,-0.10909090909090947,null,0,0,0," "," "," "," ",null,0,0,270.00000349999999,0,0,0,0,null,0,0,0,0,0,0,0,0,0,0,0,0,0,0,0,0,0,0,0,0,0,0,0,0,0,0,0,0,0,0,0,0,0,0,0,0,0,0,"11.4.2","","","","","","","","","","","","","","","","","","","","","","","","","","","","","","","","","","","","","","","","","","","","","","","","","","","","","","","","","","","","","","","","","","","","","","","","","","","","","","","","","","","","","","","","","","","","","",null,null,null,null,null,null,null,null,"offfarm","vitaminer og mineraler",0,0,0,null,null,{"$f":"'background data'!$G$10","v":0.47300000000000003},{"$f":"'background data'!$H$10","v":0.13},{"$f":"'background data'!$J$10","v":0.39100000000000001},{"$f":"'background data'!$L$10","v":5.5E-2},{"$f":"'background data'!$M$10","v":3.97},{"$f":"'background data'!$N$10","v":4.5999999999999999E-3},{"$f":"'background data'!$O$10","v":2.73}]
[46500,465,0,"NATRIUMCLORID","2010-05-12",-0.112682926829268,-0.108,70,70,0,1,99,0,0,99,0,null,0,0,0,0,0,0,null,0,0,383.83838000000105,626.26262999999994,0,0,0,0,0,0,0,0,0,null,0,0,0,0,0,0,0,0,0,0,0,null,1,1,1,1,1,1,1,1,1,1,1,null,0,0,100,0,null,0,0,-0.11382113821138182,-0.10909090909090909,null,0,0,0," "," "," "," ",null,0,0,379.99999620000102,620.00000369999998,0,0,0,null,0,0,0,0,0,0,0,0,0,0,0,0,0,0,0,0,0,0,0,0,0,0,0,0,0,0,0,0,0,0,0,0,0,0,0,0,0,0,"11.4.1","","","","","","","","","","","","","","","","","","","","","","","","","","","","","","","","","","","","","","","","","","","","","","","","","","","","","","","","","","","","","","","","","","","","","","","","","","","","","","","","","","","","","","","","","","","","","",null,null,null,null,null,null,null,null,"offfarm","vitaminer og mineraler",0,0,0,null,null,{"$f":"'background data'!$G$10","v":0.47300000000000003},{"$f":"'background data'!$H$10","v":0.13},{"$f":"'background data'!$J$10","v":0.39100000000000001},{"$f":"'background data'!$L$10","v":5.5E-2},{"$f":"'background data'!$M$10","v":3.97},{"$f":"'background data'!$N$10","v":4.5999999999999999E-3},{"$f":"'background data'!$O$10","v":2.73}]
[60000,600,0,"PALMEKAGE","2013-09-16",0.35074562357723599,0.48391047029610401,41.4,28.8,74,1,90.6,15.401999999999999,7.4291999999999998,3.7145999999999999,17.5764,null,56.9,30,30,30,30,30,null,4.2,6.4,0.1,0,7.5,3.3,2.1,480,25,260,47.000000000000007,0,0.18000000000000002,null,2.5099999999999998,1.74,1.1399999999999999,2.82,0.76,3.36,6.03,1.59,3.83,2.44,4.8,null,1,1,1,1,1,1,1,1,1,1,1,null,17,8.2000000000000011,4.1000000000000005,19.400000000000002,null,54,44.28,0.38713644986449891,0.53411751688311704,null,959.00000000000011,-9.8339999999999677,172.62,11,24,32,570,null,3.8051999999999997,5.7984,9.06E-2,0,6.794999999999999,2.9897999999999993,1.9025999999999998,null,434.87999999999994,22.65,235.55999999999997,42.582000000000001,0,0.16308,87.637379999999993,249.86022378894143,6.2714916171024297,4.3475678939275815,2.8484065511939325,7.1959744451215126,7.0460583108481485,1.8989377007959551,8.3953035193084329,15.06657149447317,3.9727775582441689,9.5696465711164578,6.0965894604501711,15.66623603156663,11.99329074186919,0,0,0,0,0,0,0,0,0,0,0,0,0,0,0,0,0,"2.12.1","","",2,2,2,2,2,"",2,"","","","","","","","","","","","",2,2,2,"",2,2,2,2,2,2,2,"","","","","",0.2,1.8,0.1,0.4,"",0.6,"","","","","","","","","","","","",0.04,0.17,"","",0.32,0.12,0.06,244.4,0.24,52.04,2.77,"","","","",2005,2005,2005,2005,2005,"",2005,"","","","","","","","","","","","",2005,2005,2005,"",{"$f":"'background data'!$G$18","v":0.54099999999999993},{"$f":"'background data'!$H$18","v":0.11600000000000001},{"$f":"'background data'!$J$18","v":0.25},{"$f":"'background data'!$L$18","v":1.2999999999999999E-2},{"$f":"'background data'!$M$18","v":8.86},{"$f":"'background data'!$N$18","v":6.9299999999999995E-3},{"$f":"'background data'!$O$18","v":1.75},"as soybean cake","offfarm","palmekage","Palmekage er et biprodukt fra olieudvinding ved presning af frø fra oliepalme (fx Elaeis guineensis). Frøene er så vidt muligt befriet fra deres hårde skaller.\n\nOliepalme dyrkes primært i Indonesien, Malaysia og i mindre grad i de afrikanske lande omkring ækvator.\n\nKvaliteten af palmekage varierer en del og fordøjeligheden af protein er lav sammenlignet med andre proteinråvarer. Palmefedt har et lavt jodtal, hvilket giver bedre kvalitet og konsistens af spæk i den slagtede gris.\n\nUd fra forsøg og generel erfaring vurderes, at palmekage kan bruges i henhold til følgende kilder: [62], [63].","Palmekage kan indeholde aflatoksin B1. Ifølge lovgivningen (læs mere under afsnittet: lovgivning vedrørende foder) må der maksimalt være 0,02 mg aflatoksin B1 pr. kg ublandet foderstof. Dårlig opbevaring af palmekage efter olieudvinding af palmefedt samt lang transport fra leverandør til modtager kan give problemer med harskning og vækst af skimmelsvampe med efterfølgende dannelse af toksin, primært aflatoksin. Palmekage har samtidig høj risiko for indhold af foderbåren Salmonella. \n\nDer er ikke set problemer med brug af 15 procent palmekage i foder til søer [62]. Brug af palmekage i foder til slagtesvin gav mere lind gødning [63].\n\nSvineri og tjæreagtig diarré i stien kan skyldes, at foderets totale indhold af protein er højt, som følge af en lav fordøjelighed af proteinet i palmekager. Hvis det vurderes, at svineri er et problem, kan man reducere indholdet af palmekage i foderet.","Palmekage opbevares tørt. \n\nPalmekager danner let bro i silo. Kræver stort sugehoved under silo ved sugetransport med hammermølle. Der er ingen problemer ved håndtering og transport af palmekage som løsvare.",null,null,{"$f":"'background data'!$G$18","v":0.54099999999999993},{"$f":"'background data'!$H$18","v":0.11600000000000001},{"$f":"'background data'!$J$18","v":0.25},{"$f":"'background data'!$L$18","v":1.2999999999999999E-2},{"$f":"'background data'!$M$18","v":8.86},{"$f":"'background data'!$N$18","v":6.9299999999999995E-3},{"$f":"'background data'!$O$18","v":1.75},"as soybean cake"]
[58300,583,0,"RAPSKAGEFODER, 9 % fedt, lavt glukosinolatindhold (Obs.: Gamle data)","2016-11-21",0.89144277100270997,0.94997746662337601,80.5,60.4,86,1,88.9,31.114999999999998,9.3345000000000002,6.2229999999999999,12.0015,null,76,27,40,45,50,53,null,8.6,12.200000000000001,0.1,0.5,13.5,4.8999999999999995,6.7000000000000011,220,6.5,67,57.999999999999993,0,0.10999999999999999,null,5.5000000000000098,2,2.4900000000000002,4.4000000000000004,1.27,3.9000000000000101,7.1,2.79,4,3.02,5.19,null,1.01,1.1399999999999999,1.07,1,0.99,1.03,1.07,1.0900000000000001,1.07,1.04,1.01,null,35,10.5,6.9999999999999991,13.5,null,115,120.74999999999999,1.0027477739063104,1.0685910760667896,null,929.99999999999989,61.257142857142853,267.04285714285714," "," ",59.751428571428569,338.59142857142859,null,7.6453999999999995,10.845800000000001,8.8900000000000007E-2,0.44450000000000001,12.0015,4.3560999999999996,5.9563000000000006,null,195.58,5.7785000000000002,59.563000000000002,51.561999999999998,0,9.7789999999999988E-2,236.47399999999999,265.27109500704125,14.735809327641142,6.0481809661605412,7.0676177842726,13.115798750433141,11.671928180309816,3.3352534775235294,10.655939886432881,20.152645087684924,8.0671592702591326,11.353602866301365,8.3316345519811517,19.685237418282519,13.905245529174097,0,0,0,0,0,0,0,0,0,0,0,0,0,0,0,0,0,"2.14.6","","",5,5,"",5,5,"",5,"","","","","","","","","","","","",5,6,4,3,5,5,5,5,5,5,5,"","","","",0.8,0.1,"",1.1000000000000001,3.4,"",4.5999999999999996,"","","","","","","","","","","","",0.99,1.2,0.03,7.0000000000000007E-2,2.2599999999999998,0.85,0.53,94.73,1.49,5.1100000000000003,7.45,"","","","",2005,2005,"",2005,2005,"",2005,"","","","","","","","","","","","",2005,2005,2005,2005,{"$f":"'background data'!$G$12","v":0.51300000000000001},{"$f":"'background data'!$H$12","v":8.9999999999999993E-3},{"$f":"'background data'!$J$12","v":0.32600000000000001},{"$f":"'background data'!$L$12","v":0.05},{"$f":"'background data'!$M$12","v":4},{"$f":"'background data'!$N$12","v":3.8999999999999998E-3},{"$f":"'background data'!$O$12","v":2.2799999999999998},null,"offfarm","rapskagefoder","Biprodukt ved presning/ekstraktion af olie fra fedtrige oliefrø af rapsplanter (Brassica napus), som dyrkes hovedsageligt i Canada, Kina og Europa. Dobbeltlav betyder, at det er sorter med lavt indhold af både erucasyre og glukosinolater.\n\nRapskagefoder kan forringe kvaliteten af spæk på grund af højt jodtalsprodukt.\n\nIndhold af råfedt i tørstof skal være mere end 3 procent i rapskagefoder. Indhold af energi i rapskagefoder, afhænger af indhold af råfedt i rapskagefoder.\n\nUd fra forsøg og generel erfaring vurderes, at rapskagefoder, lavt glukosinolatindhold , kan bruges i henhold til følgende kilder: [26],  [55], [56], [57], [58], [59].\n\nIndholdet af opløselige og uopløselige fibre er beregnet, se versionsbeskrivelsen for 3. juni 2016\n","Rapsfrø er dobbeltlave, når indholdet af glukosinolater er mindre end 30 mikromol pr. g rapsfrø (9 pct. vand). Samtidig skal indholdet af erucasyre være mindre end 1 procent af fedtsyrerne. Glukosinolater og/eller dets nedbrydningsprodukter er væksthæmmende, idet disse stoffer hæmmer skjoldbruskkirtlens optagelse af jod og dermed også produktion af hormonet thyroxin. \n\nRapskagefoder og ærter supplerer hinanden godt med hensyn til indhold af aminosyrer.\n\nFor højt indhold af glukosinolat i foder medfører en lav produktion af hormonet thyroxin. Problemet kan konstateres ved at foretage en analyse (HPLC) for indhold af glukosinolater. Dette afhjælpes ved at bruge rapskagefoder med lavt indhold af glukosinolater.\n\nHvis der er problemer med blødt spæk, er årsagen det høje jodtalsprodukt i rapskage.","Rapskage opbevares tørt. Der er ingen problemer ved transport af rapskage som løsvare.",null,null,{"$f":"'background data'!$G$12","v":0.51300000000000001},{"$f":"'background data'!$H$12","v":8.9999999999999993E-3},{"$f":"'background data'!$J$12","v":0.32600000000000001},{"$f":"'background data'!$L$12","v":0.05},{"$f":"'background data'!$M$12","v":4},{"$f":"'background data'!$N$12","v":3.8999999999999998E-3},{"$f":"'background data'!$O$12","v":2.2799999999999998}]
[55800,558,0,"RISFODERMEL,HVIDT (Obs.: Gamle data)","2010-05-12"," "," "," "," ",90,1,88,11.89999976,12.90000008,7.1000001599999996,4.1000000800000098,null," "," "," "," "," "," ",null,0.34090999999999888,1.25,0,0,1.0227299999999999,0,0,0,0,0,0,0,0,null,3.63,2.67,2,3.19,1.33,4,7.93,2.37,5.1100000000000003,4.8099999999999996,5.9300000000000104,null,1,1,1,1,1,1,1,1,1,1,1,null,13.522727,14.659091,8.0681820000000002,4.6590910000000108,null,92,134.8636372," "," ",null,919.31817999999998," "," "," "," "," "," ",null,0.30000079999999901,1.1000000000000001,0,0,0.90000239999999998,0,0,null,0,0,0,0,0,0,0," "," "," "," "," "," "," "," "," "," "," "," "," "," ",0,0,0,0,0,0,0,0,0,0,0,0,0,0,0,0,0,"1.6.10","","","","","","","","","","","","","","","","","","","","","","","","","","","","","","","","","","","","","","","","","","","","","","","","","","","","","","","","","","","","","","","","","","","","","","","","","","","","","","","","","","","","","","","","","","","","","",{"$f":"'background data'!$G$10","v":0.47300000000000003},{"$f":"'background data'!$H$10","v":0.13},{"$f":"'background data'!$J$10","v":0.39100000000000001},{"$f":"'background data'!$L$10","v":5.5E-2},{"$f":"'background data'!$M$10","v":3.97},{"$f":"'background data'!$N$10","v":4.5999999999999999E-3},{"$f":"'background data'!$O$10","v":2.73},"as barley","offfarm","risfodermel","Der skelnes mellem to typer risfodermel:\n\n•”Risfodermel, gult”, der er et biprodukt fra første polering af afskallede ris. Varen består hovedsagelig af sølvhinder samt dele af aleuronlaget, endospermen og kimen. \n•”Risfodermel, hvidt”, der er et biprodukt fra anden polering af afskallede ris. Varen består hovedsagelig af dele af aleuronlaget, endospermen og kimen.\n","Der kan være variation i næringsindholdet mellem forskellige partier. Indholdet af træstof er lavere i den ”hvide risfodermel” end i den ”gule kvalitet”. ","Der er ingen specielle forhold, man skal være opmærksom på i forbindelse med brug, opbevaring og håndtering af risfodermel.\n\nRisfodermel er lagerfast ved 86 procent tørstof.",null,null,{"$f":"'background data'!$G$10","v":0.47300000000000003},{"$f":"'background data'!$H$10","v":0.13},{"$f":"'background data'!$J$10","v":0.39100000000000001},{"$f":"'background data'!$L$10","v":5.5E-2},{"$f":"'background data'!$M$10","v":3.97},{"$f":"'background data'!$N$10","v":4.5999999999999999E-3},{"$f":"'background data'!$O$10","v":2.73},"as barley"]
[52011,520,11,"RUG,   flerårigt gns, varmebehandlet  + xylanase","2016-11-09",1.1002161053039099,1.09166288682746,89.6,83.5,90,1,85,7.4,1.7,1.5,2.2999999999999998,null,77,28,42,47,52,55,null,0.47058823529411764,3.0588235294117645,0.1,0,4.9411800000000001,1.2,0,71,4.9999999999999885,30,31,0,0.03,null,3.7,1.7,2.35,3.29,1.07,3.48,6.28,2.2799999999999998,4.49,2.7,4.67,null,0.97,1.04,1.01,0.88,0.99,1,1.03,1.03,1.06,1,0.99,null,8.7058823529411757,2,1.7647058823529411,2.7058823529411762,null,105,21.000000000000004,1.2943718885928353,1.2843092786205412,null,982.35294117647061,695.95966386554585,85.605042016806593,612.99999999999989,32,39,129,null,0.39999999999999997,2.5999999999999996,8.5000000000000006E-2,0,4.2000029999999997,1.02,0,null,60.35,4.2499999999999902,25.5,26.349999999999998,0,2.5499999999999998E-2,56.98,51.789825403674271,1.8587368337378696,0.91564411313696115,1.2292315059562087,2.1448756190931699,1.4994190250871775,0.5486096205011215,1.8022859240478646,3.3499730664112666,1.2162322597798865,2.4648849502624732,1.3983252858992052,3.8632102361616782,2.3943989978880729,0,0,0,0,0,0,0,0,0,0,0,0,0,0,0,0,0,"1.7.1","",48,24,24,"",24,24,"",24,24,"","","","","","","","","","","",24,48,"","","","","","","","","","","","",0.74,0.36,0.12,"",1.29,1.43,"",2.33,1.89,"","","","","","","","","","","",0.1,0.31,"","","","","","","","","","","","","14-'16","14-'16","14-'16","","14-'16","14-'16","","14-'16","14-'16","","","","","","","","","","","","14-'16","14-'16","","",{"$f":"'background data'!$G$10","v":0.47300000000000003},{"$f":"'background data'!$H$10","v":0.13},{"$f":"'background data'!$J$10","v":0.39100000000000001},{"$f":"'background data'!$L$10","v":5.5E-2},{"$f":"'background data'!$M$10","v":3.97},{"$f":"'background data'!$N$10","v":4.5999999999999999E-3},{"$f":"'background data'!$O$10","v":2.73},"as barley","offfarm","rug","Rug er frø fra dyrkede sorter af rugplanter (Secale cereale) og dyrkes i Danmark.\n\nRug har generelt altid haft et dårligt ry i fodersammenhæng, hvilket hovedsageligt skyldtes problemer med svampen meldrøjer, som giver dårligere produktionsresultater hos grise i vækst og ikke må forekomme i foder til søer. Moderne rugsorter er dog mere resistente overfor meldrøjer end tidligere sorter, og meldrøjer er i mindre grad et problem i de hybridsorter, der findes i dag, end det var tidligere. Derudover indeholder rug stoffet alkylresorcinol, hvilket tidligere var under mistanke for at kunne reducere foderoptagelsen og tilvæksten hos grise, men det er dog aldrig blevet påvist, at det har en negativ effekt på grise. Andre kornarter, som eksempelvis hvede, har typisk et lige så højt indhold af alkylresorcinol som rug.\n\nEn tidligere afprøvning har vist, at fodring med rug til slagtesvin gav en lavere foderoptagelse og dermed lavere tilvækst ved stigende indhold af rug i foderet [27]. Senest har forsøg med smågrise ligeledes vist lavere produktionsværdi, hvilket skyldes både en lav foderoptagelse og en lav daglig tilvækst ved højt indhold af rug i foderet. Ved 20 pct. rug i foder var tilvækst og foderoptagelse var statistisk sikkert forringet [28].\n\nUd fra forsøg og generel erfaring vurderes, at rug kan bruges i henhold til følgende kilder: [1], [22], [23], [24], [25], [13], [19], [26], [14], [27], [28].",0,"Rug opbevares tørt  og er lagerfast ved 86 pct. tørstof.\n\nTransport af rug med et vandindhold på 20 pct. eller derover fra korngrav bør ske med kæderedler frem for sidesnegl eller sneglerende.\n\nValsning bør ske med mindst mulige valseafstand. Ved et vandindhold på over 18 pct. klistrer materialet fast på valserne.\n\nDer er ingen problemer ved transport af rug som løsvare.",null,null,{"$f":"'background data'!$G$10","v":0.47300000000000003},{"$f":"'background data'!$H$10","v":0.13},{"$f":"'background data'!$J$10","v":0.39100000000000001},{"$f":"'background data'!$L$10","v":5.5E-2},{"$f":"'background data'!$M$10","v":3.97},{"$f":"'background data'!$N$10","v":4.5999999999999999E-3},{"$f":"'background data'!$O$10","v":2.73},"as barley","rug"]
[52361,523,61,"RUG, 11,5 % råprotein, varmebehandlet + xylanase","2016-11-04",1.09161691750677,1.0845305780363601,89.1,83.199979200000001,90,1,85,11.5,1.8,1.4,2.2999999999999998,null,77,28,42,47,52,55,null,0.50588235294117645,3.0588235294117645,0.1,0,4.9411800000000001,1.2,0,71,4.9999999999999885,30,31,0,0.03,null,3.7,1.7,2.35,3.29,1.07,3.48,6.28,2.2799999999999998,4.49,2.7,4.67,null,0.97,1.04,1.01,0.88,0.99,1,1.03,1.03,1.06,1,0.99,null,13.529411764705882,2.1176470588235294,1.6470588235294117,2.7058823529411762,null,105,22.235294117647054,1.2842551970667884,1.2759183271016001,null,983.52941176470586,649.76811111260463,82.897771240335999,612.99999999999989,32,39,129,null,0.43,2.5999999999999996,8.5000000000000006E-2,0,4.2000029999999997,1.02,0,null,60.35,4.2499999999999902,25.5,26.349999999999998,0,2.5499999999999998E-2,88.549999999999798,81.118200515109393,2.9113322164872826,1.4341697851071373,1.9253404892261257,3.359510274333263,2.3485341413134524,0.85928509805655662,2.8229133779258131,5.2470496821193562,1.9049798208968332,3.8607396353161341,2.1901914139079586,6.0509310492240935,3.7503377644150606,0,0,0,0,0,0,0,0,0,0,0,0,0,0,0,0,0,"1.7.1","","","","","","","","","","","","","","","","","","","","","","","","","","","","","","","","","","","","","","","","","","","","","","","","","","","","","","","","","","","","","","","","","","","","","","","","","","","","","","","","","","","","","","","","","","","","","",{"$f":"'background data'!$G$10","v":0.47300000000000003},{"$f":"'background data'!$H$10","v":0.13},{"$f":"'background data'!$J$10","v":0.39100000000000001},{"$f":"'background data'!$L$10","v":5.5E-2},{"$f":"'background data'!$M$10","v":3.97},{"$f":"'background data'!$N$10","v":4.5999999999999999E-3},{"$f":"'background data'!$O$10","v":2.73},"as barley","offfarm","rug","Tabelværdierne er dannet ved kopi af VSPs fodermiddelkode 52011 (gennemsnit af de seneste år i udgaven svarende til varmebehandlet foder tilsat xylanase), hvor eneste ændring er råproteinkoncentration med de afledte beregnede konsekvenser.\n\nRug er frø fra dyrkede sorter af rugplanter (Secale cereale) og dyrkes i Danmark.\n\nRug har generelt altid haft et dårligt ry i fodersammenhæng, hvilket hovedsageligt skyldtes problemer med svampen meldrøjer, som giver dårligere produktionsresultater hos grise i vækst og ikke må forekomme i foder til søer. Moderne rugsorter er dog mere resistente overfor meldrøjer end tidligere sorter, og meldrøjer er i mindre grad et problem i de hybridsorter, der findes i dag, end det var tidligere. Derudover indeholder rug stoffet alkylresorcinol, hvilket tidligere var under mistanke for at kunne reducere foderoptagelsen og tilvæksten hos grise, men det er dog aldrig blevet påvist, at det har en negativ effekt på grise. Andre kornarter, som eksempelvis hvede, har typisk et lige så højt indhold af alkylresorcinol som rug.\n\nEn tidligere afprøvning har vist, at fodring med rug til slagtesvin gav en lavere foderoptagelse og dermed lavere tilvækst ved stigende indhold af rug i foderet [27]. Senest har forsøg med smågrise ligeledes vist lavere produktionsværdi, hvilket skyldes både en lav foderoptagelse og en lav daglig tilvækst ved højt indhold af rug i foderet. Ved 20 pct. rug i foder var tilvækst og foderoptagelse var statistisk sikkert forringet [28].\n\nUd fra forsøg og generel erfaring vurderes, at rug kan bruges i henhold til følgende kilder: [1], [22], [23], [24], [25], [13], [19], [26], [14], [27], [28].",0,"Rug opbevares tørt  og er lagerfast ved 86 pct. tørstof.\n\nTransport af rug med et vandindhold på 20 pct. eller derover fra korngrav bør ske med kæderedler frem for sidesnegl eller sneglerende.\n\nValsning bør ske med mindst mulige valseafstand. Ved et vandindhold på over 18 pct. klistrer materialet fast på valserne.\n\nDer er ingen problemer ved transport af rug som løsvare.",null,null,{"$f":"'background data'!$G$10","v":0.47300000000000003},{"$f":"'background data'!$H$10","v":0.13},{"$f":"'background data'!$J$10","v":0.39100000000000001},{"$f":"'background data'!$L$10","v":5.5E-2},{"$f":"'background data'!$M$10","v":3.97},{"$f":"'background data'!$N$10","v":4.5999999999999999E-3},{"$f":"'background data'!$O$10","v":2.73},"as barley","rug"]
[95300,953,0,"Ronozyme NP tør, Std. dosis: 1250 FYT (mindste lovlige: 1500 FYT/kg)","2010-05-12",0.43457073170731803,0.41651064935065002,100,100,100,1,99.5,1.4,7.4,77.099999999999994,0,null,0,0,0,0,0,0,null,0,0,0,0,0,0,0,0,0,0,0,0,0,null,0,0,0,0,0,0,0,0,0,0,0,null,1,1,1,1,1,1,1,1,1,1,1,null,1.4070351758793969,7.4371859296482414,77.487437185929636,0,null,0,0,0.43675450422846035,0.41860366768909552,null,225.12562814070353,140.18090452261305,0," "," "," "," ",null,0,0,0,0,0,0,0,null,0,0,0,0,0,0,0,0,0,0,0,0,0,0,0,0,0,0,0,0,0,10050505.0505051,0,0,0,0,0,0,0,0,0,0,0,0,0,0,0,0,"","","","","","","","","","","","","","","","","","","","","","","","","","","","","","","","","","","","","","","","","","","","","","","","","","","","","","","","","","","","","","","","","","","","","","","","","","","","","","","","","","","","","","","","","","","","","","",null,null,null,null,null,null,null,null,"offfarm","vitaminer og mineraler",0,0,0,null,null,{"$f":"'background data'!$G$10","v":0.47300000000000003},{"$f":"'background data'!$H$10","v":0.13},{"$f":"'background data'!$J$10","v":0.39100000000000001},{"$f":"'background data'!$L$10","v":5.5E-2},{"$f":"'background data'!$M$10","v":3.97},{"$f":"'background data'!$N$10","v":4.5999999999999999E-3},{"$f":"'background data'!$O$10","v":2.73}]
[75600,756,0,"SKUMMETMÆLKSPULVER","2010-05-12",1.2873559860627199,1.2389684909833101,99,98,99,1,96,35.423999999999999,0.48,8.0640000000000001,0,null,94,58,58,58,58,58,null,13.7,10.199999999999999,5.6000000000000005,0,14,1.2,3.4,4,3,2,44,0,0.13,null,7.87,2.4700000000000002,0.86,4.45,1.3,5.71,10,2.87,4.83,4.91,6.72,null,1.03,1.03,1.04,1.03,1,1.01,1.03,1.02,1.04,0.93,0.98,null,36.9,0.5,8.4,0,null,34,1.7,1.3409958188153333,1.2905921781076146,null,916,553.11428571428644,13.085714285714271,0,504,0,0,null,13.151999999999999,9.7919999999999998,5.3760000000000003,0,13.44,1.1519999999999999,3.2639999999999998,null,3.84,2.88,1.92,42.239999999999995,0,0.12479999999999999,332.98559999999998,258.65852460779791,20.967118663232707,6.580531524546986,2.3134418440921447,8.8939733686391307,11.855613475398417,3.3625608199013728,14.917095772656316,26.641828034603183,7.5719696493686754,12.992935008098906,11.811124209165877,24.804059217264783,17.034215796571139,0,0,0,0,0,0,0,0,0,0,0,0,0,0,0,0,0,"8.11.1","","",1,1,"",1,1,"",1,"","","","","","","","","","","","","","","","","","","","","","","","","","","","","","","","","","","","","","","","","","","","","","","","","","","","","","","","","","","","","",2005,2005,"",2005,2005,"",2005,"","","","","","","","","","","","","","","","",8.1999999999999993,null,null,null,null,null,null,"as conventional (Flysjo, 2011)","offfarm","skummetpulver","Skummetmælkspulver fremstilles ved tørring af mælk, hvorfra det meste af fedtet er udskilt. Tørringen sker enten ved forstøvning i varm luft (spray) eller ved tørring i cylindre.\n\nSkummetmælkspulver har et højt indhold af råprotein og med en god proteinkvalitet. Der er desuden et højt indhold af laktose og mineralstoffer.\nI denatureret skummetmælkspulver ændres den procentvise andel af næringsstoffer lidt som følge af opblandingen med andre produkter.\nGenerelt er indholdet af råprotein lavere i denatureret skummetmælkspulver, formel A, i forhold til denatureret skummetmælkspulver, formel B, mens indholdet af hhv. laktose og træstof er højere i formel A sammenlignet med formel B.\nProduktion\nSkummetmælkspulver fremstilles primært med henblik på produktion af børnemælk, men sælges også med tilskud fra EU til fremstilling af fx ko- og somælkserstatning. Skummetmælkspulver fremstilles i de fleste væsentlige mælkeproducerende lande.","Skummetmælkspulver har en høj fordøjelighed og er derfor velegnet i somælkserstatninger og i foder til tidligt fravænnede grise.\nEt brunligt eller mørkfarvet pulver med kogt smag (svovlsmag) er tegn på en for kraftig opvarmning, og dermed reduceret proteinværdi.\nEn kendt og god kvalitet skummetmælkspulver giver ingen problemer.","Skummetmælkspulver suger let fugt, og skal derfor opbevares tørt. Produktet har lang holdbarhed i ubrudt plastik emballage.\n\nIngen problemer ved håndtering og transport af skummetmælkspulver, hvilket dog ofte sker i form af sækkevare.",null,null,8.1999999999999993,{"$f":"'background data'!$H$10","v":0.13},{"$f":"'background data'!$J$10","v":0.39100000000000001},{"$f":"'background data'!$L$10","v":5.5E-2},{"$f":"'background data'!$M$10","v":3.97},{"$f":"'background data'!$N$10","v":4.5999999999999999E-3},{"$f":"'background data'!$O$10","v":2.73},"as conventional (Flysjo, 2011)"]
[61500,615,0,"SOJAKAGE 8,1% fedt","2016-05-30",1.0911707123499801,1.1183663257884999,91.8,73.900000000000006,94,1,93,44,8.1,6.3,5.5,null,83.849977888239493,39,51,56,60,63,null,3.6999999999999997,7.2,0.1,0.2,26,3.5,3.8,275,16,52,52,0,0.17918024190345055,null,6.09,1.31,1.39,3.85,1.34,4.3899999999999997,7.68,2.62,4.96,3.68,4.6900000000000004,null,1,1.02285538957352,0.99855389573515296,0.97571077914702997,1.02,0.98143383127945405,0.96572305213242404,1.0157107791470299,0.98572305213242395,0.972867662558908,0.95857844170593798,null,47.311827956989248,8.7096774193548381,6.774193548387097,5.913978494623656,null,0,0,1.1733018412365377,1.2025444363317204,null,932.25806451612902,102.39969278033796,238.39170506912365," "," ",76.871115207373435,207.83671889400858,null,3.4409999999999998,6.6960000000000006,9.3000000000000013E-2,0.18600000000000003,24.18,3.2550000000000003,3.5339999999999998,null,255.75,14.88,48.36,48.36,0,0.16663762497020904,368.93990270825401,338.113824475451,20.591131910554903,4.5305242742677798,4.6929857851830237,9.2235100594507671,12.701200170093946,4.6213397529304681,14.567615596577179,25.07706735671799,8.9977574297765379,16.531014915093298,12.104992224343254,28.636007139436646,15.20069441799237,0,0,0,0,0,0,0,0,0,0,0,0,0,0,0,0,0,"2.18.2","","","","","","","","","","","","","","","","","","","","","","","","","","","","","","","","","","","","","","","","","","","","","","","","","","","","","","","","","","","","","","","","","","","","","","","","","","","","","","","","","","","","","","","","","","","","","",{"$f":"'background data'!$G$18","v":0.54099999999999993},{"$f":"'background data'!$H$18","v":0.11600000000000001},{"$f":"'background data'!$J$18","v":0.25},{"$f":"'background data'!$L$18","v":1.2999999999999999E-2},{"$f":"'background data'!$M$18","v":8.86},{"$f":"'background data'!$N$18","v":6.9299999999999995E-3},{"$f":"'background data'!$O$18","v":1.75},"as soybean meal","offfarm","sojakage","\nIndholdet af opløselige og uopløselige fibre er beregnet, se versionsbeskrivelsen for 3. juni 2016",0,0,null,null,{"$f":"'background data'!$G$18","v":0.54099999999999993},{"$f":"'background data'!$H$18","v":0.11600000000000001},{"$f":"'background data'!$J$18","v":0.25},{"$f":"'background data'!$L$18","v":1.2999999999999999E-2},{"$f":"'background data'!$M$18","v":8.86},{"$f":"'background data'!$N$18","v":6.9299999999999995E-3},{"$f":"'background data'!$O$18","v":1.75},"as soybean meal"]
[61200,612,0,"SOJASKRÅFODER,  afskallet toastet","2016-11-11",0.94752421466651204,0.96603625264222304,94.5,78.1999785,96,1,87.3,45.806310000000003,2.6190000000000002,6.9578100000000003,3.6753300000000002,null,89.5,39,51,56,60,63,null,3.734249713631157,7.1706758304696452,0.1,0,24.000000000000004,3.3,3.8000000000000003,212,14.000000000000002,49,51.000000000000007,0,0.2,null,6.29,1.36,1.43,4.0599999999999996,1.38,4.3499999999999996,7.81,2.68,5.1100000000000003,3.65,4.79,null,1.01,1.04,0.94,0.98,1.03,1.01,1.01,1.02,1.01,1.01,0.99,null,52.470000000000006,3.0000000000000004,7.9700000000000006,4.21,null,130,39,1.0853656525389599,1.1065707361308397,null,920.30000000000007,148.80778876500003,214.29871123499998,64.772727272727266,109.09090909090895,65.617347033450059,177.40986420154985,null,3.2600000000000002,6.2600000000000007,8.7300000000000003E-2,0,20.952000000000002,2.8809,3.3174000000000001,null,185.07599999999999,12.222000000000001,42.777000000000001,44.523000000000003,0,0.17460000000000001,409.9664745,432.67123747786292,27.487171045731152,6.1197019828868928,5.8159667741774337,11.935668757064327,17.215123196769209,6.1499889695103436,19.009410818589906,34.129539883491304,11.82750094769486,22.330595237469982,15.950425169621417,38.281020407091404,20.517702752437735,0,0,0,0,0,0,0,0,0,0,0,0,0,0,0,0,0,"2.18.14",21,21,21,21,21,21,21,"",21,21,19,19,19,19,19,19,19,19,19,19,19,12,12,12,"",12,12,6,12,12,12,12,"",6,0.8,0.9,0.4,0.4,0.7,1,0.95,"",1.7,1.6,0.82,0.17,0.32,0.5,0.16,0.67,1,0.32,0.87,1.1399999999999999,0.71,0.87,0.32,7.0000000000000007E-2,"",1.65,0.38,0.08,20,0.67,2.78,4.17,"",0.06,2016,2016,2016,2016,2016,2016,2016,"",2016,2016,2016,2016,2016,2016,2016,2016,2016,2016,2016,2016,2016,2013,2013,2011,"",{"$f":"'background data'!$G$18","v":0.54099999999999993},{"$f":"'background data'!$H$18","v":0.11600000000000001},{"$f":"'background data'!$J$18","v":0.25},{"$f":"'background data'!$L$18","v":1.2999999999999999E-2},{"$f":"'background data'!$M$18","v":8.86},{"$f":"'background data'!$N$18","v":6.9299999999999995E-3},{"$f":"'background data'!$O$18","v":1.75},"as soybean meal","offfarm","sojaskåfoder","Afskallet sojaskråfodere et biprodukt fra olieudvinding ved ekstraktion af afskallede sojabønner og efterfølgende passende varmebehandling. Bønnen dyrkes hovedsagelig i USA, Brasilien og Kina.\n \nDer gælder følgende for afskallet sojaskråfoder (toasted): Der må maksimalt være et indhold af træstof på 8 procent i tørstof og maksimalt en ureaseaktivitet på 0,5 mg N/g × min [1].\n\nDanmark importerer sojaskråfoder, som fortrinsvis forarbejdes i Tyskland, Norge og Argentina.\n\nAfskallet sojaskråfoder vurderes at være en god proteinkilde til svin. Indholdet af næringsstoffer kan variere afhængig af, hvor meget sojabønner er afskallet. Værdierne for aminosyreindholdet i procent af råprotein er en sammenvejning af kvægfodermiddeltabellen fra 2005 [107], et fordøjelighedsforsøg i 2011 [173] og 10 analyser fra DLA-gruppen 2015-2016. \n\nResultaterne fra et fordøjelighedsforsøg ved ungsvin med argentinsk og brassiliansk afskallet sojaskråfoder, sammenvejet med et fordøjelighedsforsøg med smågrise [175] og hidtidige tabelværdier [176], har dannet baggrund for opdatering af fodermiddeltabellen med protein- og aminosyrefordøjeligheder.\n\nIndholdet af opløselige og uopløselige fibre er beregnet, se versionsbeskrivelsen for 3. juni 2016","Sojabønner indeholder stoffer, der hæmmer virkningen af trypsin, hvilket er et af de enzymer, der nedbryder protein. Disse væksthæmmende stoffer ødelægges dog ved toastning.\n\nDer er risiko for indhold af Salmonella i sojaskrå. \n\nEn årsag til problemer med sojaskråfoder kan være, at protein i sojaskråfoder ikke udnyttes som forventet. Synlige tegn på problemer i stalden er, at slagtesvin i en periode har lav tilvækst samtidig med et højt foderforbrug og faldende kødprocent. Som afhjælpning kan sojaskrå evt. varmebehandles","Sojaskråfoder opbevares tørt. Der er ingen problemer ved transport af sojaskråfoder som løsvare.",null,null,{"$f":"'background data'!$G$18","v":0.54099999999999993},{"$f":"'background data'!$H$18","v":0.11600000000000001},{"$f":"'background data'!$J$18","v":0.25},{"$f":"'background data'!$L$18","v":1.2999999999999999E-2},{"$f":"'background data'!$M$18","v":8.86},{"$f":"'background data'!$N$18","v":6.9299999999999995E-3},{"$f":"'background data'!$O$18","v":1.75},"as soybean meal"]
[61100,611,0,"SOJASKRÅFODER, toastet","2016-05-27",0.87887776004646201,0.91469030467680601,91.3,72.2,95,1,87.6,42.661200000000001,2.5404,6.4824000000000002,6.4824000000000002,null,88,39,51,56,60,63,null,3.9,7.6000000000000005,0.1,0.2,27.000000000000004,3.7,4,290,17,55.000000000000007,55.000000000000007,0,0.19000000000000003,null,6.09,1.31,1.39,3.85,1.34,4.3899999999999997,7.68,2.62,4.96,3.68,4.6900000000000004,null,1,1.02,0.97,0.97,1.02,0.99,0.98,1.01,1,0.99,0.97,null,48.7,2.9,7.4,7.4,null,130,37.700000000000003,1.0032851142082899,1.0441670144712398,null,926.00000000000011,121.47228571428653,252.66571428571348," "," ",83.162082857142821,224.84563142857075,null,3.4163999999999994,6.6575999999999995,8.7599999999999997E-2,0.17519999999999999,23.652000000000001,3.2411999999999996,3.5039999999999996,null,254.03999999999996,14.891999999999998,48.18,48.18,0,0.16644,375.41856000000001,427.15674131992307,26.013845546383315,5.7076683775168124,5.7593543432165228,11.467022720733336,15.952168504592528,5.8383783403607081,18.564659134505174,32.149524978702686,11.303421688807806,21.186974369468182,15.562174399767438,36.749148769235617,19.432641632867259,0,0,0,0,0,0,0,0,0,0,0,0,0,0,0,0,0,"2.18.13","","","","","","","","","","",6,6,6,6,"","",6,6,6,6,6,7,8,"",3,7,4,7,7,7,7,7,"","","","","","","","","","","","",0.3,0.03,0.09,0.12,"","",0.18,0.12,0.12,0.12,0.1,0.36,0.6,"","",1.36,0.17,0.28000000000000003,217.2,1.76,9.7100000000000009,4.3600000000000003,"","","","","","","","","","","","",2005,2005,2005,2005,"","",2005,2005,2005,2005,2005,2005,2005,"",2005,{"$f":"'background data'!$G$18","v":0.54099999999999993},{"$f":"'background data'!$H$18","v":0.11600000000000001},{"$f":"'background data'!$J$18","v":0.25},{"$f":"'background data'!$L$18","v":1.2999999999999999E-2},{"$f":"'background data'!$M$18","v":8.86},{"$f":"'background data'!$N$18","v":6.9299999999999995E-3},{"$f":"'background data'!$O$18","v":1.75},"as soybean meal","offfarm","sojaskåfoder","Sojaskråfoder, toasted, er et biprodukt fra olieudvinding ved ekstraktion af olien fra valsede sojabønner fra sojaplanten (Glycine max.). Bønnen dyrkes hovedsagelig i USA, Brasilien og Kina.\n \nDanmark importerer sojaskrå, som fortrinsvis forarbejdes i Tyskland, Norge og Argentina.\n\nSojaskråfoder har god proteinkvalitet, men indholdet af råprotein varierer fra parti til parti. \nUd fra forsøg og generel erfaring vurderes, at sojaskrå, toasted, kan bruges i henhold til følgende kilder: [47], [48], [4], [64], [65], [26], [58], [66].\n\nIndholdet af opløselige og uopløselige fibre er beregnet, se versionsbeskrivelsen for 3. juni 2016","Sojabønner indeholder stoffer, der hæmmer virkningen af trypsin, hvilket er et af de enzymer, der nedbryder protein. Disse væksthæmmende stoffer ødelægges dog ved toastning.\n\nDer er risiko for indhold af Salmonella i sojaskrå. \n\nEn årsag til problemer med sojaskråfoder kan være, at protein i sojaskråfoder ikke udnyttes som forventet. Synlige tegn på problemer i stalden er, at slagtesvin i en periode har lav tilvækst samtidig med et højt foderforbrug og faldende kødprocent. Som afhjælpning kan sojaskrå evt. varmebehandles","Sojaskråfoder opbevares tørt.\n\nSojaskråfoder bør renses for urenheder inden formaling. Nogle kvaliteter (argentinsk) kan være kraftigt slidende på formalingsudstyret.\n\nDer er ingen problemer ved transport af sojaskråfoder som løsvare.",null,null,{"$f":"'background data'!$G$18","v":0.54099999999999993},{"$f":"'background data'!$H$18","v":0.11600000000000001},{"$f":"'background data'!$J$18","v":0.25},{"$f":"'background data'!$L$18","v":1.2999999999999999E-2},{"$f":"'background data'!$M$18","v":8.86},{"$f":"'background data'!$N$18","v":6.9299999999999995E-3},{"$f":"'background data'!$O$18","v":1.75},"as soybean meal"]
[67400,674,0,"SUKKERROEMELASSE","2016-11-21",0.77578839396051003,0.74817597734471597,99.8,97.5,90,0.8,74,9.6199999999999992,7.3999999999999996E-2,9.3979999999999997,0,null,50,50,50,50,50,50,null,5.4,0.39999999999999997,4.0999999999999996,4.3,28,0.3,0,74,4.0999999999999996,17,16,0,9.9999999999999992E-2,null,0.28999999999999998,0.16,0.12,0.65,0.28999999999999998,1.66,1.58,0.25,0.39,1.7,1.06,null,1,1,1,1,1,1,1,1,1,1,1,null,12.999999999999998,9.9999999999999992E-2,12.7,0,null,0,0,1.0483626945412299,1.0110486180334,null,873,723.29971428571343,28.684285714285679," ",601,9.0481485714285537,8.3521371428571349,null,3.996,0.29599999999999999,3.0339999999999998,3.1819999999999999,20.72,0.222,0,null,54.76,3.0339999999999998,12.58,11.84,0,7.3999999999999996E-2,48.1,62.001443144106169,0.17980418511790788,9.9202309030569868E-2,7.4401731772927401E-2,0.17360404080349726,0.4030093804366901,0.17980418511790788,1.0292239561921623,0.97962280167687743,0.15500360786026543,0.24180562826201407,1.0540245334498048,1.2958301617118189,0.65721529732752537,0,0,0,0,0,0,0,0,0,0,0,0,0,0,0,0,0,"4.1.4","","",2,2,"",2,2,"",2,2,"","","","","","","","","","","",2,2,2,2,2,2,"",2,2,2,2,"","","","",0.1,0.3,"",0.1,1,"",1.6,1.6,"","","","","","","","","","","",0.36,"",0.56000000000000005,1.39,2.08,0.1,"",28.62,0.02,2.0299999999999998,3,"","","","",2005,2005,"",2005,2005,"",2005,2005,"","","","","","","","","","","",2005,2005,2005,2005,0.379,{"$f":"13/1000","v":1.2999999999999999E-2},{"$f":"48/1000","v":4.8000000000000001E-2},{"$f":"7.7/1000","v":7.7000000000000002E-3},5.2,null,0.34,"as conventional (Mogensen et al., 2018)","offfarm","sukkerroemelasse","Roemelasse er et sirupsagtig biprodukt fra fremstilling af sukker ud fra sukkerroe (Beta vulgaris).\n\nRoemelasse har et meget højt indhold af kalium og natrium.\n\nDer dyrkes store arealer med sukkerroer i Danmark. Roemelasse fremstilles af Danisco Sugar. Der importeres dog betydelige mængder af roemelasse fra Tyskland, Polen, de baltiske lande og Rusland.\nUd fra forsøg og generel erfaring vurderes det, at melasse kan bruges i henhold til følgende kilder: [99], [100], [101], [102].\n\nIndholdet af opløselige og uopløselige fibre er beregnet, se versionsbeskrivelsen for 3. juni 2016","Det høje indhold af kalium og natrium i roemelasse kan give problemer, hvis roemelasse udgør en stor andel af foderet til grise. Når foder har højt indhold af kalium og natrium øges grisenes vandbehov, idet grisene skal bruge vand for igen at udskille disse mineraler gennem nyrerne. Hvis grisene ikke har fri adgang til vand, således at de selv kan regulere vandoptagelsen, kan der opstå akut dødsfald [102]. Der skal derfor altid være fri adgang til vand. \nRoemelasse er et godt bindemiddel, og der bruges ofte 2-3 procent melasse i pelleteret foder for at styrke pillen og dermed reducere smuld i pelleteret foder.\nÅrsagen til akut dødsfald, som ofte er tegn på problemer, skyldes vandmangel som følge af, at grisene ikke kan udskille de høje koncentrationer af kalium og natrium i foderet. Det skal derfor altid sikres, at grisene har fri adgang til vand.\nRoemelasse er en tung flydende masse, og der kræves derfor opbevaring i en tank, hvorfra det skal pumpes. Indholdet af vand i roemelasse skal være mindre end 30 procent, ellers er råvaren ikke lagerfast som følge af risiko for forgæring. ","Roemelasse kan opbevares i uisoleret opbevaringstank.\n\nMelasse skal pumpes og bør kun bruges i tørfoder i meget begrænset omfang. I tørblandeanlæg bør der maksimalt anvendes 3 procent, i diagonalblandere dog maksimalt 8 procent.\nRoemelasse er flydende og transporteres i tankvogn. Læs mere i afsnittet Opbevaring og håndtering af flydende råvarer.",null,null,0.379,{"$f":"13/1000","v":1.2999999999999999E-2},{"$f":"48/1000","v":4.8000000000000001E-2},{"$f":"7.7/1000","v":7.7000000000000002E-3},5.2,null,0.34,"as conventional (Mogensen et al., 2018)"]
[67100,671,0,"SUKKERROESNITTER, tørrede, (Roepiller) pulpetter","2016-11-21",0.50833453863631495,0.67112933560602595,87,35.900027999999999,83,1,89.8,7.9024000000000001,1.4368000000000001,5.0288000000000004,17.421199999999999,null,50,50,50,50,50,50,null,7.2000000000000011,0.70000000000000007,0.6,0,3.7,2.2999999999999998,2.6999999999999997,659.99999999999989,6.9,54,16,0,0.11,null,4.8600000000000003,1.51,1.1499999999999999,3.74,0.76,3.5,5.49,3.25,3.12,4.0599999999999996,5.3,null,1.04,1.22,0.44,0.6,0.82,1.2,1.18,1.18,1.02,1.04,0.84,null,8.8000000000000007,1.6,5.6000000000000005,19.399999999999999,null,0,0,0.56607409647696549,0.74736006192207793,null,944,36.560377599999882,689.11962240000003,0," ",414.12780364800005,382.271818752,null,6.4656000000000011,0.62860000000000005,0.53879999999999995,0,3.3226000000000004,2.0653999999999999,2.4245999999999999,null,592.67999999999995,6.1962000000000002,48.492000000000004,14.368,0,9.8780000000000007E-2,39.512,77.728340289442016,3.9287012315895575,1.4319114848121008,0.39330540186457663,1.8252168866766776,1.744223956095079,0.48440301668380265,3.2645902921565648,5.0353973406306327,2.9808818501001015,2.4736267013712032,3.2820014403814,5.7556281417526023,3.4604657096859586,0,0,0,0,0,0,0,0,0,0,0,0,0,0,0,0,0,"4.1.10",23,23,23,23,23,23,23,"",23,23,"","","","","","","","","","","",5,5,7,"",7,7,7,6,7,7,7,"","",0.9,1.1000000000000001,0.2,2.6,0.9,3.4,8.5,"",9.5,6.4,"","","","","","","","","","","",3.8,0.05,0.18,"",0.62,0.18,0.77,107.6,1.4,31.16,4.29,"","",2016,2016,2016,2016,2016,2016,2016,"",2016,2016,"","","","","","","","","","","",2016,2016,2005,"",0.379,{"$f":"13/1000","v":1.2999999999999999E-2},{"$f":"48/1000","v":4.8000000000000001E-2},{"$f":"7.7/1000","v":7.7000000000000002E-3},5.2,null,0.34,"as conventional (Mogensen et al., 2018)","offfarm","sukkerroesnitter","Tørrede sukkerroesnitter er et tørret biprodukt fra fremstilling af sukker ud fra ekstraheret sukkerroe (Beta vulgaris).\n\nPulpetter er det danske handelsnavn for tørrede sukkerroesnitter, hvortil der ikke er tilsat melasse. Kosetter er det danske handelsnavn for tørrede sukkerrosnitter, hvortil der er tilsat ca. 35 procent melasse.\n\nDer dyrkes store arealer med sukkerroer i Danmark. Roepiller fremstilles af Danisco Sugar. Der importeres dog betydelige mængder af roepiller fra bl.a. Kina, Tyskland og Ægypten. Tørrede sukkeroesnitter (umelasserede), må maksimalt indeholde 10 procent sukker. \n\nIndholdet af sukker i melasserede, tørrede sukkerroesnitter er typisk ca. 20 procent, og det er noget højere end i tørrede sukkerroesnitter uden melasse som følge af den iblandede melasse. \n\nI Danmark sælges der også importerede tørrede sukkerroesntter, som ofte har en stor variation i indhold af aske og sukker sammenlignet med danske varer. Der ses ofte et indhold af 10-15 procent melasse i varer, som sælges som umelasserede.\n\nIndholdet af opløselige og uopløselige fibre er beregnet, se versionsbeskrivelsen for 3. juni 2016",0,0,null,null,0.379,{"$f":"13/1000","v":1.2999999999999999E-2},{"$f":"48/1000","v":4.8000000000000001E-2},{"$f":"7.7/1000","v":7.7000000000000002E-3},5.2,null,0.34,"as conventional (Mogensen et al., 2018)"]
[72500,725,0,"SUKKERRØRSMELASSE","2010-05-12",0.68235393681765399,0.65834463810612298,99,97,90,0.8,72.599999999999994,5.0819999999999999,0.21779999999999999,15.5364,0,null,50,50,50,50,50,50,null,5.4,0.70000000000000007,2.3000000000000003,0,49,4,6.6999999999999993,150.00000000000003,4.6000000000000005,13.000000000000002,7.8000000000000007,0,0.44000000000000006,null,0.67,0.46,0.59,1.19,0,0.81,0.53,0.19,0.43,0.4,1.56,null,1,1,1,1,1,1,1,1,1,1,1,null,7,0.3,21.400000000000002,0,null,0,0,0.93988145567169978,0.90681079628942562,null,786,689.07285714285683,22.457142857142838," ",566,0,0,null,3.9204000000000003,0.50819999999999999,1.6698000000000002,0,35.573999999999998,2.9039999999999999,4.8641999999999994,null,108.90000000000002,3.3396000000000003,9.4380000000000006,5.6628000000000007,0,0.31944000000000006,25.41,37.238738767312682,0.24949954974099497,0.17129819832963833,0.21970855872714481,0.39100675705678317,0.44314099133102092,0,0.30163378401523272,0.1973653154667572,7.0753603657894099E-2,0.16012657669944452,0.14895495506925072,0.30908153176869529,0.58092432477007783,0,0,0,0,0,0,0,0,0,0,0,0,0,0,0,0,0,"7.6.1","","",3,3,"",3,3,"",3,"","","","","","","","","","","","","","","","","","","","","","","","","","","",0.1,0.5,"",0.6,0.4,"",1.5,"","","","","","","","","","","","","","","","","","","","","","","","","","","",2005,2005,"",2005,2005,"",2005,"","","","","","","","","","","","","","","","",0.379,1.2999999999999999E-2,4.8000000000000001E-2,7.7000000000000002E-3,5.2,null,0.34,"as conventional (Mogensen et al., 2018)","offfarm","sukkerroemelasse","Sukkerrørsmelasse er et biprodukt bestående af det sirupsagtige restprodukt, der fremkommer ved fremstilling eller raffinering af sukker fra sukkerrør (Saccharum officinarum L.)\n\nUd fra forsøg og generel erfaring vurderes det, at melasse kan bruges i henhold til følgende kilder: [99], [100], [101], [102].","Det høje indhold af kalium og natrium i melasse kan give problemer, hvis melasse udgør en stor andel af foderet til grise. Når foder har højt indhold af kalium og natrium øges grisenes vandbehov, idet grisene skal bruge vand for igen at udskille disse mineraler gennem nyrerne. Hvis grisene ikke har fri adgang til vand, således at de selv kan regulere vandoptagelsen, kan der opstå akut dødsfald [102]. Der skal derfor altid være fri adgang til vand. \nMelasse er et godt bindemiddel, og der bruges ofte 2-3 procent melasse i pelleteret foder for at styrke pillen og dermed reducere smuld i pelleteret foder.\nÅrsagen til akut dødsfald, som ofte er tegn på problemer, skyldes vandmangel som følge af, at grisene ikke kan udskille de høje koncentrationer af kalium og natrium i foderet. Det skal derfor altid sikres, at grisene har fri adgang til vand.\nMelasse er en tung flydende masse, og der kræves derfor opbevaring i en tank, hvorfra det skal pumpes. Indholdet af vand i roemelasse skal være mindre end 30 procent, ellers er råvaren ikke lagerfast som følge af risiko for forgæring","Melasse kan opbevares i uisoleret opbevaringstank \nMelasse skal pumpes og bør kun bruges i tørfoder i meget begrænset omfang. I tørblandeanlæg bør der maksimalt anvendes 3 procent, i diagonalblandere dog maksimalt 8 procent.\nMelasse er flydende og transporteres i tankvogn. Læs mere i afsnittet Opbevaring og håndtering af flydende råvarer.",null,null,0.379,1.2999999999999999E-2,4.8000000000000001E-2,7.7000000000000002E-3,5.2,null,0.34,"as conventional (Mogensen et al., 2018)"]
[2100,21,0,"Std.  Færdig foderblanding, SØER, DIEGIVENDE","2014-02-28",1.06727685083183,1.05999983250081,89.834753942126696,83.211472898286104,93.856616973345197,1,85.913178103667093,14.0540617840095,2.7902306218777602,5.2450259644203197,3.40701309490326,null,83.984485890047196,52.326770528364897,56.828871638818498,58.702998583155797,60.107574383224602,61.135226572403901,null,9.2535280098789237,5.4490189540904312,1.8507056019757846,4.2635321987947767,8.0153931530534166,1.4360078582583367,1.5218587268381265,93.008224158001667,11.850162455708926,74.969858268979905,159.24782506818499,0.24676074693010344,0.31689854451936056,null,5.7247360540933796,1.7831073755629301,1.9070395519307599,3.8930915455878599,1.3312317604738599,3.8249195980321899,7.05242422997582,2.3996759082002201,4.6408990437335502,3.2228162758406902,4.5873497950517796,null,1.0353648253841701,1.05766160049211,0.979691992285043,0.991924867543717,1.0040581675503499,1.00382666231561,1.00577966375253,1.0114859790158901,1.02149306013478,1.00573566093148,0.97884310474108405,null,16.358447090679352,3.2477329828387091,6.1050307766422183,3.9656466797121501,null,0,0,1.2422737400588311,1.2338035396871965,null,938.94969223357805,574.29644294694879,88.841824252722972,535.92030663768958,31.20137366093202,30.499755166262027,109.325922679231,null,7.9500000000000011,4.6814253589302899,1.59,3.6629360114577505,6.8862789952919199,1.23371998884814,1.3074771984746403,null,79.906321271921897,10.180851176147101,64.408987858695497,136.81486757704599,0.21199999999999902,0.272257610960847,118.03231535969999,110.59203173731935,6.555000227492374,2.0856818905657581,2.066203512106854,4.1518854026726117,4.2706819663965527,1.4782108324209506,4.2462432928027036,7.8444972633528796,2.6843324113290024,5.2427769124124746,3.5846209151127044,8.8273978275251697,4.9659092632518052,2440.7152870360001,0,0,8.48,0.84799999999999998,159,2.1199999999999899,0,2.1199999999999899,5.3,3.1800000000000099,21.1999999999999,21.1999999999999,15.9,0,1.59,0.21199999999999899,"","","","","","","","","","","","","","","","","","","","","","","","","","","","","","","","","","","","","","","","","","","","","","","","","","","","","","","","","","","","","","","","","","","","","","","","","","","","","","","","","","","","","","","","","","","","","","",{"$f":"'background data'!$G$10","v":0.47300000000000003},{"$f":"'background data'!$H$10","v":0.13},{"$f":"'background data'!$J$10","v":0.39100000000000001},{"$f":"'background data'!$L$10","v":5.5E-2},{"$f":"'background data'!$M$10","v":3.97},{"$f":"'background data'!$N$10","v":4.5999999999999999E-3},{"$f":"'background data'!$O$10","v":2.73},"as barley","offfarm","vitaminer og mineraler",0,0,0,null,null,{"$f":"'background data'!$G$10","v":0.47300000000000003},{"$f":"'background data'!$H$10","v":0.13},{"$f":"'background data'!$J$10","v":0.39100000000000001},{"$f":"'background data'!$L$10","v":5.5E-2},{"$f":"'background data'!$M$10","v":3.97},{"$f":"'background data'!$N$10","v":4.5999999999999999E-3},{"$f":"'background data'!$O$10","v":2.73},"as barley"]
[41501,415,1,"Std.  Koncentrat, Fravænnede grise, 6-9 kg","2014-02-27",1.0466266021950299,1.0213688724661201,94.266033080368999,90.725196398008293,93.124109500831196,1,88.649292836714693,27.986644446233999,4.2869456254632903,16.280878068136101,1.55264933910387,null,90.982021751423602,60.563993104748398,62.494795173323901,63.138395862849102,63.781996552374203,64.264697069518107,null,32.910516660288351,17.96801015432094,6.8768869721814543,15.661729482624642,4.3915404037826002,1.0803903075147498,3.187755373334626,1337.1092144897455,258.5521170348664,538.27878572606232,1295.5952458979752,2.5360373750780352,4.4550716177464578,null,12.115773978281901,3.11752067117567,1.88651373937301,6.8126469145472202,2.07387074746336,4.4936062769177196,8.4158857201169308,2.0814369075300099,5.1991468699437702,4.4175803687891797,5.5420612237187399,null,1.0411164428020001,1.05783588474615,0.86608957505436701,0.99349630841401104,0.97048919340511297,0.97895135202904504,1.00576089290546,1.0302979625786901,1.02393022156322,0.97012590834525203,0.98409999999999997,null,31.570070725531096,4.8358486438910688,18.365491192495185,1.7514514661315268,null,0,0,1.1806372828295846,1.1521455386535395,null,816.34508807504824,394.0472605649864,41.293494761730145,266.99751835006026,10.203726815925895,22.674948479835319,146.25341769493789,null,29.174940288254795,15.9285139386346,6.0963116700190199,13.884012432345999,3.8930695125918797,0.95775836748823295,2.8259225958255203,null,1185.3378630997099,229.20462336576401,477.18033703620898,1148.5360235146497,2.2481791990814597,3.9493894845014199,254.62814937566199,243.28461443808612,30.687754630006982,8.0231014136687637,3.9750027018778238,11.998104115546559,16.466328802724597,4.896514378893948,10.702143566444398,20.592506845102669,5.2172390555145585,12.951411194394224,10.426227740594133,23.377638934988354,13.268602861794092,14521.9154474153,0,0,54.391432235841997,5.4391432235841997,1450.4381929557801,21.756572894336799,0,21.756572894336799,43.513145788673498,32.634859341505198,217.56572894336799,217.56572894336799,108.78286447168399,0,0,2.1756572894336799,"","","","","","","","","","","","","","","","","","","","","","","","","","","","","","","","","","","","","","","","","","","","","","","","","","","","","","","","","","","","","","","","","","","","","","","","","","","","","","","","","","","","","","","","","","","","","","",{"$f":"'background data'!$G$10","v":0.47300000000000003},{"$f":"'background data'!$H$10","v":0.13},{"$f":"'background data'!$J$10","v":0.39100000000000001},{"$f":"'background data'!$L$10","v":5.5E-2},{"$f":"'background data'!$M$10","v":3.97},{"$f":"'background data'!$N$10","v":4.5999999999999999E-3},{"$f":"'background data'!$O$10","v":2.73},"as barley","offfarm","vitaminer og mineraler",0,0,0,null,null,{"$f":"'background data'!$G$10","v":0.47300000000000003},{"$f":"'background data'!$H$10","v":0.13},{"$f":"'background data'!$J$10","v":0.39100000000000001},{"$f":"'background data'!$L$10","v":5.5E-2},{"$f":"'background data'!$M$10","v":3.97},{"$f":"'background data'!$N$10","v":4.5999999999999999E-3},{"$f":"'background data'!$O$10","v":2.73},"as barley"]
[40101,401,1,"Std.  Mineralsk foderblanding, Drægtige søer","2014-02-27",-9.0903703586954002E-2,-8.6967735257829096E-2,96.590367141494696,95.453822855326294,99.932591508913902,1,98.999998653253996,1.1704813049362699,8.4414938309343004E-2,97.611572710323699,3.1560151444110598E-3,null,98.608060418570801,67,67,67,67,67,null,253.14762334449242,18.969999285791623,59.968772324985807,100.01634724418298,0,0,0,1315.0063280599647,263.0012656119909,1753.3417707466062,4383.3544268665255,8.7667088537330322,8.7667088537330322,null,76.606636606104999,1.2133528395502999E-2,1.2807613306364299E-2,8.6538767415478297,8.0890189303353607E-3,2.3592971880144802E-2,4.4489604116844501E-2,1.6178037860670701E-2,2.8985651167035002E-2,2.0222547325838398E-2,3.4378330453925403E-2,null,1.0140378888483501,0.78086922786180901,0.78086922786180901,1.01353448800956,0.78086922786180901,0.78086922786180901,0.78086922786180901,0.78086922786180901,0.78086922786180901,0.78086922786180901,0.78090000000000004,null,1.1823043645039462,8.5267615613819403E-2,98.597549533517437,3.1878941286301987E-3,null,0,0,-9.1821924064204141E-2,-8.7846198425145725E-2,null,14.024504664826118,1.7325482336179738,0.22770672347357396,0,0,0,0,null,250.616143701792,18.780299037456,59.369083794108903,99.016182424774996,0,0,0,null,1301.8562470695699,260.37124941391198,1735.80832942608,4339.5208235652099,8.6790416471304006,8.6790416471304006,11.541889123596301,-126.96830457029617,-98.631559057038871,-1.202986461923837E-2,-1.269819043141825E-2,-2.4728055050656509E-2,-11.136393209387075,-8.0199097461589094E-3,-2.3391403426296861E-2,-4.4109503603874098E-2,-1.6039819492317753E-2,-2.873800992373611E-2,-2.0049774365397354E-2,-4.8787784289133246E-2,-3.4085959612185322E-2,103934.31060070101,0,0,347.161665885216,34.716166588521602,6509.2812353478103,86.790416471303999,0,86.790416471303999,216.97604117826,130.18562470695699,867.90416471304002,867.90416471304002,650.92812353478098,0,65.092812353478095,8.6790416471304006,"","","","","","","","","","","","","","","","","","","","","","","","","","","","","","","","","","","","","","","","","","","","","","","","","","","","","","","","","","","","","","","","","","","","","","","","","","","","","","","","","","","","","","","","","","","","","","",{"$f":"'background data'!$G$10","v":0.47300000000000003},{"$f":"'background data'!$H$10","v":0.13},{"$f":"'background data'!$J$10","v":0.39100000000000001},{"$f":"'background data'!$L$10","v":5.5E-2},{"$f":"'background data'!$M$10","v":3.97},{"$f":"'background data'!$N$10","v":4.5999999999999999E-3},{"$f":"'background data'!$O$10","v":2.73},"as barley","offfarm","vitaminer og mineraler",0,0,0,null,null,{"$f":"'background data'!$G$10","v":0.47300000000000003},{"$f":"'background data'!$H$10","v":0.13},{"$f":"'background data'!$J$10","v":0.39100000000000001},{"$f":"'background data'!$L$10","v":5.5E-2},{"$f":"'background data'!$M$10","v":3.97},{"$f":"'background data'!$N$10","v":4.5999999999999999E-3},{"$f":"'background data'!$O$10","v":2.73},"as barley"]
[24002,240,2,"Std.  Tilskudsfoderblanding,   Smågrise, 9-15 kg","2014-02-27",1.1105937601692599,1.1009777575688,94.121100390286699,84.012474955617904,94.781573030841599,0.98185388566096599,90.365219788977498,40.696045608994297,10.955825433288201,15.754627501753401,2.3658085023926101,null,88.575689457116496,57.896628077290799,61.794570212978101,63.4187127695144,64.718026814743496,65.692512348665304,null,30.805854833576884,13.615013845016415,5.7126965142109265,11.87427899926122,16.127612904592819,2.0976462127102282,3.3920212212526217,560.58494305632007,91.937579470142254,194.85466109435708,443.84842569927906,0.81931831065909089,1.5586570682711856,null,8.7515388507767806,2.4745849782214999,1.3920812613076601,5.0479148109656702,1.47442423595966,4.5403700152787501,7.9229289750807403,2.4045267934025398,5.0532985116695004,4.0270392802398201,5.0434189825670197,null,1.0426239165729201,1.0712822570374501,0.93633712576557104,1.0065916979604399,0.99964347634369399,0.99430005177044301,1.00044768097281,1.01503291677174,1.0107701891016501,0.99647398504497897,0.997,null,45.035076220727888,12.123940448407522,17.434392942930803,2.6180520646298313,null,0,0,1.2290057643446657,1.2183644992396667,null,825.65607057069201,130.46304945559518,119.23211364656623,39.904371748155768,77.042883522904177,0,0,null,27.837778428235101,12.303237185348801,5.1622907609439599,10.730218316038799,14.5737528479508,1.8955426105107602,3.0652074318736906,null,506.57381589675799,83.079595756859902,176.08084276698301,401.08460541307005,0.74037879219842495,1.4084838854996899,360.46802979949302,324.57235285074529,29.615811129471258,8.6043448512370073,4.2306622446240905,12.835007095861091,16.492135146862562,4.7838672635178074,14.652786870665624,25.727149390496599,7.9217525227114232,16.578258315832393,13.024568813069113,29.602827128901506,16.320435024871383,7808.0583929179402,0,0,17.912390133833,1.7912390133832901,477.66373690221099,7.1649560535331496,0,7.1649560535331496,14.329912107066299,10.747434080299801,71.649560535331503,71.649560535331503,35.824780267665801,0,0,0.71649560535331502,"","","","","","","","","","","","","","","","","","","","","","","","","","","","","","","","","","","","","","","","","","","","","","","","","","","","","","","","","","","","","","","","","","","","","","","","","","","","","","","","","","","","","","","","","","","","","","",{"$f":"'background data'!$G$10","v":0.47300000000000003},{"$f":"'background data'!$H$10","v":0.13},{"$f":"'background data'!$J$10","v":0.39100000000000001},{"$f":"'background data'!$L$10","v":5.5E-2},{"$f":"'background data'!$M$10","v":3.97},{"$f":"'background data'!$N$10","v":4.5999999999999999E-3},{"$f":"'background data'!$O$10","v":2.73},"as barley","offfarm","vitaminer og mineraler",0,0,0,null,null,{"$f":"'background data'!$G$10","v":0.47300000000000003},{"$f":"'background data'!$H$10","v":0.13},{"$f":"'background data'!$J$10","v":0.39100000000000001},{"$f":"'background data'!$L$10","v":5.5E-2},{"$f":"'background data'!$M$10","v":3.97},{"$f":"'background data'!$N$10","v":4.5999999999999999E-3},{"$f":"'background data'!$O$10","v":2.73},"as barley"]
[42500,425,0,"Std. 0,2 % Vitamin- og mineralforblanding,  SMÅGRISE","2010-05-12",-8.8418002322880607E-2,-8.2438367346939004E-2,70,60,90,1,99,0.1,0.1,96.7,0.04,null,70,50,50,50,50,50,null,0,0,0,0,0,0,0,62626.262626262629,12525.252525252525,25050.505050504951,62626.262626262629,125.25252525252525,219.1919191919192,null,0,0,0,0,0,0,0,0,0,0,0,null,1,1,1,1,1,1,1,1,1,1,1,null,0.10101010101010102,0.10101010101010102,97.676767676767682,4.0404040404040407E-2,null,0,0,-8.9311113457455155E-2,-8.327107812822121E-2,null,23.232323232323033,11.044733044732929,3.3189033189032928,0,0,0,0,null,0,0,0,0,0,0,0,null,62000,12400,24799.999999999902,62000,123.99999999999999,217,0.7,-7.9169397816043574,0,0,0,0,0,0,0,0,0,0,0,0,0,0,0,0,3000,300,80000,1200,0,1200,2400,1800,12000,12000,6000,0,0,120,"","","","","","","","","","","","","","","","","","","","","","","","","","","","","","","","","","","","","","","","","","","","","","","","","","","","","","","","","","","","","","","","","","","","","","","","","","","","","","","","","","","","","","","","","","","","","","",{"$f":"'background data'!$G$10","v":0.47300000000000003},{"$f":"'background data'!$H$10","v":0.13},{"$f":"'background data'!$J$10","v":0.39100000000000001},{"$f":"'background data'!$L$10","v":5.5E-2},{"$f":"'background data'!$M$10","v":3.97},{"$f":"'background data'!$N$10","v":4.5999999999999999E-3},{"$f":"'background data'!$O$10","v":2.73},"as barley","offfarm","vitaminer og mineraler",0,0,0,null,null,{"$f":"'background data'!$G$10","v":0.47300000000000003},{"$f":"'background data'!$H$10","v":0.13},{"$f":"'background data'!$J$10","v":0.39100000000000001},{"$f":"'background data'!$L$10","v":5.5E-2},{"$f":"'background data'!$M$10","v":3.97},{"$f":"'background data'!$N$10","v":4.5999999999999999E-3},{"$f":"'background data'!$O$10","v":2.73},"as barley"]
[76100,761,0,"SØDMÆLKSPULVER","2016-06-01",2.01711154471545,1.9370806441558499,98,98,98,1,96,25.440000000000101,29.759999999999899,5.76,0,null,94,58,58,58,58,58,null,8.6000000000000103,7.1999999999999895,3.1999999999999891,0,11,0.89999999999999891,3.3000000000000003,4,1,1,41,0,0.3,null,7.87,2.4700000000000002,0.86,4.45,1.3,5.71,10,2.87,4.83,4.91,6.72,null,1.03,1.03,1.04,1.03,1,1.01,1.03,1.02,1.04,0.93,0.98,null,26.500000000000103,30.999999999999897,6,0,null,0,0,2.1011578590785938,2.0177923376623439,null,940,379.34999999999997,0,0,387.5,0,0,null,8.2560000000000091,6.9119999999999893,3.0719999999999894,0,10.559999999999999,0.86399999999999888,3.1680000000000001,null,3.84,0.96,0.96,39.36,0,0.28799999999999998,239.13600000000099,118.55368168731366,9.6100799912553416,3.0161242158069439,1.0603441290113338,4.0764683448182781,5.4339080001379987,1.5411978619350761,6.837109376589086,12.211029213793305,3.4705404777144206,5.955188538517115,5.4135167668877813,11.368705305404944,7.807471261199745,0,0,0,0,0,0,0,0,0,0,0,0,0,0,0,0,0,"8.10.1","","","","","","","","","","","","","","","","","","","","","","","","","","","","","","","","","","","","","","","","","","","","","","","","","","","","","","","","","","","","","","","","","","","","","","","","","","","","","","","","","","","","","","","","","","","","","",8.1999999999999993,null,null,null,null,null,null,"as conventional (Flysjo, 2011)","offfarm","sødmælkspulver",0,0,0,null,null,8.1999999999999993,{"$f":"'background data'!$H$10","v":0.13},{"$f":"'background data'!$J$10","v":0.39100000000000001},{"$f":"'background data'!$L$10","v":5.5E-2},{"$f":"'background data'!$M$10","v":3.97},{"$f":"'background data'!$N$10","v":4.5999999999999999E-3},{"$f":"'background data'!$O$10","v":2.73},"as conventional (Flysjo, 2011)"]
[39104,391,4,"TREONIN 50%  (50%hv strømel)","2010-05-12",1.13840946301624,1.1250112045315299,87.403419079323001,84.568218298555394,97.288398261818301,1,93.45,43.618999848000001,2.1499997959999999,1.8500001699999999,3.1999997979999999,null,95.378651537760007,20,27,30,32,33,null,0.48154173354735258,3.4777951738897803,5.3506195826645259E-2,0,3.9058307116104869,1.1690743713215623,0,47.230604601391114,5.6115569823434992,34.136971642589621,36.942750133761372,0,3.2734082397003851E-2,null,0.67952038126704395,0.27877759231468402,0.34847199039335702,112.878883437401,0.24567275322731499,0.57497878414903503,1.08200553017137,0.453013587511361,0.68126274121900998,0.48786078655069698,0.83807513689601998,null,0.77806997216400497,0.83969927688986701,0.80888462452693599,1.0468006992691601,0.87821759234353103,0.80888462452693599,0.79347729834547098,0.83969927688986701,0.84740293998060001,0.80118096143620399,0.79347729834547098,null,46.676297322632422,2.3006953408239696,1.979668453718566,3.4242908485821291,null,0,0,1.2182016725695453,1.2038643173157089,null,980.20331546281432,369.95911541127447,39.701045790159547,269.35473515248793,16.834670947030496,33.201712145532369,60.791867308721244,null,0.450000750000001,3.2499995899999998,5.0001539999999997E-2,0,3.6499988000000001,1.0925,0,null,44.136999999999993,5.2439999999999998,31.901,34.523000000000003,0,3.05900000000001E-2,416.0321386928,365.4503517482313,1.9321886496634131,0.85548032622822723,1.0301081909858307,1.8855885172140547,431.82232677491032,0.78847424104314745,1.6996785151266063,3.1375623914298187,1.3901555301208646,2.109759680680964,1.4284166915003433,3.5381763721813067,2.4302214336195598,0,0,0,0,0,0,0,0,0,0,0,0,0,0,0,0,0,"","","","","","","","","","","","","","","","","","","","","","","","","","","","","","","","","","","","","","","","","","","","","","","","","","","","","","","","","","","","","","","","","","","","","","","","","","","","","","","","","","","","","","","","","","","","","","",null,null,null,null,null,null,null,null,"offfarm","vitaminer og mineraler",0,0,0,null,null,{"$f":"'background data'!$G$10","v":0.47300000000000003},{"$f":"'background data'!$H$10","v":0.13},{"$f":"'background data'!$J$10","v":0.39100000000000001},{"$f":"'background data'!$L$10","v":5.5E-2},{"$f":"'background data'!$M$10","v":3.97},{"$f":"'background data'!$N$10","v":4.5999999999999999E-3},{"$f":"'background data'!$O$10","v":2.73}]
[56100,561,0,"TRITICALE,  2016","2016-11-04",1.12403800813008,1.1074305038961101,89.7,85.800023400000001,93,1,85,10.199999999999999,1.9,1.7,2.6,null,84.029241176470606,50,54,55,56,57,null,0.58823529411764708,3.5294117647058822,0.1,0,0,0,0,0,0,0,0,0,0,null,3.24,1.69,2.2200000000000002,3.15,1.22,3.36,6.42,2.2200000000000002,4.3600000000000003,2.8,4.5199999999999996,null,0.98,1.05,1.03,0.95,0.92,1.01,1.01,1.03,1.06,1,0.98,null,11.999999999999998,2.2352941176470589,2,3.0588235294117645,null,105,23.470588235294116,1.3223976566236235,1.3028594163483649,null,980,693.57764705882357,54.599672400000237,641,33,29.293882352941175,117.17552941176505,null,0.5,3,8.5000000000000006E-2,0,0,0,0,null,0,0,0,0,0,0,85.709826000000206,76.251715137804652,2.4211444590555673,1.35308668512034,1.7435717183410369,3.0966584034613773,2.2818325754987985,0.85584925070671725,2.5876782049165321,4.944313712965517,1.7435717183410369,3.5240492668087797,2.1350480238585252,5.6590972906672965,3.3776459737441864,0,0,0,0,0,0,0,0,0,0,0,0,0,0,0,0,0,"1.10.1","",8,4,4,"",4,4,"",4,4,"","","","","","","","","","","",4,8,"","","","","","","","","","","","",1,0.4,0.15,"",1.1000000000000001,1.3,"",2.2999999999999998,1.9,"","","","","","","","","","","",7.0000000000000007E-2,0.3,"","","","","","","","","","","","",2016,2016,2016,"",2016,2016,"",2016,2016,"","","","","","","","","","","",2016,2016,"","",{"$f":"'background data'!$G$10","v":0.47300000000000003},{"$f":"'background data'!$H$10","v":0.13},{"$f":"'background data'!$J$10","v":0.39100000000000001},{"$f":"'background data'!$L$10","v":5.5E-2},{"$f":"'background data'!$M$10","v":3.97},{"$f":"'background data'!$N$10","v":4.5999999999999999E-3},{"$f":"'background data'!$O$10","v":2.73},"as barley","offfarm","triticale","Triticale er frø fra dyrkede sorter af triticaleplanter, som er en krydsning mellem hvede og rug (Triticum × Secale hybrid). Triticale dyrkes i mindre omfang i Danmark.\n\nTriticale har højere proteinværdi end hvede, men knap så høj som rug. \n\nDer skelnes mellem varmebehandlet og ikke-varmebehandlet korn. Det skyldes, at der ved varmebehandling af korn (pelleteret foder) sker en nedbrydning af kornets naturlige indhold af fytase, og derfor skal der i korn, der indgår i pelleteret foder, regnes med en lavere fordøjelighed af fosfor end i ikke-varmebehandlet korn (hjemmeblandet foder).\n\nDer er endvidere angivet kemisk indhold for korn tilsat det kulhydratspaltende enzym ”xylanase”. Det skyldes, at tilsætning af xylanase øger EFOSi-værdien og dermed kornets energiværdi. Læs mere om dette i afsnittet: Enzymer: kulhydratspaltende (xylanase).\n\nUd fra forsøg og generel erfaring vurderes, at triticale kan bruges i henhold til følgende kilder: [23], [24], [25], [20], [43].\n\nIndholdet af opløselige og uopløselige fibre er beregnet, se versionsbeskrivelsen for 3. juni 2016","I forsøg med brug af triticale i foder til grise, ses der ikke de samme problemer som med brug af rug. Derfor tyder det på, at de sorter af triticale, der i næringsstofindhold ligger tæt på hvede, kan erstatte op til 100 procent af korndelen til alle kategorier af svin.\n\nTriticale kan have indhold af meldrøje.\n\nDer er ingen specielle problemer omkring triticale, der bør tages hensyn til.","Triticale opbevares tørt - triticale er lagerfast ved 86 procent tørstof.  Der er ingen problemer ved transport af triticale som løsvare.",null,null,{"$f":"'background data'!$G$10","v":0.47300000000000003},{"$f":"'background data'!$H$10","v":0.13},{"$f":"'background data'!$J$10","v":0.39100000000000001},{"$f":"'background data'!$L$10","v":5.5E-2},{"$f":"'background data'!$M$10","v":3.97},{"$f":"'background data'!$N$10","v":4.5999999999999999E-3},{"$f":"'background data'!$O$10","v":2.73},"as barley","triticale"]
[56311,563,11,"TRITICALE, 10,0 % råprotein, varmebehandlet + xylanase","2016-05-27",1.12505406504065,1.10995937142857,90.4,85.600031200000004,93,1,85,9.9999999999999591,1.9,1.7,2.6,null,83.527811999999997,28,42,48,53,56,null,0.47058823529411764,3.5294117647058822,0.1,0,6.2,1.2,1.2,23.999999999999996,4,28,37,0,0,null,3.24,1.69,2.2200000000000002,3.15,1.22,3.36,6.42,2.2200000000000002,4.3600000000000003,2.8,4.5199999999999996,null,0.98,1.05,1.03,0.95,0.92,1.01,1.01,1.03,1.06,1,0.98,null,11.764705882352892,2.2352941176470589,2,3.0588235294117645,null,105,23.470588235294116,1.3235930176948822,1.3058345546218471,null,980,689.97882352941178,67.199563200000242,641,33,30.474823529411765,121.89929411764706,null,0.39999999999999997,3,8.5000000000000006E-2,0,5.27,1.02,1.02,null,20.399999999999995,3.4,23.8,31.45,0,0,83.527811999999699,74.243376025650562,2.3573756755664563,1.3174487075751651,1.6976490362025229,3.0150977437776971,2.2217330275675922,0.8333076525119022,2.5195232088064774,4.8140889882552331,1.6976490362025229,3.4312318664014696,2.078814528718214,5.5100463951196845,3.2886845844322199,0,0,0,0,0,0,0,0,0,0,0,0,0,0,0,0,0,"1.10.1","","","","","","","","","","","","","","","","","","","","","","","","","","","","","","","","","","","","","","","","","","","","","","","","","","","","","","","","","","","","","","","","","","","","","","","","","","","","","","","","","","","","","","","","","","","","","",{"$f":"'background data'!$G$10","v":0.47300000000000003},{"$f":"'background data'!$H$10","v":0.13},{"$f":"'background data'!$J$10","v":0.39100000000000001},{"$f":"'background data'!$L$10","v":5.5E-2},{"$f":"'background data'!$M$10","v":3.97},{"$f":"'background data'!$N$10","v":4.5999999999999999E-3},{"$f":"'background data'!$O$10","v":2.73},"as barley","offfarm","triticale","Tabelværdierne er dannet ved kopi af VSPs fodermiddelkode 56011 (gennemsnit af de seneste år i udgaven svarende til varmebehandlet foder tilsat xylanase), hvor eneste ændring er råproteinkoncentration med de afledte beregnede konsekvenser.\n\nTriticale er frø fra dyrkede sorter af triticaleplanter, som er en krydsning mellem hvede og rug (Triticum × Secale hybrid). Triticale dyrkes i mindre omfang i Danmark.\n\nTriticale har højere proteinværdi end hvede, men knap så høj som rug.\n\nDer skelnes mellem varmebehandlet og ikke-varmebehandlet korn. Det skyldes, at der ved varmebehandling af korn (pelleteret foder) sker en nedbrydning af kornets naturlige indhold af fytase, og derfor skal der i korn, der indgår i pelleteret foder, regnes med en lavere fordøjelighed af fosfor end i ikke-varmebehandlet korn (hjemmeblandet foder).\n\nDer er endvidere angivet kemisk indhold for korn tilsat det kulhydratspaltende enzym ”xylanase”. Det skyldes, at tilsætning af xylanase øger EFOSi-værdien og dermed kornets energiværdi. Læs mere om dette i afsnittet: Enzymer: kulhydratspaltende (xylanase).\n\nUd fra forsøg og generel erfaring vurderes, at triticale kan bruges i henhold til følgende kilder: [23], [24], [25], [20], [43].\n\nIndholdet af opløselige og uopløselige fibre er beregnet, se versionsbeskrivelsen for 3. juni 2016","I forsøg med brug af triticale i foder til grise, ses der ikke de samme problemer som med brug af rug. Derfor tyder det på, at de sorter af triticale, der i næringsstofindhold ligger tæt på hvede, kan erstatte op til 100 procent af korndelen til alle kategorier af svin.\n\nTriticale kan have indhold af meldrøje.\n\nDer er ingen specielle problemer omkring triticale, der bør tages hensyn til.","Triticale opbevares tørt - triticale er lagerfast ved 86 procent tørstof.  Der er ingen problemer ved transport af triticale som løsvare.",null,null,{"$f":"'background data'!$G$10","v":0.47300000000000003},{"$f":"'background data'!$H$10","v":0.13},{"$f":"'background data'!$J$10","v":0.39100000000000001},{"$f":"'background data'!$L$10","v":5.5E-2},{"$f":"'background data'!$M$10","v":3.97},{"$f":"'background data'!$N$10","v":4.5999999999999999E-3},{"$f":"'background data'!$O$10","v":2.73},"as barley","triticale"]
[99950,999,50,"TYROSIN,L98,5","2010-05-12",1.2085399792561,1.1583149411571401,100,100,100,1,99,47.82987,0,14.99999985,0,null,100,0,0,0,0,0,null,0,0,0,0,0,0,0,0,0,0,0,0,0,null,0,0,0,0,0,0,0,0,0,206.98362800000001,0,null,1,1,1,1,1,1,1,1,1,1,1,null,48.313000000000002,0,15.151515,0,null,0,0,1.2207474537940404,1.1700150920779193,null,848.48485000000005,408.83654999999999,0,0,0," "," ",null,0,0,0,0,0,0,0,null,0,0,0,0,0,0,478.2987,395.76572410489069,0,0,0,0,0,0,0,0,0,0,819.17025413277327,819.17025413277327,0,0,0,0,0,0,0,0,0,0,0,0,0,0,0,0,0,0,"","","","","","","","","","","","","","","","","","","","","","","","","","","","","","","","","","","","","","","","","","","","","","","","","","","","","","","","","","","","","","","","","","","","","","","","","","","","","","","","","","","","","","","","","","","","","","",null,null,null,null,null,null,null,null,"offfarm","vitaminer og mineraler","","","",null,null,{"$f":"'background data'!$G$10","v":0.47300000000000003},{"$f":"'background data'!$H$10","v":0.13},{"$f":"'background data'!$J$10","v":0.39100000000000001},{"$f":"'background data'!$L$10","v":5.5E-2},{"$f":"'background data'!$M$10","v":3.97},{"$f":"'background data'!$N$10","v":4.5999999999999999E-3},{"$f":"'background data'!$O$10","v":2.73}]
[99930,999,30,"VALIN, L 96,5 %","2010-05-12",1.39316029810298,1.33526272727273,100,100,100,1,98.5,72.099999999999994,0,0.5,0,null,100,0,0,0,0,0,null,0,0,0,0,0,0,0,0,0,0,0,0,0,null,0,0,0,0,0,0,0,0,0,0,133.77926400000001,null,1,1,1,1,1,1,1,1,1,1,1,null,73.197969543147195,0,0.50761421319796951,0,null,0,0,1.4143759371603859,1.3555966774342436,null,994.92385786802026,328.82233502538071,0,0,0," "," ",null,0,0,0,0,0,0,0,null,0,0,0,0,0,0,721,517.52838562925001,0,0,0,0,0,0,0,0,0,0,0,0,692.34566528589244,0,0,0,0,0,0,0,0,0,0,0,0,0,0,0,0,0,"","","","","","","","","","","","","","","","","","","","","","","","","","","","","","","","","","","","","","","","","","","","","","","","","","","","","","","","","","","","","","","","","","","","","","","","","","","","","","","","","","","","","","","","","","","","","","",null,null,null,null,null,null,null,null,"offfarm","vitaminer og mineraler","","","",null,null,{"$f":"'background data'!$G$10","v":0.47300000000000003},{"$f":"'background data'!$H$10","v":0.13},{"$f":"'background data'!$J$10","v":0.39100000000000001},{"$f":"'background data'!$L$10","v":5.5E-2},{"$f":"'background data'!$M$10","v":3.97},{"$f":"'background data'!$N$10","v":4.5999999999999999E-3},{"$f":"'background data'!$O$10","v":2.73}]
[77006,770,6,"VALLE, Perlac 5,5, Høgelund, okt. 2016","2016-11-17",6.7383057562726806E-2,6.4824899439316297E-2,99,98,98,0.86,5.3,0.89570000000000005,0.24909999999999999,0.45689657,0,null,85,50,50,50,50,50,null,13.8,9.6999999999999993,5.6000000000000005,13.8,23.800000000000004,1.6,0,92.000000000000014,22,2.9999999999999813,17.000000000000004,0,5.000000000000019E-2,null,7,1.3,0.5,5.3,1.4,5.7,8.1,1.2,2.6,2,5,null,0.89,1.06,1.04,1.01,1.08,1.05,1.0900000000000001,1.05,1.02,1.1200000000000001,1.05,null,16.900000000000002,4.7,8.6206899999999997,0,null,34,15.98,1.2713784445797511,1.2231113101757793,null,913.79310000000009,692.22098185714344,13.054187142857096,0," ",0,0,null,0.73140000000000005,0.5141,0.29680000000000001,0.73140000000000005,1.2614000000000003,8.48E-2,0,null,4.8760000000000003,1.1659999999999999,0.158999999999999,0.90100000000000013,0,2.65000000000001E-3,7.6134500000000003,112.98760067265646,7.0391275219064973,1.5569691372692058,0.58753552349781357,2.1445046607670197,6.0482262640073001,1.7083725221705657,6.7623079002584889,9.9756752633888386,1.4236437684754715,2.9964311698388491,2.5309222550675043,5.5273534249063543,5.9318490353144639,0,0,0,0,0,0,0,0,0,0,0,0,0,0,0,0,0,"8.17.1",13,13,13,"","","","","","","","","","","","","","","","","","",13,13,13,13,13,13,"","","","","","","",0.4,3.6,2.7,"","","","","","","","","","","","","","","","","","",4,1.3,0.5,2.4,2.7,0.2,"","","","","","","",2016,2016,2016,"","","","","","","","","","","","","","","","","","",2016,2016,2016,2016,null,null,null,null,null,null,null,null,"offfarm","valle","Som biprodukt fra produktion af ost, kvark, kasein eller lignende hos Arla fås Perlac 5,5 (tidligere valle, kategori A) eller Perlac 7 (tidligere valle, kategori B, beriget permeat). Fra andre producenter hedder dette biprodukt dog stadig valle og beriget permeat.\n\nPerlac 5,5 er et restprodukt af skummetmælk, hvor en del af proteinet er fjernet med enten osteløbe til produktion af gule oste, flødeoste og skimmel oste (\"sød\" valle), eller med saltsyre (HCl) til produktion af kasein (\"sur\" valle). Tørstoffet består af ca. 68 procent laktose, protein samt mineraler.\n\nDa indholdet af protein og mineraler som nævnt varierer i de forskellige typer valle, er det vigtigt at vide, hvorfra vallen leveres og også at anvende de korrekte og aktuelle analysetal ved optimering af foderet. Det anbefales at anvende gennemsnit af analyseværdier over det seneste år ved optimering af foderet. \nValle produceres på ostemejerier i Danmark.\nUd fra forsøg og praktisk erfaring vurderes det, at Perlac 5,5 og Perlac 7 kan bruges i henhold til følgende kilder: [1], [114], [115], [116], [117], [118], [119], [120].","I nogle typer valle er variationen i indholdet af mineraler (specielt natrium, fosfor og calcium) stor, og det kan derfor være nødvendigt at hæve indholdet af disse mineraler i optimeringen med fx 0,5 gram pr. foderenhed. For at undgå underforsyning med aminosyrer anbefales det at hæve normen for fordøjelige aminosyrer med 2 procent, når valle udgør mere end 10 procent af foderenhederne og 4 procent, når valle udgør mere end 20 procent af foderenhederne i en blanding. Dermed tages der højde for den variation, der trods alt er i valle leveret fra samme mejeri.\nPerlac 7 fra kaseinproduktion har specielt et højt indhold af klorid. Det er vigtigt at vide, om man modtager en sådan type valle, så det øvrige foder kan optimeres i forhold hertil, så der ikke bliver et skævt indhold af elektrolytter. Det er vigtigt, at grisene altid har fri adgang til vand, så et eventuelt overskud af mineraler kan udskilles. Samtidig brug af store mængder valle og melasse bør undgås af hensyn til indhold af elektrolytter - jf afsnit om elektrolytbalance: http://vsp.lf.dk under Viden, Foder, Naeringsstoffer, Mineraler, Elektrolytter/elektrolytbalance\n","Valle og beriget permeat er flydende og bør opbevares i tanke af rustfrit stål eller glasfiber. Murede eller støbte tanke skal overfladebehandles med epoxy eller lignende. \nHvis pH-værdien i valle ligger i intervallet 4,0-4,5 ved levering, kan valle holde sig i op til 3 døgn. Er pH-værdien i valle under 4,0, er der risiko for nedsat ædelyst hos grisene. Er pH-værdien i valle over 5,0, reduceres holdbarheden. \nDet anbefales at justere pH-værdien ved tilsætning af fx 2 l myresyre pr. 1.000 l valle (doseringen skal tilpasses valles pH-værdi), da denne syre er mere konserverende ved samme pH-værdi end fx saltsyre. De fleste mejerier tilsætter myresyre inden levering til landmanden.\nVær opmærksom på leveringsmønstret for valle. Hvis der fx leveres valle 3 gange om ugen betyder det, at vallen skal bruges over henholdsvis 2, 2 og 3 dage. Det medfører typisk risiko for, at vallen er brugt op på 3. dagen og det gør, at foderets smag ændres, hvilket kan reducere foderoptagelsen. Det anbefales at tilstræbe et fast antal dage mellem leveringerne eller at forbruge vallen, så foderet indeholder samme mængde valle hver dag.\nTanke til valle og beriget permeat bør skylles én gang om ugen.\n Eventuel grundigere rengøring kan foretages med varmt vand (min. 50 °C) og rengøringsmiddel, fx natriumhydroxid. Rengøring lettes, hvis der er 2 tanke, som tømmes på skift.\n\n",null,null,{"$f":"'background data'!$G$10","v":0.47300000000000003},{"$f":"'background data'!$H$10","v":0.13},{"$f":"'background data'!$J$10","v":0.39100000000000001},{"$f":"'background data'!$L$10","v":5.5E-2},{"$f":"'background data'!$M$10","v":3.97},{"$f":"'background data'!$N$10","v":4.5999999999999999E-3},{"$f":"'background data'!$O$10","v":2.73}]
[77402,774,2,"VALLE, Perlac 7, Hoco, okt. 2016","2016-11-17",8.5216744936701394E-2,8.1997048475510106E-2,99,98,98,0.86,7.1500000000000101,0.40755000000000102,4.2900000000000098E-2,0.71500000000000097,0,null,76,50,50,50,50,50,null,17.099999999999977,9.6,16.799999999999976,59.800000000000054,27.999999999999957,2.099999999999997,0,10.999999999999996,1.9999999999999971,0,6.0000000000000053,0,0,null,3.6,0.7,0,2.4,0.7,2,4.4000000000000004,1.1000000000000001,1.5,1.7,1.7,null,0.89,1.06,1.04,1.01,1.08,1.05,1.0900000000000001,1.05,1.02,1.1200000000000001,1.05,null,5.7000000000000064,0.60000000000000053,10,0,null,34,2.0399999999999969,1.1918425865272906,1.1468118667903495,null,900,820.45285714285762,12.857142857142906,0," ",0,0,null,1.22265,0.68640000000000101,1.2012,4.2757000000000103,2.0019999999999998,0.15015000000000001,0,null,0.78650000000000087,0.14300000000000002,0,0.42900000000000099,0,0,3.0973799999999998,36.347081812391679,1.1645605012690305,0.26969534704794629,0,0.26969534704794629,0.88105326313237553,0.27478393850168109,0.76328871806022647,1.7432060437223051,0.41980879493312506,0.55611035172959389,0.69204843770793878,1.2481587894375303,0.6487954103511927,0,0,0,0,0,0,0,0,0,0,0,0,0,0,0,0,0,"8.17.1",14,14,14,"","","","","","","","","","","","","","","","","","",14,14,14,13,14,14,"","","","","","","",0.7,2,0.4,"","","","","","","","","","","","","","","","","","",8.5,3.7,6.7,7.3,5.2,0.3,"","","","","","","",2016,2016,2016,"","","","","","","","","","","","","","","","","","",2016,2016,2016,2016,null,null,null,null,null,null,null,null,"offfarm","valle","Som biprodukt fra produktion af ost, kvark, kasein eller lignende hos Arla fås Perlac 5,5 (tidligere valle, kategori A) eller Perlac 7 (tidligere valle, kategori B, beriget permeat). Fra andre producenter hedder dette biprodukt dog stadig valle og beriget permeat.\n\nPerlac 7 er restproduktet fra forarbejdning af Perlac 5,5. Ved denne videre forarbejdning udvindes valleproteinkoncentrat ved hjælp af ultrafiltrering, og proteinindholdet i Perlac 7 er derfor lavere end i Perlac 5,5. Udover det lavere indhold af protein, er proteinets sammensætning og fordøjelighed også ændret, da det kun er visse proteiner, der fjernes. Indholdet af tørstof i Perlac 7 er opkoncentreret til 7 procent (± 5 pct.). Tørstoffet består af ca. 81 procent laktose, protein samt mineraler.\n\nDa indholdet af protein og mineraler som nævnt varierer i de forskellige typer valle, er det vigtigt at vide, hvorfra vallen leveres og også at anvende de korrekte og aktuelle analysetal ved optimering af foderet. Det anbefales at anvende gennemsnit af analyseværdier over det seneste år ved optimering af foderet. \nValle produceres på ostemejerier i Danmark.\nUd fra forsøg og praktisk erfaring vurderes det, at Perlac 5,5 og Perlac 7 kan bruges i henhold til følgende kilder: [1], [114], [115], [116], [117], [118], [119], [120].","I nogle typer valle er variationen i indholdet af mineraler (specielt natrium, fosfor og calcium) stor, og det kan derfor være nødvendigt at hæve indholdet af disse mineraler i optimeringen med fx 0,5 gram pr. foderenhed. For at undgå underforsyning med aminosyrer anbefales det at hæve normen for fordøjelige aminosyrer med 2 procent, når valle udgør mere end 10 procent af foderenhederne og 4 procent, når valle udgør mere end 20 procent af foderenhederne i en blanding. Dermed tages der højde for den variation, der trods alt er i valle leveret fra samme mejeri.\nPerlac 7 fra kaseinproduktion har specielt et højt indhold af klorid. Det er vigtigt at vide, om man modtager en sådan type valle, så det øvrige foder kan optimeres i forhold hertil, så der ikke bliver et skævt indhold af elektrolytter. Det er vigtigt, at grisene altid har fri adgang til vand, så et eventuelt overskud af mineraler kan udskilles. Samtidig brug af store mængder valle og melasse bør undgås af hensyn til indhold af elektrolytter - jf afsnit om elektrolytbalance: http://vsp.lf.dk under Viden, Foder, Naeringsstoffer, Mineraler, Elektrolytter/elektrolytbalance\n","Valle og beriget permeat er flydende og bør opbevares i tanke af rustfrit stål eller glasfiber. Murede eller støbte tanke skal overfladebehandles med epoxy eller lignende. \nHvis pH-værdien i valle ligger i intervallet 4,0-4,5 ved levering, kan valle holde sig i op til 3 døgn. Er pH-værdien i valle under 4,0, er der risiko for nedsat ædelyst hos grisene. Er pH-værdien i valle over 5,0, reduceres holdbarheden. \nDet anbefales at justere pH-værdien ved tilsætning af fx 2 l myresyre pr. 1.000 l valle (doseringen skal tilpasses valles pH-værdi), da denne syre er mere konserverende ved samme pH-værdi end fx saltsyre. De fleste mejerier tilsætter myresyre inden levering til landmanden.\nVær opmærksom på leveringsmønstret for valle. Hvis der fx leveres valle 3 gange om ugen betyder det, at vallen skal bruges over henholdsvis 2, 2 og 3 dage. Det medfører typisk risiko for, at vallen er brugt op på 3. dagen og det gør, at foderets smag ændres, hvilket kan reducere foderoptagelsen. Det anbefales at tilstræbe et fast antal dage mellem leveringerne eller at forbruge vallen, så foderet indeholder samme mængde valle hver dag.\nTanke til valle og beriget permeat bør skylles én gang om ugen.\n Eventuel grundigere rengøring kan foretages med varmt vand (min. 50 °C) og rengøringsmiddel, fx natriumhydroxid. Rengøring lettes, hvis der er 2 tanke, som tømmes på skift.\n\n",null,null,{"$f":"'background data'!$G$10","v":0.47300000000000003},{"$f":"'background data'!$H$10","v":0.13},{"$f":"'background data'!$J$10","v":0.39100000000000001},{"$f":"'background data'!$L$10","v":5.5E-2},{"$f":"'background data'!$M$10","v":3.97},{"$f":"'background data'!$N$10","v":4.5999999999999999E-3},{"$f":"'background data'!$O$10","v":2.73}]
[77401,774,1,"VALLE, Perlac 7, Rødkærsbro, sep. 2016","2016-11-17",4.9282422857143002E-2,4.7399036834137397E-2,99,98,98,0.86,3.66,0.65880000000000005,0.35136000000000001,0.36599999999999999,0,null,76,50,50,50,50,50,null,9.6,7.6000000000000005,43.8,72.900000000000006,19.400000000000002,1.3,0,10.999999999999998,2,0,5.9999999999999991,0,0,null,3.6,0.7,0,2.4,0.7,2,4.4000000000000004,1.1000000000000001,1.5,1.7,1.7,null,0.89,1.06,1.04,1.01,1.08,1.05,1.0900000000000001,1.05,1.02,1.1200000000000001,1.05,null,18.000000000000004,9.6,10,0,null,34,32.639999999999993,1.3465142857142895,1.2950556512059397,null,900,621.22285714285795,12.857142857142895,0," ",0,0,null,0.35136000000000001,0.27816000000000002,1.6030799999999998,2.6681400000000002,0.71004000000000012,4.7580000000000004E-2,0,null,0.40259999999999996,7.3200000000000001E-2,0,0.21959999999999996,0,0,5.0068799999999998,101.59565438804927,3.2551247665930982,0.75383975555932559,0,0.75383975555932559,2.4626786623663142,0.76806314717365254,2.1335087421490346,4.8725275844508431,1.173429808181969,1.5544135121371538,1.9343812595484582,3.4887947716856118,1.8134824308266795,0,0,0,0,0,0,0,0,0,0,0,0,0,0,0,0,0,"8.17.1",13,13,13,"","","","","","","","","","","","","","","","","","",13,13,13,13,13,13,"","","","","","","",0.7,1.8,4.7,"","","","","","","","","","","","","","","","","","",1.4,1.1000000000000001,16.399999999999999,27.9,2.9,0.2,"","","","","","","",2016,2016,2016,"","","","","","","","","","","","","","","","","","",2016,2016,2016,2016,null,null,null,null,null,null,null,null,"offfarm","valle","Som biprodukt fra produktion af ost, kvark, kasein eller lignende hos Arla fås Perlac 5,5 (tidligere valle, kategori A) eller Perlac 7 (tidligere valle, kategori B, beriget permeat). Fra andre producenter hedder dette biprodukt dog stadig valle og beriget permeat.\n\nPerlac 7 er restproduktet fra forarbejdning af Perlac 5,5. Ved denne videre forarbejdning udvindes valleproteinkoncentrat ved hjælp af ultrafiltrering, og proteinindholdet i Perlac 7 er derfor lavere end i Perlac 5,5. Udover det lavere indhold af protein, er proteinets sammensætning og fordøjelighed også ændret, da det kun er visse proteiner, der fjernes. Indholdet af tørstof i Perlac 7 er opkoncentreret til 7 procent (± 5 pct.). Tørstoffet består af ca. 81 procent laktose, protein samt mineraler.\n\nDa indholdet af protein og mineraler som nævnt varierer i de forskellige typer valle, er det vigtigt at vide, hvorfra vallen leveres og også at anvende de korrekte og aktuelle analysetal ved optimering af foderet. Det anbefales at anvende gennemsnit af analyseværdier over det seneste år ved optimering af foderet. \nValle produceres på ostemejerier i Danmark.\nUd fra forsøg og praktisk erfaring vurderes det, at Perlac 5,5 og Perlac 7 kan bruges i henhold til følgende kilder: [1], [114], [115], [116], [117], [118], [119], [120].","I nogle typer valle er variationen i indholdet af mineraler (specielt natrium, fosfor og calcium) stor, og det kan derfor være nødvendigt at hæve indholdet af disse mineraler i optimeringen med fx 0,5 gram pr. foderenhed. For at undgå underforsyning med aminosyrer anbefales det at hæve normen for fordøjelige aminosyrer med 2 procent, når valle udgør mere end 10 procent af foderenhederne og 4 procent, når valle udgør mere end 20 procent af foderenhederne i en blanding. Dermed tages der højde for den variation, der trods alt er i valle leveret fra samme mejeri.\nPerlac 7 fra kaseinproduktion har specielt et højt indhold af klorid. Det er vigtigt at vide, om man modtager en sådan type valle, så det øvrige foder kan optimeres i forhold hertil, så der ikke bliver et skævt indhold af elektrolytter. Det er vigtigt, at grisene altid har fri adgang til vand, så et eventuelt overskud af mineraler kan udskilles. Samtidig brug af store mængder valle og melasse bør undgås af hensyn til indhold af elektrolytter - jf afsnit om elektrolytbalance: http://vsp.lf.dk under Viden, Foder, Naeringsstoffer, Mineraler, Elektrolytter/elektrolytbalance\n","Valle og beriget permeat er flydende og bør opbevares i tanke af rustfrit stål eller glasfiber. Murede eller støbte tanke skal overfladebehandles med epoxy eller lignende. \nHvis pH-værdien i valle ligger i intervallet 4,0-4,5 ved levering, kan valle holde sig i op til 3 døgn. Er pH-værdien i valle under 4,0, er der risiko for nedsat ædelyst hos grisene. Er pH-værdien i valle over 5,0, reduceres holdbarheden. \nDet anbefales at justere pH-værdien ved tilsætning af fx 2 l myresyre pr. 1.000 l valle (doseringen skal tilpasses valles pH-værdi), da denne syre er mere konserverende ved samme pH-værdi end fx saltsyre. De fleste mejerier tilsætter myresyre inden levering til landmanden.\nVær opmærksom på leveringsmønstret for valle. Hvis der fx leveres valle 3 gange om ugen betyder det, at vallen skal bruges over henholdsvis 2, 2 og 3 dage. Det medfører typisk risiko for, at vallen er brugt op på 3. dagen og det gør, at foderets smag ændres, hvilket kan reducere foderoptagelsen. Det anbefales at tilstræbe et fast antal dage mellem leveringerne eller at forbruge vallen, så foderet indeholder samme mængde valle hver dag.\nTanke til valle og beriget permeat bør skylles én gang om ugen.\n Eventuel grundigere rengøring kan foretages med varmt vand (min. 50 °C) og rengøringsmiddel, fx natriumhydroxid. Rengøring lettes, hvis der er 2 tanke, som tømmes på skift.\n\n",null,null,{"$f":"'background data'!$G$10","v":0.47300000000000003},{"$f":"'background data'!$H$10","v":0.13},{"$f":"'background data'!$J$10","v":0.39100000000000001},{"$f":"'background data'!$L$10","v":5.5E-2},{"$f":"'background data'!$M$10","v":3.97},{"$f":"'background data'!$N$10","v":4.5999999999999999E-3},{"$f":"'background data'!$O$10","v":2.73}]
[78200,782,0,"VALLEPULVER, SUR","2010-05-12",1.36759693515292,1.3160310513914599,100,98.4,98.7,1,97,9.3119999999999994,0.48499999999999999,8.2449999999999992,0,null,92,58,58,58,58,58,null,10.6,8.1999999999999993,6.6000000000000005,35,21,1.6,2,4,3,3,14,0,6.25E-2,null,7.47,1.45,1.82,6.07,1.29,5.88,8.6300000000000008,2.15,3,2.75,5.29,null,1.01,0.99,0.97,1.01,0.99,0.97,0.98,1.01,1.05,1,0.97,null,9.6,0.5,8.5,0,null,34,1.7,1.4098937475803299,1.3567330426716082,null,915,801.87571428571448,20.914285714285565,0,775,0,0,null,10.282,7.9539999999999988,6.4020000000000001,33.949999999999996,20.37,1.552,1.94,null,3.88,2.91,2.91,13.58,0,6.0624999999999998E-2,85.670400000000001,62.64301842005856,4.7262278107381581,0.8992405294199407,1.1058998471877137,2.0051403766076548,3.8404555302785304,0.80001398824256775,3.57290719860646,5.2979706398580326,1.3602931449915716,1.9732550802318445,1.7226830065516103,3.695938086783455,3.2144012041884644,0,0,0,0,0,0,0,0,0,0,0,0,0,0,0,0,0,"8.17.1","","","","","","","","","","","","","","","","","","","","","","","","","","","","","","","","","","","","","","","","","","","","","","","","","","","","","","","","","","","","","","","","","","","","","","","","","","","","","","","","","","","","","","","","","","","","","",null,null,null,null,null,null,null,null,"offfarm","vallepulver","Vallepulver (vallegranulat) fremstilles ud fra valle, der er et biprodukt fra fremstilling af ost, kvark, kasein eller lignende. Produktionen af vallepulver er baseret på inddampning og tørring.\n\nDer opnås forskellige valletyper afhængig af, hvorfra biproduktet stammer samt de anvendte metoder i fremstillingen. \nSød vallepulver opnås, såfremt valle koaguleres med proteolytiske enzymer, såsom chymosin og pepsin. Sød vallepulver består af ca. 95 procent tørstof og indeholder 70-72 procent lactose. Produktet har desuden et højt indhold af protein og mineralstoffer.\nI vallepulver af højere kvalitet indgår en krystallisation af laktose. Krystallisationen giver et lavere vandindhold i det færdige produkt og modvirker på den måde, at produktet klumper sammen.\nVallepulver fremstilles primært med henblik på tilsætning i mælkeerstatninger, men produceres også med henblik på tilsætning i svinefoderblandinger.\nDet maksimale indhold af vallepulver i foder kan ses i oversigten Maksimalt indhold af råvarer i foder.","Vallepulver har en høj fordøjelighed og er derfor velegnet i somælkserstatninger og i foder til tidligt fravænnede grise. \nEn kendt og god kvalitet vallepulver giver ingen problemer.","Vallepulver suger let fugt, og skal derfor opbevares tørt. Produktet er holdbart i 12 måneder i rene og tørre omgivelser.\nDer er ingen problemer ved håndtering og transport af vallepulver, hvilket dog ofte sker i form af sækkevare",null,null,{"$f":"'background data'!$G$10","v":0.47300000000000003},{"$f":"'background data'!$H$10","v":0.13},{"$f":"'background data'!$J$10","v":0.39100000000000001},{"$f":"'background data'!$L$10","v":5.5E-2},{"$f":"'background data'!$M$10","v":3.97},{"$f":"'background data'!$N$10","v":4.5999999999999999E-3},{"$f":"'background data'!$O$10","v":2.73}]
[89000,890,0,"VEGETABILSK OLIE OG FEDTSTOF, Kokos","2010-05-12",3.8087734898011298,3.6567669291860199,97,97,90,1,99.5,1.0050505050505E-4,99.5,0,0,null,0,0,0,0,0,0,null,0,0,0,0,0,0,0,0,0,0,0,0,0,null,0,0,0,0,0,0,0,0,0,0,0,null,1,1,1,1,1,1,1,1,1,1,1,null,1.010101010101005E-4,100,0,0,null,10,100,3.8279130550765124,3.67514264239801,null,1000,-9.1919191907823211E-4,0,0,0,0,0,null,0,0,0,0,0,0,0,null,0,0,0,0,0,0,0,0,0,0,0,0,0,0,0,0,0,0,0,0,0,0,0,0,0,0,0,0,0,0,0,0,0,0,0,0,0,0,"2.20.1","","","","","","","","","","","","","","","","","","","","","","","","","","","","","","","","","","","","","","","","","","","","","","","","","","","","","","","","","","","","","","","","","","","","","","","","","","","","","","","","","","","","","","","","","","","","","",{"$f":"1930/2000+1661/2000","v":1.7955000000000001},{"$f":"(2645+2131)/2/1000","v":2.3879999999999999},{"$f":"(290+234)/2/1000","v":0.26200000000000001},{"$f":"(118.5+104.7)/2/1000","v":0.11159999999999999},8.9499999999999993,null,{"$f":"(2.03+1.63)/2","v":1.8299999999999998},"as conventional (Mogensen et al., 2018)","offfarm","vegetabilsk olie og fedtstof","Læs udførlig beskrivelse vedr. foderfedt og fedtkvalitet her:\nhttp://vsp.lf.dk/Viden/Foder/Raavarer/Foder_raavareliste/Foderfedt_fedtkvalitet.aspx?full=1 \n(Klik på referencenr. 172 i fanen [Liste over referencer] )\n","Læs udførlig beskrivelse vedr. foderfedt og fedtkvalitet her:\nhttp://vsp.lf.dk/Viden/Foder/Raavarer/Foder_raavareliste/Foderfedt_fedtkvalitet.aspx?full=1 \n(Klik på referencenr. 172 i fanen [Liste over referencer] )\n","   ",null,null,{"$f":"1930/2000+1661/2000","v":1.7955000000000001},{"$f":"(2645+2131)/2/1000","v":2.3879999999999999},{"$f":"(290+234)/2/1000","v":0.26200000000000001},{"$f":"(118.5+104.7)/2/1000","v":0.11159999999999999},8.9499999999999993,null,{"$f":"(2.03+1.63)/2","v":1.8299999999999998},"as conventional (Mogensen et al., 2018)"]
[99526,995,26,"VitaLys Dry i vådfoder FK=75 %","2010-05-12",1.1453137804878,1.1150750454545399,91,91,92,1,96.5,73.34,0.96499999999999997,4.8250000000000002,0.193,null,75,50,50,50,50,50,null,0.9,2.2999999999999998,1.4,0,12.399999999999999,0.8,0,47,5,16,23,0,0,null,68.421052631578902,0.22368421052631601,0.144736842105263,0.69736842105263197,0.197368421052632,0.68421052631578905,1.0526315789473699,0.32894736842105299,0.53947368421052599,0.394736842105263,0.90789473684210498,null,1,0.85,0.85,0.85,0.85,0.85,0.85,0.85,0.85,0.85,0.85,null,76,1,5,0.2,null,0,0,1.1868536585365803,1.1555181818181761,null,950,163.19999999999999,0," "," "," "," ",null,0.86849999999999994,2.2194999999999996,1.351,0,11.965999999999998,0.77200000000000002,0,null,45.354999999999997,4.8250000000000002,15.44,22.195,0,0,550.04999999999995,480.26140030003694,328.59990546844637,0.91312858346520198,0.59084790694807177,1.5039764904132737,2.8468126425679827,0.80570169129282787,2.7930991964817942,4.2970756868950675,1.3428361521547088,2.2022512895337223,1.6114033825856504,3.8136546721193727,3.7062277799469965,0,0,0,0,0,0,0,0,0,0,0,0,0,0,0,0,0,"","","","","","","","","","","","","","","","","","","","","","","","","","","","","","","","","","","","","","","","","","","","","","","","","","","","","","","","","","","","","","","","","","","","","","","","","","","","","","","","","","","","","","","","","","","","","","",null,null,null,null,null,null,null,null,"offfarm","vitaminer og mineraler","","","",null,null,{"$f":"'background data'!$G$10","v":0.47300000000000003},{"$f":"'background data'!$H$10","v":0.13},{"$f":"'background data'!$J$10","v":0.39100000000000001},{"$f":"'background data'!$L$10","v":5.5E-2},{"$f":"'background data'!$M$10","v":3.97},{"$f":"'background data'!$N$10","v":4.5999999999999999E-3},{"$f":"'background data'!$O$10","v":2.73}]
[97010,970,10,"XYLANASE Ronozyme WX (CT)","2016-11-21",1.3951217294037901,1.33714264454545,100,100,90,1,88,1E-4,0,0,0,null,0,0,0,0,0,0,null,35.343357265540341,0,18.849790730119434,0,0,0,13.548287087273296,0,0,0,0,0,0,null,0,0,0,0,0,0,0,0,0,0,0,null,0,0,0,0,0,0,0,0,0,0,0,null,1.1363636363636364E-4,0,0,0,null,0,0,1.585365601595216,1.5194802778925569,null,1000,999.99896590909088,0,0,0,0,0,null,31.102154393675502,0,16.587815842505101,0,0,0,11.9224926368005,null,0,0,0,0,0,0,0,0,0,0,0,0,0,0,0,0,0,0,0,0,0,0,0,1000000,0,0,0,0,0,0,0,0,0,0,0,0,0,0,"","","","","","","","","","","","","","","","","","","","","","","","","","","","","","","","","","","","","","","","","","","","","","","","","","","","","","","","","","","","","","","","","","","","","","","","","","","","","","","","","","","","","","","","","","","","","","",null,null,null,null,null,null,null,null,"offfarm","vitaminer og mineraler","Deklareret indhold: 1.000 FXU pr. gram. Firmaets anbefalede dosering til smågrise og slagtesvin: 100 - 400 FXU pr. kg foder.\n\nMere information kan fx fås på www.pig.dk",0,0,null,null,{"$f":"'background data'!$G$10","v":0.47300000000000003},{"$f":"'background data'!$H$10","v":0.13},{"$f":"'background data'!$J$10","v":0.39100000000000001},{"$f":"'background data'!$L$10","v":5.5E-2},{"$f":"'background data'!$M$10","v":3.97},{"$f":"'background data'!$N$10","v":4.5999999999999999E-3},{"$f":"'background data'!$O$10","v":2.73}]
[null,null,null,{"$f":"'input-data'!E406","v":"kløvergræs "},{"$f":"'input-data'!B406","v":"farefolde"},{"$f":"L319/100*BR319","v":0.11899999999999999},{"$f":"L319/100*BS319","v":0.11899999999999999},null,null,null,null,17,null,null,null,null,null,null,null,null,null,null,null,null,null,3.5,null,null,null,null,null,null,null,null,null,null,null,null,null,null,null,null,null,null,null,null,null,null,null,null,null,null,null,null,null,null,null,null,null,null,null,null,17.8,null,null,null,null,null,null,0.7,0.7,null,null,null,null,null,null,null,null,null,null,1.1100000000000001,null,null,null,null,null,null,null,null,null,null,null,null,null,null,null,null,null,null,null,null,null,null,null,null,null,null,null,null,null,null,null,null,null,null,null,null,null,null,null,null,null,null,null,null,null,null,null,null,null,null,null,null,null,null,null,null,null,null,null,null,null,null,null,null,null,null,null,null,null,null,null,null,null,null,null,null,null,null,null,null,null,null,null,null,null,null,null,null,null,null,null,null,null,null,null,null,null,null,null,null,null,null,null,null,null,null,null,null,null,null,null,null,null,null,null,null,null,null,null,null,null,null,null,null,null,null,null,null,null,null,null,null,null,null,null,null,null,null,{"$f":"'Mark-Fields'!C140","v":0},{"$f":"'Mark-Fields'!C143","v":0},{"$f":"'Mark-Fields'!C146","v":0},{"$f":"'Mark-Fields'!C166","v":0},{"$f":"'Mark-Fields'!C200","v":0},{"$f":"'Mark-Fields'!C184","v":0},{"$f":"'Mark-Fields'!C208","v":0},null,"folde","kløvergræs"]
[null,null,null,{"$f":"'input-data'!E429","v":"Vælg……………………………………"},null,{"$f":"VLOOKUP(D325, homeprod, 6, FALSE)","v":0},{"$f":"VLOOKUP(D325, homeprod, 6, FALSE)","v":0},null,null,null,null,{"$f":"VLOOKUP(D325, homeprod, 5, FALSE)*100","v":0},{"$f":"BK325*L325/100","v":0},null,null,null,null,null,null,null,null,null,null,null,null,{"$f":"VLOOKUP(D325, homeprod, 15, FALSE)/100*1000","v":0},null,null,null,null,null,null,null,null,null,null,null,null,null,null,null,null,null,null,null,null,null,null,null,null,null,null,null,null,null,null,null,null,null,null,null,null,{"$f":"VLOOKUP(D325, homeprod, 13, FALSE)","v":0},null,null,null,null,null,null,null,null,null,null,null,null,null,null,null,null,null,null,{"$f":"Z325*L325/100","v":0},null,null,null,null,null,null,null,null,null,null,null,null,null,null,null,null,null,null,null,null,null,null,null,null,null,null,null,null,null,null,null,null,null,null,null,null,null,null,null,null,null,null,null,null,null,null,null,null,null,null,null,null,null,null,null,null,null,null,null,null,null,null,null,null,null,null,null,null,null,null,null,null,null,null,null,null,null,null,null,null,null,null,null,null,null,null,null,null,null,null,null,null,null,null,null,null,null,null,null,null,null,null,null,null,null,null,null,null,null,null,null,null,null,null,null,null,null,null,null,null,null,null,null,null,null,null,null,null,null,null,null,null,null,null,null,null,null,null,{"$f":"'Feed - overview'!I7","v":0},{"$f":"'Feed - overview'!J7","v":0},{"$f":"'Feed - overview'!K7","v":0},{"$f":"'Feed - overview'!L7","v":0},{"$f":"'Feed - overview'!N7","v":0},{"$f":"'Feed - overview'!M7","v":0},{"$f":"'Feed - overview'!O7","v":0},null,"onfarm",{"$f":"VLOOKUP(D325, cropsonfarm, 17, FALSE)","v":{"$error":"#N/A"}}]
[null,null,null,{"$f":"'input-data'!E479","v":"Vælg……………………………………"},null,0,0,null,null,null,null,0,0,null,null,null,null,null,null,null,null,null,null,null,null,0,null,null,null,null,null,null,null,null,null,null,null,null,null,null,null,null,null,null,null,null,null,null,null,null,null,null,null,null,null,null,null,null,null,null,null,null,0,null,null,null,null,null,null,null,null,null,null,null,null,null,null,null,null,null,null,0,null,null,null,null,null,null,null,null,null,null,null,null,null,null,null,null,null,null,null,null,null,null,null,null,null,null,null,null,null,null,null,null,null,null,null,null,null,null,null,null,null,null,null,null,null,null,null,null,null,null,null,null,null,null,null,null,null,null,null,null,null,null,null,null,null,null,null,null,null,null,null,null,null,null,null,null,null,null,null,null,null,null,null,null,null,null,null,null,null,null,null,null,null,null,null,null,null,null,null,null,null,null,null,null,null,null,null,null,null,null,null,null,null,null,null,null,null,null,null,null,null,null,null,null,null,null,null,null,null,null,null,null,null,null,null,null,null,null,{"$f":"'Feed - overview'!I12","v":""},{"$f":"'Feed - overview'!J12","v":""},{"$f":"'Feed - overview'!K12","v":0},{"$f":"'Feed - overview'!L12","v":0},{"$f":"'Feed - overview'!N12","v":0},{"$f":"'Feed - overview'!M12","v":0},{"$f":"'Feed - overview'!O12","v":0},null,"onfarm",{"$error":"#N/A"}]
[null,null,null,"Indtast eget foder 17"]
[null,null,null,"Indtast eget foder 19"]
[null,null,null,"Indtast eget foder 27"]
[null,null,null,"Indtast eget foder 30"]
[]
[null,null,null,"Paddock - grass clover",null,{"$f":"F354","v":0.11899999999999999},0.11899999999999999,0,0,0,0,17,3.03,0,0,0,0,0,0,0,0,0,0,0,0,0,0,0,0,0,0,0,0,0,0,0,0,0,0,0,0,0,0,0,0,0,0,0,0,0,0,0,0,0,0,0,0,0,0,0,0,0,17.8,0,0,0,0,0,0,{"$f":"BR354","v":0.7},0.7,0,0,0,0,0,0,0,0,0,0,0,0,0,0,0,0,0,0,0,0,0,0,0,0,0,0,0,0,0,0,0,0,0,0,0,0,0,0,0,0,0,0,0,0,0,0,0,0,0,0,0,0,0,0,0,0,0,0,0,0,0,0,0,0,0,0,0,0,0,0,0,0,0,0,0,0,0,0,0,0,0,0,0,0,0,0,0,0,0,0,0,0,0,0,0,0,0,0,0,0,0,0,0,0,0,0,0,0,0,0,0,0,0,0,0,0,0,0,0,0,0,0,0,0,0,0,0,0,0,0,0,0,0,0,0,0,0,0,0,0,0,0,0,0,0,0,0,0,0,{"$f":"'Mark-Fields'!E174","v":0},{"$f":"'Mark-Fields'!E177","v":0},{"$f":"'Mark-Fields'!E180","v":0},{"$f":"'Mark-Fields'!E200","v":0},{"$f":"'Mark-Fields'!E234","v":0},{"$f":"'Mark-Fields'!E218","v":""},{"$f":"'Mark-Fields'!E242","v":0},null,"folde","kløvergræs"]
[]
[]
[]
[null,null,null,"Feedstuff","Redige-rings-dato","Fusp","Fusow","EFOS","EFOSi","EFNi","FE-korr. Faktor","Dry-matter","Crude protein","Fat","Ash","Crude fiber",null,"Crude protein","P","Fosfor, 60% std.dosis fytase tilsat","Fosfor, 100% std.dosis fytase tilsat","Fosfor, 150% std.dosis fytase tilsat","Fosfor, 200% std.dosis fytase tilsat",null,"Calcium","Fosfor","Natrium","Klorid","Kalium","Magnesium","Svovl","Jern","Cu","Mangan","Zn","Jod","Selen",null,"Lysin","Methi-onin","Cystin","Tre-onin","Tryp-tofan","Iso-leucin","Leu-cin","Histidin","Fenyl-alanin","Tyrosin","Valin",null,"Lysin","Methi-onin","Cystin","Treo-nin","Tryp-tofan","Iso-leucin","Leu-cin","Histi-din","Fenyl-alanin","Tyro-sin","Valin",null,"Crude protein","Fat","Ash","Crude fiber",null,"Jodtal","Jodtals-produkt","FEsv","FEso",null,"Organic matter","Low digestible carbs.","Fermenterbare kulhydrater","Sti-velse","Suk-ker","Soluble fibers","Insoluble fibers",null,"Calcium","P","Natrium","Klorid","Kalium","Magne-sium","Svovl",null,"Fe","Cu","Mangan","Zn","Jod","Selen","SIF Crude protein per kg product","SIF Crude protein","SIF Lys","SIF Met","SIF Cys","SIF CyM","SIF Tre","SIF Try","SIF Iso","SIF Leu","SIF His","SIF Fen","SIF Tyr","SIF FeT","SIF Val","Fytase-aktivitet, FYT/kg","Fytase-aktivitet, FTU/kg","Xylanase","Vit. A, 1000 I.E.","Vit. D, 1000 I.E. ","Vit. E, mg","Vit. K3, mg","Vit. C, mg","Vit. B1, mg","Vit. B2, mg","Vit. B6, mg","Vit. B12, mcg","Vit. B3,Niacin, mg","D-panto-thensyre, mg","Cholin, mg","Folin-syre, mg","Biotin, mg","EU-nummer","n10TS","n11Prot","n12Fedt","n13Aske","n15Traestf","n20EFOS","n73EFOSi","n71Ifaktor","n22FEsv","n23FEso","n43Lys","n41Met","n40Cys","n42Thr","n59Trp","n51Ile","n52Leu","n55His","n54Fen","n53Tyr","n50Val","n30Ca","n31P","n32Na","n33Cl","n34K","n35Mg","n36S","n37Fe","n38Cu","n39Mn","n26Zn","n27I","n28Se","s10TS","s11Prot","s12Fedt","s13Aske","s15Traestf","s20EFOS","s73EFOSi","s71Ifaktor","s22FEsv","s23FEso","s43Lys","s41Met","s40Cys","s42Thr","s59Trp","s51Ile","s52Leu","s55His","s54Fes","s53Tyr","s50Val","s30Ca","s31P","s32sa","s33Cl","s34K","s35Mg","s36S","s37Fe","s38Cu","s39Ms","s26Zs","s27I","s28Se","d10TS","d11Prot","d12Fedt","d13Aske","d15Traestf","d20EFOS","d73EFOSi","d71Ifaktor","d22FEsv","d23FEso","d43Lys","d41Met","d40Cys","d42Thr","d59Trp","d51Ile","d52Leu","d55His","d54Fed","d53Tyr","d50Val","d30Ca","d31P","d32da","d33Cl","GWP,                 kg CO2 eq.","soil C,                 kg CO2 eq.","iLUC,                 kg CO2 eq.","EP,                 kg NO3 eq.","NRE,                 MJ","AP,                 kg SO2 eq.","LU,                        m2","Comments","Crop",null,"Generelt","Vær opmærksom på","Håndtering og transport",null,null,"GWP,                 kg CO2 eq.","soil C,                 kg CO2 eq.","iLUC,                 kg CO2 eq.","EP,                 kg NO3 eq.","NRE,                 MJ","AP,                 kg SO2 eq.","LU,                        m2","Comments","Crop"]
[null,null,null,"BOLIFOR 18   (MCP 21/18)","2010-05-12",-0.112682926829268,-0.108,70,70,0,1,99,0,0,99,0,null,0,67,67,67,67,67,null,212.12121212121212,181.81818181818181,0,0,0,0,0,0,0,0,0,0,0,null,0,0,0,0,0,0,0,0,0,0,0,null,1,1,1,1,1,1,1,1,1,1,1,null,0,0,100,0,null,0,0,-0.11382113821138182,-0.10909090909090909,null,0,0,0," "," "," "," ",null,210,180,0,0,0,0,0,null,0,0,0,0,0,0,0,0,null,null,null,null,null,null,null,null,null,null,null,null,null,null,null,null,null,null,null,null,null,null,null,null,null,null,null,null,null,null,null,null,null,null,null,null,null,null,null,null,null,null,null,null,null,null,null,null,null,null,null,null,null,null,null,null,null,null,null,null,null,null,null,null,null,null,null,null,null,null,null,null,null,null,null,null,null,null,null,null,null,null,null,null,null,null,null,null,null,null,null,null,null,null,null,null,null,null,null,null,null,null,null,null,null,null,null,null,null,null,null,null,null,null,null,null,null,null,null,null,null,null,null,null,{"$f":"HM9","v":0},0,0,0,0,0,0,0,"offfarm","vitamins and minerals",null,null,null,null,null,{"$f":"IB9","v":0.47300000000000003},0.13,0.39100000000000001,5.5E-2,3.97,4.5999999999999999E-3,2.73,0]
[null,null,null,"BARLEY,  winter,  2016, heated + xylanase","2016-11-04",1.0018379597367399,1.01016110797773,83.1,76.500031800000002,90,1,85,9.5999999999999801,2.7,1.8,4.5999999999999996,null,74.4388696428571,30,42,46,50,53,null,0.6823529411764705,3.2941176470588234,0.2,1.4999999999999998,5.8999999999999995,1.1000000000000001,1.3,50,3.4,15,29,0,0.04,null,3.7643529411764698,1.69952941176471,2.3732941176470601,3.4342352941176499,1.3221176470588201,3.6218823529411801,6.8776470588235297,2.2824705882352898,4.8375294117647103,3.21588235294118,5.1123529411764697,null,0.94,1.08,1.03,0.95,0.96,1,1.01,1,1.04,0.97,0.96,null,11.294117647058799,3.1764705882352939,2.1176470588235294,5.4117647058823524,null,120,38.117647058823529,1.1786328938079293,1.1884248329149765,null,978.82352941176475,587.52504201680711,92.28863096470576,604,21.000000000000004,56,165,null,0.57999999999999996,2.8,0.17,1.2749999999999997,5.0149999999999997,0.93500000000000005,1.105,null,42.5,2.8899999999999997,12.75,24.65,0,3.4000000000000002E-2,71.461314857142696,71.330212798006869,null,null,null,null,null,null,null,null,null,null,null,null,null,null,null,null,null,null,null,null,null,null,null,null,null,null,null,null,null,null,null,null,null,null,null,null,null,null,null,null,null,null,null,null,null,null,null,null,null,null,null,null,null,null,null,null,null,null,null,null,null,null,null,null,null,null,null,null,null,null,null,null,null,null,null,null,null,null,null,null,null,null,null,null,null,null,null,null,null,null,null,null,null,null,null,null,null,null,null,null,null,null,null,null,null,null,null,null,null,null,null,null,null,null,null,null,null,null,null,null,null,null,null,null,{"$f":"HM14","v":0.47300000000000003},0.13,0.39100000000000001,5.5E-2,3.97,4.5999999999999999E-3,2.73,0,"offfarm","barley",null,null,null,null,null,{"$f":"IB14","v":0.47300000000000003},0.13,0.39100000000000001,5.5E-2,3.97,4.5999999999999999E-3,2.73,0,"barley"]
[null,null,null,"BARLEY,  winter,  2016","2015-10-26",1.0060675958188201,1.0136717387755101,83.2,76.7,90,1,85,8.4,2.7,1.9,4.5999999999999996,null,72.371534693877607,39,47,50,52,54,null,0.71764705882352942,3.4117647058823528,0.2,1.4999999999999998,5.8999999999999995,1.1000000000000001,1.3,50,3.4,15,29,0,0.04,null,3.94505882352941,1.75458823529412,2.4678823529411802,3.5387058823529398,1.3743529411764701,3.6416470588235299,6.9129411764705901,2.3234117647058801,4.6765882352941199,3.1876470588235302,5.1970588235294102,null,0.94,1.08,1.03,0.95,0.96,1,1.01,1,1.04,0.97,0.96,null,9.882352941176471,3.1764705882352939,2.2352941176470589,5.4117647058823524,null,120,38.117647058823529,1.1836089362574356,1.1925549867947178,null,977.64705882352939,601.87966386554592,90.781512605041996,604,21.000000000000004,56,165,null,0.61,2.9,0.17,1.2749999999999997,5.0149999999999997,0.93500000000000005,1.105,null,42.5,2.8899999999999997,12.75,24.65,0,3.4000000000000002E-2,60.792089142857201,60.425451923416361,null,null,null,null,null,null,null,null,null,null,null,null,null,null,null,null,null,null,null,null,null,null,null,null,null,null,null,null,null,null,null,null,null,null,null,null,null,null,null,null,null,null,null,null,null,null,null,null,null,null,null,null,null,null,null,null,null,null,null,null,null,null,null,null,null,null,null,null,null,null,null,null,null,null,null,null,null,null,null,null,null,null,null,null,null,null,null,null,null,null,null,null,null,null,null,null,null,null,null,null,null,null,null,null,null,null,null,null,null,null,null,null,null,null,null,null,null,null,null,null,null,null,null,null,{"$f":"HM19","v":0.47300000000000003},0.13,0.39100000000000001,5.5E-2,3.97,4.5999999999999999E-3,2.73,0,"offfarm","barley",null,null,null,null,null,{"$f":"IB19","v":0.47300000000000003},0.13,0.39100000000000001,5.5E-2,3.97,4.5999999999999999E-3,2.73,0,"barley"]
[null,null,null,"BARLEY,  winter,  2015, heated","2015-10-26",1.0060675958188201,1.0136717387755101,83.2,76.7,90,1,85,8.4,2.7,1.9,4.5999999999999996,null,72.371534693877607,30,42,46,50,53,null,0.71764705882352942,3.4117647058823528,0.2,1.4999999999999998,5.8999999999999995,1.1000000000000001,1.3,50,3.4,15,29,0,0.04,null,3.94505882352941,1.75458823529412,2.4678823529411802,3.5387058823529398,1.3743529411764701,3.6416470588235299,6.9129411764705901,2.3234117647058801,4.6765882352941199,3.1876470588235302,5.1970588235294102,null,0.94,1.08,1.03,0.95,0.96,1,1.01,1,1.04,0.97,0.96,null,9.882352941176471,3.1764705882352939,2.2352941176470589,5.4117647058823524,null,120,38.117647058823529,1.1836089362574356,1.1925549867947178,null,977.64705882352939,601.87966386554592,90.781512605041996,604,21.000000000000004,56,165,null,0.61,2.9,0.17,1.2749999999999997,5.0149999999999997,0.93500000000000005,1.105,null,42.5,2.8899999999999997,12.75,24.65,0,3.4000000000000002E-2,60.792089142857201,60.425451923416361,null,null,null,null,null,null,null,null,null,null,null,null,null,null,null,null,null,null,null,null,null,null,null,null,null,null,null,null,null,null,null,null,null,null,null,null,null,null,null,null,null,null,null,null,null,null,null,null,null,null,null,null,null,null,null,null,null,null,null,null,null,null,null,null,null,null,null,null,null,null,null,null,null,null,null,null,null,null,null,null,null,null,null,null,null,null,null,null,null,null,null,null,null,null,null,null,null,null,null,null,null,null,null,null,null,null,null,null,null,null,null,null,null,null,null,null,null,null,null,null,null,null,null,null,{"$f":"HM21","v":0.47300000000000003},0.13,0.39100000000000001,5.5E-2,3.97,4.5999999999999999E-3,2.73,0,"offfarm","barley",null,null,null,null,null,{"$f":"IB21","v":0.47300000000000003},0.13,0.39100000000000001,5.5E-2,3.97,4.5999999999999999E-3,2.73,0,"barley"]
[null,null,null,"BARLEY,  spring,  avg. 2014-2016 + xylanase","2016-11-09",1.0625631242741,1.0594480348794,85.9,80.599999999999994,90,1,85,8.8999999999999808,2.6,1.8,4.8,null,76.093556340288899,43,49,51,53,54,null,0.52941176470588236,3.4117647058823528,0.2,1.4999999999999998,5.7,1.2,1.1000000000000001,34,2.9,14,28,0,0.04,null,3.8697647058823499,1.73164705882353,2.4284705882352902,3.4951764705882402,1.3525882352941201,3.6334117647058801,6.8982352941176499,2.3063529411764701,4.7436470588235302,3.19941176470588,5.1617647058823497,null,0.93979487733984202,1.07984084344248,1.0298133265506999,0.94986852960372503,0.95982752284767003,0.99997514724094605,1.00997639474776,0.99991835406371998,1.0401578477529601,0.970038811056257,0.95992759482045098,null,10.470588235294095,3.0588235294117645,2.1176470588235294,5.6470588235294121,null,120,36.70588235294106,1.2500742638518825,1.2464094527992939,null,978.82352941176475,641.74554621848699,74.110924369748119,604,21.000000000000004,55.999999999999879,165,null,0.45,2.9,0.17,1.2749999999999997,4.8449999999999998,1.02,0.93500000000000005,null,28.9,2.4649999999999999,11.9,23.8,0,3.4000000000000002E-2,67.723265142857002,63.73575705360826,null,null,null,null,null,null,null,null,null,null,null,null,null,null,null,null,null,null,null,null,null,null,null,null,null,null,null,null,null,null,null,null,null,null,null,null,null,null,null,null,null,null,null,null,null,null,null,null,null,null,null,null,null,null,null,null,null,null,null,null,null,null,null,null,null,null,null,null,null,null,null,null,null,null,null,null,null,null,null,null,null,null,null,null,null,null,null,null,null,null,null,null,null,null,null,null,null,null,null,null,null,null,null,null,null,null,null,null,null,null,null,null,null,null,null,null,null,null,null,null,null,null,null,null,{"$f":"HM28","v":0.47300000000000003},0.13,0.39100000000000001,5.5E-2,3.97,4.5999999999999999E-3,2.73,0,"offfarm","barley",null,null,null,null,null,{"$f":"IB28","v":0.47300000000000003},0.13,0.39100000000000001,5.5E-2,3.97,4.5999999999999999E-3,2.73,0,"barley"]
[null,null,null,"BARLEY,  spring,  2015 + xylanase","2015-10-27",1.05948921796361,1.0578704304267099,86,80.199988000000005,90,1,85,8.3000000000000007,2.6,1.8,4.8,null,74.6818657487091,43,49,51,53,54,null,0.54117647058823526,3.2941176470588234,0.2,1.4999999999999998,5.7,1.2,1.1000000000000001,34,2.9,14,28,0,0.04,null,3.9601176470588202,1.75917647058824,2.4757647058823502,3.5474117647058798,1.3787058823529399,3.6432941176470601,6.9158823529411801,2.3268235294117598,4.6631764705882297,3.1852941176470599,5.20411764705882,null,0.94,1.08,1.03,0.95,0.96,1,1.01,1,1.04,0.97,0.96,null,9.764705882352942,3.0588235294117645,2.1176470588235294,5.6470588235294121,null,120,36.705882352941174,1.2464579034865999,1.2445534475608351,null,978.82352941176475,642.15630252100937,81.102688806722824,604,21.000000000000004,56,165,null,0.45999999999999996,2.8,0.17,1.2749999999999997,4.8449999999999998,1.02,0.93500000000000005,null,28.9,2.4649999999999999,11.9,23.8,0,3.4000000000000002E-2,61.985948571428601,58.505502010269275,null,null,null,null,null,null,null,null,null,null,null,null,null,null,null,null,null,null,null,null,null,null,null,null,null,null,null,null,null,null,null,null,null,null,null,null,null,null,null,null,null,null,null,null,null,null,null,null,null,null,null,null,null,null,null,null,null,null,null,null,null,null,null,null,null,null,null,null,null,null,null,null,null,null,null,null,null,null,null,null,null,null,null,null,null,null,null,null,null,null,null,null,null,null,null,null,null,null,null,null,null,null,null,null,null,null,null,null,null,null,null,null,null,null,null,null,null,null,null,null,null,null,null,null,{"$f":"HM32","v":0.47300000000000003},0.13,0.39100000000000001,5.5E-2,3.97,4.5999999999999999E-3,2.73,0,"offfarm","barley",null,null,null,null,null,{"$f":"IB32","v":0.47300000000000003},0.13,0.39100000000000001,5.5E-2,3.97,4.5999999999999999E-3,2.73,0,"barley"]
[null,null,null,"CALCIUMFORMIAT","2014-04-24",1.05139609756097,1.0077017142857101,100,100,0,1,99,0,0,30.492000000000001,0,null,0,0,0,0,0,0,null,308,0,0,0,0,0,0,0,0,0,0,0,0,null,0,0,0,0,0,0,0,0,0,0,0,null,1,1,1,1,1,1,1,1,1,1,1,null,0,0,30.8,0,null,0,0,1.062016260162596,1.0178805194805152,null,692,692,0," "," "," "," ",null,304.92,0,0,0,0,0,0,null,0,0,0,0,0,0,0,0,null,null,null,null,null,null,null,null,null,null,null,null,null,null,null,null,null,null,null,null,null,null,null,null,null,null,null,null,null,null,null,null,null,null,null,null,null,null,null,null,null,null,null,null,null,null,null,null,null,null,null,null,null,null,null,null,null,null,null,null,null,null,null,null,null,null,null,null,null,null,null,null,null,null,null,null,null,null,null,null,null,null,null,null,null,null,null,null,null,null,null,null,null,null,null,null,null,null,null,null,null,null,null,null,null,null,null,null,null,null,null,null,null,null,null,null,null,null,null,null,null,null,null,null,{"$f":"HM38","v":0},0,0,0,0,0,0,0,"offfarm","vitamins and minerals",null,null,null,null,null,{"$f":"IB38","v":0.47300000000000003},0.13,0.39100000000000001,5.5E-2,3.97,4.5999999999999999E-3,2.73,0]
[null,null,null,"CALCIUMJODAT 1%-opløsning","2010-05-12",-0.112682926829268,-0.108,70,70,0,1,99,0,0,99,0,null,0,0,0,0,0,0,null,1.0383838383838384,0,0,0,0,0,0,0,0,0,0,5959.5959595959594,0,null,0,0,0,0,0,0,0,0,0,0,0,null,1,1,1,1,1,1,1,1,1,1,1,null,0,0,100,0,null,0,0,-0.11382113821138182,-0.10909090909090909,null,0,0,0," "," "," "," ",null,1.028,0,0,0,0,0,0,null,0,0,0,0,5900,0,0,0,null,null,null,null,null,null,null,null,null,null,null,null,null,null,null,null,null,null,null,null,null,null,null,null,null,null,null,null,null,null,null,null,null,null,null,null,null,null,null,null,null,null,null,null,null,null,null,null,null,null,null,null,null,null,null,null,null,null,null,null,null,null,null,null,null,null,null,null,null,null,null,null,null,null,null,null,null,null,null,null,null,null,null,null,null,null,null,null,null,null,null,null,null,null,null,null,null,null,null,null,null,null,null,null,null,null,null,null,null,null,null,null,null,null,null,null,null,null,null,null,null,null,null,null,{"$f":"HM39","v":0},0,0,0,0,0,0,0,"offfarm","vitamins and minerals",null,null,null,null,null,{"$f":"IB39","v":0.47300000000000003},0.13,0.39100000000000001,5.5E-2,3.97,4.5999999999999999E-3,2.73,0]
[null,null,null,"CYSTINE ,L98,6","2010-05-12",1.1389897018970201,1.09165506493506,100,100,100,1,100,84.8,0,15.2,0,null,100,0,0,0,0,0,null,0,0,0,0,0,0,0,0,0,0,0,0,0,null,0,0,116.700019,0,0,0,0,0,0,0,0,null,1,1,1,1,1,1,1,1,1,1,1,null,84.8,0,15.2,0,null,0,0,1.1389897018970201,1.09165506493506,null,848,76.320000000000107,0,0,0," "," ",null,0,0,0,0,0,0,0,null,0,0,0,0,0,0,848,744.51946192984155,null,null,null,null,null,null,null,null,null,null,null,null,null,null,null,null,null,null,null,null,null,null,null,null,null,null,null,null,null,null,null,null,null,null,null,null,null,null,null,null,null,null,null,null,null,null,null,null,null,null,null,null,null,null,null,null,null,null,null,null,null,null,null,null,null,null,null,null,null,null,null,null,null,null,null,null,null,null,null,null,null,null,null,null,null,null,null,null,null,null,null,null,null,null,null,null,null,null,null,null,null,null,null,null,null,null,null,null,null,null,null,null,null,null,null,null,null,null,null,null,null,null,null,null,{"$f":"HM43","v":0},0,0,0,0,0,0,0,"offfarm","vitamins and minerals",null,null,null,null,null,{"$f":"IB43","v":0.47300000000000003},0.13,0.39100000000000001,5.5E-2,3.97,4.5999999999999999E-3,2.73,0]
[null,null,null,"E-10 VITAMIN","2010-05-12",0.400229055361982,0.40812811354360001,64.2,70,30,1,97.3,1,0.9,51.7,18.2,null,0,0,0,0,0,0,null,0,0,0,0,0,0,0,0,0,0,0,0,0,null,0,0,0,0,0,0,0,0,0,0,0,null,1,1,1,1,1,1,1,1,1,1,1,null,1.0277492291880781,0.92497430626927035,53.134635149023644,18.705035971223023,null,0,0,0.41133510314694965,0.41945335410441936,null,468.65364850976363,321.38217589194039,-38.831302305094653,0,0," "," ",null,0,0,0,0,0,0,0,null,0,0,0,0,0,0,0,0,null,null,null,null,null,null,null,null,null,null,null,null,null,null,null,null,null,null,null,null,null,null,null,null,null,null,null,null,null,null,null,null,null,null,null,null,null,null,null,null,null,null,null,null,null,null,null,null,null,null,null,null,null,null,null,null,null,null,null,null,null,null,null,null,null,null,null,null,null,null,null,null,null,null,null,null,null,null,null,null,null,null,null,null,null,null,null,null,null,null,null,null,null,null,null,null,null,null,null,null,null,null,null,null,null,null,null,null,null,null,null,null,null,null,null,null,null,null,null,null,null,null,null,null,{"$f":"HM50","v":0},0,0,0,0,0,0,0,"offfarm","vitamins and minerals",null,null,null,null,null,{"$f":"IB50","v":0.47300000000000003},0.13,0.39100000000000001,5.5E-2,3.97,4.5999999999999999E-3,2.73,0]
[null,null,null,"FENYLALANIN,L98,6","2010-05-12",1.1974318292682899,1.14766842857143,100,100,100,1,99,52.47,0,15.048,0,null,100,0,0,0,0,0,null,0,0,0,0,0,0,0,0,0,0,0,0,0,null,0,0,0,0,0,0,0,0,188.67924500000001,0,0,null,1,1,1,1,1,1,1,1,1,1,1,null,53,0,15.2,0,null,0,0,1.209527100271,1.1592610389610405,null,848,365.7,0,0,0," "," ",null,0,0,0,0,0,0,0,null,0,0,0,0,0,0,524.70000000000005,438.18778420198373,null,null,null,null,null,null,null,null,null,null,null,null,null,null,null,null,null,null,null,null,null,null,null,null,null,null,null,null,null,null,null,null,null,null,null,null,null,null,null,null,null,null,null,null,null,null,null,null,null,null,null,null,null,null,null,null,null,null,null,null,null,null,null,null,null,null,null,null,null,null,null,null,null,null,null,null,null,null,null,null,null,null,null,null,null,null,null,null,null,null,null,null,null,null,null,null,null,null,null,null,null,null,null,null,null,null,null,null,null,null,null,null,null,null,null,null,null,null,null,null,null,null,null,null,{"$f":"HM53","v":0},0,0,0,0,0,0,0,"offfarm","vitamins and minerals",null,null,null,null,null,{"$f":"IB53","v":0.47300000000000003},0.13,0.39100000000000001,5.5E-2,3.97,4.5999999999999999E-3,2.73,0]
[null,null,null,"FISH PROTEIN, hydrolysed, H-35 Lactose-protein concentrate","2013-08-19",0.73852807039743495,0.71244586487442496,97.6,96.2,97.7,1,50,35,6.0311284046692499,5,0,null,92,70,70,70,70,70,null,13.999981219296,15,10,13,10,2,0,700,100,9,1000,0,2.38,null,6.4,2.5,0.8,3.8,0.66,4.0999999999999996,6.5,2.2999999999999998,3.3,2.7,4.9000000000000004,null,1.02,1.05,0.98,1.03,1,1.02,1.03,1,1.02,0.95,1.02,null,70,12.0622568093385,10,0,null,159,191.78988326848199,1.4770561407948699,1.4248917297488499,null,900,106.396108949417,17.999999999999901,0,0,0," ",null,6.999990609648,7.5,5,6.5,5,1,0,null,350,50,4.5,500,0,1.19,322,436.0023848879805,null,null,null,null,null,null,null,null,null,null,null,null,null,null,null,null,null,null,null,null,null,null,null,null,null,null,null,null,null,null,null,null,null,null,null,null,null,null,null,null,null,null,null,null,null,null,null,null,null,null,null,null,null,null,null,null,null,null,null,null,null,null,null,null,null,null,null,null,null,null,null,null,null,null,null,null,null,null,null,null,null,null,null,null,null,null,null,null,null,null,null,null,null,null,null,null,null,null,null,null,null,null,null,null,null,null,null,null,null,null,null,null,null,null,null,null,null,null,null,null,null,null,null,null,{"$f":"HM57","v":0.54099999999999993},0.11600000000000001,0.25,1.2999999999999999E-2,8.86,6.9299999999999995E-3,1.75,0,"offfarm","fish protein",null,null,null,null,null,{"$f":"IB57","v":0.54099999999999993},0.11600000000000001,0.25,1.2999999999999999E-2,8.86,6.9299999999999995E-3,1.75,0]
[null,null,null,"FORBL  300 E-11","2010-05-12",0.45799119794648102,0.44025273257937703,65,84,90,1,91.1,1,1.4000002030000001,49.799999933000002,15.999999587,null,70,0,0,0,0,0,null,0,0,0,0,0,0,0,0,0,0,0,0,0,null,0,0,0,0,0,0,0,0,0,0,0,null,1,1,1,1,1,0,0,0,0,0.8,0,null,1.0976948408342482,1.5367730000000002,54.665203000000005,17.563117000000002,null,0,0,0.50273457513334907,0.48326315321556207,null,453.34797000000003,392.83205120555107,-123.05159185714271," "," "," "," ",null,0,0,0,0,0,0,0,null,0,0,0,0,0,0,7.0000000000000098,15.284136532287683,null,null,null,null,null,null,null,null,null,null,null,null,null,null,null,null,null,null,null,null,null,null,null,null,null,null,null,null,null,null,null,null,null,null,null,null,null,null,null,null,null,null,null,null,null,null,null,null,null,null,null,null,null,null,null,null,null,null,null,null,null,null,null,null,null,null,null,null,null,null,null,null,null,null,null,null,null,null,null,null,null,null,null,null,null,null,null,null,null,null,null,null,null,null,null,null,null,null,null,null,null,null,null,null,null,null,null,null,null,null,null,null,null,null,null,null,null,null,null,null,null,null,null,null,{"$f":"HM62","v":0},0,0,0,0,0,0,0,"offfarm","vitamins and minerals",null,null,null,null,null,{"$f":"IB62","v":0.47300000000000003},0.13,0.39100000000000001,5.5E-2,3.97,4.5999999999999999E-3,2.73,0]
[null,null,null,"GRASS SILAGE 1ST CUT","2013-09-16",0.20593777346109199,0.23176176203784801,60.15,50.2,75,1,31.6,5.0876000000000001,1.4536,3.1284000000000001,8.0896000000000008,null,53.681622271517298,27,27,27,27,27,null,5.9,3.5,1.3,11.999999999999998,30.5,1.6,0,219.99999999999997,6.4999999999999991,77,51,0,0.02,null,3.63,1.31,0.74,3.67,1.1200000000000001,3.89,6.63,1.53,4.29,2.31,5.14,null,1,1,1,1,1,1,1,1,1,1,1,null,16.100000000000001,4.5999999999999996,9.9,25.6,null,120,55.2,0.6517018147502911,0.73342329758812663,null,901,222.75078571428608,128.0707142857139,0,45,37.999999999999993,489,null,1.8644000000000001,1.1060000000000001,0.4108,3.7919999999999994,9.6379999999999999,0.50560000000000005,0,null,69.52,2.0539999999999998,24.332000000000001,16.116,0,6.3200000000000001E-3,27.3110621468572,132.61803159203868,null,null,null,null,null,null,null,null,null,null,null,null,null,null,null,null,null,null,null,null,null,null,null,null,null,null,null,null,null,null,null,null,null,null,null,null,null,null,null,null,null,null,null,null,null,null,null,null,null,null,null,null,null,null,null,null,null,null,null,null,null,null,null,null,null,null,null,null,null,null,null,null,null,null,null,null,null,null,null,null,null,null,null,null,null,null,null,null,null,null,null,null,null,null,null,null,null,null,null,null,null,null,null,null,null,null,null,null,null,null,null,null,null,null,null,null,null,null,null,null,null,null,null,null,{"$f":"HM68","v":0.252},-4.5999999999999999E-2,0.219,1.0999999999999999E-2,1.65,1.9E-3,1.53,0,"offfarm","grass silage",null,null,null,null,null,{"$f":"IB68","v":0.252},-4.5999999999999999E-2,0.219,1.0999999999999999E-2,1.65,1.9E-3,1.53,0,{"$f":"topdowntables!R23","v":"grass-clover silage - on farm"}]
[null,null,null,"YEAST CREAM, beer","2010-05-12",0.114078565311653,0.119653671584416,89.6,70,90,1,11.6,4.2804000000000002,0.20880000000000001,0.69599999999999995,0.27839999999999998,null,85,50,50,50,50,50,null,2.5862100000000003,11.6,0,0,18.103450000000002,1.8000000000000003,0,570,22,12,54.000000000000007,0,0.12000000000000001,null,6.2,1.4,1.19,4.3000000000000096,0.6,0,0,0,0,0,0,null,1,1,1,1,1,1,1,1,1,1,1,null,36.900000000000006,1.8000000000000003,6,2.4,null,0,0,0.98343590785907764,1.0314971688311725,null,940.00000000000011,225.79,263.2," "," "," "," ",null,0.30000036000000002,1.3455999999999999,0,0,2.1000002000000002,0.20880000000000001,0,null,66.11999999999999,2.5519999999999996,1.3919999999999999,6.2640000000000002,0,1.392E-2,36.383400000000002,318.9328328297575,null,null,null,null,null,null,null,null,null,null,null,null,null,null,null,null,null,null,null,null,null,null,null,null,null,null,null,null,null,null,null,null,null,null,null,null,null,null,null,null,null,null,null,null,null,null,null,null,null,null,null,null,null,null,null,null,null,null,null,null,null,null,null,null,null,null,null,null,null,null,null,null,null,null,null,null,null,null,null,null,null,null,null,null,null,null,null,null,null,null,null,null,null,null,null,null,null,null,null,null,null,null,null,null,null,null,null,null,null,null,null,null,null,null,null,null,null,null,null,null,null,null,null,null,{"$f":"HM72","v":0},0,0,0,0,0,0,0,"offfarm","yeast cream",null,null,null,null,null,{"$f":"IB72","v":0.47300000000000003},0.13,0.39100000000000001,5.5E-2,3.97,4.5999999999999999E-3,2.73,0]
[null,null,null,"OATS, 2017","2016-11-04",0.84505108401083995,0.87572611948052104,69.900000000000006,65.500004700000005,91,1,85,9.8000000000000096,4.4000000000000004,2.4,11,null,70.066820408163295,27,39,43,47,50,null,1.03529411764706,3.7647058823529411,0.1,0,4.7058799999999996,1.3,0,79.000000000000014,4,45,40,0,0.03,null,4.18,1.64,2.73,3.27,1.23,3.7,7.1100000000000101,2.1,4.5199999999999996,3.22,5.14,null,1.04,1.1499999999999999,0.95,0.92,1.07,1.1000000000000001,1.1200000000000001,1.1599999999999999,1.1599999999999999,1.1100000000000001,1.08,null,11.529411764705893,5.1764705882352944,2.8235294117647061,12.941176470588236,null,110,56.941176470588232,0.99417774589510588,1.0302660229182601,null,971.76470588235293,463.05176470588236,61.082287694117653,471,18,40,258,null,0.880000000000001,3.1999999999999997,8.5000000000000006E-2,0,3.9999979999999997,1.105,0,null,67.150000000000006,3.4,38.25,34,0,2.5499999999999998E-2,68.665484000000006,81.256015522866534,null,null,null,null,null,null,null,null,null,null,null,null,null,null,null,null,null,null,null,null,null,null,null,null,null,null,null,null,null,null,null,null,null,null,null,null,null,null,null,null,null,null,null,null,null,null,null,null,null,null,null,null,null,null,null,null,null,null,null,null,null,null,null,null,null,null,null,null,null,null,null,null,null,null,null,null,null,null,null,null,null,null,null,null,null,null,null,null,null,null,null,null,null,null,null,null,null,null,null,null,null,null,null,null,null,null,null,null,null,null,null,null,null,null,null,null,null,null,null,null,null,null,null,null,{"$f":"HM75","v":0.47300000000000003},0.13,0.39100000000000001,5.5E-2,3.97,4.5999999999999999E-3,2.73,"as barley","offfarm","oats",null,null,null,null,null,{"$f":"IB75","v":0.47300000000000003},0.13,0.39100000000000001,5.5E-2,3.97,4.5999999999999999E-3,2.73,"as barley",{"$f":"IJ444","v":"oats - on farm"}]
[null,null,null,"BEANS, avg 2012","2016-11-21",0.93274996634115104,0.95111828897959305,83.2,74.500025600000001,82,1,88,26.84,1.8480000000000001,3.52,8.4480000000000004,null,80,37,41,43,44,45,null,1.68,6.1799999999999988,0.19999999999999998," ",12.799999999999999,1.4000000000000001,2.1999999999999997,78,13.899999999999999,18.299999999999997,51.800000000000004,0,1.9999999999999886E-2,null,6.2622950819672099,0.72131147540983598,1.1803278688524601,3.46229508196721,0.82950819672131104,3.8262295081967199,7.0950819672131198,2.58688524590164,4.1573770491803304,3.58688524590164,4.2819672131147497,null,1.04,0.94,0.94,0.98,0.93,0.99,1.03,1.05,1,0.96,0.98,null,30.5,2.1,4,9.6000000000000014,null,130,27.3,1.0599431435694897,1.0808162374768102,null,960,381.48571428571364,119.31393462857045,375,32,54.015428571428629,171.0488571428568,null,1.4783999999999999,5.4383999999999988,0.17599999999999999," ",11.263999999999999,1.2320000000000002,1.9359999999999997,null,68.64,12.231999999999999,16.103999999999999,45.584000000000003,0,1.75999999999999E-2,214.72,230.20102680064497,null,null,null,null,null,null,null,null,null,null,null,null,null,null,null,null,null,null,null,null,null,null,null,null,null,null,null,null,null,null,null,null,null,null,null,null,null,null,null,null,null,null,null,null,null,null,null,null,null,null,null,null,null,null,null,null,null,null,null,null,null,null,null,null,null,null,null,null,null,null,null,null,null,null,null,null,null,null,null,null,null,null,null,null,null,null,null,null,null,null,null,null,null,null,null,null,null,null,null,null,null,null,null,null,null,null,null,null,null,null,null,null,null,null,null,null,null,null,null,null,null,null,null,null,{"$f":"HM82","v":0.14000000000000001},7.0000000000000007E-2,0.51702999999999999,2.1999999999999999E-2,0.72,1.2900000000000001E-3,3.47,0,"offfarm","faba beans",null,null,null,null,null,{"$f":"IB82","v":0.14000000000000001},7.0000000000000007E-2,0.51702999999999999,2.1999999999999999E-2,0.72,1.2900000000000001E-3,3.47,0]
[null,null,null,"BEANS, 2012, Espresso","2016-11-21",0.90856974490506404,0.93095360913704195,81.400000000000006,72.800008599999998,82,1,88,25.783999999999999,1.8480000000000001,3.3439999999999999," ",null,80,37,41,43,44,45,null,1.4000000000000001,6.3,0.19999999999999998," ",12.6,1.4000000000000001,2.1999999999999997,69.600000000000009,13.8,19.399999999999999,60.1,0,1.9999999999999886E-2,null,6.21160409556314,0.68259385665529004,1.1262798634812301,3.3788395904436901,0.78498293515358397,3.7542662116040999,7.0648464163822497,2.55972696245734,4.1296928327645004,3.6177474402730398,4.2662116040955604,null,1.04,0.94,0.94,0.98,0.93,0.99,1.03,1.05,1,0.96,0.98,null,29.3,2.1,3.8," ",null,130,27.3,1.0324656192103001,1.0579018285648205,null,962,377.87954675999993,118.18845323999999,375,32,58.500137142857049,185.25043428571362,null,1.2320000000000002,5.5439999999999996,0.17599999999999999," ",11.087999999999999,1.2320000000000002,1.9359999999999997,null,61.248000000000005,12.144,17.071999999999999,52.887999999999998,0,1.75999999999999E-2,206.27199999999999,227.02935152386485,null,null,null,null,null,null,null,null,null,null,null,null,null,null,null,null,null,null,null,null,null,null,null,null,null,null,null,null,null,null,null,null,null,null,null,null,null,null,null,null,null,null,null,null,null,null,null,null,null,null,null,null,null,null,null,null,null,null,null,null,null,null,null,null,null,null,null,null,null,null,null,null,null,null,null,null,null,null,null,null,null,null,null,null,null,null,null,null,null,null,null,null,null,null,null,null,null,null,null,null,null,null,null,null,null,null,null,null,null,null,null,null,null,null,null,null,null,null,null,null,null,null,null,null,{"$f":"HM86","v":0.14000000000000001},7.0000000000000007E-2,0.51702999999999999,2.1999999999999999E-2,0.72,1.2900000000000001E-3,3.47,0,"offfarm","faba beans",null,null,null,null,null,{"$f":"IB86","v":0.14000000000000001},7.0000000000000007E-2,0.51702999999999999,2.1999999999999999E-2,0.72,1.2900000000000001E-3,3.47,0]
[null,null,null,"WHEAT,  2016, heated  + xylanase","2016-11-09",1.1490208330333,1.12982480714842,90.8,86.799987599999994,93,1,85,9.8999999999999897,2.1,1.5,2.7,null,84.299704424761899,28,43,48,54,57,null,0.43529411764705883,3.2941176470588234,0.1,1,5.8,1.2,1.3,32,3.2,29,40,0,6.0000000000000123E-2,null,2.9030935294117701,1.5375035294117601,2.3079347058823498,2.8916517647058799,1.34148882352941,3.3452023529411798,6.6590935294117601,2.2747205882352901,4.4124194117647102,2.7541000000000002,4.2787847058823498,null,0.92,1,0.98,0.93,0.99,0.99,1,0.99,1.02,1,0.96,null,11.647058823529401,2.4705882352941178,1.7647058823529411,3.1764705882352939,null,105,25.941176470588353,1.3517892153332942,1.3292056554687295,null,982.35294117647061,705.88890161344466,56.134627798319407,670,18.999999999999996,25,113,null,0.37,2.8,8.5000000000000006E-2,0.85,4.93,1.02,1.105,null,27.2,2.72,24.65,34,0,5.1000000000000101E-2,83.456707380514302,72.632893139280114,null,null,null,null,null,null,null,null,null,null,null,null,null,null,null,null,null,null,null,null,null,null,null,null,null,null,null,null,null,null,null,null,null,null,null,null,null,null,null,null,null,null,null,null,null,null,null,null,null,null,null,null,null,null,null,null,null,null,null,null,null,null,null,null,null,null,null,null,null,null,null,null,null,null,null,null,null,null,null,null,null,null,null,null,null,null,null,null,null,null,null,null,null,null,null,null,null,null,null,null,null,null,null,null,null,null,null,null,null,null,null,null,null,null,null,null,null,null,null,null,null,null,null,null,{"$f":"HM92","v":0.47300000000000003},0.13,0.39100000000000001,5.5E-2,3.97,4.5999999999999999E-3,2.73,"as barley","offfarm","wheat",null,null,null,null,null,{"$f":"IB92","v":0.47300000000000003},0.13,0.39100000000000001,5.5E-2,3.97,4.5999999999999999E-3,2.73,"as barley","wheat - on farm"]
[null,null,null,"WHEAT,  avg. 2014-2017","2016-11-04",1.14588545296168,1.1293494768089001,91.3,86.199982000000006,93,1,85,8.9999999999999591,2.1,1.5,2.7,null,82.773614285714302,50,54,56,57,58,null,0.42352941176470588,3.1764705882352939,0.1,1,5.8,1.2,1.3,32,3.2,29,40,0,6.0000000000000123E-2,null,3.0647441176470598,1.57315411764706,2.3666888235294099,2.9711270588235301,1.38336529411765,3.3435294117647101,6.7149041176470599,2.2959923529411799,4.3632476470588202,2.74708,4.3238588235294104,null,0.91984139059636005,0.99983194794455499,0.979886924127779,0.92986562968623399,0.99002632466492502,0.98995993262128801,0.99999453250972503,0.989953559452181,1.0199454358815301,0.99999479025510996,0.95993645905861302,null,10.588235294117599,2.4705882352941178,1.7647058823529411,3.1764705882352939,null,105,25.941176470588236,1.348100532896094,1.3286464433045884,null,982.35294117647061,704.99915966386584,71.571681176470463,670,18.999999999999996,25.000000000000117,113,null,0.36,2.6999999999999997,8.5000000000000006E-2,0.85,4.93,1.02,1.105,null,27.2,2.72,24.65,34,0,5.1000000000000101E-2,74.496252857142906,65.011954436281826,null,null,null,null,null,null,null,null,null,null,null,null,null,null,null,null,null,null,null,null,null,null,null,null,null,null,null,null,null,null,null,null,null,null,null,null,null,null,null,null,null,null,null,null,null,null,null,null,null,null,null,null,null,null,null,null,null,null,null,null,null,null,null,null,null,null,null,null,null,null,null,null,null,null,null,null,null,null,null,null,null,null,null,null,null,null,null,null,null,null,null,null,null,null,null,null,null,null,null,null,null,null,null,null,null,null,null,null,null,null,null,null,null,null,null,null,null,null,null,null,null,null,null,null,{"$f":"HM93","v":0.47300000000000003},0.13,0.39100000000000001,5.5E-2,3.97,4.5999999999999999E-3,2.73,"as barley","offfarm","wheat",null,null,null,null,null,{"$f":"IB93","v":0.47300000000000003},0.13,0.39100000000000001,5.5E-2,3.97,4.5999999999999999E-3,2.73,"as barley","wheat - on farm"]
[null,null,null,"WHEAT, 10% protein","2016-11-04",1.1391011420828501,1.1227959888682799,90.8,86.000039599999994,93,1,85,9.9999999999999591,2.1,1.5,2.7,null,83.756888571428505,50,54,56,57,58,null,0.43529411764705883,3.2941176470588234,0.1,1,5.8,1.2,1.3,32,3.2,29,40,0,6.0000000000000123E-2,null,2.8851323529411799,1.53354235294118,2.30140647058824,2.88282117647059,1.33683588235294,3.34538823529412,6.6528923529411799,2.27235705882353,4.4178829411764697,2.75488,4.2737764705882402,null,0.91984139059636005,0.99983194794455499,0.979886924127779,0.92986562968623399,0.99002632466492502,0.98995993262128801,0.99999453250972503,0.989953559452181,1.0199454358815301,0.99999479025510996,0.95993645905861302,null,11.764705882352892,2.4705882352941178,1.7647058823529411,3.1764705882352939,null,105,25.941176470588236,1.3401189906857061,1.3209364574920941,null,982.35294117647061,693.59159663865648,67.360788806722709,670,18.999999999999996,25.000000000000117,113,null,0.37,2.8,8.5000000000000006E-2,0.85,4.93,1.02,1.105,null,27.2,2.72,24.65,34,0,5.1000000000000101E-2,83.756888571428306,73.528930379508324,null,null,null,null,null,null,null,null,null,null,null,null,null,null,null,null,null,null,null,null,null,null,null,null,null,null,null,null,null,null,null,null,null,null,null,null,null,null,null,null,null,null,null,null,null,null,null,null,null,null,null,null,null,null,null,null,null,null,null,null,null,null,null,null,null,null,null,null,null,null,null,null,null,null,null,null,null,null,null,null,null,null,null,null,null,null,null,null,null,null,null,null,null,null,null,null,null,null,null,null,null,null,null,null,null,null,null,null,null,null,null,null,null,null,null,null,null,null,null,null,null,null,null,null,{"$f":"HM97","v":0.47300000000000003},0.13,0.39100000000000001,5.5E-2,3.97,4.5999999999999999E-3,2.73,"as barley","offfarm","wheat",null,null,null,null,null,{"$f":"IB97","v":0.47300000000000003},0.13,0.39100000000000001,5.5E-2,3.97,4.5999999999999999E-3,2.73,"as barley","wheat - on farm"]
[null,null,null,"WHEAT GLUTEN 80% protein ","2016-05-27",1.29950735578784,1.26482970686456,94.6,92,93,1,93,80,6.6,0.999999999999999,0.999999999999999,null,92.245360714285695,20,37,44,50,54,null," "," ",0,0,0,0,0,0,0,0,0,0,0,null," "," "," "," "," "," "," "," "," "," "," ",null,1,1,1,1,1,1,1,1,1,1,1,null,86.021505376344081,7.096774193548387,1.0752688172042999,1.0752688172042999,null,0,0,1.3973197374062796,1.3600319428651182,null,989.24731182795699,47.450076804915476,36.743471582181186," "," ",1.7117050691244191,26.816712749616023,null," "," ",0,0,0,0,0,null,0,0,0,0,0,0,737.96288571428602,567.87895999779721,null,null,null,null,null,null,null,null,null,null,null,null,null,null,null,null,null,null,null,null,null,null,null,null,null,null,null,null,null,null,null,null,null,null,null,null,null,null,null,null,null,null,null,null,null,null,null,null,null,null,null,null,null,null,null,null,null,null,null,null,null,null,null,null,null,null,null,null,null,null,null,null,null,null,null,null,null,null,null,null,null,null,null,null,null,null,null,null,null,null,null,null,null,null,null,null,null,null,null,null,null,null,null,null,null,null,null,null,null,null,null,null,null,null,null,null,null,null,null,null,null,null,null,null,{"$f":"HM104","v":0.47300000000000003},0.13,0.39100000000000001,5.5E-2,3.97,4.5999999999999999E-3,2.73,"as barley","offfarm","wheat gluten",null,null,null,null,null,{"$f":"IB104","v":0.47300000000000003},0.13,0.39100000000000001,5.5E-2,3.97,4.5999999999999999E-3,2.73,"as barley"]
[null,null,null,"WHEAT BRAN","2016-11-21",0.63203029376720599,0.70147547631317198,62.2,52.299999200000002,83,1,87.3,14.4918,4.1031000000000004,4.9760999999999997,8.6426999999999996,null,62.714496729776201,20,37,44,50,54,null,3.3,9.6000000000000014,0.1,0,15,4.5,1.9000000000000001,185,12.000000000000002,111.00000000000001,89.000000000000014,0,0.05,null,3.9,1.6,2,3.29,1.4,3.29,6.19,2.59,3.89,2.81,4.79,null,1,1.1000000000000001,1.04,1.03,1.04,1.07,1.08,1.1499999999999999,1.1299999999999999,1.1399999999999999,1.04,null,16.600000000000001,4.7000000000000011,5.6999999999999993,9.9,null,105,49.35,0.72397513604490948,0.80352288237476743,null,943.00000000000011,256.52885714285685,133.36715363428638,220,37.000000000000007,27.611468571428638,432.57967428571368,null,2.8809,8.3808000000000007,8.7300000000000003E-2,0,13.095000000000001,3.9285000000000001,1.6587000000000001,null,161.505,10.476000000000001,96.903000000000006,77.697000000000017,0,4.3650000000000001E-2,90.884594370857499,143.79784524115354,null,null,null,null,null,null,null,null,null,null,null,null,null,null,null,null,null,null,null,null,null,null,null,null,null,null,null,null,null,null,null,null,null,null,null,null,null,null,null,null,null,null,null,null,null,null,null,null,null,null,null,null,null,null,null,null,null,null,null,null,null,null,null,null,null,null,null,null,null,null,null,null,null,null,null,null,null,null,null,null,null,null,null,null,null,null,null,null,null,null,null,null,null,null,null,null,null,null,null,null,null,null,null,null,null,null,null,null,null,null,null,null,null,null,null,null,null,null,null,null,null,null,null,null,{"$f":"HM106","v":0.47300000000000003},0.13,0.39100000000000001,5.5E-2,3.97,4.5999999999999999E-3,2.73,"as barley","offfarm","wheat bran",null,null,null,null,null,{"$f":"IB106","v":0.47300000000000003},0.13,0.39100000000000001,5.5E-2,3.97,4.5999999999999999E-3,2.73,"as barley"]
[null,null,null,"IRON SULFAT,HEPT 1%","2010-05-12",-0.112682926829268,-0.108,70,70,0,1,99,0,0,99,0,null,0,0,0,0,0,0,null,0,0,0,0,0,0,0,2020.2020202020201,0,0,0,0,0,null,0,0,0,0,0,0,0,0,0,0,0,null,1,1,1,1,1,1,1,1,1,1,1,null,0,0,100,0,null,0,0,-0.11382113821138182,-0.10909090909090909,null,0,0,0," "," "," "," ",null,0,0,0,0,0,0,0,null,1999.9999999999998,0,0,0,0,0,0,0,null,null,null,null,null,null,null,null,null,null,null,null,null,null,null,null,null,null,null,null,null,null,null,null,null,null,null,null,null,null,null,null,null,null,null,null,null,null,null,null,null,null,null,null,null,null,null,null,null,null,null,null,null,null,null,null,null,null,null,null,null,null,null,null,null,null,null,null,null,null,null,null,null,null,null,null,null,null,null,null,null,null,null,null,null,null,null,null,null,null,null,null,null,null,null,null,null,null,null,null,null,null,null,null,null,null,null,null,null,null,null,null,null,null,null,null,null,null,null,null,null,null,null,null,{"$f":"HM111","v":0},0,0,0,0,0,0,0,"offfarm","vitamins and minerals",null,null,null,null,null,{"$f":"IB111","v":0.47300000000000003},0.13,0.39100000000000001,5.5E-2,3.97,4.5999999999999999E-3,2.73,0]
[null,null,null,"Cu OXID 100%","2010-05-12",-0.112682926829268,-0.108,70,70,0,1,99,0,0,99,0,null,0,0,0,0,0,0,null,0,0,0,0,0,0,0,0,808080.80808080803,0,0,0,0,null,0,0,0,0,0,0,0,0,0,0,0,null,1,1,1,1,1,1,1,1,1,1,1,null,0,0,100,0,null,0,0,-0.11382113821138182,-0.10909090909090909,null,0,0,0," "," "," "," ",null,0,0,0,0,0,0,0,null,0,799999.99999999988,0,0,0,0,0,0,null,null,null,null,null,null,null,null,null,null,null,null,null,null,null,null,null,null,null,null,null,null,null,null,null,null,null,null,null,null,null,null,null,null,null,null,null,null,null,null,null,null,null,null,null,null,null,null,null,null,null,null,null,null,null,null,null,null,null,null,null,null,null,null,null,null,null,null,null,null,null,null,null,null,null,null,null,null,null,null,null,null,null,null,null,null,null,null,null,null,null,null,null,null,null,null,null,null,null,null,null,null,null,null,null,null,null,null,null,null,null,null,null,null,null,null,null,null,null,null,null,null,null,null,{"$f":"HM116","v":0},0,0,0,0,0,0,0,"offfarm","vitamins and minerals",null,null,null,null,null,{"$f":"IB116","v":0.47300000000000003},0.13,0.39100000000000001,5.5E-2,3.97,4.5999999999999999E-3,2.73,0]
[null,null,null,"STRAW, wheat","2010-05-12",-0.14555395470383301,4.2341643784786699E-2,15,7,7,1,90,2.97,1.71,2.79,40.770000000000003,null,-182.00457142857101,37,37,37,37,37,null,3.6,0.9,9.9999999999999992E-2,9.5,15,0.9,0.9,291,3,35,46,0,4.9999999999999996E-2,null,3.38,1.26,1.26,2.46,0.24,1.84,3.38,1.06,3.24,2.0299999999999998,2.76,null,1,1,1,1,1,1,1,1,1,1,1,null,3.3000000000000003,1.9,3.1,45.300000000000004,null,0,0,-0.16172661633759222,4.7046270871985221E-2,null,969,-13.852857142857111,110.74285714285699,201,22.254339999999999," "," ",null,3.24,0.81,0.09,8.5500000000000007,13.5,0.81,0.81,null,261.90000000000003,2.7,31.5,41.4,0,4.4999999999999998E-2,-54.055357714285698,371.37677106936218,null,null,null,null,null,null,null,null,null,null,null,null,null,null,null,null,null,null,null,null,null,null,null,null,null,null,null,null,null,null,null,null,null,null,null,null,null,null,null,null,null,null,null,null,null,null,null,null,null,null,null,null,null,null,null,null,null,null,null,null,null,null,null,null,null,null,null,null,null,null,null,null,null,null,null,null,null,null,null,null,null,null,null,null,null,null,null,null,null,null,null,null,null,null,null,null,null,null,null,null,null,null,null,null,null,null,null,null,null,null,null,null,null,null,null,null,null,null,null,null,null,null,null,null,{"$f":"HM122","v":6.0999999999999999E-2},1.2E-2,3.6999999999999998E-2,5.0000000000000001E-3,0.3,4.0000000000000002E-4,0.26,"as barley straw","offfarm","straw",null,null,null,null,null,{"$f":"IB122","v":6.0999999999999999E-2},1.2E-2,3.6999999999999998E-2,5.0000000000000001E-3,0.3,4.0000000000000002E-4,0.26,"as barley straw"]
[null,null,null,"WHOLE CROP SILAGE, wheat-peas","2010-05-12",0.242670936875726,0.26427615892096501,67.3,57.3,75,1,31.8,3.8477999999999999,0.63600000000000001,1.8762000000000001,6.9960000000000004,null,49.841696103896098,37,37,37,37,37,null,5,2.7,0.4,0,14.299999999999999,1.2,0,57.999999999999993,6.3,24,47,0,0.04,null,2.9,0.96,0.74,2.29,0,3.48,5.35,1.63,3.07,2.02,4.32,null,1,1,1,1,1,1,1,1,1,1,1,null,12.1,2,5.9,22,null,0,0,0.7631161536972515,0.83105710352504714,null,941,369.35442857142766,134.42857142857108,250,20," "," ",null,1.59,0.85860000000000003,0.12720000000000001,0,4.5473999999999997,0.38159999999999999,0,null,18.443999999999999,2.0034000000000001,7.6319999999999997,14.946,0,1.272E-2,19.178087826857102,79.02919102619353,null,null,null,null,null,null,null,null,null,null,null,null,null,null,null,null,null,null,null,null,null,null,null,null,null,null,null,null,null,null,null,null,null,null,null,null,null,null,null,null,null,null,null,null,null,null,null,null,null,null,null,null,null,null,null,null,null,null,null,null,null,null,null,null,null,null,null,null,null,null,null,null,null,null,null,null,null,null,null,null,null,null,null,null,null,null,null,null,null,null,null,null,null,null,null,null,null,null,null,null,null,null,null,null,null,null,null,null,null,null,null,null,null,null,null,null,null,null,null,null,null,null,null,null,{"$f":"HM126","v":0.30099999999999999},9.4E-2,0.27200000000000002,2.8000000000000001E-2,2.2999999999999998,3.2000000000000002E-3,1.91,"as barley silage","offfarm","whole crop silage, wheat-peas",null,null,null,null,null,{"$f":"IB126","v":0.30099999999999999},9.4E-2,0.27200000000000002,2.8000000000000001E-2,2.2999999999999998,3.2000000000000002E-3,1.91,"as barley silage"]
[null,null,null,"BUTTERMILK POWDER, type B","2010-05-12",1.30980819839929,1.2625421641655601,96,96,96,1,94.17,32.206140000000097,4.7000002158000003,9.0000001728000001,0,null,94,58,58,58,58,58,null,15.1,11.200000000000001,6.5,0,16,1.3,3.3000000000000003,65,5,8,53,0,0.35000000000000003,null,7.6414140000000002,2.4520200000000001,0.80555599999999805,4.9646460000000001,1.8712120000000001,5.1035349999999697,9.4267679999999796,2.6843429999999899,4.4520199999999903,4.5252529999999904,6.2601009999999704,null,1.03,1.03,1.04,1.03,1,1.01,1.03,1.02,1.04,0.93,0.98,null,34.200000000000102,4.9909740000000005,9.5571839999999995,0,null,0,0,1.390897524051492,1.3407052821127323,null,904.42816000000005,508.61858579999893,0," "," "," "," ",null,14.219669999999999,10.547040000000001,6.1210500000000003,0,15.0672,1.22421,3.1076100000000002,null,61.210499999999996,4.7084999999999999,7.5335999999999999,49.9101,0,0.32959500000000003,302.737716000001,231.13133386245042,null,null,null,null,null,null,null,null,null,null,null,null,null,null,null,null,null,null,null,null,null,null,null,null,null,null,null,null,null,null,null,null,null,null,null,null,null,null,null,null,null,null,null,null,null,null,null,null,null,null,null,null,null,null,null,null,null,null,null,null,null,null,null,null,null,null,null,null,null,null,null,null,null,null,null,null,null,null,null,null,null,null,null,null,null,null,null,null,null,null,null,null,null,null,null,null,null,null,null,null,null,null,null,null,null,null,null,null,null,null,null,null,null,null,null,null,null,null,null,null,null,null,null,null,{"$f":"HM129","v":0},0,0,0,0,0,0,0,"offfarm","buttermilk powder",null,null,null,null,null,{"$f":"IB129","v":0.47300000000000003},0.13,0.39100000000000001,5.5E-2,3.97,4.5999999999999999E-3,2.73,0]
[null,null,null,"LYSIN 40% (60%chalk)","2010-05-12",0.25590624198253598,0.26636611252071302,100,81.963562753036399,100,1,98.8,38.178600000000003,0,67.28,0,null,100,0,0,0,0,0,null,230.76922846153948,0,0,0,0,0,0,0,0,0,0,0,0,null,83.500000000000099,0,0,0,0,0,0,0,0,0,0,null,1,0,0,0,0,0,0,0,0,0,0,null,38.642307692307696,0,68.097165991902841,0,null,0,0,0.25901441496208094,0.26960132846226015,null,319.02834008097165,-114.81858328864777,82.201923369620246," "," "," "," ",null,227.99999772000101,0,0,0,0,0,0,null,0,0,0,0,0,0,381.786,1491.8979585736504,null,null,null,null,null,null,null,null,null,null,null,null,null,null,null,null,null,null,null,null,null,null,null,null,null,null,null,null,null,null,null,null,null,null,null,null,null,null,null,null,null,null,null,null,null,null,null,null,null,null,null,null,null,null,null,null,null,null,null,null,null,null,null,null,null,null,null,null,null,null,null,null,null,null,null,null,null,null,null,null,null,null,null,null,null,null,null,null,null,null,null,null,null,null,null,null,null,null,null,null,null,null,null,null,null,null,null,null,null,null,null,null,null,null,null,null,null,null,null,null,null,null,null,null,{"$f":"HM136","v":0},0,0,0,0,0,0,0,"offfarm","vitamins and minerals",null,null,null,null,null,{"$f":"IB136","v":0.47300000000000003},0.13,0.39100000000000001,5.5E-2,3.97,4.5999999999999999E-3,2.73,0]
[null,null,null,"LYSIN,L(sulfat)70%","2015-10-02",1.0138184281842799,0.97168571428571404,100,100,100,1,96,82,0,19.2,0,null,100,0,0,0,0,0,null,0,1.875,3.2291666666666665,0,0,0,0,0,0,0,0,0,0,null,67.853658536585399,0.146341463414634,0.109756097560976,0.39024390243902402,0.15853658536585399,0.40243902439024398,0.53658536585365901,0,0,0,0.51219512195121997,null,1,0.85,0.85,0.85,0.85,0.85,0.85,0.85,0.85,0.85,0.85,null,85.416666666666671,0,20,0,null,0,0,1.0560608626919583,1.0121726190476188,null,800,22.708333333333332,0," "," "," "," ",null,0,1.7999999999999998,3.0999999999999996,0,0,0,0,null,0,0,0,0,0,0,820,808.82333286108906,null,null,null,null,null,null,null,null,null,null,null,null,null,null,null,null,null,null,null,null,null,null,null,null,null,null,null,null,null,null,null,null,null,null,null,null,null,null,null,null,null,null,null,null,null,null,null,null,null,null,null,null,null,null,null,null,null,null,null,null,null,null,null,null,null,null,null,null,null,null,null,null,null,null,null,null,null,null,null,null,null,null,null,null,null,null,null,null,null,null,null,null,null,null,null,null,null,null,null,null,null,null,null,null,null,null,null,null,null,null,null,null,null,null,null,null,null,null,null,null,null,null,null,null,{"$f":"HM140","v":0},0,0,0,0,0,0,0,"offfarm","vitamins and minerals",null,null,null,null,null,{"$f":"IB140","v":0.47300000000000003},0.13,0.39100000000000001,5.5E-2,3.97,4.5999999999999999E-3,2.73,0]
[null,null,null,"MAGNESIUMKARBON","2010-05-12",-0.112682926829268,-0.108,70,70,0,1,99,0,0,99,0,null,0,0,0,0,0,0,null,0,0,0,0,0,292.92928999999998,0,0,0,0,0,0,0,null,0,0,0,0,0,0,0,0,0,0,0,null,1,1,1,1,1,1,1,1,1,1,1,null,0,0,100,0,null,0,0,-0.11382113821138182,-0.10909090909090909,null,0,0,0," "," "," "," ",null,0,0,0,0,0,289.99999709999997,0,null,0,0,0,0,0,0,0,0,null,null,null,null,null,null,null,null,null,null,null,null,null,null,null,null,null,null,null,null,null,null,null,null,null,null,null,null,null,null,null,null,null,null,null,null,null,null,null,null,null,null,null,null,null,null,null,null,null,null,null,null,null,null,null,null,null,null,null,null,null,null,null,null,null,null,null,null,null,null,null,null,null,null,null,null,null,null,null,null,null,null,null,null,null,null,null,null,null,null,null,null,null,null,null,null,null,null,null,null,null,null,null,null,null,null,null,null,null,null,null,null,null,null,null,null,null,null,null,null,null,null,null,null,{"$f":"HM145","v":0},0,0,0,0,0,0,0,"offfarm","vitamins and minerals",null,null,null,null,null,{"$f":"IB145","v":0.47300000000000003},0.13,0.39100000000000001,5.5E-2,3.97,4.5999999999999999E-3,2.73,0]
[null,null,null,"MAIZE","2010-05-12",1.24836066226287,1.2207856136363699,90.3,88.2,91,1,87.5,8.4,4.0250000000000004,1.3125,2.0125000000000002,null,86,20,33,38,42,45,null,9.9999999999999992E-2,3.1999999999999997,9.9999999999999992E-2,0,4,1.2,1.2,35,3.6,6.3999999999999995,28,0,0.06,null,2.9,2.0999999999999899,2.2000000000000099,3.51,0.71,3.3699999999999899,12.11,2.94,4.67,3.7299999999999902,4.76,null,0.88,1.02,0.99,0.93,0.86,0.99,1.03,0.98,1,1.02,0.97,null,9.6,4.6000000000000005,1.5,2.3000000000000003,null,120,55.199999999999996,1.4266978997289943,1.3951835584415657,null,985,727.92500000000007,29.549999999999887,690,20,9,99,null,8.7499999999999994E-2,2.8,8.7499999999999994E-2,0,3.5,1.05,1.05,null,30.625,3.15,5.6,24.5,0,5.2499999999999998E-2,72.239999999999995,57.867892015319093,null,null,null,null,null,null,null,null,null,null,null,null,null,null,null,null,null,null,null,null,null,null,null,null,null,null,null,null,null,null,null,null,null,null,null,null,null,null,null,null,null,null,null,null,null,null,null,null,null,null,null,null,null,null,null,null,null,null,null,null,null,null,null,null,null,null,null,null,null,null,null,null,null,null,null,null,null,null,null,null,null,null,null,null,null,null,null,null,null,null,null,null,null,null,null,null,null,null,null,null,null,null,null,null,null,null,null,null,null,null,null,null,null,null,null,null,null,null,null,null,null,null,null,null,{"$f":"HM147","v":0.221},6.7000000000000004E-2,0.20100000000000001,1.4999999999999999E-2,1.74,2.3999999999999998E-3,1.41,"as maize silage","offfarm","maize",null,null,null,null,null,{"$f":"IB147","v":0.221},6.7000000000000004E-2,0.20100000000000001,1.4999999999999999E-2,1.74,2.3999999999999998E-3,1.41,"as maize silage"]
[null,null,null,"MAIZE GLUTEN FODDER","2010-05-12",0.71427460675571097,0.76696209252319103,67,58.8,89,1,88.7,20.401,3.9914999999999998,6.2089999999999996,8.1801109140000001,null,69,20,33,38,42,45,null,0.7,10.4,2.4,0,13.999999999999998,4.6999999999999993,5.2,169.99999999999997,5.3999999999999995,23,81.999999999999986,0,0.15,null,2.94,1.68,2.1,3.48,0.58000000000000096,3.1,8.99,2.9,3.6899999999999902,2.93,4.6100000000000003,null,0.96,1.2,0.97,1.03,0.96,1.1599999999999999,1.23,1.0900000000000001,1.22,1.2,1.1200000000000001,null,23,4.5,6.9999999999999991,9.2222220000000004,null,120,54,0.80527013162988836,0.86466977736549155,null,929.99999999999989,261.2071428571432,108.94285714285705," "," "," "," ",null,0.62090000000000001,9.2248000000000001,2.1288,0,12.417999999999999,4.1688999999999998,4.6124000000000001,null,150.78999999999996,4.7897999999999996,20.401,72.733999999999995,0,0.13305,140.76689999999999,197.0767246498848,null,null,null,null,null,null,null,null,null,null,null,null,null,null,null,null,null,null,null,null,null,null,null,null,null,null,null,null,null,null,null,null,null,null,null,null,null,null,null,null,null,null,null,null,null,null,null,null,null,null,null,null,null,null,null,null,null,null,null,null,null,null,null,null,null,null,null,null,null,null,null,null,null,null,null,null,null,null,null,null,null,null,null,null,null,null,null,null,null,null,null,null,null,null,null,null,null,null,null,null,null,null,null,null,null,null,null,null,null,null,null,null,null,null,null,null,null,null,null,null,null,null,null,null,{"$f":"HM155","v":0.221},6.7000000000000004E-2,0.20100000000000001,1.4999999999999999E-2,1.74,2.3999999999999998E-3,1.41,"as maize silage","offfarm","maize gluten",null,null,null,null,null,{"$f":"IB155","v":0.221},6.7000000000000004E-2,0.20100000000000001,1.4999999999999999E-2,1.74,2.3999999999999998E-3,1.41,"as maize silage"]
[null,null,null,"MANGANOXID 1%","2010-05-12",-0.112682926829268,-0.108,70,70,0,1,99,0,0,99,0,null,0,0,0,0,0,0,null,0,0,0,0,0,0,0,0,0,7777.7777777777774,0,0,0,null,0,0,0,0,0,0,0,0,0,0,0,null,1,1,1,1,1,1,1,1,1,1,1,null,0,0,100,0,null,0,0,-0.11382113821138182,-0.10909090909090909,null,0,0,0," "," "," "," ",null,0,0,0,0,0,0,0,null,0,0,7699.9999999999991,0,0,0,0,0,null,null,null,null,null,null,null,null,null,null,null,null,null,null,null,null,null,null,null,null,null,null,null,null,null,null,null,null,null,null,null,null,null,null,null,null,null,null,null,null,null,null,null,null,null,null,null,null,null,null,null,null,null,null,null,null,null,null,null,null,null,null,null,null,null,null,null,null,null,null,null,null,null,null,null,null,null,null,null,null,null,null,null,null,null,null,null,null,null,null,null,null,null,null,null,null,null,null,null,null,null,null,null,null,null,null,null,null,null,null,null,null,null,null,null,null,null,null,null,null,null,null,null,null,{"$f":"HM158","v":0},0,0,0,0,0,0,0,"offfarm","vitamins and minerals",null,null,null,null,null,{"$f":"IB158","v":0.47300000000000003},0.13,0.39100000000000001,5.5E-2,3.97,4.5999999999999999E-3,2.73,0]
[null,null,null,"MANGANSULF,TETR 1%","2010-05-12",-0.112682926829268,-0.108,70,70,0,1,99,0,0,99,0,null,0,0,0,0,0,0,null,0,0,0,0,0,0,0,0,0,2525.2525252525352,0,0,0,null,0,0,0,0,0,0,0,0,0,0,0,null,1,1,1,1,1,1,1,1,1,1,1,null,0,0,100,0,null,0,0,-0.11382113821138182,-0.10909090909090909,null,0,0,0," "," "," "," ",null,0,0,0,0,0,0,0,null,0,0,2500.00000000001,0,0,0,0,0,null,null,null,null,null,null,null,null,null,null,null,null,null,null,null,null,null,null,null,null,null,null,null,null,null,null,null,null,null,null,null,null,null,null,null,null,null,null,null,null,null,null,null,null,null,null,null,null,null,null,null,null,null,null,null,null,null,null,null,null,null,null,null,null,null,null,null,null,null,null,null,null,null,null,null,null,null,null,null,null,null,null,null,null,null,null,null,null,null,null,null,null,null,null,null,null,null,null,null,null,null,null,null,null,null,null,null,null,null,null,null,null,null,null,null,null,null,null,null,null,null,null,null,null,{"$f":"HM160","v":0},0,0,0,0,0,0,0,"offfarm","vitamins and minerals",null,null,null,null,null,{"$f":"IB160","v":0.47300000000000003},0.13,0.39100000000000001,5.5E-2,3.97,4.5999999999999999E-3,2.73,0]
[null,null,null,"METHIONIN,DL 100","2010-05-12",1.45035224647697,1.3900778674026,100,100,100,1,99.7,58.723300000000002,0,0,0,null,100,0,0,0,0,0,null,0,0,0,0,0,0,0,0,0,0,0,0,0,null,0,168.6,0,0,0,0,0,0,0,0,0,null,1,1,1,1,1,1,1,1,1,1,1,null,58.9,0,0,0,null,0,0,1.4547163956639619,1.394260649350652,null,1000,464.01,0," "," "," "," ",null,0,0,0,0,0,0,0,null,0,0,0,0,0,0,587.23299999999995,404.88991651954842,null,null,null,null,null,null,null,null,null,null,null,null,null,null,null,null,null,null,null,null,null,null,null,null,null,null,null,null,null,null,null,null,null,null,null,null,null,null,null,null,null,null,null,null,null,null,null,null,null,null,null,null,null,null,null,null,null,null,null,null,null,null,null,null,null,null,null,null,null,null,null,null,null,null,null,null,null,null,null,null,null,null,null,null,null,null,null,null,null,null,null,null,null,null,null,null,null,null,null,null,null,null,null,null,null,null,null,null,null,null,null,null,null,null,null,null,null,null,null,null,null,null,null,null,{"$f":"HM165","v":0},0,0,0,0,0,0,0,"offfarm","vitamins and minerals",null,null,null,null,null,{"$f":"IB165","v":0.47300000000000003},0.13,0.39100000000000001,5.5E-2,3.97,4.5999999999999999E-3,2.73,0]
[null,null,null,"MYRESYRE (25% water)","2010-05-12",1.18902422220169,1.13961022855175,100,100,100,1,75,7.5757575757575798E-5,0,0,0,null,0,0,0,0,0,0,null,0,0,0,0,0,0,0,0,0,0,0,0,0,null,0,0,0,0,0,0,0,0,0,0,0,null,1,1,1,1,1,1,1,1,1,1,1,null,1.0101010101010106E-4,0,0,0,null,0,0,1.5853656296022534,1.5194803047356666,null,1000,999.99908080808143,0," "," "," "," ",null,0,0,0,0,0,0,0,null,0,0,0,0,0,0,0,0,null,null,null,null,null,null,null,null,null,null,null,null,null,null,null,null,null,null,null,null,null,null,null,null,null,null,null,null,null,null,null,null,null,null,null,null,null,null,null,null,null,null,null,null,null,null,null,null,null,null,null,null,null,null,null,null,null,null,null,null,null,null,null,null,null,null,null,null,null,null,null,null,null,null,null,null,null,null,null,null,null,null,null,null,null,null,null,null,null,null,null,null,null,null,null,null,null,null,null,null,null,null,null,null,null,null,null,null,null,null,null,null,null,null,null,null,null,null,null,null,null,null,null,null,{"$f":"HM170","v":0},0,0,0,0,0,0,0,"offfarm","vitamins and minerals",null,null,null,null,null,{"$f":"IB170","v":0.47300000000000003},0.13,0.39100000000000001,5.5E-2,3.97,4.5999999999999999E-3,2.73,0]
[null,null,null,"NATRIUMSELENIT 1%","2010-05-12",-0.112682926829268,-0.108,70,70,0,1,99,0,0,99,0,null,0,0,0,0,0,0,null,0,0,2.6868686868686869,0,0,0,0,0,0,0,0,0,4646.4646464646466,null,0,0,0,0,0,0,0,0,0,0,0,null,1,1,1,1,1,1,1,1,1,1,1,null,0,0,100,0,null,0,0,-0.11382113821138182,-0.10909090909090909,null,0,0,0," "," "," "," ",null,0,0,2.66,0,0,0,0,null,0,0,0,0,0,4600,0,0,null,null,null,null,null,null,null,null,null,null,null,null,null,null,null,null,null,null,null,null,null,null,null,null,null,null,null,null,null,null,null,null,null,null,null,null,null,null,null,null,null,null,null,null,null,null,null,null,null,null,null,null,null,null,null,null,null,null,null,null,null,null,null,null,null,null,null,null,null,null,null,null,null,null,null,null,null,null,null,null,null,null,null,null,null,null,null,null,null,null,null,null,null,null,null,null,null,null,null,null,null,null,null,null,null,null,null,null,null,null,null,null,null,null,null,null,null,null,null,null,null,null,null,null,{"$f":"HM176","v":0},0,0,0,0,0,0,0,"offfarm","vitamins and minerals",null,null,null,null,null,{"$f":"IB176","v":0.47300000000000003},0.13,0.39100000000000001,5.5E-2,3.97,4.5999999999999999E-3,2.73,0]
[null,null,null,"PALM CAKE","2013-09-16",0.35074562357723599,0.48391047029610401,41.4,28.8,74,1,90.6,15.401999999999999,7.4291999999999998,3.7145999999999999,17.5764,null,56.9,30,30,30,30,30,null,4.2,6.4,0.1,0,7.5,3.3,2.1,480,25,260,47.000000000000007,0,0.18000000000000002,null,2.5099999999999998,1.74,1.1399999999999999,2.82,0.76,3.36,6.03,1.59,3.83,2.44,4.8,null,1,1,1,1,1,1,1,1,1,1,1,null,17,8.2000000000000011,4.1000000000000005,19.400000000000002,null,54,44.28,0.38713644986449891,0.53411751688311704,null,959.00000000000011,-9.8339999999999677,172.62,11,24,32,570,null,3.8051999999999997,5.7984,9.06E-2,0,6.794999999999999,2.9897999999999993,1.9025999999999998,null,434.87999999999994,22.65,235.55999999999997,42.582000000000001,0,0.16308,87.637379999999993,249.86022378894143,null,null,null,null,null,null,null,null,null,null,null,null,null,null,null,null,null,null,null,null,null,null,null,null,null,null,null,null,null,null,null,null,null,null,null,null,null,null,null,null,null,null,null,null,null,null,null,null,null,null,null,null,null,null,null,null,null,null,null,null,null,null,null,null,null,null,null,null,null,null,null,null,null,null,null,null,null,null,null,null,null,null,null,null,null,null,null,null,null,null,null,null,null,null,null,null,null,null,null,null,null,null,null,null,null,null,null,null,null,null,null,null,null,null,null,null,null,null,null,null,null,null,null,null,{"$f":"HM179","v":0.54099999999999993},0.11600000000000001,0.25,1.2999999999999999E-2,8.86,6.9299999999999995E-3,1.75,"as soybean cake","offfarm","palm cake",null,null,null,null,null,{"$f":"IB179","v":0.54099999999999993},0.11600000000000001,0.25,1.2999999999999999E-2,8.86,6.9299999999999995E-3,1.75,"as soybean cake"]
[null,null,null,"RAPESEED, low glucose content","2016-05-27",2.0692902477739001,2.0468762654916501,89,75.900000000000006,84,1,92.5,17.945,46.435000000000002,3.8849999999999998,8.3724099499999998,null,63,27,40,45,50,53,null,5.8,7.6,0.1,0,10,3.5,4.2,90,4.0999999999999996,42,42,0,0,null,6,2,2.4,4.4000000000000004,1.24,4.1900000000000004,6.86,2.74,4.01,3.12,5.39,null,1.1000000000000001,1.1399999999999999,1.1000000000000001,1.05,1.1399999999999999,1.1000000000000001,1.08,1.08,1.17,0.97,1.1000000000000001,null,19.399999999999999,50.2,4.2,9.0512540000000001,null,116,582.31999999999994,2.2370705381339464,2.2128392059369189,null,958,9.8571428571429518,179.28285714285732," "," ",38.043428571428535,215.57942857142811,null,5.3650000000000002,7.03,9.2500000000000013E-2,0,9.25,3.2375000000000003,3.8850000000000002,null,83.25,3.7925,38.85,38.85,0,0,113.0535,54.633950032684218,null,null,null,null,null,null,null,null,null,null,null,null,null,null,null,null,null,null,null,null,null,null,null,null,null,null,null,null,null,null,null,null,null,null,null,null,null,null,null,null,null,null,null,null,null,null,null,null,null,null,null,null,null,null,null,null,null,null,null,null,null,null,null,null,null,null,null,null,null,null,null,null,null,null,null,null,null,null,null,null,null,null,null,null,null,null,null,null,null,null,null,null,null,null,null,null,null,null,null,null,null,null,null,null,null,null,null,null,null,null,null,null,null,null,null,null,null,null,null,null,null,null,null,null,{"$f":"HM183","v":0.51300000000000001},8.9999999999999993E-3,0.32600000000000001,0.05,4,3.8999999999999998E-3,2.2799999999999998,"as rapeseed cake","offfarm","rapeseed",null,null,null,null,null,{"$f":"IB183","v":0.51300000000000001},8.9999999999999993E-3,0.32600000000000001,0.05,4,3.8999999999999998E-3,2.2799999999999998,"as rapeseed cake"]
[null,null,null,"RICE FODER","2010-05-12"," "," "," "," ",90,1,88,11.89999976,12.90000008,7.1000001599999996,4.1000000800000098,null," "," "," "," "," "," ",null,0.34090999999999888,1.25,0,0,1.0227299999999999,0,0,0,0,0,0,0,0,null,3.63,2.67,2,3.19,1.33,4,7.93,2.37,5.1100000000000003,4.8099999999999996,5.9300000000000104,null,1,1,1,1,1,1,1,1,1,1,1,null,13.522727,14.659091,8.0681820000000002,4.6590910000000108,null,92,134.8636372," "," ",null,919.31817999999998," "," "," "," "," "," ",null,0.30000079999999901,1.1000000000000001,0,0,0.90000239999999998,0,0,null,0,0,0,0,0,0,0," ",null,null,null,null,null,null,null,null,null,null,null,null,null,null,null,null,null,null,null,null,null,null,null,null,null,null,null,null,null,null,null,null,null,null,null,null,null,null,null,null,null,null,null,null,null,null,null,null,null,null,null,null,null,null,null,null,null,null,null,null,null,null,null,null,null,null,null,null,null,null,null,null,null,null,null,null,null,null,null,null,null,null,null,null,null,null,null,null,null,null,null,null,null,null,null,null,null,null,null,null,null,null,null,null,null,null,null,null,null,null,null,null,null,null,null,null,null,null,null,null,null,null,null,null,{"$f":"HM189","v":0.47300000000000003},0.13,0.39100000000000001,5.5E-2,3.97,4.5999999999999999E-3,2.73,"as barley","offfarm","rice foder",null,null,null,null,null,{"$f":"IB189","v":0.47300000000000003},0.13,0.39100000000000001,5.5E-2,3.97,4.5999999999999999E-3,2.73,"as barley",{"$f":"topdowntables!R20","v":"rye - on farm"}]
[null,null,null,"RYE,  2017","2016-11-09",1.0915497193186201,1.08454487198516,89.1,82.9,90,1,85,8.1,1.8,1.5,2.2999999999999998,null,77,50,53,54,55,56,null,0.50588235294117645,3.0588235294117645,0.1,0,4.9411800000000001,1.2,0,71,4.9999999999999885,30,31,0,0.03,null,3.7,1.7,2.35,3.29,1.07,3.48,6.28,2.2799999999999998,4.49,2.7,4.67,null,0.97,1.04,1.01,0.88,0.99,1,1.03,1.03,1.06,1,0.99,null,9.5294117647058822,2.1176470588235294,1.7647058823529411,2.7058823529411762,null,105,22.235294117647054,1.2841761403748471,1.275935143511953,null,982.35294117647061,681.00924369747884,87.008403361344349,612.99999999999989,32,39,129,null,0.43,2.5999999999999996,8.5000000000000006E-2,0,4.2000029999999997,1.02,0,null,60.35,4.2499999999999902,25.5,26.349999999999998,0,2.5499999999999998E-2,62.37,57.138945570828717,null,null,null,null,null,null,null,null,null,null,null,null,null,null,null,null,null,null,null,null,null,null,null,null,null,null,null,null,null,null,null,null,null,null,null,null,null,null,null,null,null,null,null,null,null,null,null,null,null,null,null,null,null,null,null,null,null,null,null,null,null,null,null,null,null,null,null,null,null,null,null,null,null,null,null,null,null,null,null,null,null,null,null,null,null,null,null,null,null,null,null,null,null,null,null,null,null,null,null,null,null,null,null,null,null,null,null,null,null,null,null,null,null,null,null,null,null,null,null,null,null,null,null,null,{"$f":"HM194","v":0.47300000000000003},0.13,0.39100000000000001,5.5E-2,3.97,4.5999999999999999E-3,2.73,"as barley","offfarm","rye",null,null,null,null,null,{"$f":"IB194","v":0.47300000000000003},0.13,0.39100000000000001,5.5E-2,3.97,4.5999999999999999E-3,2.73,"as barley","rye - on farm"]
[null,null,null,"RYE, 11,5 % protein, heated + xylanase","2016-11-04",1.09161691750677,1.0845305780363601,89.1,83.199979200000001,90,1,85,11.5,1.8,1.4,2.2999999999999998,null,77,28,42,47,52,55,null,0.50588235294117645,3.0588235294117645,0.1,0,4.9411800000000001,1.2,0,71,4.9999999999999885,30,31,0,0.03,null,3.7,1.7,2.35,3.29,1.07,3.48,6.28,2.2799999999999998,4.49,2.7,4.67,null,0.97,1.04,1.01,0.88,0.99,1,1.03,1.03,1.06,1,0.99,null,13.529411764705882,2.1176470588235294,1.6470588235294117,2.7058823529411762,null,105,22.235294117647054,1.2842551970667884,1.2759183271016001,null,983.52941176470586,649.76811111260463,82.897771240335999,612.99999999999989,32,39,129,null,0.43,2.5999999999999996,8.5000000000000006E-2,0,4.2000029999999997,1.02,0,null,60.35,4.2499999999999902,25.5,26.349999999999998,0,2.5499999999999998E-2,88.549999999999798,81.118200515109393,null,null,null,null,null,null,null,null,null,null,null,null,null,null,null,null,null,null,null,null,null,null,null,null,null,null,null,null,null,null,null,null,null,null,null,null,null,null,null,null,null,null,null,null,null,null,null,null,null,null,null,null,null,null,null,null,null,null,null,null,null,null,null,null,null,null,null,null,null,null,null,null,null,null,null,null,null,null,null,null,null,null,null,null,null,null,null,null,null,null,null,null,null,null,null,null,null,null,null,null,null,null,null,null,null,null,null,null,null,null,null,null,null,null,null,null,null,null,null,null,null,null,null,null,{"$f":"HM199","v":0.47300000000000003},0.13,0.39100000000000001,5.5E-2,3.97,4.5999999999999999E-3,2.73,"as barley","offfarm","rye",null,null,null,null,null,{"$f":"IB199","v":0.47300000000000003},0.13,0.39100000000000001,5.5E-2,3.97,4.5999999999999999E-3,2.73,"as barley","rye - on farm"]
[null,null,null,"Ronozyme HiPhos L flydende, Std. dosis: 500 FYT,  dog min. 1000 FYT til søer","2014-04-24",0.88144756097560995,0.84481597402597397,100,100,100,1,56,2.1,0,0.1,0,null,0,0,0,0,0,0,null,0,0,0,0,0,0,0,0,0,0,0,0,0,null,0,0,0,0,0,0,0,0,0,0,0,null,1,1,1,1,1,1,1,1,1,1,1,null,3.75,0,0.17857142857142858,0,null,0,0,1.5740135017421606,1.5085999536178107,null,998.21428571428567,964.08928571428567,0," "," "," "," ",null,0,0,0,0,0,0,0,null,0,0,0,0,0,0,0,0,null,null,null,null,null,null,null,null,null,null,null,null,null,null,null,null,null,null,null,null,null,null,null,null,null,null,null,null,null,null,null,null,null,null,null,null,null,null,null,null,null,null,null,null,null,null,null,null,null,null,null,null,null,null,null,null,null,null,null,null,null,null,null,null,null,null,null,null,null,null,null,null,null,null,null,null,null,null,null,null,null,null,null,null,null,null,null,null,null,null,null,null,null,null,null,null,null,null,null,null,null,null,null,null,null,null,null,null,null,null,null,null,null,null,null,null,null,null,null,null,null,null,null,null,{"$f":"HM201","v":0},0,0,0,0,0,0,0,"offfarm","vitamins and minerals",null,null,null,null,null,{"$f":"IB201","v":0.47300000000000003},0.13,0.39100000000000001,5.5E-2,3.97,4.5999999999999999E-3,2.73,0]
[null,null,null,"SKIMMED MILK POWDER, DENAT  Formel A","2010-05-12",1.3027731029810301,1.25589916103896,96,96,96,1,95,32.299999999999997,3.61,8.6449999999999996,1.1399999999999999,null,94,58,58,58,58,58,null,13.360550000000002,9.72682,6.3012299999999994,0,16.497540000000001,1.22451,3.4,43.965326999999995,5.0631050000000002,8.8444710000000004,46.013621999999998,0,0.12289600000000001,null,7.9,2.4,0.8,4.9000000000000004,1.8,5.285666,9.9152470000000008,2.8562940000000001,4.6387919999999996,4.62,6.5545530000000003,null,1.03,1.03,1.04,1.03,1,1.01,1.03,1.02,1.04,0.93,0.98,null,34,3.8,9.1,1.2,null,34,12.92,1.3713401084010843,1.3219991168831158,null,909,526.38,0,20.217370000000003,454.73684000000003," "," ",null,12.692522500000001,9.2404789999999988,5.9861684999999989,0,15.672663,1.1632844999999998,3.23,null,41.767060649999991,4.8099497500000004,8.4022474500000008,43.7129409,0,0.1167512,303.62,233.0566998238227,null,null,null,null,null,null,null,null,null,null,null,null,null,null,null,null,null,null,null,null,null,null,null,null,null,null,null,null,null,null,null,null,null,null,null,null,null,null,null,null,null,null,null,null,null,null,null,null,null,null,null,null,null,null,null,null,null,null,null,null,null,null,null,null,null,null,null,null,null,null,null,null,null,null,null,null,null,null,null,null,null,null,null,null,null,null,null,null,null,null,null,null,null,null,null,null,null,null,null,null,null,null,null,null,null,null,null,null,null,null,null,null,null,null,null,null,null,null,null,null,null,null,null,null,{"$f":"HM209","v":8.1999999999999993},0,0,0,0,0,0,"as conventional (Flysjo, 2011)","offfarm","skimmed milk powder",null,null,null,null,null,{"$f":"IB209","v":8.1999999999999993},0.13,0.39100000000000001,5.5E-2,3.97,4.5999999999999999E-3,2.73,"as conventional (Flysjo, 2011)"]
[null,null,null,"SOYBEAN PROTEIN CONCENTRATE, AlphaSoy PIG 601","2016-11-24",0.92046866445993003,0.95126558074507905,92.9,75.2,96,1,92.3,60.825699999999998,1.9382999999999999,6.6456,3.1381999999999999,null,83.5,39,51,56,60,63,null,3.7,7.4,9.9999999999999992E-2," ",22.900000000000002,3.9,4.8,390.09999999999997,8.5000000000000018,44.6,61.600000000000009,0,3.0000000000000002E-2,null,6.2822458270106196,1.3657056145675299,1.38088012139605,4.03641881638847,1.32018209408194,4.6433990895295896,7.8907435508345998,2.6100151745068301,5.1896813353565996,3.7632776934749601,4.7647951441578096,null,1.06,1.08,0.96,1.05,1.1000000000000001,1.07,1.07,1.08,1.08,1.1000000000000001,1.05,null,65.900000000000006,2.1,7.1999999999999993,3.4,null,130,27.3,0.99725749128919838,1.0306235977736502,null,928,7.4005714285714301,234.65142857142905," "," ",73.858345714285818,199.69108285714302,null,3.4150999999999998,6.8301999999999996,9.2299999999999979E-2," ",21.136700000000001,3.5996999999999995,4.4303999999999997,null,360.06229999999994,7.8455000000000013,41.165799999999997,56.856800000000007,0,2.7689999999999999E-2,507.89459499999998,551.7782566753632,null,null,null,null,null,null,null,null,null,null,null,null,null,null,null,null,null,null,null,null,null,null,null,null,null,null,null,null,null,null,null,null,null,null,null,null,null,null,null,null,null,null,null,null,null,null,null,null,null,null,null,null,null,null,null,null,null,null,null,null,null,null,null,null,null,null,null,null,null,null,null,null,null,null,null,null,null,null,null,null,null,null,null,null,null,null,null,null,null,null,null,null,null,null,null,null,null,null,null,null,null,null,null,null,null,null,null,null,null,null,null,null,null,null,null,null,null,null,null,null,null,null,null,null,{"$f":"HM212","v":0.54099999999999993},0.11600000000000001,0.25,1.2999999999999999E-2,8.86,6.9299999999999995E-3,1.75,"as soybean meal","offfarm","soybeans protein concentrate",null,null,null,null,null,{"$f":"IB212","v":0.54099999999999993},0.11600000000000001,0.25,1.2999999999999999E-2,8.86,6.9299999999999995E-3,1.75,"as soybean meal"]
[null,null,null,"SOYBEAN MEAL,  husked,  toasted","2016-11-11",0.94752421466651204,0.96603625264222304,94.5,78.1999785,96,1,87.3,45.806310000000003,2.6190000000000002,6.9578100000000003,3.6753300000000002,null,89.5,39,51,56,60,63,null,3.734249713631157,7.1706758304696452,0.1,0,24.000000000000004,3.3,3.8000000000000003,212,14.000000000000002,49,51.000000000000007,0,0.2,null,6.29,1.36,1.43,4.0599999999999996,1.38,4.3499999999999996,7.81,2.68,5.1100000000000003,3.65,4.79,null,1.01,1.04,0.94,0.98,1.03,1.01,1.01,1.02,1.01,1.01,0.99,null,52.470000000000006,3.0000000000000004,7.9700000000000006,4.21,null,130,39,1.0853656525389599,1.1065707361308397,null,920.30000000000007,148.80778876500003,214.29871123499998,64.772727272727266,109.09090909090895,65.617347033450059,177.40986420154985,null,3.2600000000000002,6.2600000000000007,8.7300000000000003E-2,0,20.952000000000002,2.8809,3.3174000000000001,null,185.07599999999999,12.222000000000001,42.777000000000001,44.523000000000003,0,0.17460000000000001,409.9664745,432.67123747786292,null,null,null,null,null,null,null,null,null,null,null,null,null,null,null,null,null,null,null,null,null,null,null,null,null,null,null,null,null,null,null,null,null,null,null,null,null,null,null,null,null,null,null,null,null,null,null,null,null,null,null,null,null,null,null,null,null,null,null,null,null,null,null,null,null,null,null,null,null,null,null,null,null,null,null,null,null,null,null,null,null,null,null,null,null,null,null,null,null,null,null,null,null,null,null,null,null,null,null,null,null,null,null,null,null,null,null,null,null,null,null,null,null,null,null,null,null,null,null,null,null,null,null,null,{"$f":"HM218","v":0.54099999999999993},0.11600000000000001,0.25,1.2999999999999999E-2,8.86,6.9299999999999995E-3,1.75,"as soybean meal","offfarm","soybean meal",null,null,null,null,null,{"$f":"IB218","v":0.54099999999999993},0.11600000000000001,0.25,1.2999999999999999E-2,8.86,6.9299999999999995E-3,1.75,"as soybean meal"]
[null,null,null,"SOYBEAN MEAL,  husked,  toasted, AGB-Soya","2016-11-24",1.0647422014518,1.0793465981788499,94.1,79.7,96,1,95.8,52.4026,2.6823999999999999,6.4185999999999996,3.2572000000000001,null,87.5,39,51,56,60,63,null,3.1,7.0000000000000009,0.1," ",24.5,3.6,3.8999999999999995,169.5,12.4,31.900000000000002,64.2,0,0,null,6.0329067641681897,1.31627056672761,1.3711151736745899,3.93053016453382,1.3345521023766,4.5703839122486301,7.7513711151736704,2.5594149908592301,5.15539305301645,3.7842778793418601,4.6983546617915897,null,1,1.05,0.92,0.99,1.06,1.05,1.04,1.05,1.06,1.06,1,null,54.7,2.8000000000000003,6.7,3.4000000000000004,null,130,36.400000000000006,1.1114219221835073,1.1266665951762525,null,933,161.09157142857097,191.93142857142797," "," ",60.549775714285808,163.70865285714302,null,2.9697999999999998,6.7060000000000004,9.5799999999999996E-2," ",23.471,3.4487999999999999,3.7361999999999993,null,162.381,11.879199999999999,30.560200000000002,61.503599999999999,0,0,458.52274999999997,430.64203651812983,null,null,null,null,null,null,null,null,null,null,null,null,null,null,null,null,null,null,null,null,null,null,null,null,null,null,null,null,null,null,null,null,null,null,null,null,null,null,null,null,null,null,null,null,null,null,null,null,null,null,null,null,null,null,null,null,null,null,null,null,null,null,null,null,null,null,null,null,null,null,null,null,null,null,null,null,null,null,null,null,null,null,null,null,null,null,null,null,null,null,null,null,null,null,null,null,null,null,null,null,null,null,null,null,null,null,null,null,null,null,null,null,null,null,null,null,null,null,null,null,null,null,null,null,{"$f":"HM219","v":0.54099999999999993},0.11600000000000001,0.25,1.2999999999999999E-2,8.86,6.9299999999999995E-3,1.75,"as soybean meal","offfarm","soybean meal",null,null,null,null,null,{"$f":"IB219","v":0.54099999999999993},0.11600000000000001,0.25,1.2999999999999999E-2,8.86,6.9299999999999995E-3,1.75,"as soybean meal"]
[null,null,null,"SUNFLOWER CAKE, 19% dry matter","2016-11-21",0.97693510089044,1.02287204382932,75.5,62.599994500000001,91,1,93.2,33.179200000000002,11.277200000000001,6.1512000000000002,17.801200000000001,null,84,15,25,29,33,35,null,3.8626609442060085,9.2274678111587978,0.2,0,15,5.5,3.9,170,30,36,82,0,0.15,null,3.5,2.2000000000000002,1.8,3.7,1.1599999999999999,4.0999999999999996,6.3,2.4,4.5,2.5,5,null,0.96,1.06,1.01,0.98,1.01,0.99,0.99,1.01,1.01,0.99,0.98,null,35.6,12.1,6.6,19.100000000000001,null,130,157.30000000000001,1.0482136275648497,1.097502192949914,null,934,91.71714285714279,172.12293052857081,16.759776536312767,55.865921787709553,51.478400000000008,316.22445714285726,null,3.6,8.6,0.18640000000000001,0,13.98,5.1260000000000003,3.6348000000000003,null,158.44,27.96,33.552,76.424000000000007,0,0.13980000000000001,278.70528000000002,285.28535799969774,null,null,null,null,null,null,null,null,null,null,null,null,null,null,null,null,null,null,null,null,null,null,null,null,null,null,null,null,null,null,null,null,null,null,null,null,null,null,null,null,null,null,null,null,null,null,null,null,null,null,null,null,null,null,null,null,null,null,null,null,null,null,null,null,null,null,null,null,null,null,null,null,null,null,null,null,null,null,null,null,null,null,null,null,null,null,null,null,null,null,null,null,null,null,null,null,null,null,null,null,null,null,null,null,null,null,null,null,null,null,null,null,null,null,null,null,null,null,null,null,null,null,null,null,{"$f":"HM223","v":0.54099999999999993},0.11600000000000001,0.25,1.2999999999999999E-2,8.86,6.9299999999999995E-3,1.75,"as soybean meal","offfarm","sunflower cake",null,null,null,null,null,{"$f":"IB223","v":0.54099999999999993},0.11600000000000001,0.25,1.2999999999999999E-2,8.86,6.9299999999999995E-3,1.75,"as soybean meal"]
[null,null,null,"BEET PULP PELLETS, dried, low input of molasses","2016-11-21",0.527736069396051,0.66667809903524999,86.9,40.5,83,1,89,8.2769999999999992,1.246,8.4550000000000001,14.952,null,50,50,50,50,50,50,null,13,0.90000000000000013,1,0,5.4,2.4000000000000004,3.3,660,7.5,78,37,0,0.10886644219977595,null,4.8600000000000003,1.51,1.1499999999999999,3.74,0.76,3.5,5.49,3.25,3.12,4.0599999999999996,5.3,null,1.04,1.22,0.44,0.6,0.82,1.2,1.18,1.18,1.02,1.04,0.84,null,9.2999999999999989,1.4,9.5,16.8,null,0,0,0.59296187572589998,0.74907651576994383,null,905,88.349285714285728,599.88571428571345,0," ",365.14957142857185,337.06114285714273,null,11.57,0.80100000000000016,0.89,0,4.806,2.1360000000000006,2.9369999999999998,null,587.4,6.6749999999999998,69.42,32.93,0,9.6891133557800602E-2,41.384999999999998,78.419881452032655,null,null,null,null,null,null,null,null,null,null,null,null,null,null,null,null,null,null,null,null,null,null,null,null,null,null,null,null,null,null,null,null,null,null,null,null,null,null,null,null,null,null,null,null,null,null,null,null,null,null,null,null,null,null,null,null,null,null,null,null,null,null,null,null,null,null,null,null,null,null,null,null,null,null,null,null,null,null,null,null,null,null,null,null,null,null,null,null,null,null,null,null,null,null,null,null,null,null,null,null,null,null,null,null,null,null,null,null,null,null,null,null,null,null,null,null,null,null,null,null,null,null,null,null,{"$f":"HM230","v":0.379},1.2999999999999999E-2,4.8000000000000001E-2,7.7000000000000002E-3,5.2,0,0.34,"as conventional (Mogensen et al., 2018)","offfarm","beet pulp pellets",null,null,null,null,null,{"$f":"IB230","v":0.379},1.2999999999999999E-2,4.8000000000000001E-2,7.7000000000000002E-3,5.2,0,0.34,"as conventional (Mogensen et al., 2018)"]
[null,null,null,"MOLLASES, sugarbeet","2010-05-12",0.68235393681765399,0.65834463810612298,99,97,90,0.8,72.599999999999994,5.0819999999999999,0.21779999999999999,15.5364,0,null,50,50,50,50,50,50,null,5.4,0.70000000000000007,2.3000000000000003,0,49,4,6.6999999999999993,150.00000000000003,4.6000000000000005,13.000000000000002,7.8000000000000007,0,0.44000000000000006,null,0.67,0.46,0.59,1.19,0,0.81,0.53,0.19,0.43,0.4,1.56,null,1,1,1,1,1,1,1,1,1,1,1,null,7,0.3,21.400000000000002,0,null,0,0,0.93988145567169978,0.90681079628942562,null,786,689.07285714285683,22.457142857142838," ",566,0,0,null,3.9204000000000003,0.50819999999999999,1.6698000000000002,0,35.573999999999998,2.9039999999999999,4.8641999999999994,null,108.90000000000002,3.3396000000000003,9.4380000000000006,5.6628000000000007,0,0.31944000000000006,25.41,37.238738767312682,null,null,null,null,null,null,null,null,null,null,null,null,null,null,null,null,null,null,null,null,null,null,null,null,null,null,null,null,null,null,null,null,null,null,null,null,null,null,null,null,null,null,null,null,null,null,null,null,null,null,null,null,null,null,null,null,null,null,null,null,null,null,null,null,null,null,null,null,null,null,null,null,null,null,null,null,null,null,null,null,null,null,null,null,null,null,null,null,null,null,null,null,null,null,null,null,null,null,null,null,null,null,null,null,null,null,null,null,null,null,null,null,null,null,null,null,null,null,null,null,null,null,null,null,{"$f":"HM233","v":0.379},1.2999999999999999E-2,4.8000000000000001E-2,7.7000000000000002E-3,5.2,0,0.34,"as conventional (Mogensen et al., 2018)","offfarm","mollases",null,null,null,null,null,{"$f":"IB233","v":0.379},1.2999999999999999E-2,4.8000000000000001E-2,7.7000000000000002E-3,5.2,0,0.34,"as conventional (Mogensen et al., 2018)"]
[null,null,null,"Std. mixture,  9-30 kg, PIGLETS","2014-02-28",1.12999992086164,1.1217383622346,90.440299547533797,82.989559884459098,92.476040388172606,1,87.202746049105798,20.392606768790099,5.9733593750862601,6.1722411748313304,3.6284660276531899,null,85.334848052054198,51.730001734478698,56.259406424396303,58.2351231997296,59.6321846450235,60.740260520691898,null,10.3666460169836,6.6135299670186685,1.9437461281844244,4.2513031731349651,10.255363056936995,1.5744124800280741,1.9411522012650744,210.99205739380463,33.589014007963407,81.161169725401606,172.8878252732145,0.26780502210540963,0.54617887709678492,null,6.5610016982465096,2.0472367022920599,1.59041266083939,4.1525970033085899,1.34376222526518,4.03637186979355,7.2990351258880501,2.4541521717052999,4.6616723755351703,3.49273933045041,4.5940783653377801,null,1.03919830107711,1.0784254724040401,0.96484860761879998,1.0007819570579499,1.0147899219054599,1.00071727591531,1.00860011048802,1.0193049342228999,1.01572731776595,0.99971190344787397,0.98941597943776904,null,23.385280501724761,6.8499670546183591,7.0780353308548385,4.1609538598817979,null,0,0,1.295830661370815,1.2863566952386158,null,929.219646691452,462.23296067947194,98.905338247317971,427.34709900823736,38.114769500664046,16.565435186389212,66.286358635796574,null,9.0399999999999494,5.7671797420208,1.6949999999999901,3.7072531098464601,8.9429582029545802,1.37293091672431,1.6927380244958099,null,183.99086799290299,29.2905425857629,70.7747687261257,150.762931222823,0.23353333333333198,0.47628297916856699,174.02,154.0000107852286,null,null,null,null,null,null,null,null,null,null,null,null,null,null,null,null,null,null,null,null,null,null,null,null,null,null,null,null,null,null,null,null,null,null,null,null,null,null,null,null,null,null,null,null,null,null,null,null,null,null,null,null,null,null,null,null,null,null,null,null,null,null,null,null,null,null,null,null,null,null,null,null,null,null,null,null,null,null,null,null,null,null,null,null,null,null,null,null,null,null,null,null,null,null,null,null,null,null,null,null,null,null,null,null,null,null,null,null,null,null,null,null,null,null,null,null,null,null,null,null,null,null,null,null,{"$f":"HM237","v":0.47300000000000003},0.13,0.39100000000000001,5.5E-2,3.97,4.5999999999999999E-3,2.73,"as barley","offfarm","vitamins and minerals",null,null,null,null,null,{"$f":"IB237","v":0.47300000000000003},0.13,0.39100000000000001,5.5E-2,3.97,4.5999999999999999E-3,2.73,"as barley"]
[null,null,null,"Std. minerals mixture,   piglets, 9-15 kg","2014-02-27",0.102554809340846,9.8396821507561794E-2,99.784110588310597,99.712147451080796,99.996685916600498,1,98.989247205540494,13.617657953023,4.7994217925846398E-2,84.565317320095502,1.80520216650287E-3,null,99.929649599089799,67,67,67,67,67,null,196.58498462392006,59.489327572833687,38.895436797528355,82.225445376861913,0,0,0,2826.6336365500015,565.32672730999934,1130.6534546200046,2826.6336365500015,5.6532672730999929,9.8932177279249949,null,56.834314589838897,22.244169448099399,0,20.146352356889299,4.4506126285002798,0,0,0,0,0,0,null,1.0007039992754101,1.0007039992754101,0,1.0007039992754101,1.0007039992754101,0,0,0,0,0,0,null,13.756704225406828,4.8484274080993449E-2,85.428791214569742,1.823634604225813E-3,null,0,0,0.10360196913903386,9.9401525201268992E-2,null,145.71208785430267,19.591406418510818,0.14979855677571455,0,0,0,0,null,194.597996398346,58.888037531986107,38.50230008318011,81.394349389958506,0,0,0,null,2798.0633580794401,559.61267161588705,1119.22534323178,2798.0633580794401,5.5961267161588699,9.793221753278031,136.080778760584,1326.9078226093989,null,null,null,null,null,null,null,null,null,null,null,null,null,null,null,null,null,null,null,null,null,null,null,null,null,null,null,null,null,null,null,null,null,null,null,null,null,null,null,null,null,null,null,null,null,null,null,null,null,null,null,null,null,null,null,null,null,null,null,null,null,null,null,null,null,null,null,null,null,null,null,null,null,null,null,null,null,null,null,null,null,null,null,null,null,null,null,null,null,null,null,null,null,null,null,null,null,null,null,null,null,null,null,null,null,null,null,null,null,null,null,null,null,null,null,null,null,null,null,null,null,null,null,null,{"$f":"HM243","v":0.47300000000000003},0.13,0.39100000000000001,5.5E-2,3.97,4.5999999999999999E-3,2.73,"as barley","offfarm","vitamins and minerals",null,null,null,null,null,{"$f":"IB243","v":0.47300000000000003},0.13,0.39100000000000001,5.5E-2,3.97,4.5999999999999999E-3,2.73,"as barley"]
[null,null,null,"Std. minerals mixture, liquid feeding,  Slaughter pigs, 30-105 kg","2014-06-24",0.34813850528811502,0.29569750895521302,65.347547849772795,59.007426623634899,91.633595796030605,1,93.485542903072698,14.19190232773,2.5564724552569098,47.3679152359976,4.9087846313332104,null,70.610913156890902,48.893261685876801,55.442507459070299,58.139255718620603,60.450754226806502,61.991753232263797,null,142.79454222570212,11.494181235600887,4.3919003048168211E-2,10.400225051040895,6.5878504572252163,1.9763551371675701,0.83446105791519509,1115.77545811184,694.95381534759656,1428.1171633471022,3487.5055876219549,6.8968353498181711,6.9187948513422457,null,30.463751690172401,11.2777931813776,0.98379695290840896,15.590432520307299,0.68865786703588705,1.61834598753433,3.0448515692515299,1.27401705401639,1.91348507340686,1.38223471883632,2.3561937022156401,null,0,0,0,0,0,0,0,0,0,0,0,null,15.180852447361183,2.7346179696549457,50.668706374320799,5.2508489322490393,null," ",28.002893212999094,0.37239822808652945,0.31630292746098387,null,493.31293625679206,113.01545455648349,44.680911689858291," "," ",12.736510883968824,184.45981280230561,null,133.49225303565501,10.7453977303646,4.1057918437197097E-2,9.7227068521069491,6.1586877655795504,1.8476063296738698,0.78010045030674402,null,1043.0887445951,649.68134720331796,1335.083083447,3260.3135323633801,6.4475439699085504,6.4680729291271399,100.210318279443,287.84612088947245,null,null,null,null,null,null,null,null,null,null,null,null,null,null,null,null,null,null,null,null,null,null,null,null,null,null,null,null,null,null,null,null,null,null,null,null,null,null,null,null,null,null,null,null,null,null,null,null,null,null,null,null,null,null,null,null,null,null,null,null,null,null,null,null,null,null,null,null,null,null,null,null,null,null,null,null,null,null,null,null,null,null,null,null,null,null,null,null,null,null,null,null,null,null,null,null,null,null,null,null,null,null,null,null,null,null,null,null,null,null,null,null,null,null,null,null,null,null,null,null,null,null,null,null,{"$f":"HM248","v":0.47300000000000003},0.13,0.39100000000000001,5.5E-2,3.97,4.5999999999999999E-3,2.73,"as barley","offfarm","vitamins and minerals",null,null,null,null,null,{"$f":"IB248","v":0.47300000000000003},0.13,0.39100000000000001,5.5E-2,3.97,4.5999999999999999E-3,2.73,"as barley"]
[null,null,null,"Std. mixture,  piglets, 9-30 kg","2014-02-27",1.1105973312907,1.1010538257301901,94.119172745605695,84.000087778522897,94.782948158940997,0.98188756608556005,90.348788430019198,40.771986470503101,10.91602597786,15.6566138569338,2.3707765616751399,null,88.576054670975594,57.479002517800502,61.555774147916601,63.2544289937983,64.613352870503704,65.632545778032707,null,30.876447842029652,13.047985677128681,5.7257486449615813,11.902422658176551,16.16300245773478,2.1024315309970185,3.3986473405805109,561.86028385447514,92.149173653055826,195.30549984783178,444.87461064316739,0.82121909904084511,1.5622695937667594,null,8.7525390244062304,2.4745626878490099,1.39202724053751,5.04796003548807,1.4741741622807201,4.5400246503055302,7.9222914534464799,2.4045846346998001,5.0529705779954499,4.0265543208524797,5.0428664732153701,null,1.04263884335452,1.07129028091972,0.936374545611106,1.00660409684872,0.99966069126268697,0.99430428938128601,1.00044642774276,1.0150366686291701,1.01076837395273,0.99648406351131302,0.997,null,45.127319556790255,12.082094478018536,17.329080034162086,2.6240269547293984,null,0,0,1.2292332311140257,1.2186702720236535,null,826.70919965837925,130.72921197796953,119.5077233487447,39.99694842466026,77.200575307677511,0,0,null,27.896496535500599,11.7886969738082,5.1731445292710303,10.7536946654826,14.603076894477601,1.8995214158265099,3.07063669522356,null,507.63395913198508,83.255661943810409,176.45615284970901,401.93882074886699,0.74196150633932301,1.4114916499788499,361.14217026555502,325.17831629025017,null,null,null,null,null,null,null,null,null,null,null,null,null,null,null,null,null,null,null,null,null,null,null,null,null,null,null,null,null,null,null,null,null,null,null,null,null,null,null,null,null,null,null,null,null,null,null,null,null,null,null,null,null,null,null,null,null,null,null,null,null,null,null,null,null,null,null,null,null,null,null,null,null,null,null,null,null,null,null,null,null,null,null,null,null,null,null,null,null,null,null,null,null,null,null,null,null,null,null,null,null,null,null,null,null,null,null,null,null,null,null,null,null,null,null,null,null,null,null,null,null,null,null,null,{"$f":"HM253","v":0.47300000000000003},0.13,0.39100000000000001,5.5E-2,3.97,4.5999999999999999E-3,2.73,"as barley","offfarm","vitamins and minerals",null,null,null,null,null,{"$f":"IB253","v":0.47300000000000003},0.13,0.39100000000000001,5.5E-2,3.97,4.5999999999999999E-3,2.73,"as barley"]
[null,null,null,"Std. mixture, lactating sows","2014-02-26",0.862384304256957,0.86886524382136798,94.349810222247598,80.747020472588304,96.169665400499099,1,90.286902367636202,37.7713320845467,4.5697866967290803,22.4241519582656,2.8142556273063102,null,88.503986342378099,57.166381634232103,61.380789505275501,63.136792784876903,64.541595408557995,65.595197376318893,null,48.889928879579251,15.486309602902999,9.5664332159999326,18.08721782988826,18.18321034083209,2.5001914218644155,2.8790083039650796,364.53288575927672,51.389778248537283,309.01009144398932,718.35441446957952,1.3594301849906232,1.5109569378308887,null,8.4712730122904105,1.9619128497553999,1.35971976561797,4.7409181462539802,1.2926734145749501,4.25144603513254,7.3730189212324397,2.5183211568774602,4.7876750461926303,3.5715994458189502,4.52917108602254,null,0,0,0,0,0,0,0,0,0,0,0,null,41.834785659991837,5.0614060034106823,24.836550341440944,3.117014266196704,null," ",41.623552770112049,0.95515991981366621,0.96233808120192765,null,751.63449658559045,133.31173298808812,146.06180036635428,49.074005181222951,82.650956094691296,0,0,null,44.141202355112497,13.9821092315229,8.63723621779498,16.3303887030929,16.417057367729001,2.2573453880627401,2.5993674165570901,null,329.12545066340499,46.398238914201599,278.99563956817798,648.57994884575396,1.2273874038786601,1.3641962152764,334.29134589441497,387.63616666521466,null,null,null,null,null,null,null,null,null,null,null,null,null,null,null,null,null,null,null,null,null,null,null,null,null,null,null,null,null,null,null,null,null,null,null,null,null,null,null,null,null,null,null,null,null,null,null,null,null,null,null,null,null,null,null,null,null,null,null,null,null,null,null,null,null,null,null,null,null,null,null,null,null,null,null,null,null,null,null,null,null,null,null,null,null,null,null,null,null,null,null,null,null,null,null,null,null,null,null,null,null,null,null,null,null,null,null,null,null,null,null,null,null,null,null,null,null,null,null,null,null,null,null,null,{"$f":"HM255","v":0.47300000000000003},0.13,0.39100000000000001,5.5E-2,3.97,4.5999999999999999E-3,2.73,"as barley","offfarm","vitamins and minerals",null,null,null,null,null,{"$f":"IB255","v":0.47300000000000003},0.13,0.39100000000000001,5.5E-2,3.97,4.5999999999999999E-3,2.73,"as barley"]
[null,null,null,"WHOLE MILK POWDER","2016-06-01",2.01711154471545,1.9370806441558499,98,98,98,1,96,25.440000000000101,29.759999999999899,5.76,0,null,94,58,58,58,58,58,null,8.6000000000000103,7.1999999999999895,3.1999999999999891,0,11,0.89999999999999891,3.3000000000000003,4,1,1,41,0,0.3,null,7.87,2.4700000000000002,0.86,4.45,1.3,5.71,10,2.87,4.83,4.91,6.72,null,1.03,1.03,1.04,1.03,1,1.01,1.03,1.02,1.04,0.93,0.98,null,26.500000000000103,30.999999999999897,6,0,null,0,0,2.1011578590785938,2.0177923376623439,null,940,379.34999999999997,0,0,387.5,0,0,null,8.2560000000000091,6.9119999999999893,3.0719999999999894,0,10.559999999999999,0.86399999999999888,3.1680000000000001,null,3.84,0.96,0.96,39.36,0,0.28799999999999998,239.13600000000099,118.55368168731366,null,null,null,null,null,null,null,null,null,null,null,null,null,null,null,null,null,null,null,null,null,null,null,null,null,null,null,null,null,null,null,null,null,null,null,null,null,null,null,null,null,null,null,null,null,null,null,null,null,null,null,null,null,null,null,null,null,null,null,null,null,null,null,null,null,null,null,null,null,null,null,null,null,null,null,null,null,null,null,null,null,null,null,null,null,null,null,null,null,null,null,null,null,null,null,null,null,null,null,null,null,null,null,null,null,null,null,null,null,null,null,null,null,null,null,null,null,null,null,null,null,null,null,null,{"$f":"HM262","v":8.1999999999999993},0,0,0,0,0,0,"as conventional (Flysjo, 2011)","offfarm","whole milk powder",null,null,null,null,null,{"$f":"IB262","v":8.1999999999999993},0.13,0.39100000000000001,5.5E-2,3.97,4.5999999999999999E-3,2.73,"as conventional (Flysjo, 2011)"]
[null,null,null,"TREONIN,L  liquid feeding, dig =75%","2010-05-12",1.41764741734418,1.3587321999999999,100,100,100,1,99.5,72.037999999999997,0,0,0,null,75,0,0,0,0,0,null,0,0,0,0,0,0,0,0,0,0,0,0,0,null,0,0,0,136,0,0,0,0,0,0,0,null,1,1,1,1,1,1,1,1,1,1,1,null,72.399999999999991,0,0,0,null,0,0,1.4247712737127436,1.3655599999999999,null,1000,341.16,0," "," "," "," ",null,0,0,0,0,0,0,0,null,0,0,0,0,0,0,540.28499999999997,381.11380403187252,null,null,null,null,null,null,null,null,null,null,null,null,null,null,null,null,null,null,null,null,null,null,null,null,null,null,null,null,null,null,null,null,null,null,null,null,null,null,null,null,null,null,null,null,null,null,null,null,null,null,null,null,null,null,null,null,null,null,null,null,null,null,null,null,null,null,null,null,null,null,null,null,null,null,null,null,null,null,null,null,null,null,null,null,null,null,null,null,null,null,null,null,null,null,null,null,null,null,null,null,null,null,null,null,null,null,null,null,null,null,null,null,null,null,null,null,null,null,null,null,null,null,null,null,{"$f":"HM266","v":0},0,0,0,0,0,0,0,"offfarm","vitamins and minerals",null,null,null,null,null,{"$f":"IB266","v":0.47300000000000003},0.13,0.39100000000000001,5.5E-2,3.97,4.5999999999999999E-3,2.73,0]
[null,null,null,"TRITICALE,  2017","2016-11-04",1.12403800813008,1.1074305038961101,89.7,85.800023400000001,93,1,85,10.199999999999999,1.9,1.7,2.6,null,84.029241176470606,50,54,55,56,57,null,0.58823529411764708,3.5294117647058822,0.1,0,0,0,0,0,0,0,0,0,0,null,3.24,1.69,2.2200000000000002,3.15,1.22,3.36,6.42,2.2200000000000002,4.3600000000000003,2.8,4.5199999999999996,null,0.98,1.05,1.03,0.95,0.92,1.01,1.01,1.03,1.06,1,0.98,null,11.999999999999998,2.2352941176470589,2,3.0588235294117645,null,105,23.470588235294116,1.3223976566236235,1.3028594163483649,null,980,693.57764705882357,54.599672400000237,641,33,29.293882352941175,117.17552941176505,null,0.5,3,8.5000000000000006E-2,0,0,0,0,null,0,0,0,0,0,0,85.709826000000206,76.251715137804652,null,null,null,null,null,null,null,null,null,null,null,null,null,null,null,null,null,null,null,null,null,null,null,null,null,null,null,null,null,null,null,null,null,null,null,null,null,null,null,null,null,null,null,null,null,null,null,null,null,null,null,null,null,null,null,null,null,null,null,null,null,null,null,null,null,null,null,null,null,null,null,null,null,null,null,null,null,null,null,null,null,null,null,null,null,null,null,null,null,null,null,null,null,null,null,null,null,null,null,null,null,null,null,null,null,null,null,null,null,null,null,null,null,null,null,null,null,null,null,null,null,null,null,null,{"$f":"HM272","v":0.47300000000000003},0.13,0.39100000000000001,5.5E-2,3.97,4.5999999999999999E-3,2.73,"as barley","offfarm","triticale",null,null,null,null,null,{"$f":"IB272","v":0.47300000000000003},0.13,0.39100000000000001,5.5E-2,3.97,4.5999999999999999E-3,2.73,"as barley","triticale - on farm "]
[null,null,null,"TRITICALE,  2016 +xylanase","2016-11-04",1.13371280487805,1.11423050389611,89.7,86.599968000000004,93,1,85,10.199999999999999,1.9,1.7,2.6,null,84.645241176470606,50,54,55,56,57,null,0.58823529411764708,3.5294117647058822,0.1,0,0,0,0,0,0,0,0,0,0,null,3.24,1.69,2.2200000000000002,3.15,1.22,3.36,6.42,2.2200000000000002,4.3600000000000003,2.8,4.5199999999999996,null,0.98,1.05,1.03,0.95,0.92,1.01,1.01,1.03,1.06,1,0.98,null,11.999999999999998,2.2352941176470589,2,3.0588235294117645,null,105,23.470588235294116,1.3337797704447649,1.3108594163483649,null,980,704.77764705882362,43.400448000000004,641,33,27.053882352941176,108.21552941176505,null,0.5,3,8.5000000000000006E-2,0,0,0,0,null,0,0,0,0,0,0,86.338146000000293,76.155218172107894,null,null,null,null,null,null,null,null,null,null,null,null,null,null,null,null,null,null,null,null,null,null,null,null,null,null,null,null,null,null,null,null,null,null,null,null,null,null,null,null,null,null,null,null,null,null,null,null,null,null,null,null,null,null,null,null,null,null,null,null,null,null,null,null,null,null,null,null,null,null,null,null,null,null,null,null,null,null,null,null,null,null,null,null,null,null,null,null,null,null,null,null,null,null,null,null,null,null,null,null,null,null,null,null,null,null,null,null,null,null,null,null,null,null,null,null,null,null,null,null,null,null,null,null,{"$f":"HM273","v":0.47300000000000003},0.13,0.39100000000000001,5.5E-2,3.97,4.5999999999999999E-3,2.73,"as barley","offfarm","triticale",null,null,null,null,null,{"$f":"IB273","v":0.47300000000000003},0.13,0.39100000000000001,5.5E-2,3.97,4.5999999999999999E-3,2.73,"as barley","triticale - on farm "]
[null,null,null,"TRITICALE, 11,5 % protein, heated + xylanase","2016-05-27",1.12172682926829,1.1067704103896101,90.4,85.600031200000004,93,1,85,11.5,1.9,1.7,2.6,null,84.763314782608703,28,42,48,53,56,null,0.47058823529411764,3.5294117647058822,0.1,0,6.2,1.2,1.2,23.999999999999996,4,28,37,0,0,null,3.24,1.69,2.2200000000000002,3.15,1.22,3.36,6.42,2.2200000000000002,4.3600000000000003,2.8,4.5199999999999996,null,0.98,1.05,1.03,0.95,0.92,1.01,1.01,1.03,1.06,1,0.98,null,13.529411764705882,2.2352941176470589,2,3.0588235294117645,null,105,23.470588235294116,1.3196786226685764,1.3020828357524825,null,980,673.92,67.199563200000242,641,33,30.227764705882354,120.91105882352942,null,0.39999999999999997,3,8.5000000000000006E-2,0,5.27,1.02,1.02,null,20.399999999999995,3.4,23.8,31.45,0,0,97.477812000000498,86.899777607696095,null,null,null,null,null,null,null,null,null,null,null,null,null,null,null,null,null,null,null,null,null,null,null,null,null,null,null,null,null,null,null,null,null,null,null,null,null,null,null,null,null,null,null,null,null,null,null,null,null,null,null,null,null,null,null,null,null,null,null,null,null,null,null,null,null,null,null,null,null,null,null,null,null,null,null,null,null,null,null,null,null,null,null,null,null,null,null,null,null,null,null,null,null,null,null,null,null,null,null,null,null,null,null,null,null,null,null,null,null,null,null,null,null,null,null,null,null,null,null,null,null,null,null,null,{"$f":"HM277","v":0.47300000000000003},0.13,0.39100000000000001,5.5E-2,3.97,4.5999999999999999E-3,2.73,"as barley","offfarm","triticale",null,null,null,null,null,{"$f":"IB277","v":0.47300000000000003},0.13,0.39100000000000001,5.5E-2,3.97,4.5999999999999999E-3,2.73,"as barley","triticale - on farm "]
[null,null,null,"WHEY, Gjesing, juni 14","2013-08-12",7.5821663707884498E-2,7.2955508894792104E-2,99,98,98,0.86,6.33,0.99429237947122995,0.118133748055987,0.63300000000000001,0,null,76,50,50,50,50,50,null,6.3191153238546605,7.109004739336493,12.322274881516604,24.644549763033176,22.748815165876778,1.2638230647709305,0,11,1.9999999999999998,0,6,0,0,null,3.7,0.7,1.3,1.9,0.7,2,4.4000000000000004,1.1000000000000001,1.5,1.7,1.7,null,0.89,1.06,1.04,1.01,1.08,1.05,1.0900000000000001,1.05,1.02,1.1200000000000001,1.05,null,15.707620528771406,1.866251944012433,10,0,null,34,6.3452566096423064,1.1978145925416193,1.1525356855417395,null,900,717.10086647411697,12.857142857142907,0," ",0,0,null,0.39999999999999997,0.44999999999999996,0.78000000000000091,1.5599999999999998,1.44,7.9999999999999891E-2,0,null,0.69629999999999992,0.12659999999999996,0,0.37979999999999997,0,0,7.5566220839813001,99.663100418034048,null,null,null,null,null,null,null,null,null,null,null,null,null,null,null,null,null,null,null,null,null,null,null,null,null,null,null,null,null,null,null,null,null,null,null,null,null,null,null,null,null,null,null,null,null,null,null,null,null,null,null,null,null,null,null,null,null,null,null,null,null,null,null,null,null,null,null,null,null,null,null,null,null,null,null,null,null,null,null,null,null,null,null,null,null,null,null,null,null,null,null,null,null,null,null,null,null,null,null,null,null,null,null,null,null,null,null,null,null,null,null,null,null,null,null,null,null,null,null,null,null,null,null,null,{"$f":"HM284","v":0},0,0,0,0,0,0,0,"offfarm","whey",null,null,null,null,null,{"$f":"IB284","v":0.47300000000000003},0.13,0.39100000000000001,5.5E-2,3.97,4.5999999999999999E-3,2.73,0]
[null,null,null,"WHEY, Lillebælt, april 14","2016-11-17",7.0958841882875004E-2,6.8273555785973494E-2,99,98,98,0.86,5.77,0.79625999999999997,0.13270999999999999,0.49741381299999998,0,null,85,50,50,50,50,50,null,7.2,7.3,6.8,17.200000000000003,25.5,1.3,0,92.000000000000014,22.000000000000004,3,17.000000000000004,0,0.05,null,6.1,1.5,2,5.4,1.1000000000000001,5.7,8.1,1.2,2.6,2,5,null,0.89,1.06,1.04,1.01,1.08,1.05,1.0900000000000001,1.05,1.02,1.1200000000000001,1.05,null,13.799999999999999,2.2999999999999998,8.6206900000000015,0,null,34,7.8200000000000012,1.2297892873981804,1.1832505335524004,null,913.79310000000009,743.71098185714402,13.054187142857106,0," ",0,0,null,0.41543999999999998,0.42120999999999997,0.39235999999999993,0.9924400000000001,1.4713499999999999,7.5009999999999993E-2,0,null,5.3084000000000007,1.2694000000000001,0.17309999999999998,0.98090000000000011,0,2.885E-3,6.7682099999999998,95.382193683087991,null,null,null,null,null,null,null,null,null,null,null,null,null,null,null,null,null,null,null,null,null,null,null,null,null,null,null,null,null,null,null,null,null,null,null,null,null,null,null,null,null,null,null,null,null,null,null,null,null,null,null,null,null,null,null,null,null,null,null,null,null,null,null,null,null,null,null,null,null,null,null,null,null,null,null,null,null,null,null,null,null,null,null,null,null,null,null,null,null,null,null,null,null,null,null,null,null,null,null,null,null,null,null,null,null,null,null,null,null,null,null,null,null,null,null,null,null,null,null,null,null,null,null,null,{"$f":"HM287","v":0},0,0,0,0,0,0,0,"offfarm","whey",null,null,null,null,null,{"$f":"IB287","v":0.47300000000000003},0.13,0.39100000000000001,5.5E-2,3.97,4.5999999999999999E-3,2.73,0]
[null,null,null,"WHEY, Perlac 5,5, Høgelund, oct. 2017","2016-11-17",6.7383057562726806E-2,6.4824899439316297E-2,99,98,98,0.86,5.3,0.89570000000000005,0.24909999999999999,0.45689657,0,null,85,50,50,50,50,50,null,13.8,9.6999999999999993,5.6000000000000005,13.8,23.800000000000004,1.6,0,92.000000000000014,22,2.9999999999999813,17.000000000000004,0,5.000000000000019E-2,null,7,1.3,0.5,5.3,1.4,5.7,8.1,1.2,2.6,2,5,null,0.89,1.06,1.04,1.01,1.08,1.05,1.0900000000000001,1.05,1.02,1.1200000000000001,1.05,null,16.900000000000002,4.7,8.6206899999999997,0,null,34,15.98,1.2713784445797511,1.2231113101757793,null,913.79310000000009,692.22098185714344,13.054187142857096,0," ",0,0,null,0.73140000000000005,0.5141,0.29680000000000001,0.73140000000000005,1.2614000000000003,8.48E-2,0,null,4.8760000000000003,1.1659999999999999,0.158999999999999,0.90100000000000013,0,2.65000000000001E-3,7.6134500000000003,112.98760067265646,null,null,null,null,null,null,null,null,null,null,null,null,null,null,null,null,null,null,null,null,null,null,null,null,null,null,null,null,null,null,null,null,null,null,null,null,null,null,null,null,null,null,null,null,null,null,null,null,null,null,null,null,null,null,null,null,null,null,null,null,null,null,null,null,null,null,null,null,null,null,null,null,null,null,null,null,null,null,null,null,null,null,null,null,null,null,null,null,null,null,null,null,null,null,null,null,null,null,null,null,null,null,null,null,null,null,null,null,null,null,null,null,null,null,null,null,null,null,null,null,null,null,null,null,{"$f":"HM291","v":0},0,0,0,0,0,0,0,"offfarm","whey",null,null,null,null,null,{"$f":"IB291","v":0.47300000000000003},0.13,0.39100000000000001,5.5E-2,3.97,4.5999999999999999E-3,2.73,0]
[null,null,null,"WHEY, Perlac 7, Rødkærsbro, sep. 2017","2016-11-17",4.9282422857143002E-2,4.7399036834137397E-2,99,98,98,0.86,3.66,0.65880000000000005,0.35136000000000001,0.36599999999999999,0,null,76,50,50,50,50,50,null,9.6,7.6000000000000005,43.8,72.900000000000006,19.400000000000002,1.3,0,10.999999999999998,2,0,5.9999999999999991,0,0,null,3.6,0.7,0,2.4,0.7,2,4.4000000000000004,1.1000000000000001,1.5,1.7,1.7,null,0.89,1.06,1.04,1.01,1.08,1.05,1.0900000000000001,1.05,1.02,1.1200000000000001,1.05,null,18.000000000000004,9.6,10,0,null,34,32.639999999999993,1.3465142857142895,1.2950556512059397,null,900,621.22285714285795,12.857142857142895,0," ",0,0,null,0.35136000000000001,0.27816000000000002,1.6030799999999998,2.6681400000000002,0.71004000000000012,4.7580000000000004E-2,0,null,0.40259999999999996,7.3200000000000001E-2,0,0.21959999999999996,0,0,5.0068799999999998,101.59565438804927,null,null,null,null,null,null,null,null,null,null,null,null,null,null,null,null,null,null,null,null,null,null,null,null,null,null,null,null,null,null,null,null,null,null,null,null,null,null,null,null,null,null,null,null,null,null,null,null,null,null,null,null,null,null,null,null,null,null,null,null,null,null,null,null,null,null,null,null,null,null,null,null,null,null,null,null,null,null,null,null,null,null,null,null,null,null,null,null,null,null,null,null,null,null,null,null,null,null,null,null,null,null,null,null,null,null,null,null,null,null,null,null,null,null,null,null,null,null,null,null,null,null,null,null,{"$f":"HM296","v":0},0,0,0,0,0,0,0,"offfarm","whey",null,null,null,null,null,{"$f":"IB296","v":0.47300000000000003},0.13,0.39100000000000001,5.5E-2,3.97,4.5999999999999999E-3,2.73,0]
[null,null,null,"WHEY POWDER, sweet","2010-05-12",1.36476482089625,1.3141744147866401,99.7,98,94.4,1,96.5,12.448499999999999,1.2544999999999999,8.2025000000000006,0,null,85,58,58,58,58,58,null,5.5,6,5.5,15,22,1.3,2,4,3,2,2,0,0.05,null,7.47,1.45,1.82,6.07,1.29,5.88,8.6300000000000008,2.15,3,2.75,5.29,null,0.89,1.06,1.04,1.01,1.08,1.05,1.0900000000000001,1.05,1.02,1.1200000000000001,1.05,null,12.899999999999999,1.3,8.5,0,null,34,4.42,1.4142640631049221,1.361838771799627,null,915,760.03357142857101,22.2214285714286,0,775,0,0,null,5.3075000000000001,5.79,5.3075000000000001,14.475,21.23,1.2544999999999999,1.93,null,3.86,2.895,1.93,1.93,0,4.8250000000000001E-2,105.81225000000001,77.531489953347716,null,null,null,null,null,null,null,null,null,null,null,null,null,null,null,null,null,null,null,null,null,null,null,null,null,null,null,null,null,null,null,null,null,null,null,null,null,null,null,null,null,null,null,null,null,null,null,null,null,null,null,null,null,null,null,null,null,null,null,null,null,null,null,null,null,null,null,null,null,null,null,null,null,null,null,null,null,null,null,null,null,null,null,null,null,null,null,null,null,null,null,null,null,null,null,null,null,null,null,null,null,null,null,null,null,null,null,null,null,null,null,null,null,null,null,null,null,null,null,null,null,null,null,null,{"$f":"HM302","v":0},0,0,0,0,0,0,0,"offfarm","whey powder",null,null,null,null,null,{"$f":"IB302","v":0.47300000000000003},0.13,0.39100000000000001,5.5E-2,3.97,4.5999999999999999E-3,2.73,0]
[null,null,null,"Veg oil and fats, coconut","2010-05-12",3.8087734898011298,3.6567669291860199,97,97,90,1,99.5,1.0050505050505E-4,99.5,0,0,null,0,0,0,0,0,0,null,0,0,0,0,0,0,0,0,0,0,0,0,0,null,0,0,0,0,0,0,0,0,0,0,0,null,1,1,1,1,1,1,1,1,1,1,1,null,1.010101010101005E-4,100,0,0,null,10,100,3.8279130550765124,3.67514264239801,null,1000,-9.1919191907823211E-4,0,0,0,0,0,null,0,0,0,0,0,0,0,null,0,0,0,0,0,0,0,0,null,null,null,null,null,null,null,null,null,null,null,null,null,null,null,null,null,null,null,null,null,null,null,null,null,null,null,null,null,null,null,null,null,null,null,null,null,null,null,null,null,null,null,null,null,null,null,null,null,null,null,null,null,null,null,null,null,null,null,null,null,null,null,null,null,null,null,null,null,null,null,null,null,null,null,null,null,null,null,null,null,null,null,null,null,null,null,null,null,null,null,null,null,null,null,null,null,null,null,null,null,null,null,null,null,null,null,null,null,null,null,null,null,null,null,null,null,null,null,null,null,null,null,null,{"$f":"HM306","v":1.7955000000000001},2.3879999999999999,0.26200000000000001,0.11159999999999999,8.9499999999999993,0,1.8299999999999998,"as conventional (Mogensen et al., 2018)","offfarm","veg oil and fats",null,null,null,null,null,{"$f":"IB306","v":1.7955000000000001},2.3879999999999999,0.26200000000000001,0.11159999999999999,8.9499999999999993,0,1.8299999999999998,"as conventional (Mogensen et al., 2018)"]
[null,null,null,"Veg oil and fats, Soybeans","2010-05-12",4.0372998991892004,3.87617294493718,97,97,90,1.06,99.5,1.0050505050505E-4,99.5,0,0,null,0,0,0,0,0,0,null,0,0,0,0,0,0,0,0,0,0,0,0,0,null,0,0,0,0,0,0,0,0,0,0,0,null,1,1,1,1,1,1,1,1,1,1,1,null,1.010101010101005E-4,100,0,0,null,140,1400,4.0575878383811057,3.8956512009418893,null,1000,-9.1919191907823211E-4,0,0,0,0,0,null,0,0,0,0,0,0,0,null,0,0,0,0,0,0,0,0,null,null,null,null,null,null,null,null,null,null,null,null,null,null,null,null,null,null,null,null,null,null,null,null,null,null,null,null,null,null,null,null,null,null,null,null,null,null,null,null,null,null,null,null,null,null,null,null,null,null,null,null,null,null,null,null,null,null,null,null,null,null,null,null,null,null,null,null,null,null,null,null,null,null,null,null,null,null,null,null,null,null,null,null,null,null,null,null,null,null,null,null,null,null,null,null,null,null,null,null,null,null,null,null,null,null,null,null,null,null,null,null,null,null,null,null,null,null,null,null,null,null,null,null,{"$f":"HM309","v":1.7955000000000001},2.3879999999999999,0.26200000000000001,0.11159999999999999,8.9499999999999993,0,1.8299999999999998,"as conventional (Mogensen et al., 2018)","offfarm","veg oil and fats",null,null,null,null,null,{"$f":"IB309","v":1.7955000000000001},2.3879999999999999,0.26200000000000001,0.11159999999999999,8.9499999999999993,0,1.8299999999999998,"as conventional (Mogensen et al., 2018)"]
[null,null,null,"XYLANASE Ronozyme WX (CT)","2016-11-21",1.3951217294037901,1.33714264454545,100,100,90,1,88,1E-4,0,0,0,null,0,0,0,0,0,0,null,35.343357265540341,0,18.849790730119434,0,0,0,13.548287087273296,0,0,0,0,0,0,null,0,0,0,0,0,0,0,0,0,0,0,null,0,0,0,0,0,0,0,0,0,0,0,null,1.1363636363636364E-4,0,0,0,null,0,0,1.585365601595216,1.5194802778925569,null,1000,999.99896590909088,0,0,0,0,0,null,31.102154393675502,0,16.587815842505101,0,0,0,11.9224926368005,null,0,0,0,0,0,0,0,0,null,null,null,null,null,null,null,null,null,null,null,null,null,null,null,null,null,null,null,null,null,null,null,null,null,null,null,null,null,null,null,null,null,null,null,null,null,null,null,null,null,null,null,null,null,null,null,null,null,null,null,null,null,null,null,null,null,null,null,null,null,null,null,null,null,null,null,null,null,null,null,null,null,null,null,null,null,null,null,null,null,null,null,null,null,null,null,null,null,null,null,null,null,null,null,null,null,null,null,null,null,null,null,null,null,null,null,null,null,null,null,null,null,null,null,null,null,null,null,null,null,null,null,null,{"$f":"HM316","v":0},0,0,0,0,0,0,0,"offfarm","vitamins and minerals",null,null,null,null,null,{"$f":"IB316","v":0.47300000000000003},0.13,0.39100000000000001,5.5E-2,3.97,4.5999999999999999E-3,2.73,0]
[null,null,null,"PEAS","2016-11-21",1.00958482984901,1.01782018227829,90.5,79.400000000000006,96,1,85.2,20.448,1.8744000000000001,3.1524000000000001,5.3676000000000004,null,82,45,53,56,59,60,null,0.9,4.5999999999999996,9.9999999999999992E-2,0,12,1.3000000000000116,1.7,77,6.7,16,39,0,0.02,null,6.99,0.98,1.44,3.72,0.88999999999999702,4.04,7.03,2.5099999999999998,4.59,3.25,4.6299999999999901,null,1.02,0.98,0.85,0.93,0.89,0.98,0.95,1.01,1,0.95,0.94,null,24,2.1999999999999997,3.7,6.3,null,130,28.6,1.1849587204800587,1.1946246270871947,null,963,479.07071428571368,152.70428571428639,432,39,91.23242142857147,142.69686428571362,null,0.76680000000000004,3.9191999999999996,8.5199999999999984E-2,0,10.224,1.1076000000000099,1.4483999999999999,null,65.603999999999999,5.7084000000000001,13.632,33.228000000000002,0,1.704E-2,167.67359999999999,166.08173483062009,null,null,null,null,null,null,null,null,null,null,null,null,null,null,null,null,null,null,null,null,null,null,null,null,null,null,null,null,null,null,null,null,null,null,null,null,null,null,null,null,null,null,null,null,null,null,null,null,null,null,null,null,null,null,null,null,null,null,null,null,null,null,null,null,null,null,null,null,null,null,null,null,null,null,null,null,null,null,null,null,null,null,null,null,null,null,null,null,null,null,null,null,null,null,null,null,null,null,null,null,null,null,null,null,null,null,null,null,null,null,null,null,null,null,null,null,null,null,null,null,null,null,null,null,{"$f":"HM318","v":0.38400000000000001},0.16300000000000001,0.79118999999999995,5.2999999999999999E-2,0.97,1.6999999999999999E-3,5.31,0,"offfarm","peas",null,null,null,null,null,{"$f":"IB318","v":0.38400000000000001},0.16300000000000001,0.79118999999999995,5.2999999999999999E-2,0.97,1.6999999999999999E-3,5.31,0,{"$f":"topdowntables!R22","v":"peas - on farm "}]
[null,null,null,{"$f":"D319","v":"kløvergræs "},{"$f":"E319","v":"farefolde"},{"$f":"F319","v":0.11899999999999999},0.11899999999999999,0,0,0,0,17,0,0,0,0,0,0,0,0,0,0,0,0,0,3.5,0,0,0,0,0,0,0,0,0,0,0,0,0,0,0,0,0,0,0,0,0,0,0,0,0,0,0,0,0,0,0,0,0,0,0,0,17.8,0,0,0,0,0,0,{"$f":"BR319","v":0.7},0.7,0,0,0,0,0,0,0,0,0,0,1.1100000000000001,0,0,0,0,0,0,0,0,0,0,0,0,0,0,0,0,0,0,0,0,0,0,0,0,0,0,0,0,0,0,0,0,0,0,0,0,0,0,0,0,0,0,0,0,0,0,0,0,0,0,0,{"$f":"ED319","v":0},0,0,0,0,0,0,0,0,0,0,0,0,0,0,0,0,0,0,0,0,0,0,0,0,0,0,0,0,0,0,0,0,0,0,0,0,0,0,0,0,0,0,0,0,0,0,0,0,0,0,0,0,0,0,0,0,0,0,0,0,0,0,0,{"$f":"GP319","v":0},0,0,0,0,0,0,0,0,0,0,0,0,0,0,0,0,0,0,0,0,0,0,0,0,0,0,0,0,0,0,"paddock","grass-clover",null,null,null,null,null,{"$f":"IB319","v":0},0,0,0,0,0,0,0]
[null,null,null,{"$f":"D320","v":"kløvergræs "},{"$f":"E320","v":"drægtighedsfolde"},0.11899999999999999,0.11899999999999999,0,0,0,0,17,0,0,0,0,0,0,0,0,0,0,0,0,0,3.5,0,0,0,0,0,0,0,0,0,0,0,0,0,0,0,0,0,0,0,0,0,0,0,0,0,0,0,0,0,0,0,0,0,0,0,0,17.8,0,0,0,0,0,{"$f":"BQ320","v":0},0.7,0.7,0,0,0,0,0,0,0,0,0,0,1.1100000000000001,0,0,0,0,0,0,0,0,0,0,0,0,0,0,0,0,0,0,0,0,0,0,0,0,0,0,0,0,0,0,0,0,0,0,0,0,0,0,0,0,0,0,0,0,0,0,0,0,0,0,{"$f":"EC320","v":0},0,0,0,0,0,0,0,0,0,0,0,0,0,0,0,0,0,0,0,0,0,0,0,0,0,0,0,0,0,0,0,0,0,0,0,0,0,0,0,0,0,0,0,0,0,0,0,0,0,0,0,0,0,0,0,0,0,0,0,0,0,0,0,{"$f":"GO320","v":0},0,0,0,0,0,0,0,0,0,0,0,0,0,0,0,0,0,0,0,0,0,0,0,0,0,0,0,0,0,0,0,"paddock","grass-clover",null,null,null,null,null,{"$f":"IB320","v":0},0,0,0,0,0,0,0]
[null,null,null,"kløvergræs ",{"$f":"E321","v":"smågrisefolde"},0.11899999999999999,0.11899999999999999,0,0,0,0,17,0,0,0,0,0,0,0,0,0,0,0,0,0,3.5,0,0,0,0,0,0,0,0,0,0,0,0,0,0,0,0,0,0,0,0,0,0,0,0,0,0,0,0,0,0,0,0,0,0,0,0,17.8,0,0,0,0,0,{"$f":"BQ321","v":0},0.7,0.7,0,0,0,0,0,0,0,0,0,0,1.1100000000000001,0,0,0,0,0,0,0,0,0,0,0,0,0,0,0,0,0,0,0,0,0,0,0,0,0,0,0,0,0,0,0,0,0,0,0,0,0,0,0,0,0,0,0,0,0,0,0,0,0,0,{"$f":"EC321","v":0},0,0,0,0,0,0,0,0,0,0,0,0,0,0,0,0,0,0,0,0,0,0,0,0,0,0,0,0,0,0,0,0,0,0,0,0,0,0,0,0,0,0,0,0,0,0,0,0,0,0,0,0,0,0,0,0,0,0,0,0,0,0,0,{"$f":"GO321","v":0},0,0,0,0,0,0,0,0,0,0,0,0,0,0,0,0,0,0,0,0,0,0,0,0,0,0,0,0,0,0,0,"paddock","grass-clover",null,null,null,null,null,{"$f":"IB321","v":0},0,0,0,0,0,0,0]
[null,null,null,"Vælg……………………………..",{"$f":"E322","v":"slagtesvinefolde"},0.11899999999999999,0.11899999999999999,0,0,0,0,17,0,0,0,0,0,0,0,0,0,0,0,0,0,3.5,0,0,0,0,0,0,0,0,0,0,0,0,0,0,0,0,0,0,0,0,0,0,0,0,0,0,0,0,0,0,0,0,0,0,0,0,17.8,0,0,0,0,0,{"$f":"BQ322","v":0},0.7,0.7,0,0,0,0,0,0,0,0,0,0,1.1100000000000001,0,0,0,0,0,0,0,0,0,0,0,0,0,0,0,0,0,0,0,0,0,0,0,0,0,0,0,0,0,0,0,0,0,0,0,0,0,0,0,0,0,0,0,0,0,0,0,0,0,0,{"$f":"EC322","v":0},0,0,0,0,0,0,0,0,0,0,0,0,0,0,0,0,0,0,0,0,0,0,0,0,0,0,0,0,0,0,0,0,0,0,0,0,0,0,0,0,0,0,0,0,0,0,0,0,0,0,0,0,0,0,0,0,0,0,0,0,0,0,0,{"$f":"GO322","v":0},0,0,0,0,0,0,0,0,0,0,0,0,0,0,0,0,0,0,0,0,0,0,0,0,0,0,0,0,0,0,0,"paddock","grass-clover",null,null,null,null,null,{"$f":"IB322","v":0},0,0,0,0,0,0,0]
[null,null,null,{"$f":"'Opstaldingsform-Housing '!B74","v":"…………………………………………………………………………………….."},{"$f":"E323","v":0},0,0,0,0,0,0,0,0,0,0,0,0,0,0,0,0,0,0,0,0,0,0,0,0,0,0,0,0,0,0,0,0,0,0,0,0,0,0,0,0,0,0,0,0,0,0,0,0,0,0,0,0,0,0,0,0,0,0,0,0,0,0,0,{"$f":"BQ323","v":0},0,0,0,0,0,0,0,0,0,0,0,0,0,0,0,0,0,0,0,0,0,0,0,0,0,0,0,0,0,0,0,0,0,0,0,0,0,0,0,0,0,0,0,0,0,0,0,0,0,0,0,0,0,0,0,0,0,0,0,0,0,0,0,{"$f":"EC323","v":0},0,0,0,0,0,0,0,0,0,0,0,0,0,0,0,0,0,0,0,0,0,0,0,0,0,0,0,0,0,0,0,0,0,0,0,0,0,0,0,0,0,0,0,0,0,0,0,0,0,0,0,0,0,0,0,0,0,0,0,0,0,0,0,{"$f":"GO323","v":0},0,0,0,0,0,0,0,0,0,0,0,0,0,0,0,0,0,0,0,0,0,0,0,0,0,0,0,0,0,0,0,"paddock",null,null,null,null,null,null,{"$f":"IB323","v":0},0,0,0,0,0,0,0]
[null,null,null,{"$f":"'Opstaldingsform-Housing '!B75","v":"…………………………………………………………………………………….."},{"$f":"E324","v":0},0,0,0,0,0,0,0,0,0,0,0,0,0,0,0,0,0,0,0,0,0,0,0,0,0,0,0,0,0,0,0,0,0,0,0,0,0,0,0,0,0,0,0,0,0,0,0,0,0,0,0,0,0,0,0,0,0,0,0,0,0,0,0,{"$f":"BQ324","v":0},0,0,0,0,0,0,0,0,0,0,0,0,0,0,0,0,0,0,0,0,0,0,0,0,0,0,0,0,0,0,0,0,0,0,0,0,0,0,0,0,0,0,0,0,0,0,0,0,0,0,0,0,0,0,0,0,0,0,0,0,0,0,0,{"$f":"EC324","v":0},0,0,0,0,0,0,0,0,0,0,0,0,0,0,0,0,0,0,0,0,0,0,0,0,0,0,0,0,0,0,0,0,0,0,0,0,0,0,0,0,0,0,0,0,0,0,0,0,0,0,0,0,0,0,0,0,0,0,0,0,0,0,0,{"$f":"GO324","v":0},0,0,0,0,0,0,0,0,0,0,0,0,0,0,0,0,0,0,0,0,0,0,0,0,0,0,0,0,0,0,0,"paddock",null,null,null,null,null,null,{"$f":"IB324","v":0},0,0,0,0,0,0,0]
[null,null,null,{"$f":"D325","v":"Vælg……………………………………"},{"$f":"E325","v":0},{"$f":"F325","v":0},0,0,0,0,0,0,0,0,0,0,0,0,0,0,0,0,0,0,0,0,0,0,0,0,0,0,0,0,0,0,0,0,0,0,0,0,0,0,0,0,0,0,0,0,0,0,0,0,0,0,0,0,0,0,0,0,0,0,0,0,0,0,0,{"$f":"BR325","v":0},0,0,0,0,0,0,0,0,0,0,0,0,0,0,0,0,0,0,0,0,0,0,0,0,0,0,0,0,0,0,0,0,0,0,0,0,0,0,0,0,0,0,0,0,0,0,0,0,0,0,0,0,0,0,0,0,0,0,0,0,0,0,0,{"$f":"ED325","v":0},0,0,0,0,0,0,0,0,0,0,0,0,0,0,0,0,0,0,0,0,0,0,0,0,0,0,0,0,0,0,0,0,0,0,0,0,0,0,0,0,0,0,0,0,0,0,0,0,0,0,0,0,0,0,0,0,0,0,0,0,0,0,0,{"$f":"GP325","v":0},0,0,0,0,0,0,0,0,0,0,0,0,0,0,0,0,0,0,0,0,0,0,0,0,0,0,0,0,0,0,"onfarm",{"$f":"VLOOKUP(D695, cropsonfarm, 17, FALSE)","v":{"$error":"#N/A"}},null,null,null,null,null,{"$f":"IB325","v":0},0,0,0,0,0,0,0]
[null,null,null,{"$f":"D326","v":"Vælg……………………………………"},0,{"$f":"F326","v":0},0,0,0,0,0,0,0,0,0,0,0,0,0,0,0,0,0,0,0,0,0,0,0,0,0,0,0,0,0,0,0,0,0,0,0,0,0,0,0,0,0,0,0,0,0,0,0,0,0,0,0,0,0,0,0,0,0,0,0,0,0,0,0,{"$f":"BR326","v":0},0,0,0,0,0,0,0,0,0,0,0,0,0,0,0,0,0,0,0,0,0,0,0,0,0,0,0,0,0,0,0,0,0,0,0,0,0,0,0,0,0,0,0,0,0,0,0,0,0,0,0,0,0,0,0,0,0,0,0,0,0,0,0,{"$f":"ED326","v":0},0,0,0,0,0,0,0,0,0,0,0,0,0,0,0,0,0,0,0,0,0,0,0,0,0,0,0,0,0,0,0,0,0,0,0,0,0,0,0,0,0,0,0,0,0,0,0,0,0,0,0,0,0,0,0,0,0,0,0,0,0,0,0,{"$f":"GP326","v":0},0,0,0,0,0,0,0,0,0,0,0,0,0,0,0,0,0,0,0,0,0,0,0,0,0,0,0,0,0,0,"onfarm",{"$error":"#N/A"},null,null,null,null,null,{"$f":"IB326","v":0},0,0,0,0,0,0,0]
[null,null,null,"Vælg……………………………………",0,{"$f":"F327","v":0},0,0,0,0,0,0,0,0,0,0,0,0,0,0,0,0,0,0,0,0,0,0,0,0,0,0,0,0,0,0,0,0,0,0,0,0,0,0,0,0,0,0,0,0,0,0,0,0,0,0,0,0,0,0,0,0,0,0,0,0,0,0,0,{"$f":"BR327","v":0},0,0,0,0,0,0,0,0,0,0,0,0,0,0,0,0,0,0,0,0,0,0,0,0,0,0,0,0,0,0,0,0,0,0,0,0,0,0,0,0,0,0,0,0,0,0,0,0,0,0,0,0,0,0,0,0,0,0,0,0,0,0,0,{"$f":"ED327","v":0},0,0,0,0,0,0,0,0,0,0,0,0,0,0,0,0,0,0,0,0,0,0,0,0,0,0,0,0,0,0,0,0,0,0,0,0,0,0,0,0,0,0,0,0,0,0,0,0,0,0,0,0,0,0,0,0,0,0,0,0,0,0,0,{"$f":"GP327","v":0},0,0,0,0,0,0,0,0,0,0,0,0,0,0,0,0,0,0,0,0,0,0,0,0,0,0,0,0,0,0,"onfarm",{"$error":"#N/A"},null,null,null,null,null,{"$f":"IB327","v":0},0,0,0,0,0,0,0]
[null,null,null,"Vælg……………………………………",0,{"$f":"F328","v":0},0,0,0,0,0,0,0,0,0,0,0,0,0,0,0,0,0,0,0,0,0,0,0,0,0,0,0,0,0,0,0,0,0,0,0,0,0,0,0,0,0,0,0,0,0,0,0,0,0,0,0,0,0,0,0,0,0,0,0,0,0,0,0,{"$f":"BR328","v":0},0,0,0,0,0,0,0,0,0,0,0,0,0,0,0,0,0,0,0,0,0,0,0,0,0,0,0,0,0,0,0,0,0,0,0,0,0,0,0,0,0,0,0,0,0,0,0,0,0,0,0,0,0,0,0,0,0,0,0,0,0,0,0,{"$f":"ED328","v":0},0,0,0,0,0,0,0,0,0,0,0,0,0,0,0,0,0,0,0,0,0,0,0,0,0,0,0,0,0,0,0,0,0,0,0,0,0,0,0,0,0,0,0,0,0,0,0,0,0,0,0,0,0,0,0,0,0,0,0,0,0,0,0,{"$f":"GP328","v":0},0,0,0,0,0,0,0,0,0,0,0,0,0,0,0,0,0,0,0,0,0,0,0,0,0,0,0,0,0,0,"onfarm",{"$error":"#N/A"},null,null,null,null,null,{"$f":"IB328","v":0},0,0,0,0,0,0,0]
[null,null,null,"Vælg……………………………………",0,{"$f":"F329","v":0},0,0,0,0,0,0,0,0,0,0,0,0,0,0,0,0,0,0,0,0,0,0,0,0,0,0,0,0,0,0,0,0,0,0,0,0,0,0,0,0,0,0,0,0,0,0,0,0,0,0,0,0,0,0,0,0,0,0,0,0,0,0,0,{"$f":"BR329","v":0},0,0,0,0,0,0,0,0,0,0,0,0,0,0,0,0,0,0,0,0,0,0,0,0,0,0,0,0,0,0,0,0,0,0,0,0,0,0,0,0,0,0,0,0,0,0,0,0,0,0,0,0,0,0,0,0,0,0,0,0,0,0,0,{"$f":"ED329","v":0},0,0,0,0,0,0,0,0,0,0,0,0,0,0,0,0,0,0,0,0,0,0,0,0,0,0,0,0,0,0,0,0,0,0,0,0,0,0,0,0,0,0,0,0,0,0,0,0,0,0,0,0,0,0,0,0,0,0,0,0,0,0,0,{"$f":"GP329","v":0},0,0,0,0,0,0,0,0,0,0,0,0,0,0,0,0,0,0,0,0,0,0,"","","",0,0,0,0,0,"onfarm",{"$error":"#N/A"},null,null,null,null,null,{"$f":"IB329","v":0},0,0,0,0,0,0,0]
[null,null,null,"Vælg……………………………………",0,{"$f":"F330","v":0},0,0,0,0,0,0,0,0,0,0,0,0,0,0,0,0,0,0,0,0,0,0,0,0,0,0,0,0,0,0,0,0,0,0,0,0,0,0,0,0,0,0,0,0,0,0,0,0,0,0,0,0,0,0,0,0,0,0,0,0,0,0,0,{"$f":"BR330","v":0},0,0,0,0,0,0,0,0,0,0,0,0,0,0,0,0,0,0,0,0,0,0,0,0,0,0,0,0,0,0,0,0,0,0,0,0,0,0,0,0,0,0,0,0,0,0,0,0,0,0,0,0,0,0,0,0,0,0,0,0,0,0,0,{"$f":"ED330","v":0},0,0,0,0,0,0,0,0,0,0,0,0,0,0,0,0,0,0,0,0,0,0,0,0,0,0,0,0,0,0,0,0,0,0,0,0,0,0,0,0,0,0,0,0,0,0,0,0,0,0,0,0,0,0,0,0,0,0,0,0,0,0,0,{"$f":"GP330","v":0},0,0,0,0,0,0,0,0,0,0,0,0,0,0,0,0,0,0,0,0,0,0,"","",0,0,0,0,0,0,"onfarm",{"$error":"#N/A"},null,null,null,null,null,{"$f":"IB330","v":0},0,0,0,0,0,0,0]
[null,null,null,"Type in own foder/ mixture 13",null,null,null,null,null,null,null,null,null,null,null,null,null,null,null,null,null,null,null,null,null,null,null,null,null,null,null,null,null,null,null,null,null,null,null,null,null,null,null,null,null,null,null,null,null,null,null,null,null,null,null,null,null,null,null,null,null,null,null,null,null,null,null,null,null,null,null,null,null,null,null,null,null,null,null,null,null,null,null,null,null,null,null,null,null,null,null,null,null,null,null,null,null,null,null,null,null,null,null,null,null,null,null,null,null,null,null,null,null,null,null,null,null,null,null,null,null,null,null,null,null,null,null,null,null,null,null,null,null,null,null,null,null,null,null,null,null,null,null,null,null,null,null,null,null,null,null,null,null,null,null,null,null,null,null,null,null,null,null,null,null,null,null,null,null,null,null,null,null,null,null,null,null,null,null,null,null,null,null,null,null,null,null,null,null,null,null,null,null,null,null,null,null,null,null,null,null,null,null,null,null,null,null,null,null,null,null,null,null,null,null,null,null,null,null,null,{"$f":"HM331","v":0},0,0,0,0,0,0,0,null,null,null,null,null,null,null,{"$f":"IB331","v":0},0,0,0,0,0,0,0]
[null,null,null,"Type in own foder/ mixture 14",null,null,null,null,null,null,null,null,null,null,null,null,null,null,null,null,null,null,null,null,null,null,null,null,null,null,null,null,null,null,null,null,null,null,null,null,null,null,null,null,null,null,null,null,null,null,null,null,null,null,null,null,null,null,null,null,null,null,null,null,null,null,null,null,null,null,null,null,null,null,null,null,null,null,null,null,null,null,null,null,null,null,null,null,null,null,null,null,null,null,null,null,null,null,null,null,null,null,null,null,null,null,null,null,null,null,null,null,null,null,null,null,null,null,null,null,null,null,null,null,null,null,null,null,null,null,null,null,null,null,null,null,null,null,null,null,null,null,null,null,null,null,null,null,null,null,null,null,null,null,null,null,null,null,null,null,null,null,null,null,null,null,null,null,null,null,null,null,null,null,null,null,null,null,null,null,null,null,null,null,null,null,null,null,null,null,null,null,null,null,null,null,null,null,null,null,null,null,null,null,null,null,null,null,null,null,null,null,null,null,null,null,null,null,null,null,{"$f":"HM332","v":0},0,0,0,0,0,0,0,null,null,null,null,null,null,null,{"$f":"IB332","v":0},0,0,0,0,0,0,0]
[null,null,null,"Type in own foder/ mixture 15",null,null,null,null,null,null,null,null,null,null,null,null,null,null,null,null,null,null,null,null,null,null,null,null,null,null,null,null,null,null,null,null,null,null,null,null,null,null,null,null,null,null,null,null,null,null,null,null,null,null,null,null,null,null,null,null,null,null,null,null,null,null,null,null,null,null,null,null,null,null,null,null,null,null,null,null,null,null,null,null,null,null,null,null,null,null,null,null,null,null,null,null,null,null,null,null,null,null,null,null,null,null,null,null,null,null,null,null,null,null,null,null,null,null,null,null,null,null,null,null,null,null,null,null,null,null,null,null,null,null,null,null,null,null,null,null,null,null,null,null,null,null,null,null,null,null,null,null,null,null,null,null,null,null,null,null,null,null,null,null,null,null,null,null,null,null,null,null,null,null,null,null,null,null,null,null,null,null,null,null,null,null,null,null,null,null,null,null,null,null,null,null,null,null,null,null,null,null,null,null,null,null,null,null,null,null,null,null,null,null,null,null,null,null,null,null,{"$f":"HM333","v":0},0,0,0,0,0,0,0,null,null,null,null,null,null,null,{"$f":"IB333","v":0},0,0,0,0,0,0,0]
[null,null,null,"Type in own foder/ mixture 16",null,null,null,null,null,null,null,null,null,null,null,null,null,null,null,null,null,null,null,null,null,null,null,null,null,null,null,null,null,null,null,null,null,null,null,null,null,null,null,null,null,null,null,null,null,null,null,null,null,null,null,null,null,null,null,null,null,null,null,null,null,null,null,null,null,null,null,null,null,null,null,null,null,null,null,null,null,null,null,null,null,null,null,null,null,null,null,null,null,null,null,null,null,null,null,null,null,null,null,null,null,null,null,null,null,null,null,null,null,null,null,null,null,null,null,null,null,null,null,null,null,null,null,null,null,null,null,null,null,null,null,null,null,null,null,null,null,null,null,null,null,null,null,null,null,null,null,null,null,null,null,null,null,null,null,null,null,null,null,null,null,null,null,null,null,null,null,null,null,null,null,null,null,null,null,null,null,null,null,null,null,null,null,null,null,null,null,null,null,null,null,null,null,null,null,null,null,null,null,null,null,null,null,null,null,null,null,null,null,null,null,null,null,null,null,null,{"$f":"HM334","v":0},0,0,0,0,0,0,0,null,null,null,null,null,null,null,{"$f":"IB334","v":0},0,0,0,0,0,0,0]
[null,null,null,"Type in own foder/ mixture 17",null,null,null,null,null,null,null,null,null,null,null,null,null,null,null,null,null,null,null,null,null,null,null,null,null,null,null,null,null,null,null,null,null,null,null,null,null,null,null,null,null,null,null,null,null,null,null,null,null,null,null,null,null,null,null,null,null,null,null,null,null,null,null,null,null,null,null,null,null,null,null,null,null,null,null,null,null,null,null,null,null,null,null,null,null,null,null,null,null,null,null,null,null,null,null,null,null,null,null,null,null,null,null,null,null,null,null,null,null,null,null,null,null,null,null,null,null,null,null,null,null,null,null,null,null,null,null,null,null,null,null,null,null,null,null,null,null,null,null,null,null,null,null,null,null,null,null,null,null,null,null,null,null,null,null,null,null,null,null,null,null,null,null,null,null,null,null,null,null,null,null,null,null,null,null,null,null,null,null,null,null,null,null,null,null,null,null,null,null,null,null,null,null,null,null,null,null,null,null,null,null,null,null,null,null,null,null,null,null,null,null,null,null,null,null,null,{"$f":"HM335","v":0},0,0,0,0,0,0,0,null,null,null,null,null,null,null,{"$f":"IB335","v":0},0,0,0,0,0,0,0]
[null,null,null,"Type in own foder/ mixture 18",null,null,null,null,null,null,null,null,null,null,null,null,null,null,null,null,null,null,null,null,null,null,null,null,null,null,null,null,null,null,null,null,null,null,null,null,null,null,null,null,null,null,null,null,null,null,null,null,null,null,null,null,null,null,null,null,null,null,null,null,null,null,null,null,null,null,null,null,null,null,null,null,null,null,null,null,null,null,null,null,null,null,null,null,null,null,null,null,null,null,null,null,null,null,null,null,null,null,null,null,null,null,null,null,null,null,null,null,null,null,null,null,null,null,null,null,null,null,null,null,null,null,null,null,null,null,null,null,null,null,null,null,null,null,null,null,null,null,null,null,null,null,null,null,null,null,null,null,null,null,null,null,null,null,null,null,null,null,null,null,null,null,null,null,null,null,null,null,null,null,null,null,null,null,null,null,null,null,null,null,null,null,null,null,null,null,null,null,null,null,null,null,null,null,null,null,null,null,null,null,null,null,null,null,null,null,null,null,null,null,null,null,null,null,null,null,{"$f":"HM336","v":0},0,0,0,0,0,0,0,null,null,null,null,null,null,null,{"$f":"IB336","v":0},0,0,0,0,0,0,0]
[null,null,null,"Type in own foder/ mixture 19",null,null,null,null,null,null,null,null,null,null,null,null,null,null,null,null,null,null,null,null,null,null,null,null,null,null,null,null,null,null,null,null,null,null,null,null,null,null,null,null,null,null,null,null,null,null,null,null,null,null,null,null,null,null,null,null,null,null,null,null,null,null,null,null,null,null,null,null,null,null,null,null,null,null,null,null,null,null,null,null,null,null,null,null,null,null,null,null,null,null,null,null,null,null,null,null,null,null,null,null,null,null,null,null,null,null,null,null,null,null,null,null,null,null,null,null,null,null,null,null,null,null,null,null,null,null,null,null,null,null,null,null,null,null,null,null,null,null,null,null,null,null,null,null,null,null,null,null,null,null,null,null,null,null,null,null,null,null,null,null,null,null,null,null,null,null,null,null,null,null,null,null,null,null,null,null,null,null,null,null,null,null,null,null,null,null,null,null,null,null,null,null,null,null,null,null,null,null,null,null,null,null,null,null,null,null,null,null,null,null,null,null,null,null,null,null,{"$f":"HM337","v":0},0,0,0,0,0,0,0,null,null,null,null,null,null,null,{"$f":"IB337","v":0},0,0,0,0,0,0,0]
[null,null,null,"Type in own foder/ mixture 20",null,null,null,null,null,null,null,null,null,null,null,null,null,null,null,null,null,null,null,null,null,null,null,null,null,null,null,null,null,null,null,null,null,null,null,null,null,null,null,null,null,null,null,null,null,null,null,null,null,null,null,null,null,null,null,null,null,null,null,null,null,null,null,null,null,null,null,null,null,null,null,null,null,null,null,null,null,null,null,null,null,null,null,null,null,null,null,null,null,null,null,null,null,null,null,null,null,null,null,null,null,null,null,null,null,null,null,null,null,null,null,null,null,null,null,null,null,null,null,null,null,null,null,null,null,null,null,null,null,null,null,null,null,null,null,null,null,null,null,null,null,null,null,null,null,null,null,null,null,null,null,null,null,null,null,null,null,null,null,null,null,null,null,null,null,null,null,null,null,null,null,null,null,null,null,null,null,null,null,null,null,null,null,null,null,null,null,null,null,null,null,null,null,null,null,null,null,null,null,null,null,null,null,null,null,null,null,null,null,null,null,null,null,null,null,null,{"$f":"HM338","v":0},0,0,0,0,0,0,0,null,null,null,null,null,null,null,{"$f":"IB338","v":0},0,0,0,0,0,0,0]
[null,null,null,"Type in own foder/ mixture 21",null,null,null,null,null,null,null,null,null,null,null,null,null,null,null,null,null,null,null,null,null,null,null,null,null,null,null,null,null,null,null,null,null,null,null,null,null,null,null,null,null,null,null,null,null,null,null,null,null,null,null,null,null,null,null,null,null,null,null,null,null,null,null,null,null,null,null,null,null,null,null,null,null,null,null,null,null,null,null,null,null,null,null,null,null,null,null,null,null,null,null,null,null,null,null,null,null,null,null,null,null,null,null,null,null,null,null,null,null,null,null,null,null,null,null,null,null,null,null,null,null,null,null,null,null,null,null,null,null,null,null,null,null,null,null,null,null,null,null,null,null,null,null,null,null,null,null,null,null,null,null,null,null,null,null,null,null,null,null,null,null,null,null,null,null,null,null,null,null,null,null,null,null,null,null,null,null,null,null,null,null,null,null,null,null,null,null,null,null,null,null,null,null,null,null,null,null,null,null,null,null,null,null,null,null,null,null,null,null,null,null,null,null,null,null,null,{"$f":"HM339","v":0},0,0,0,0,0,0,0,null,null,null,null,null,null,null,{"$f":"IB339","v":0},0,0,0,0,0,0,0]
[null,null,null,"Type in own foder/ mixture 22",null,null,null,null,null,null,null,null,null,null,null,null,null,null,null,null,null,null,null,null,null,null,null,null,null,null,null,null,null,null,null,null,null,null,null,null,null,null,null,null,null,null,null,null,null,null,null,null,null,null,null,null,null,null,null,null,null,null,null,null,null,null,null,null,null,null,null,null,null,null,null,null,null,null,null,null,null,null,null,null,null,null,null,null,null,null,null,null,null,null,null,null,null,null,null,null,null,null,null,null,null,null,null,null,null,null,null,null,null,null,null,null,null,null,null,null,null,null,null,null,null,null,null,null,null,null,null,null,null,null,null,null,null,null,null,null,null,null,null,null,null,null,null,null,null,null,null,null,null,null,null,null,null,null,null,null,null,null,null,null,null,null,null,null,null,null,null,null,null,null,null,null,null,null,null,null,null,null,null,null,null,null,null,null,null,null,null,null,null,null,null,null,null,null,null,null,null,null,null,null,null,null,null,null,null,null,null,null,null,null,null,null,null,null,null,null,{"$f":"HM340","v":0},0,0,0,0,0,0,0,null,null,null,null,null,null,null,{"$f":"IB340","v":0},0,0,0,0,0,0,0]
[null,null,null,"Type in own foder/ mixture 23",null,null,null,null,null,null,null,null,null,null,null,null,null,null,null,null,null,null,null,null,null,null,null,null,null,null,null,null,null,null,null,null,null,null,null,null,null,null,null,null,null,null,null,null,null,null,null,null,null,null,null,null,null,null,null,null,null,null,null,null,null,null,null,null,null,null,null,null,null,null,null,null,null,null,null,null,null,null,null,null,null,null,null,null,null,null,null,null,null,null,null,null,null,null,null,null,null,null,null,null,null,null,null,null,null,null,null,null,null,null,null,null,null,null,null,null,null,null,null,null,null,null,null,null,null,null,null,null,null,null,null,null,null,null,null,null,null,null,null,null,null,null,null,null,null,null,null,null,null,null,null,null,null,null,null,null,null,null,null,null,null,null,null,null,null,null,null,null,null,null,null,null,null,null,null,null,null,null,null,null,null,null,null,null,null,null,null,null,null,null,null,null,null,null,null,null,null,null,null,null,null,null,null,null,null,null,null,null,null,null,null,null,null,null,null,null,{"$f":"HM341","v":0},0,0,0,0,0,0,0,null,null,null,null,null,null,null,{"$f":"IB341","v":0},0,0,0,0,0,0,0]
[null,null,null,"Type in own foder/ mixture 24",null,null,null,null,null,null,null,null,null,null,null,null,null,null,null,null,null,null,null,null,null,null,null,null,null,null,null,null,null,null,null,null,null,null,null,null,null,null,null,null,null,null,null,null,null,null,null,null,null,null,null,null,null,null,null,null,null,null,null,null,null,null,null,null,null,null,null,null,null,null,null,null,null,null,null,null,null,null,null,null,null,null,null,null,null,null,null,null,null,null,null,null,null,null,null,null,null,null,null,null,null,null,null,null,null,null,null,null,null,null,null,null,null,null,null,null,null,null,null,null,null,null,null,null,null,null,null,null,null,null,null,null,null,null,null,null,null,null,null,null,null,null,null,null,null,null,null,null,null,null,null,null,null,null,null,null,null,null,null,null,null,null,null,null,null,null,null,null,null,null,null,null,null,null,null,null,null,null,null,null,null,null,null,null,null,null,null,null,null,null,null,null,null,null,null,null,null,null,null,null,null,null,null,null,null,null,null,null,null,null,null,null,null,null,null,null,{"$f":"HM342","v":0},0,0,0,0,0,0,0,null,null,null,null,null,null,null,{"$f":"IB342","v":0},0,0,0,0,0,0,0]
[null,null,null,"Type in own foder/ mixture 25",null,null,null,null,null,null,null,null,null,null,null,null,null,null,null,null,null,null,null,null,null,null,null,null,null,null,null,null,null,null,null,null,null,null,null,null,null,null,null,null,null,null,null,null,null,null,null,null,null,null,null,null,null,null,null,null,null,null,null,null,null,null,null,null,null,null,null,null,null,null,null,null,null,null,null,null,null,null,null,null,null,null,null,null,null,null,null,null,null,null,null,null,null,null,null,null,null,null,null,null,null,null,null,null,null,null,null,null,null,null,null,null,null,null,null,null,null,null,null,null,null,null,null,null,null,null,null,null,null,null,null,null,null,null,null,null,null,null,null,null,null,null,null,null,null,null,null,null,null,null,null,null,null,null,null,null,null,null,null,null,null,null,null,null,null,null,null,null,null,null,null,null,null,null,null,null,null,null,null,null,null,null,null,null,null,null,null,null,null,null,null,null,null,null,null,null,null,null,null,null,null,null,null,null,null,null,null,null,null,null,null,null,null,null,null,null,{"$f":"HM343","v":0},0,0,0,0,0,0,0,null,null,null,null,null,null,null,{"$f":"IB343","v":0},0,0,0,0,0,0,0]
[null,null,null,"Type in own foder/ mixture 26",null,null,null,null,null,null,null,null,null,null,null,null,null,null,null,null,null,null,null,null,null,null,null,null,null,null,null,null,null,null,null,null,null,null,null,null,null,null,null,null,null,null,null,null,null,null,null,null,null,null,null,null,null,null,null,null,null,null,null,null,null,null,null,null,null,null,null,null,null,null,null,null,null,null,null,null,null,null,null,null,null,null,null,null,null,null,null,null,null,null,null,null,null,null,null,null,null,null,null,null,null,null,null,null,null,null,null,null,null,null,null,null,null,null,null,null,null,null,null,null,null,null,null,null,null,null,null,null,null,null,null,null,null,null,null,null,null,null,null,null,null,null,null,null,null,null,null,null,null,null,null,null,null,null,null,null,null,null,null,null,null,null,null,null,null,null,null,null,null,null,null,null,null,null,null,null,null,null,null,null,null,null,null,null,null,null,null,null,null,null,null,null,null,null,null,null,null,null,null,null,null,null,null,null,null,null,null,null,null,null,null,null,null,null,null,null,{"$f":"HM344","v":0},0,0,0,0,0,0,0,null,null,null,null,null,null,null,{"$f":"IB344","v":0},0,0,0,0,0,0,0]
[null,null,null,"Type in own foder/ mixture 27",null,null,null,null,null,null,null,null,null,null,null,null,null,null,null,null,null,null,null,null,null,null,null,null,null,null,null,null,null,null,null,null,null,null,null,null,null,null,null,null,null,null,null,null,null,null,null,null,null,null,null,null,null,null,null,null,null,null,null,null,null,null,null,null,null,null,null,null,null,null,null,null,null,null,null,null,null,null,null,null,null,null,null,null,null,null,null,null,null,null,null,null,null,null,null,null,null,null,null,null,null,null,null,null,null,null,null,null,null,null,null,null,null,null,null,null,null,null,null,null,null,null,null,null,null,null,null,null,null,null,null,null,null,null,null,null,null,null,null,null,null,null,null,null,null,null,null,null,null,null,null,null,null,null,null,null,null,null,null,null,null,null,null,null,null,null,null,null,null,null,null,null,null,null,null,null,null,null,null,null,null,null,null,null,null,null,null,null,null,null,null,null,null,null,null,null,null,null,null,null,null,null,null,null,null,null,null,null,null,null,null,null,null,null,null,null,{"$f":"HM345","v":0},0,0,0,0,0,0,0,null,null,null,null,null,null,null,{"$f":"IB345","v":0},0,0,0,0,0,0,0]
[null,null,null,"Type in own foder/ mixture 28",null,null,null,null,null,null,null,null,null,null,null,null,null,null,null,null,null,null,null,null,null,null,null,null,null,null,null,null,null,null,null,null,null,null,null,null,null,null,null,null,null,null,null,null,null,null,null,null,null,null,null,null,null,null,null,null,null,null,null,null,null,null,null,null,null,null,null,null,null,null,null,null,null,null,null,null,null,null,null,null,null,null,null,null,null,null,null,null,null,null,null,null,null,null,null,null,null,null,null,null,null,null,null,null,null,null,null,null,null,null,null,null,null,null,null,null,null,null,null,null,null,null,null,null,null,null,null,null,null,null,null,null,null,null,null,null,null,null,null,null,null,null,null,null,null,null,null,null,null,null,null,null,null,null,null,null,null,null,null,null,null,null,null,null,null,null,null,null,null,null,null,null,null,null,null,null,null,null,null,null,null,null,null,null,null,null,null,null,null,null,null,null,null,null,null,null,null,null,null,null,null,null,null,null,null,null,null,null,null,null,null,null,null,null,null,null,{"$f":"HM346","v":0},0,0,0,0,0,0,0,null,null,null,null,null,null,null,{"$f":"IB346","v":0},0,0,0,0,0,0,0]
[null,null,null,"Type in own foder/ mixture 29",null,null,null,null,null,null,null,null,null,null,null,null,null,null,null,null,null,null,null,null,null,null,null,null,null,null,null,null,null,null,null,null,null,null,null,null,null,null,null,null,null,null,null,null,null,null,null,null,null,null,null,null,null,null,null,null,null,null,null,null,null,null,null,null,null,null,null,null,null,null,null,null,null,null,null,null,null,null,null,null,null,null,null,null,null,null,null,null,null,null,null,null,null,null,null,null,null,null,null,null,null,null,null,null,null,null,null,null,null,null,null,null,null,null,null,null,null,null,null,null,null,null,null,null,null,null,null,null,null,null,null,null,null,null,null,null,null,null,null,null,null,null,null,null,null,null,null,null,null,null,null,null,null,null,null,null,null,null,null,null,null,null,null,null,null,null,null,null,null,null,null,null,null,null,null,null,null,null,null,null,null,null,null,null,null,null,null,null,null,null,null,null,null,null,null,null,null,null,null,null,null,null,null,null,null,null,null,null,null,null,null,null,null,null,null,null,{"$f":"HM347","v":0},0,0,0,0,0,0,0,null,null,null,null,null,null,null,{"$f":"IB347","v":0},0,0,0,0,0,0,0]
[null,null,null,"Type in own foder/ mixture 30",null,null,null,null,null,null,null,null,null,null,null,null,null,null,null,null,null,null,null,null,null,null,null,null,null,null,null,null,null,null,null,null,null,null,null,null,null,null,null,null,null,null,null,null,null,null,null,null,null,null,null,null,null,null,null,null,null,null,null,null,null,null,null,null,null,null,null,null,null,null,null,null,null,null,null,null,null,null,null,null,null,null,null,null,null,null,null,null,null,null,null,null,null,null,null,null,null,null,null,null,null,null,null,null,null,null,null,null,null,null,null,null,null,null,null,null,null,null,null,null,null,null,null,null,null,null,null,null,null,null,null,null,null,null,null,null,null,null,null,null,null,null,null,null,null,null,null,null,null,null,null,null,null,null,null,null,null,null,null,null,null,null,null,null,null,null,null,null,null,null,null,null,null,null,null,null,null,null,null,null,null,null,null,null,null,null,null,null,null,null,null,null,null,null,null,null,null,null,null,null,null,null,null,null,null,null,null,null,null,null,null,null,null,null,null,null,{"$f":"HM348","v":0},0,0,0,0,0,0,0,null,null,null,null,null,null,null,{"$f":"IB348","v":0},0,0,0,0,0,0,0]

{"sheet":"input-data","index":2,"n_rows":525,"n_cols":15,"rows_kept":525,"cut":false,"hidden":false,"merged":[[308,4,308,5],[236,4,236,7],[251,4,251,7],[210,4,210,7],[190,4,190,7],[238,4,238,7],[252,4,252,7],[253,4,253,7],[206,4,206,7],[197,4,197,7],[198,4,198,7],[199,4,199,7],[200,4,200,7],[201,4,201,7],[230,4,230,7],[231,4,231,7],[233,4,233,7],[234,4,234,7],[235,4,235,7],[239,4,239,7],[250,4,250,7],[202,4,202,7],[203,4,203,7],[204,4,204,7],[103,4,103,7],[104,4,104,7],[270,4,270,7],[271,4,271,7],[272,4,272,7],[232,4,232,7],[242,4,242,7],[228,4,228,7],[229,4,229,7],[240,4,240,7],[241,4,241,7],[260,4,260,7],[261,4,261,7],[262,4,262,7],[249,4,249,7],[257,4,257,7],[256,4,256,7],[255,4,255,7],[237,4,237,7],[258,4,258,7],[259,4,259,7],[254,4,254,7],[266,4,266,7],[267,4,267,7],[136,4,136,7],[128,4,128,7],[129,4,129,7],[5,13,5,17],[7,13,7,17],[45,4,45,5],[124,4,124,7],[125,4,125,7],[126,4,126,7],[127,4,127,7],[13,4,13,5],[14,4,14,5],[15,4,15,5],[16,4,16,5],[17,4,17,5],[18,4,18,5],[26,4,26,5],[27,4,27,5],[28,4,28,5],[114,4,114,7],[29,4,29,5],[36,4,36,5],[19,4,19,5],[20,4,20,5],[148,4,148,7],[149,4,149,7],[150,4,150,7],[169,4,169,7],[170,4,170,7],[158,4,158,7],[157,4,157,7],[159,4,159,7],[155,7,155,8],[160,4,160,7],[161,4,161,7],[162,4,162,7],[163,4,163,7],[164,4,164,7],[165,4,165,7],[166,4,166,7],[168,4,168,7],[59,4,59,7],[183,4,183,7],[243,4,243,7],[247,4,247,7],[248,4,248,7],[178,4,178,7],[188,4,188,7],[179,4,179,7],[214,4,214,5],[215,4,215,5],[207,4,207,7],[208,4,208,7],[209,4,209,7],[184,4,184,7],[185,4,185,7],[186,4,186,7],[191,4,191,7],[195,4,195,7],[189,4,189,7],[196,4,196,7],[187,4,187,7],[167,4,167,7],[115,4,115,7],[138,4,138,7],[34,4,34,5],[35,4,35,5],[37,4,37,5],[53,4,53,7],[54,4,54,7],[55,4,55,7],[56,4,56,7],[111,4,111,7],[112,4,112,7],[67,4,67,5],[100,4,100,5],[102,4,102,7],[106,4,106,7],[68,4,68,7],[69,4,69,7],[70,4,70,7],[71,4,71,7],[72,4,72,7],[73,4,73,7],[105,4,105,7],[57,4,57,7],[58,4,58,7],[109,4,109,7],[110,4,110,7],[21,4,21,5],[22,4,22,5],[23,4,23,5],[24,4,24,5],[30,4,30,5],[31,4,31,5],[25,4,25,5],[32,4,32,5],[33,4,33,5],[123,4,123,7],[121,4,121,5],[132,4,132,7],[312,4,312,5],[309,4,309,5],[361,4,361,5],[362,4,362,5],[363,4,363,5],[330,4,330,5],[331,4,331,5],[348,4,348,5],[352,4,352,5],[338,4,338,5],[333,4,333,5],[334,4,334,5],[335,4,335,5],[349,4,349,5],[318,4,318,5],[355,4,355,5],[133,4,133,7],[134,4,134,7],[130,4,130,7],[131,4,131,7],[143,4,143,5],[405,4,405,5],[275,4,275,7],[367,4,367,5],[205,4,205,7],[180,4,180,7],[181,4,181,7],[60,4,60,7],[61,4,61,7],[62,4,62,7],[63,4,63,7],[107,4,107,7],[108,4,108,7],[113,4,113,7],[135,4,135,7],[144,4,144,5],[137,4,137,7],[145,4,145,7],[146,4,146,7],[147,4,147,7],[177,4,177,7],[171,4,171,7],[172,4,172,7],[176,4,176,7],[182,4,182,7],[268,4,268,7],[269,4,269,7],[280,4,280,7],[317,4,317,5],[370,4,370,5],[377,4,377,5],[378,4,378,5],[379,4,379,5],[384,4,384,5],[292,4,292,7],[311,4,311,5],[281,4,281,7],[371,4,371,5],[383,4,383,5],[353,4,353,5],[374,4,374,5],[273,4,273,7],[274,4,274,7],[305,4,305,5],[327,4,327,5],[375,4,375,5],[288,4,288,7],[289,4,289,7],[316,4,316,5],[397,4,397,5],[381,4,381,5],[395,4,395,5],[396,4,396,5],[285,4,285,5],[277,4,277,7],[278,4,278,7],[382,4,382,5],[319,4,319,5],[339,4,339,5],[340,4,340,5],[341,4,341,5],[286,4,286,5],[290,4,290,7],[304,4,304,5],[326,4,326,5],[360,4,360,5],[291,4,291,7],[385,4,385,5],[390,4,390,5],[356,4,356,5],[313,4,313,5],[357,4,357,5],[359,4,359,5],[12,4,12,5],[391,4,391,5],[392,4,392,5],[46,4,46,5],[216,4,216,7],[217,4,217,7],[218,4,218,7],[219,4,219,7],[220,4,220,7],[221,4,221,7],[226,4,226,5],[66,4,66,5],[48,4,48,7],[49,4,49,7],[50,4,50,7],[51,4,51,7],[52,4,52,7],[279,4,279,7],[116,4,116,7],[117,4,117,7],[345,4,345,5],[155,4,155,5],[287,4,287,7],[276,4,276,7],[411,4,411,5],[412,4,412,5],[416,4,416,5],[417,4,417,5],[419,4,419,5],[408,4,408,5],[409,4,409,5],[413,4,413,5],[410,4,410,5],[415,4,415,5],[414,4,414,5],[418,4,418,5],[509,4,509,5],[79,4,79,7],[80,4,80,7],[81,4,81,7],[82,4,82,7],[83,4,83,7],[84,4,84,7],[85,4,85,7],[86,4,86,7],[87,4,87,7],[88,4,88,7],[89,4,89,7],[90,4,90,7],[91,4,91,7],[92,4,92,7],[93,4,93,7],[94,4,94,7],[447,4,447,5],[496,4,496,5],[458,4,458,5],[467,4,467,5],[488,4,488,5],[489,4,489,5],[490,4,490,5],[216,8,216,11],[123,8,123,11],[508,4,508,5],[491,4,491,5],[492,4,492,5],[493,4,493,5],[494,4,494,5],[495,4,495,5],[420,4,420,5],[422,4,422,5],[421,4,421,5],[448,4,448,5],[438,4,438,5],[468,4,468,5],[477,4,477,5],[478,4,478,5],[457,4,457,5],[423,4,423,5],[424,4,424,5],[426,4,426,5],[428,4,428,5],[487,4,487,5],[406,4,406,5],[407,4,407,5]]}
[]
[]
[null,"Dansk"]
[]
[]
[null,"Data",null,null,{"$f":"IF(B3=\"Dansk\", \"Gård\", \"Farm\")","v":"Gård"},null,null,null,null,null,"…………..","…………","………….."]
[]
[null,{"$f":"IF(topdowntables!$N$4=1, \" Tryk '+' for data indtastning\", \"Click '+' to input data\" )","v":" Tryk '+' for data indtastning"}]
[]
[]
[null,{"$f":"IF(topdowntables!$N$4=1, \" Dyr\", \" Herd data\")","v":" Dyr"}]
[]
[null,{"$f":"IF(topdowntables!N4=1, \"Søer og pattegrise\", \" Sows with piglets\")","v":"Søer og pattegrise"}]
[null,{"$f":"IF(topdowntables!$N$4=1, \"antal årssøer, stk.\", \"yearsows at farm, p.\")","v":"antal årssøer, stk."},null,null,null,null,null,{"$f":"IF(E14=0, IF(topdowntables!$N$4=1, \"<- Indtast data\", \"<-Please input data\"), \"\")","v":"<- Indtast data"}]
[null,{"$f":"IF(topdowntables!$N$4=1, \"kuld per årsso, stk.\", \"litters per year, p.\")","v":"kuld per årsso, stk."},null,null,null,null,null,{"$f":"IF(E15=0, IF(topdowntables!$N$4=1, \"<- Indtast data\", \"<-Please input data\"), \"\")","v":"<- Indtast data"}]
[null,{"$f":"IF(topdowntables!$N$4=1, \"levendefødte grise per kuld, stk.\", \"liveborn piglets per litter, p.\")","v":"levendefødte grise per kuld, stk."},null,null,null,null,null,{"$f":"IF(E16=0, IF(topdowntables!$N$4=1, \"<- Indtast data\", \"<-Please input data\"), \"\")","v":"<- Indtast data"}]
[null,{"$f":"IF(topdowntables!$N$4=1, \"dødfødte grise per kuld, stk.\", \"dead piglets per litter, p.\")","v":"dødfødte grise per kuld, stk."},null,null,null,null,null,{"$f":"IF(E17=0, IF(topdowntables!$N$4=1, \"<- Indtast data\", \"<-Please input data\"), \"\")","v":"<- Indtast data"}]
[null,{"$f":"IF(topdowntables!$N$4=1, \"fravænnede grise per kuld, stk\", \"weaned piglets per litter, p.\")","v":"fravænnede grise per kuld, stk"},null,null,null,null,null,{"$f":"IF(E18=0, IF(topdowntables!$N$4=1, \"<- Indtast data\", \"<-Please input data\"), \"\")","v":"<- Indtast data"}]
[null,{"$f":"IF(topdowntables!$N$4=1, \"pattegrisedødlighed, %\", \"piglets mortality, %\")","v":"pattegrisedødlighed, %"},null,null,{"$f":"IFERROR((E16-E18)/E16*100, 0)","v":0}]
[null,{"$f":"IF(topdowntables!$N$4=1, \"diegivningsperiode, dage\", \"farrow/lactation period, days\")","v":"diegivningsperiode, dage"},null,null,null,null,null,{"$f":"IF(E20=0, IF(topdowntables!$N$4=1, \"<- Indtast data\", \"<-Please input data\"), \"\")","v":"<- Indtast data"}]
[null,{"$f":"IF(topdowntables!$N$4=1, \"vægt ved fravænning, kg\", \"weight at weaning, kg\")","v":"vægt ved fravænning, kg"},null,null,null,null,null,{"$f":"IF(E21=0, IF(topdowntables!$N$4=1, \"<- Indtast data\", \"<-Please input data\"), \"\")","v":"<- Indtast data"}]
[null,{"$f":"IF(topdowntables!$N$4=1, \"solgt ved fravænning, stk per år\", \"piglets sold after weaning, p. per year\")","v":"solgt ved fravænning, stk per år"}]
[null,{"$f":"IF(topdowntables!$N$4=1, \"andel 1. lægs søer, %\", \"first parity sows, %\")","v":"andel 1. lægs søer, %"},null,null,null,null,null,{"$f":"IF(E23=0, IF(topdowntables!$N$4=1, \"<- Indtast data\", \"<-Please input data\"), \"\")","v":"<- Indtast data"}]
[null,{"$f":"IF(topdowntables!$N$4=1, \"sodødelighed, %\", \"sow mortality, %\")","v":"sodødelighed, %"},null,null,null,null,null,{"$f":"IF(E24=0, IF(topdowntables!$N$4=1, \"<- Indtast data\", \"<-Please input data\"), \"\")","v":"<- Indtast data"}]
[null,{"$f":"IF(topdowntables!$N$4=1, \"vægt ved udsætning søer, kg\", \"weight at culling, kg\")","v":"vægt ved udsætning søer, kg"},null,null,null,null,null,{"$f":"IF(E25=0, IF(topdowntables!$N$4=1, \"<- Indtast data\", \"<-Please input data\"), \"\")","v":"<- Indtast data"}]
[null,{"$f":"IF(topdowntables!$N$4=1, \"Smågrise \", \"Piglets/Weaners\")","v":"Smågrise "}]
[null,{"$f":"IF(topdowntables!$N$4=1, \"købt smågrise, stk \", \"bought-in piglets, p.\")","v":"købt smågrise, stk "}]
[null,{"$f":"IF(topdowntables!$N$4=1, \"vægt ved indkøb, kg\", \"weight at purchase, kg\")","v":"vægt ved indkøb, kg"}]
[null,{"$f":"IF(topdowntables!$N$4=1, \"afgangsvægt, kg\", \"weight out, kg\")","v":"afgangsvægt, kg"},null,null,null,null,null,{"$f":"IF(E29=0, IF(topdowntables!$N$4=1, \"<- Indtast data\", \"<-Please input data\"), \"\")","v":"<- Indtast data"}]
[null,{"$f":"IF(topdowntables!$N$4=1, \"daglig tilvækst, g\", \"daily gain, g\")","v":"daglig tilvækst, g"},null,null,null,null,null,{"$f":"IF(E30=0, IF(topdowntables!$N$4=1, \"<- Indtast data\", \"<-Please input data\"), \"\")","v":"<- Indtast data"}]
[null,{"$f":"IF(topdowntables!$N$4=1, \"dødelighed, %\", \"mortality, %\")","v":"dødelighed, %"},null,null,null,null,null,{"$f":"IF(E31=0, IF(topdowntables!$N$4=1, \"<- Indtast data\", \"<-Please input data\"), \"\")","v":"<- Indtast data"}]
[null,{"$f":"IF(topdowntables!$N$4=1, \"solgte smågrise, antal\", \"sold piglets, p.\")","v":"solgte smågrise, antal"}]
[null,{"$f":"IF(topdowntables!$N$4=1, \"Slagtesvin\", \"Slaughter pigs\")","v":"Slagtesvin"}]
[null,{"$f":"IF(topdowntables!$N$4=1, \"købt slagtesvin, stk.\", \"bought-in pigs, p.\")","v":"købt slagtesvin, stk."}]
[null,{"$f":"IF(topdowntables!$N$4=1, \"vægt at indkøb, kg\", \"weight at purchase, kg\")","v":"vægt at indkøb, kg"}]
[null,{"$f":"IF(topdowntables!$N$4=1, \"vægt ved slagtning, levende vægt, kg\", \"liveweight at slaughter, kg\")","v":"vægt ved slagtning, levende vægt, kg"},null,null,null,null,null,{"$f":"IF(E36=0, IF(topdowntables!$N$4=1, \"<- Indtast data\", \"<-Please input data\"), \"\")","v":"<- Indtast data"}]
[null,{"$f":"IF(topdowntables!$N$4=1, \"daglig tilvækst,  g\", \"daily gain, g\")","v":"daglig tilvækst,  g"},null,null,null,null,null,{"$f":"IF(E37=0, IF(topdowntables!$N$4=1, \"<- Indtast data\", \"<-Please input data\"), \"\")","v":"<- Indtast data"}]
[null,{"$f":"IF(topdowntables!$N$4=1, \"dødelighed,  %\", \"mortality, %\")","v":"dødelighed,  %"},null,null,null,null,null,{"$f":"IF(E38=0, IF(topdowntables!$N$4=1, \"<- Indtast data\", \"<-Please input data\"), \"\")","v":"<- Indtast data"}]
[]
[]
[null,{"$f":"IF(topdowntables!$N$4=1, \" Foder\", \"Feed\")","v":" Foder"}]
[]
[null,{"$f":"IF(topdowntables!$N$4=1, \" Diegivning søer\", \"Lactating sows\")","v":" Diegivning søer"}]
[null,{"$f":"IF(topdowntables!$N$4=1, \"  Kraftfoder:\", \"  Concentrated feed:\")","v":"  Kraftfoder:"}]
[null,{"$f":"IF(topdowntables!$N$4=1, \"    blanding 1:\", \"    mixture 1:\")","v":"    blanding 1:"}]
[null,{"$f":"IF(topdowntables!$N$4=1, \"     FE per dyr per dag inden faring\", \"     FU per animal per day before farrow\")","v":"     FE per dyr per dag inden faring"}]
[null,{"$f":"IF(topdowntables!$N$4=1, \"     FE per dyr per dag efter faring\", \"     FU per animal per day after farrow\")","v":"     FE per dyr per dag efter faring"}]
[null,{"$f":"IF(topdowntables!$N$4=1, \"     Tildelingsperiode\", \"     Period\")","v":"     Tildelingsperiode"},null,null,{"$f":"IF(topdowntables!$N$4=1, \"fra dage før faring:\", \"days before farrowing:\")","v":"fra dage før faring:"},null,{"$f":"IF(topdowntables!$N$4=1, \"og indtil fravænning\", \"and until weaning\")","v":"og indtil fravænning"}]
[null,{"$f":"IF(topdowntables!$N$4=1, \"     Indhold:\", \"     Composition:\")","v":"     Indhold:"},null,null,{"$f":"IF(topdowntables!N4=1, \"Indhold:\", \"Composition:\")","v":"Indhold:"},null,null,null,{"$f":"IF(topdowntables!$N$4=1, \"% af kg\", \"% of \")","v":"% af kg"},null,null,null,null,null,{"$f":"IF(topdowntables!$N$4=1, \"Tilgængelig på gård, kg\", \"Available at farm, kg\")","v":"Tilgængelig på gård, kg"}]
[null,{"$f":"IF(topdowntables!$N$4=1, \"       foderkomponent 1\", \"       feedstuff 1\")","v":"       foderkomponent 1"},null,null,null,null,null,null,null,null,null,null,null,null,{"$f":"IF(OR(E50=$E$429, E50=$E$439, E50=$E$449, E50=$E$459, E50=$E$469, E50=$E$479), VLOOKUP(E50, feedavailability, 3, FALSE)-VLOOKUP(E50, feedavailability, 5, FALSE), 0)","v":0}]
[null,{"$f":"IF(topdowntables!$N$4=1, \"       foderkomponent 2\", \"       feedstuff 2\")","v":"       foderkomponent 2"},null,null,null,null,null,null,null,null,null,null,null,null,0]
[null,{"$f":"IF(topdowntables!$N$4=1, \"       foderkomponent 3\", \"       feedstuff 3\")","v":"       foderkomponent 3"},null,null,null,null,null,null,null,null,null,null,null,null,0]
[null,{"$f":"IF(topdowntables!$N$4=1, \"       foderkomponent 4\", \"       feedstuff 4\")","v":"       foderkomponent 4"},null,null,null,null,null,null,null,null,null,null,null,null,0]
[null,{"$f":"IF(topdowntables!$N$4=1, \"       foderkomponent 5\", \"       feedstuff 5\")","v":"       foderkomponent 5"},null,null,null,null,null,null,null,null,null,null,null,null,0]
[null,{"$f":"IF(topdowntables!$N$4=1, \"       foderkomponent 6\", \"       feedstuff 6\")","v":"       foderkomponent 6"},null,null,null,null,null,null,null,null,null,null,null,null,0]
[null,{"$f":"IF(topdowntables!$N$4=1, \"       foderkomponent 7\", \"       feedstuff 7\")","v":"       foderkomponent 7"},null,null,null,null,null,null,null,null,null,null,null,null,0]
[null,{"$f":"IF(topdowntables!$N$4=1, \"       foderkomponent 8\", \"       feedstuff 8\")","v":"       foderkomponent 8"},null,null,null,null,null,null,null,null,null,null,null,null,0]
[null,{"$f":"IF(topdowntables!$N$4=1, \"       foderkomponent 9\", \"       feedstuff 9\")","v":"       foderkomponent 9"},null,null,null,null,null,null,null,null,null,null,null,null,0]
[null,{"$f":"IF(topdowntables!$N$4=1, \"       foderkomponent 10\", \"       feedstuff 10\")","v":"       foderkomponent 10"},null,null,null,null,null,null,null,null,null,null,null,null,0]
[null,{"$f":"IF(topdowntables!$N$4=1, \"       foderkomponent 11\", \"       feedstuff 11\")","v":"       foderkomponent 11"},null,null,null,null,null,null,null,null,null,null,null,null,0]
[null,{"$f":"IF(topdowntables!$N$4=1, \"       foderkomponent 12\", \"       feedstuff 12\")","v":"       foderkomponent 12"},null,null,null,null,null,null,null,null,null,null,null,null,0]
[null,{"$f":"IF(topdowntables!$N$4=1, \"       foderkomponent 13\", \"       feedstuff 13\")","v":"       foderkomponent 13"},null,null,null,null,null,null,null,null,null,null,null,null,0]
[null,{"$f":"IF(topdowntables!$N$4=1, \"       foderkomponent 14\", \"       feedstuff 14\")","v":"       foderkomponent 14"},null,null,null,null,null,null,null,null,null,null,null,null,0]
[null,{"$f":"IF(topdowntables!$N$4=1, \"       foderkomponent 15\", \"       feedstuff 15\")","v":"       foderkomponent 15"},null,null,null,null,null,null,null,null,null,null,null,null,0]
[null,{"$f":"IF(topdowntables!$N$4=1,IF(I65=100,\"       Tryk '-' for at slutte\",\"       Tjeck, skal være 100\"),IF(I65=100,\"       Click '-' to finalize\",\"       Check total\"))","v":"       Tjeck, skal være 100"},null,null,null,null,null,null,{"$f":"SUM(I50:I64)","v":0}]
[null,{"$f":"IF(topdowntables!$N$4=1, \"  Grovfoder:\", \"  Roughage:\")","v":"  Grovfoder:"}]
[null,{"$f":"IF(topdowntables!$N$4=1, \"     kg per dyr per dag\", \"     kg per animal per day\")","v":"     kg per dyr per dag"}]
[null,{"$f":"IF(topdowntables!$N$4=1, \"     grovfodertildeling, dage per år\", \"     period of use, days per year\")","v":"     grovfodertildeling, dage per år"}]
[null,{"$f":"IF(topdowntables!$N$4=1, \"     Grovfodertyper, anvendt:\", \"     Roughage type, used:\")","v":"     Grovfodertyper, anvendt:"},null,null,{"$f":"IF(topdowntables!$N$4=1, \"Indhold:\", \"Composition:\")","v":"Indhold:"},null,null,null,{"$f":"IF(topdowntables!$N$4=1, \"% af kg\", \"% of \")","v":"% af kg"},null,null,null,null,null,{"$f":"IF(topdowntables!$N$4=1, \"Tilgængelig på gård, kg\", \"Available at farm, kg\")","v":"Tilgængelig på gård, kg"}]
[null,{"$f":"IF(topdowntables!$N$4=1, \"       grovfodertype 1\", \"       roughage type 1\")","v":"       grovfodertype 1"},null,null,null,null,null,null,null,null,null,null,null,null,{"$f":"IF(OR(E70=$E$429, E70=$E$439, E70=$E$449, E70=$E$459, E70=$E$469, E70=$E$479), VLOOKUP(E70, feedavailability, 3, FALSE)-VLOOKUP(E70, feedavailability, 5, FALSE), 0)","v":0}]
[null,{"$f":"IF(topdowntables!$N$4=1, \"       grovfodertype 2\", \"       roughage type 2\")","v":"       grovfodertype 2"},null,null,null,null,null,null,null,null,null,null,null,null,{"$f":"IF(OR(E71=$E$429, E71=$E$439, E71=$E$449, E71=$E$459, E71=$E$469, E71=$E$479), VLOOKUP(E71, feedavailability, 3, FALSE)-VLOOKUP(E71, feedavailability, 5, FALSE), 0)","v":0}]
[null,{"$f":"IF(topdowntables!$N$4=1, \"       grovfodertype 3\", \"       roughage type 3\")","v":"       grovfodertype 3"},null,null,null,null,null,null,null,null,null,null,null,null,{"$f":"IF(OR(E72=$E$429, E72=$E$439, E72=$E$449, E72=$E$459, E72=$E$469, E72=$E$479), VLOOKUP(E72, feedavailability, 3, FALSE)-VLOOKUP(E72, feedavailability, 5, FALSE), 0)","v":0}]
[null,{"$f":"IF(topdowntables!$N$4=1, \"       grovfodertype 4\", \"       roughage type 4\")","v":"       grovfodertype 4"},null,null,null,null,null,null,null,null,null,null,null,null,{"$f":"IF(OR(E73=$E$429, E73=$E$439, E73=$E$449, E73=$E$459, E73=$E$469, E73=$E$479), VLOOKUP(E73, feedavailability, 3, FALSE)-VLOOKUP(E73, feedavailability, 5, FALSE), 0)","v":0}]
[null,{"$f":"IF(topdowntables!$N$4=1, \"       grovfodertype 5\", \"       roughage type 5\")","v":"       grovfodertype 5"},null,null,null,null,null,null,null,null,null,null,null,null,{"$f":"IF(OR(E74=$E$429, E74=$E$439, E74=$E$449, E74=$E$459, E74=$E$469, E74=$E$479), VLOOKUP(E74, feedavailability, 3, FALSE)-VLOOKUP(E74, feedavailability, 5, FALSE), 0)","v":0}]
[null,{"$f":"IF(topdowntables!$N$4=1,IF(I75=100,\"       Tryk '-' for at slutte\",\"       Tjeck, skal være 100\"),IF(I75=100,\"       Click '-' to finalize\",\"       Check total\"))","v":"       Tjeck, skal være 100"},null,null,null,null,null,null,{"$f":"SUM(I70:I74)","v":0}]
[]
[null,{"$f":"IF(topdowntables!$N$4=1, \" Pattegrisene ved soen\", \"Piglets with sow\")","v":" Pattegrisene ved soen"}]
[null,{"$f":"IF(topdowntables!$N$4=1, \"  Kraftfoder:\", \"  Concentrated feed:\")","v":"  Kraftfoder:"}]
[null,{"$f":"IF(topdowntables!$N$4=1, \"     FE per dag per pattegris / fra alder\", \"     FU per day per piglet / from age\")","v":"     FE per dag per pattegris / fra alder"},null,null,{"$f":"IF(topdowntables!$N$4=1, \"     FE per dag:\", \"     FU per day:\")","v":"     FE per dag:"},null,{"$f":"IF(topdowntables!$N$4=1, \"     Fra alder, dage:\", \"     From age, days:\")","v":"     Fra alder, dage:"}]
[null,{"$f":"IF(topdowntables!$N$4=1, \"     Indhold:\", \"     Composition:\")","v":"     Indhold:"},null,null,{"$f":"IF(topdowntables!N4=1, \"Indhold:\", \"Composition:\")","v":"Indhold:"},null,null,null,{"$f":"IF(topdowntables!$N$4=1, \"% af kg\", \"% of \")","v":"% af kg"},null,null,null,null,null,{"$f":"IF(topdowntables!$N$4=1, \"Tilgængelig på gård, kg\", \"Available at farm, kg\")","v":"Tilgængelig på gård, kg"}]
[null,{"$f":"IF(topdowntables!$N$4=1, \"       foderkomponent 1\", \"       feedstuff 1\")","v":"       foderkomponent 1"},null,null,null,null,null,null,null,null,null,null,null,null,{"$f":"IF(OR(E81=$E$429, E81=$E$439, E81=$E$449, E81=$E$459, E81=$E$469, E81=$E$479), VLOOKUP(E81, feedavailability, 3, FALSE)-VLOOKUP(E81, feedavailability, 5, FALSE), 0)","v":0}]
[null,{"$f":"IF(topdowntables!$N$4=1, \"       foderkomponent 2\", \"       feedstuff 2\")","v":"       foderkomponent 2"},null,null,null,null,null,null,null,null,null,null,null,null,0]
[null,{"$f":"IF(topdowntables!$N$4=1, \"       foderkomponent 3\", \"       feedstuff 3\")","v":"       foderkomponent 3"},null,null,null,null,null,null,null,null,null,null,null,null,0]
[null,{"$f":"IF(topdowntables!$N$4=1, \"       foderkomponent 4\", \"       feedstuff 4\")","v":"       foderkomponent 4"},null,null,null,null,null,null,null,null,null,null,null,null,0]
[null,{"$f":"IF(topdowntables!$N$4=1, \"       foderkomponent 5\", \"       feedstuff 5\")","v":"       foderkomponent 5"},null,null,null,null,null,null,null,null,null,null,null,null,0]
[null,{"$f":"IF(topdowntables!$N$4=1, \"       foderkomponent 6\", \"       feedstuff 6\")","v":"       foderkomponent 6"},null,null,null,null,null,null,null,null,null,null,null,null,0]
[null,{"$f":"IF(topdowntables!$N$4=1, \"       foderkomponent 7\", \"       feedstuff 7\")","v":"       foderkomponent 7"},null,null,null,null,null,null,null,null,null,null,null,null,0]
[null,{"$f":"IF(topdowntables!$N$4=1, \"       foderkomponent 8\", \"       feedstuff 8\")","v":"       foderkomponent 8"},null,null,null,null,null,null,null,null,null,null,null,null,0]
[null,{"$f":"IF(topdowntables!$N$4=1, \"       foderkomponent 9\", \"       feedstuff 9\")","v":"       foderkomponent 9"},null,null,null,null,null,null,null,null,null,null,null,null,0]
[null,{"$f":"IF(topdowntables!$N$4=1, \"       foderkomponent 10\", \"       feedstuff 10\")","v":"       foderkomponent 10"},null,null,null,null,null,null,null,null,null,null,null,null,0]
[null,{"$f":"IF(topdowntables!$N$4=1, \"       foderkomponent 11\", \"       feedstuff 11\")","v":"       foderkomponent 11"},null,null,null,null,null,null,null,null,null,null,null,null,0]
[null,{"$f":"IF(topdowntables!$N$4=1, \"       foderkomponent 12\", \"       feedstuff 12\")","v":"       foderkomponent 12"},null,null,null,null,null,null,null,null,null,null,null,null,0]
[null,{"$f":"IF(topdowntables!$N$4=1, \"       foderkomponent 13\", \"       feedstuff 13\")","v":"       foderkomponent 13"},null,null,null,null,null,null,null,null,null,null,null,null,0]
[null,{"$f":"IF(topdowntables!$N$4=1, \"       foderkomponent 14\", \"       feedstuff 14\")","v":"       foderkomponent 14"},null,null,null,null,null,null,null,null,null,null,null,null,0]
[null,{"$f":"IF(topdowntables!$N$4=1, \"       foderkomponent 15\", \"       feedstuff 15\")","v":"       foderkomponent 15"},null,null,null,null,null,null,null,null,null,null,null,null,0]
[null,{"$f":"IF(topdowntables!$N$4=1,IF(I96=100,\"       Tryk '-' for at slutte\",\"       Tjeck, skal være 100\"),IF(I96=100,\"       Click '-' to finalize\",\"       Check total\"))","v":"       Tjeck, skal være 100"},null,null,null,null,null,null,{"$f":"SUM(I81:I95)","v":0}]
[]
[null,{"$f":"IF(topdowntables!$N$4=1, \" Drægtige søer\", \"Gestating sows\")","v":" Drægtige søer"}]
[null,{"$f":"IF(topdowntables!$N$4=1, \"  Kraftfoder:\", \"  Concentrated feed:\")","v":"  Kraftfoder:"}]
[null,{"$f":"IF(topdowntables!$N$4=1, \"    blanding 1:\", \"    mixture 1:\")","v":"    blanding 1:"}]
[null,{"$f":"IF(topdowntables!$N$4=1, \"     FE per dyr per dag\", \"     FU per animal per day\")","v":"     FE per dyr per dag"}]
[null,{"$f":"IF(topdowntables!$N$4=1, \"     Tildelingsperiode\", \"     Period\")","v":"     Tildelingsperiode"},null,null,{"$f":"IF(topdowntables!$N$4=1, \"fra fravænning:\", \"from weaning:\")","v":"fra fravænning:"},0,{"$f":"IF(topdowntables!$N$4=1, \"til dage efter løbning:\", \"to days after mating:\")","v":"til dage efter løbning:"}]
[null,{"$f":"IF(topdowntables!$N$4=1, \"     Indhold:\", \"     Composition:\")","v":"     Indhold:"},null,null,{"$f":"IF(topdowntables!$N$4=1, \"Indhold:\", \"Composition:\")","v":"Indhold:"},null,null,null,{"$f":"IF(topdowntables!$N$4=1, \"% af kg\", \"% of \")","v":"% af kg"},null,null,null,null,null,{"$f":"IF(topdowntables!$N$4=1, \"Tilgængelig på gård, kg\", \"Available at farm, kg\")","v":"Tilgængelig på gård, kg"}]
[null,{"$f":"IF(topdowntables!$N$4=1, \"       foderkomponent 1\", \"       feedstuff 1\")","v":"       foderkomponent 1"},null,null,null,null,null,null,null,null,null,null,null,null,{"$f":"IF(OR(E104=$E$429, E104=$E$439, E104=$E$449, E104=$E$459, E104=$E$469, E104=$E$479), VLOOKUP(E104, production, 4, FALSE)-VLOOKUP(E104, availablefeed, 2, FALSE), 0)","v":0}]
[null,{"$f":"IF(topdowntables!$N$4=1, \"       foderkomponent 2\", \"       feedstuff 2\")","v":"       foderkomponent 2"},null,null,null,null,null,null,null,null,null,null,null,null,0]
[null,{"$f":"IF(topdowntables!$N$4=1, \"       foderkomponent 3\", \"       feedstuff 3\")","v":"       foderkomponent 3"},null,null,null,null,null,null,null,null,null,null,null,null,0]
[null,{"$f":"IF(topdowntables!$N$4=1, \"       foderkomponent 4\", \"       feedstuff 4\")","v":"       foderkomponent 4"},null,null,null,null,null,null,null,null,null,null,null,null,0]
[null,{"$f":"IF(topdowntables!$N$4=1, \"       foderkomponent 5\", \"       feedstuff 5\")","v":"       foderkomponent 5"},null,null,null,null,null,null,null,null,null,null,null,null,0]
[null,{"$f":"IF(topdowntables!$N$4=1, \"       foderkomponent 6\", \"       feedstuff 6\")","v":"       foderkomponent 6"},null,null,null,null,null,null,null,null,null,null,null,null,0]
[null,{"$f":"IF(topdowntables!$N$4=1, \"       foderkomponent 7\", \"       feedstuff 7\")","v":"       foderkomponent 7"},null,null,null,null,null,null,null,null,null,null,null,null,0]
[null,{"$f":"IF(topdowntables!$N$4=1, \"       foderkomponent 8\", \"       feedstuff 8\")","v":"       foderkomponent 8"},null,null,null,null,null,null,null,null,null,null,null,null,0]
[null,{"$f":"IF(topdowntables!$N$4=1, \"       foderkomponent 9\", \"       feedstuff 9\")","v":"       foderkomponent 9"},null,null,null,null,null,null,null,null,null,null,null,null,0]
[null,{"$f":"IF(topdowntables!$N$4=1, \"       foderkomponent 10\", \"       feedstuff 10\")","v":"       foderkomponent 10"},null,null,null,null,null,null,null,null,null,null,null,null,0]
[null,{"$f":"IF(topdowntables!$N$4=1, \"       foderkomponent 11\", \"       feedstuff 11\")","v":"       foderkomponent 11"},null,null,null,null,null,null,null,null,null,null,null,null,0]
[null,{"$f":"IF(topdowntables!$N$4=1, \"       foderkomponent 12\", \"       feedstuff 12\")","v":"       foderkomponent 12"},null,null,null,null,null,null,null,null,null,null,null,null,0]
[null,{"$f":"IF(topdowntables!$N$4=1, \"       foderkomponent 13\", \"       feedstuff 13\")","v":"       foderkomponent 13"},null,null,null,null,null,null,null,null,null,null,null,null,0]
[null,{"$f":"IF(topdowntables!$N$4=1, \"       foderkomponent 14\", \"       feedstuff 14\")","v":"       foderkomponent 14"},null,null,null,null,null,null,null,null,null,null,null,null,0]
[null,{"$f":"IF(topdowntables!$N$4=1, \"       foderkomponent 15\", \"       feedstuff 15\")","v":"       foderkomponent 15"},null,null,null,null,null,null,null,null,null,null,null,null,0]
[null,{"$f":"IF(topdowntables!$N$4=1,IF(I119=100,\"       Tryk '-' for at slutte\",\"       Tjeck, skal være 100\"),IF(I119=100,\"       Click '-' to finalize\",\"       Check total\"))","v":"       Tjeck, skal være 100"},null,null,null,null,null,null,{"$f":"SUM(I104:I118)","v":0}]
[]
[null,{"$f":"IF(topdowntables!$N$4=1, \"    blanding 2:\", \"    mixture 2:\")","v":"    blanding 2:"}]
[null,{"$f":"IF(topdowntables!$N$4=1, \"     FE per dyr per dag\", \"     FU per animal per day\")","v":"     FE per dyr per dag"}]
[null,{"$f":"IF(topdowntables!$N$4=1, \"     Tildelingsperiode\", \"     Period\")","v":"     Tildelingsperiode"},null,null,{"$f":"IF(topdowntables!$N$4=1, \"fra dage efter løbning:\", \"from days after mating:\")","v":"fra dage efter løbning:"},{"$f":"H102","v":0},{"$f":"IF(topdowntables!$N$4=1, \"og indtil faring\", \"and until farrowing\")","v":"og indtil faring"}]
[null,{"$f":"IF(topdowntables!$N$4=1, \"     Indhold:\", \"     Composition:\")","v":"     Indhold:"},null,null,"Indhold",null,null,null,{"$f":"IF(topdowntables!$N$4=1, \"% af kg\", \"% of \")","v":"% af kg"},null,null,null,null,null,{"$f":"IF(topdowntables!$N$4=1, \"Tilgængelig på gård, kg\", \"Available at farm, kg\")","v":"Tilgængelig på gård, kg"}]
[null,{"$f":"IF(topdowntables!$N$4=1, \"       foderkomponent 1\", \"       feedstuff 1\")","v":"       foderkomponent 1"},null,null,null,null,null,null,null,null,null,null,null,null,{"$f":"IF(OR(E125=$E$429, E125=$E$439, E125=$E$449, E125=$E$459, E125=$E$469, E125=$E$479), VLOOKUP(E125, feedavailability, 3, FALSE)-VLOOKUP(E125, feedavailability, 5, FALSE), 0)","v":0}]
[null,{"$f":"IF(topdowntables!$N$4=1, \"       foderkomponent 2\", \"       feedstuff 2\")","v":"       foderkomponent 2"},null,null,null,null,null,null,null,null,null,null,null,null,0]
[null,{"$f":"IF(topdowntables!$N$4=1, \"       foderkomponent 3\", \"       feedstuff 3\")","v":"       foderkomponent 3"},null,null,null,null,null,null,null,null,null,null,null,null,0]
[null,{"$f":"IF(topdowntables!$N$4=1, \"       foderkomponent 4\", \"       feedstuff 4\")","v":"       foderkomponent 4"},null,null,null,null,null,null,null,null,null,null,null,null,0]
[null,{"$f":"IF(topdowntables!$N$4=1, \"       foderkomponent 5\", \"       feedstuff 5\")","v":"       foderkomponent 5"},null,null,null,null,null,null,null,null,null,null,null,null,0]
[null,{"$f":"IF(topdowntables!$N$4=1, \"       foderkomponent 6\", \"       feedstuff 6\")","v":"       foderkomponent 6"},null,null,null,null,null,null,null,null,null,null,null,null,0]
[null,{"$f":"IF(topdowntables!$N$4=1, \"       foderkomponent 7\", \"       feedstuff 7\")","v":"       foderkomponent 7"},null,null,null,null,null,null,null,null,null,null,null,null,0]
[null,{"$f":"IF(topdowntables!$N$4=1, \"       foderkomponent 8\", \"       feedstuff 8\")","v":"       foderkomponent 8"},null,null,null,null,null,null,null,null,null,null,null,null,0]
[null,{"$f":"IF(topdowntables!$N$4=1, \"       foderkomponent 9\", \"       feedstuff 9\")","v":"       foderkomponent 9"},null,null,null,null,null,null,null,null,null,null,null,null,0]
[null,{"$f":"IF(topdowntables!$N$4=1, \"       foderkomponent 10\", \"       feedstuff 10\")","v":"       foderkomponent 10"},null,null,null,null,null,null,null,null,null,null,null,null,0]
[null,{"$f":"IF(topdowntables!$N$4=1, \"       foderkomponent 11\", \"       feedstuff 11\")","v":"       foderkomponent 11"},null,null,null,null,null,null,null,null,null,null,null,null,0]
[null,{"$f":"IF(topdowntables!$N$4=1, \"       foderkomponent 12\", \"       feedstuff 12\")","v":"       foderkomponent 12"},null,null,null,null,null,null,null,null,null,null,null,null,0]
[null,{"$f":"IF(topdowntables!$N$4=1, \"       foderkomponent 13\", \"       feedstuff 13\")","v":"       foderkomponent 13"},null,null,null,null,null,null,null,null,null,null,null,null,0]
[null,{"$f":"IF(topdowntables!$N$4=1, \"       foderkomponent 14\", \"       feedstuff 14\")","v":"       foderkomponent 14"},null,null,null,null,null,null,null,null,null,null,null,null,0]
[null,{"$f":"IF(topdowntables!$N$4=1, \"       foderkomponent 15\", \"       feedstuff 15\")","v":"       foderkomponent 15"},null,null,null,null,null,null,null,null,null,null,null,null,0]
[null,{"$f":"IF(topdowntables!$N$4=1,IF(I140=100,\"       Tryk '-' for at slutte\",\"       Tjeck, skal være 100\"),IF(I140=100,\"       Click '-' to finalize\",\"       Check total\"))","v":"       Tjeck, skal være 100"},null,null,null,null,null,null,{"$f":"SUM(I125:I139)","v":0}]
[]
[]
[null,{"$f":"IF(topdowntables!$N$4=1, \"  Grovfoder:\", \"  Roughage:\")","v":"  Grovfoder:"}]
[null,{"$f":"IF(topdowntables!$N$4=1, \"     kg per dyr per dag\", \"     kg per animal per day\")","v":"     kg per dyr per dag"}]
[null,{"$f":"IF(topdowntables!$N$4=1, \"     grovfodertildeling, dage per år\", \"     period of use, days per year\")","v":"     grovfodertildeling, dage per år"}]
[null,{"$f":"IF(topdowntables!$N$4=1, \"     Grovfodertyper, anvendt:\", \"     Roughage type, used:\")","v":"     Grovfodertyper, anvendt:"},null,null,{"$f":"IF(topdowntables!$N$4=1, \"Indhold:\", \"Composition:\")","v":"Indhold:"},null,null,null,{"$f":"IF(topdowntables!$N$4=1, \"% af kg\", \"% of \")","v":"% af kg"},null,null,null,null,null,{"$f":"IF(topdowntables!$N$4=1, \"Tilgængelig på gård, kg\", \"Available at farm, kg\")","v":"Tilgængelig på gård, kg"}]
[null,{"$f":"IF(topdowntables!$N$4=1, \"       grovfodertype 1\", \"       roughage type 1\")","v":"       grovfodertype 1"},null,null,null,null,null,null,null,null,null,null,null,null,{"$f":"IF(OR(E147=$E$429, E147=$E$439, E147=$E$449, E147=$E$459, E147=$E$469, E147=$E$479), VLOOKUP(E147, feedavailability, 3, FALSE)-VLOOKUP(E147, feedavailability, 5, FALSE), 0)","v":0}]
[null,{"$f":"IF(topdowntables!$N$4=1, \"       grovfodertype 2\", \"       roughage type 2\")","v":"       grovfodertype 2"},null,null,null,null,null,null,null,null,null,null,null,null,{"$f":"IF(OR(E148=$E$429, E148=$E$439, E148=$E$449, E148=$E$459, E148=$E$469, E148=$E$479), VLOOKUP(E148, feedavailability, 3, FALSE)-VLOOKUP(E148, feedavailability, 5, FALSE), 0)","v":0}]
[null,{"$f":"IF(topdowntables!$N$4=1, \"       grovfodertype 3\", \"       roughage type 3\")","v":"       grovfodertype 3"},null,null,null,null,null,null,null,null,null,null,null,null,{"$f":"IF(OR(E149=$E$429, E149=$E$439, E149=$E$449, E149=$E$459, E149=$E$469, E149=$E$479), VLOOKUP(E149, feedavailability, 3, FALSE)-VLOOKUP(E149, feedavailability, 5, FALSE), 0)","v":0}]
[null,{"$f":"IF(topdowntables!$N$4=1, \"       grovfodertype 4\", \"       roughage type 4\")","v":"       grovfodertype 4"},null,null,null,null,null,null,null,null,null,null,null,null,{"$f":"IF(OR(E150=$E$429, E150=$E$439, E150=$E$449, E150=$E$459, E150=$E$469, E150=$E$479), VLOOKUP(E150, feedavailability, 3, FALSE)-VLOOKUP(E150, feedavailability, 5, FALSE), 0)","v":0}]
[null,{"$f":"IF(topdowntables!$N$4=1, \"       grovfodertype 5\", \"       roughage type 5\")","v":"       grovfodertype 5"},null,null,null,null,null,null,null,null,null,null,null,null,{"$f":"IF(OR(E151=$E$429, E151=$E$439, E151=$E$449, E151=$E$459, E151=$E$469, E151=$E$479), VLOOKUP(E151, feedavailability, 3, FALSE)-VLOOKUP(E151, feedavailability, 5, FALSE), 0)","v":0}]
[null,{"$f":"IF(topdowntables!$N$4=1,IF(I152=100,\"       Tryk '-' for at slutte\",\"       Tjeck, skal være 100\"),IF(I152=100,\"       Click '-' to finalize\",\"       Check total\"))","v":"       Tjeck, skal være 100"},null,null,null,null,null,null,{"$f":"SUM(I147:I151)","v":0}]
[]
[null,{"$f":"IF(topdowntables!$N$4=1, \" Smågrise\", \" weaners\")","v":" Smågrise"}]
[null,{"$f":"IF(topdowntables!$N$4=1, \"  Kraftfoder:\", \"  Concentrated feed:\")","v":"  Kraftfoder:"}]
[null,{"$f":"IF(topdowntables!$N$4=1, \"     FE per kg tilvækst\", \"     FU per kg gain\")","v":"     FE per kg tilvækst"}]
[null,{"$f":"IF(topdowntables!$N$4=1, \"    blanding 1, for vægtinterval, kg:\", \"    mixture 1, for weight interval, kg:\")","v":"    blanding 1, for vægtinterval, kg:"},null,null,{"$f":"IF(topdowntables!$N$4=1, \"fra indsættelse, kg:\", \"from input, kg:\")","v":"fra indsættelse, kg:"},{"$f":"IFERROR(((((E18*E15*E14)-E22)*'input-data'!E21)+('input-data'!E27*'input-data'!E28))/(((E18*E15*E14)-E22)+'input-data'!E27), 0)","v":0},{"$f":"IF(topdowntables!$N$4=1, \"til, kg:\", \"to, kg:\")","v":"til, kg:"}]
[null,{"$f":"IF(topdowntables!$N$4=1, \"     Indhold:\", \"     Composition:\")","v":"     Indhold:"},null,null,{"$f":"IF(topdowntables!$N$4=1, \"Indhold:\", \"Composition:\")","v":"Indhold:"},null,null,null,{"$f":"IF(topdowntables!$N$4=1, \"% af kg\", \"% of \")","v":"% af kg"},null,null,null,null,null,{"$f":"IF(topdowntables!$N$4=1, \"Tilgængelig på gård, kg\", \"Available at farm, kg\")","v":"Tilgængelig på gård, kg"}]
[null,{"$f":"IF(topdowntables!$N$4=1, \"       foderkomponent 1\", \"       feedstuff 1\")","v":"       foderkomponent 1"},null,null,null,null,null,null,null,null,null,null,null,null,{"$f":"IF(OR(E159=$E$429, E159=$E$439, E159=$E$449, E159=$E$459, E159=$E$469, E159=$E$479), VLOOKUP(E159, feedavailability, 3, FALSE)-VLOOKUP(E159, feedavailability, 5, FALSE), 0)","v":0}]
[null,{"$f":"IF(topdowntables!$N$4=1, \"       foderkomponent 2\", \"       feedstuff 2\")","v":"       foderkomponent 2"},null,null,null,null,null,null,null,null,null,null,null,null,0]
[null,{"$f":"IF(topdowntables!$N$4=1, \"       foderkomponent 3\", \"       feedstuff 3\")","v":"       foderkomponent 3"},null,null,null,null,null,null,null,null,null,null,null,null,0]
[null,{"$f":"IF(topdowntables!$N$4=1, \"       foderkomponent 4\", \"       feedstuff 4\")","v":"       foderkomponent 4"},null,null,null,null,null,null,null,null,null,null,null,null,0]
[null,{"$f":"IF(topdowntables!$N$4=1, \"       foderkomponent 5\", \"       feedstuff 5\")","v":"       foderkomponent 5"},null,null,null,null,null,null,null,null,null,null,null,null,0]
[null,{"$f":"IF(topdowntables!$N$4=1, \"       foderkomponent 6\", \"       feedstuff 6\")","v":"       foderkomponent 6"},null,null,null,null,null,null,null,null,null,null,null,null,0]
[null,{"$f":"IF(topdowntables!$N$4=1, \"       foderkomponent 7\", \"       feedstuff 7\")","v":"       foderkomponent 7"},null,null,null,null,null,null,null,null,null,null,null,null,0]
[null,{"$f":"IF(topdowntables!$N$4=1, \"       foderkomponent 8\", \"       feedstuff 8\")","v":"       foderkomponent 8"},null,null,null,null,null,null,null,null,null,null,null,null,0]
[null,{"$f":"IF(topdowntables!$N$4=1, \"       foderkomponent 9\", \"       feedstuff 9\")","v":"       foderkomponent 9"},null,null,null,null,null,null,null,null,null,null,null,null,0]
[null,{"$f":"IF(topdowntables!$N$4=1, \"       foderkomponent 10\", \"       feedstuff 10\")","v":"       foderkomponent 10"},null,null,null,null,null,null,null,null,null,null,null,null,0]
[null,{"$f":"IF(topdowntables!$N$4=1, \"       foderkomponent 11\", \"       feedstuff 11\")","v":"       foderkomponent 11"},null,null,null,null,null,null,null,null,null,null,null,null,0]
[null,{"$f":"IF(topdowntables!$N$4=1, \"       foderkomponent 12\", \"       feedstuff 12\")","v":"       foderkomponent 12"},null,null,null,null,null,null,null,null,null,null,null,null,0]
[null,{"$f":"IF(topdowntables!$N$4=1, \"       foderkomponent 13\", \"       feedstuff 13\")","v":"       foderkomponent 13"},null,null,null,null,null,null,null,null,null,null,null,null,0]
[null,{"$f":"IF(topdowntables!$N$4=1, \"       foderkomponent 14\", \"       feedstuff 14\")","v":"       foderkomponent 14"},null,null,null,null,null,null,null,null,null,null,null,null,0]
[null,{"$f":"IF(topdowntables!$N$4=1, \"       foderkomponent 15\", \"       feedstuff 15\")","v":"       foderkomponent 15"},null,null,null,null,null,null,null,null,null,null,null,null,0]
[null,{"$f":"IF(topdowntables!$N$4=1,IF(I174=100,\"       Tryk '-' for at slutte\",\"       Tjeck, skal være 100\"),IF(I174=100,\"       Click '-' to finalize\",\"       Check total\"))","v":"       Tjeck, skal være 100"},null,null,null,null,null,null,{"$f":"SUM(I159:I173)","v":0}]
[]
[null,{"$f":"IF(topdowntables!$N$4=1, \"    blanding 2, for vægtinterval, kg:\", \"    mixture 2, for weight interval, kg:\")","v":"    blanding 2, for vægtinterval, kg:"},null,null,{"$f":"IF(topdowntables!$N$4=1, \"fra, kg:\", \"from, kg:\")","v":"fra, kg:"},{"$f":"IF(F157>H157,F157,H157)","v":0},{"$f":"IF(topdowntables!$N$4=1, \"til, kg:\", \"to, kg:\")","v":"til, kg:"}]
[null,{"$f":"IF(topdowntables!$N$4=1, \"     Indhold:\", \"     Composition:\")","v":"     Indhold:"},null,null,{"$f":"IF(topdowntables!$N$4=1, \"Indhold:\", \"Composition:\")","v":"Indhold:"},null,null,null,{"$f":"IF(topdowntables!$N$4=1, \"% af kg\", \"% of \")","v":"% af kg"},null,null,null,null,null,{"$f":"IF(topdowntables!$N$4=1, \"Tilgængelig på gård, kg\", \"Available at farm, kg\")","v":"Tilgængelig på gård, kg"}]
[null,{"$f":"IF(topdowntables!$N$4=1, \"       foderkomponent 1\", \"       feedstuff 1\")","v":"       foderkomponent 1"},null,null,null,null,null,null,null,null,null,null,null,null,{"$f":"IF(OR(E178=$E$429, E178=$E$439, E178=$E$449, E178=$E$459, E178=$E$469, E178=$E$479), VLOOKUP(E178, feedavailability, 3, FALSE)-VLOOKUP(E178, feedavailability, 5, FALSE), 0)","v":0}]
[null,{"$f":"IF(topdowntables!$N$4=1, \"       foderkomponent 2\", \"       feedstuff 2\")","v":"       foderkomponent 2"},null,null,null,null,null,null,null,null,null,null,null,null,0]
[null,{"$f":"IF(topdowntables!$N$4=1, \"       foderkomponent 3\", \"       feedstuff 3\")","v":"       foderkomponent 3"},null,null,null,null,null,null,null,null,null,null,null,null,0]
[null,{"$f":"IF(topdowntables!$N$4=1, \"       foderkomponent 4\", \"       feedstuff 4\")","v":"       foderkomponent 4"},null,null,null,null,null,null,null,null,null,null,null,null,0]
[null,{"$f":"IF(topdowntables!$N$4=1, \"       foderkomponent 5\", \"       feedstuff 5\")","v":"       foderkomponent 5"},null,null,null,null,null,null,null,null,null,null,null,null,0]
[null,{"$f":"IF(topdowntables!$N$4=1, \"       foderkomponent 6\", \"       feedstuff 6\")","v":"       foderkomponent 6"},null,null,null,null,null,null,null,null,null,null,null,null,0]
[null,{"$f":"IF(topdowntables!$N$4=1, \"       foderkomponent 7\", \"       feedstuff 7\")","v":"       foderkomponent 7"},null,null,null,null,null,null,null,null,null,null,null,null,0]
[null,{"$f":"IF(topdowntables!$N$4=1, \"       foderkomponent 8\", \"       feedstuff 8\")","v":"       foderkomponent 8"},null,null,null,null,null,null,null,null,null,null,null,null,0]
[null,{"$f":"IF(topdowntables!$N$4=1, \"       foderkomponent 9\", \"       feedstuff 9\")","v":"       foderkomponent 9"},null,null,null,null,null,null,null,null,null,null,null,null,0]
[null,{"$f":"IF(topdowntables!$N$4=1, \"       foderkomponent 10\", \"       feedstuff 10\")","v":"       foderkomponent 10"},null,null,null,null,null,null,null,null,null,null,null,null,0]
[null,{"$f":"IF(topdowntables!$N$4=1, \"       foderkomponent 11\", \"       feedstuff 11\")","v":"       foderkomponent 11"},null,null,null,null,null,null,null,null,null,null,null,null,0]
[null,{"$f":"IF(topdowntables!$N$4=1, \"       foderkomponent 12\", \"       feedstuff 12\")","v":"       foderkomponent 12"},null,null,null,null,null,null,null,null,null,null,null,null,0]
[null,{"$f":"IF(topdowntables!$N$4=1, \"       foderkomponent 13\", \"       feedstuff 13\")","v":"       foderkomponent 13"},null,null,null,null,null,null,null,null,null,null,null,null,0]
[null,{"$f":"IF(topdowntables!$N$4=1, \"       foderkomponent 14\", \"       feedstuff 14\")","v":"       foderkomponent 14"},null,null,null,null,null,null,null,null,null,null,null,null,0]
[null,{"$f":"IF(topdowntables!$N$4=1, \"       foderkomponent 15\", \"       feedstuff 15\")","v":"       foderkomponent 15"},null,null,null,null,null,null,null,null,null,null,null,null,0]
[null,{"$f":"IF(topdowntables!$N$4=1,IF(I193=100,\"       Tryk '-' for at slutte\",\"       Tjeck, skal være 100\"),IF(I193=100,\"       Click '-' to finalize\",\"       Check total\"))","v":"       Tjeck, skal være 100"},null,null,null,null,null,null,{"$f":"SUM(I178:I192)","v":0}]
[]
[null,{"$f":"IF(topdowntables!$N$4=1, \"    blanding 3, for vægtinterval, kg:\", \"    mixture 3, for weight interval, kg:\")","v":"    blanding 3, for vægtinterval, kg:"},null,null,{"$f":"IF(topdowntables!$N$4=1, \"fra, kg:\", \"from, kg:\")","v":"fra, kg:"},{"$f":"IF(F176>H176,F176,H176)","v":0},{"$f":"IF(topdowntables!$N$4=1, \"til afgang, ved kg:\", \"to, kg:\")","v":"til afgang, ved kg:"},{"$f":"E29","v":0}]
[null,{"$f":"IF(topdowntables!$N$4=1, \"     Indhold:\", \"     Composition:\")","v":"     Indhold:"},null,null,{"$f":"IF(topdowntables!$N$4=1, \"Indhold:\", \"Composition:\")","v":"Indhold:"},null,null,null,{"$f":"IF(topdowntables!$N$4=1, \"% af kg\", \"% of \")","v":"% af kg"},null,null,null,null,null,{"$f":"IF(topdowntables!$N$4=1, \"Tilgængelig på gård, kg\", \"Available at farm, kg\")","v":"Tilgængelig på gård, kg"}]
[null,{"$f":"IF(topdowntables!$N$4=1, \"       foderkomponent 1\", \"       feedstuff 1\")","v":"       foderkomponent 1"},null,null,null,null,null,null,null,null,null,null,null,null,{"$f":"IF(OR(E197=$E$429, E197=$E$439, E197=$E$449, E197=$E$459, E197=$E$469, E197=$E$479), VLOOKUP(E197, feedavailability, 3, FALSE)-VLOOKUP(E197, feedavailability, 5, FALSE), 0)","v":0}]
[null,{"$f":"IF(topdowntables!$N$4=1, \"       foderkomponent 2\", \"       feedstuff 2\")","v":"       foderkomponent 2"},null,null,null,null,null,null,null,null,null,null,null,null,0]
[null,{"$f":"IF(topdowntables!$N$4=1, \"       foderkomponent 3\", \"       feedstuff 3\")","v":"       foderkomponent 3"},null,null,null,null,null,null,null,null,null,null,null,null,0]
[null,{"$f":"IF(topdowntables!$N$4=1, \"       foderkomponent 4\", \"       feedstuff 4\")","v":"       foderkomponent 4"},null,null,null,null,null,null,null,null,null,null,null,null,0]
[null,{"$f":"IF(topdowntables!$N$4=1, \"       foderkomponent 5\", \"       feedstuff 5\")","v":"       foderkomponent 5"},null,null,null,null,null,null,null,null,null,null,null,null,0]
[null,{"$f":"IF(topdowntables!$N$4=1, \"       foderkomponent 6\", \"       feedstuff 6\")","v":"       foderkomponent 6"},null,null,null,null,null,null,null,null,null,null,null,null,0]
[null,{"$f":"IF(topdowntables!$N$4=1, \"       foderkomponent 7\", \"       feedstuff 7\")","v":"       foderkomponent 7"},null,null,null,null,null,null,null,null,null,null,null,null,0]
[null,{"$f":"IF(topdowntables!$N$4=1, \"       foderkomponent 8\", \"       feedstuff 8\")","v":"       foderkomponent 8"},null,null,null,null,null,null,null,null,null,null,null,null,0]
[null,{"$f":"IF(topdowntables!$N$4=1, \"       foderkomponent 9\", \"       feedstuff 9\")","v":"       foderkomponent 9"},null,null,null,null,null,null,null,null,null,null,null,null,0]
[null,{"$f":"IF(topdowntables!$N$4=1, \"       foderkomponent 10\", \"       feedstuff 10\")","v":"       foderkomponent 10"},null,null,null,null,null,null,null,null,null,null,null,null,0]
[null,{"$f":"IF(topdowntables!$N$4=1, \"       foderkomponent 11\", \"       feedstuff 11\")","v":"       foderkomponent 11"},null,null,null,null,null,null,null,null,null,null,null,null,0]
[null,{"$f":"IF(topdowntables!$N$4=1, \"       foderkomponent 12\", \"       feedstuff 12\")","v":"       foderkomponent 12"},null,null,null,null,null,null,null,null,null,null,null,null,0]
[null,{"$f":"IF(topdowntables!$N$4=1, \"       foderkomponent 13\", \"       feedstuff 13\")","v":"       foderkomponent 13"},null,null,null,null,null,null,null,null,null,null,null,null,0]
[null,{"$f":"IF(topdowntables!$N$4=1, \"       foderkomponent 14\", \"       feedstuff 14\")","v":"       foderkomponent 14"},null,null,null,null,null,null,null,null,null,null,null,null,0]
[null,{"$f":"IF(topdowntables!$N$4=1, \"       foderkomponent 15\", \"       feedstuff 15\")","v":"       foderkomponent 15"},null,null,null,null,null,null,null,null,null,null,null,null,0]
[null,{"$f":"IF(topdowntables!$N$4=1,IF(I212=100,\"       Tryk '-' for at slutte\",\"       Tjeck, skal være 100\"),IF(I212=100,\"       Click '-' to finalize\",\"       Check total\"))","v":"       Tjeck, skal være 100"},null,null,null,null,null,null,{"$f":"SUM(I197:I211)","v":0}]
[]
[null,{"$f":"IF(topdowntables!$N$4=1, \"  Grovfoder:\", \"  Roughage:\")","v":"  Grovfoder:"}]
[null,{"$f":"IF(topdowntables!$N$4=1, \"     kg per dyr per dag\", \"     kg per animal per day\")","v":"     kg per dyr per dag"}]
[null,{"$f":"IF(topdowntables!$N$4=1, \"     grovfodertildeling, dage per år\", \"     period of use, days per year\")","v":"     grovfodertildeling, dage per år"}]
[null,{"$f":"IF(topdowntables!$N$4=1, \"     Grovfodertyper, anvendt:\", \"     Roughage type, used:\")","v":"     Grovfodertyper, anvendt:"},null,null,{"$f":"IF(topdowntables!$N$4=1, \"Indhold:\", \"Composition:\")","v":"Indhold:"},null,null,null,{"$f":"IF(topdowntables!$N$4=1, \"% af kg\", \"% of \")","v":"% af kg"},null,null,null,null,null,{"$f":"IF(topdowntables!$N$4=1, \"Tilgængelig på gård, kg\", \"Available at farm, kg\")","v":"Tilgængelig på gård, kg"}]
[null,{"$f":"IF(topdowntables!$N$4=1, \"       grovfodertype 1\", \"       roughage type 1\")","v":"       grovfodertype 1"},null,null,null,null,null,null,null,null,null,null,null,null,{"$f":"IF(OR(E218=$E$429, E218=$E$439, E218=$E$449, E218=$E$459, E218=$E$469, E218=$E$479), VLOOKUP(E218, feedavailability, 3, FALSE)-VLOOKUP(E218, feedavailability, 5, FALSE), 0)","v":0}]
[null,{"$f":"IF(topdowntables!$N$4=1, \"       grovfodertype 2\", \"       roughage type 2\")","v":"       grovfodertype 2"},null,null,null,null,null,null,null,null,null,null,null,null,{"$f":"IF(OR(E219=$E$429, E219=$E$439, E219=$E$449, E219=$E$459, E219=$E$469, E219=$E$479), VLOOKUP(E219, feedavailability, 3, FALSE)-VLOOKUP(E219, feedavailability, 5, FALSE), 0)","v":0}]
[null,{"$f":"IF(topdowntables!$N$4=1, \"       grovfodertype 3\", \"       roughage type 3\")","v":"       grovfodertype 3"},null,null,null,null,null,null,null,null,null,null,null,null,{"$f":"IF(OR(E220=$E$429, E220=$E$439, E220=$E$449, E220=$E$459, E220=$E$469, E220=$E$479), VLOOKUP(E220, feedavailability, 3, FALSE)-VLOOKUP(E220, feedavailability, 5, FALSE), 0)","v":0}]
[null,{"$f":"IF(topdowntables!$N$4=1, \"       grovfodertype 4\", \"       roughage type 4\")","v":"       grovfodertype 4"},null,null,null,null,null,null,null,null,null,null,null,null,{"$f":"IF(OR(E221=$E$429, E221=$E$439, E221=$E$449, E221=$E$459, E221=$E$469, E221=$E$479), VLOOKUP(E221, feedavailability, 3, FALSE)-VLOOKUP(E221, feedavailability, 5, FALSE), 0)","v":0}]
[null,{"$f":"IF(topdowntables!$N$4=1, \"       grovfodertype 5\", \"       roughage type 5\")","v":"       grovfodertype 5"},null,null,null,null,null,null,null,null,null,null,null,null,{"$f":"IF(OR(E222=$E$429, E222=$E$439, E222=$E$449, E222=$E$459, E222=$E$469, E222=$E$479), VLOOKUP(E222, feedavailability, 3, FALSE)-VLOOKUP(E222, feedavailability, 5, FALSE), 0)","v":0}]
[null,{"$f":"IF(topdowntables!$N$4=1,IF(I223=100,\"       Tryk '-' for at slutte\",\"       Tjeck, skal være 100\"),IF(I223=100,\"       Click '-' to finalize\",\"       Check total\"))","v":"       Tjeck, skal være 100"},null,null,null,null,null,null,{"$f":"SUM(I218:I222)","v":0}]
[]
[null,{"$f":"IF(topdowntables!$N$4=1, \" Slagtesvin\", \" Slaughter pigs\")","v":" Slagtesvin"}]
[null,{"$f":"IF(topdowntables!$N$4=1, \"  Kraftfoder:\", \"  Concentrated feed:\")","v":"  Kraftfoder:"}]
[null,{"$f":"IF(topdowntables!$N$4=1, \"     FE per kg tilvækst\", \"     FU per kg gain\")","v":"     FE per kg tilvækst"}]
[null,{"$f":"IF(topdowntables!$N$4=1, \"    blanding 1, for vægtinterval, kg:\", \"    mixture 1, for weight interval, kg:\")","v":"    blanding 1, for vægtinterval, kg:"},null,null,{"$f":"IF(topdowntables!$N$4=1, \"fra indsættelse, kg:\", \"from input, kg:\")","v":"fra indsættelse, kg:"},{"$f":"E29","v":0},{"$f":"IF(topdowntables!$N$4=1, \"til, kg:\", \"to, kg:\")","v":"til, kg:"}]
[null,{"$f":"IF(topdowntables!$N$4=1, \"     Indhold:\", \"     Composition:\")","v":"     Indhold:"},null,null,{"$f":"IF(topdowntables!$N$4=1, \"Indhold:\", \"Composition:\")","v":"Indhold:"},null,null,null,{"$f":"IF(topdowntables!$N$4=1, \"% af kg\", \"% of kg \")","v":"% af kg"},null,null,null,null,null,{"$f":"IF(topdowntables!$N$4=1, \"Tilgængelig på gård, kg\", \"Available at farm, kg\")","v":"Tilgængelig på gård, kg"}]
[null,{"$f":"IF(topdowntables!$N$4=1, \"       foderkomponent 1\", \"       feedstuff 1\")","v":"       foderkomponent 1"},null,null,null,null,null,null,null,null,null,null,null,null,{"$f":"IF(OR(E230=$E$429, E230=$E$439, E230=$E$449, E230=$E$459, E230=$E$469, E230=$E$479), VLOOKUP(E230, feedavailability, 3, FALSE)-VLOOKUP(E230, feedavailability, 5, FALSE), 0)","v":0}]
[null,{"$f":"IF(topdowntables!$N$4=1, \"       foderkomponent 2\", \"       feedstuff 2\")","v":"       foderkomponent 2"},null,null,null,null,null,null,null,null,null,null,null,null,0]
[null,{"$f":"IF(topdowntables!$N$4=1, \"       foderkomponent 3\", \"       feedstuff 3\")","v":"       foderkomponent 3"},null,null,null,null,null,null,null,null,null,null,null,null,0]
[null,{"$f":"IF(topdowntables!$N$4=1, \"       foderkomponent 4\", \"       feedstuff 4\")","v":"       foderkomponent 4"},null,null,null,null,null,null,null,null,null,null,null,null,0]
[null,{"$f":"IF(topdowntables!$N$4=1, \"       foderkomponent 5\", \"       feedstuff 5\")","v":"       foderkomponent 5"},null,null,null,null,null,null,null,null,null,null,null,null,0]
[null,{"$f":"IF(topdowntables!$N$4=1, \"       foderkomponent 6\", \"       feedstuff 6\")","v":"       foderkomponent 6"},null,null,null,null,null,null,null,null,null,null,null,null,0]
[null,{"$f":"IF(topdowntables!$N$4=1, \"       foderkomponent 7\", \"       feedstuff 7\")","v":"       foderkomponent 7"},null,null,null,null,null,null,null,null,null,null,null,null,0]
[null,{"$f":"IF(topdowntables!$N$4=1, \"       foderkomponent 8\", \"       feedstuff 8\")","v":"       foderkomponent 8"},null,null,null,null,null,null,null,null,null,null,null,null,0]
[null,{"$f":"IF(topdowntables!$N$4=1, \"       foderkomponent 9\", \"       feedstuff 9\")","v":"       foderkomponent 9"},null,null,null,null,null,null,null,null,null,null,null,null,0]
[null,{"$f":"IF(topdowntables!$N$4=1, \"       foderkomponent 10\", \"       feedstuff 10\")","v":"       foderkomponent 10"},null,null,null,null,null,null,null,null,null,null,null,null,0]
[null,{"$f":"IF(topdowntables!$N$4=1, \"       foderkomponent 11\", \"       feedstuff 11\")","v":"       foderkomponent 11"},null,null,null,null,null,null,null,null,null,null,null,null,0]
[null,{"$f":"IF(topdowntables!$N$4=1, \"       foderkomponent 12\", \"       feedstuff 12\")","v":"       foderkomponent 12"},null,null,null,null,null,null,null,null,null,null,null,null,0]
[null,{"$f":"IF(topdowntables!$N$4=1, \"       foderkomponent 13\", \"       feedstuff 13\")","v":"       foderkomponent 13"},null,null,null,null,null,null,null,null,null,null,null,null,0]
[null,{"$f":"IF(topdowntables!$N$4=1, \"       foderkomponent 14\", \"       feedstuff 14\")","v":"       foderkomponent 14"},null,null,null,null,null,null,null,null,null,null,null,null,0]
[null,{"$f":"IF(topdowntables!$N$4=1, \"       foderkomponent 15\", \"       feedstuff 15\")","v":"       foderkomponent 15"},null,null,null,null,null,null,null,null,null,null,null,null,0]
[null,{"$f":"IF(topdowntables!$N$4=1,IF(I245=100,\"       Tryk '-' for at slutte\",\"       Tjeck, skal være 100\"),IF(I245=100,\"       Click '-' to finalize\",\"       Check total\"))","v":"       Tjeck, skal være 100"},null,null,null,null,null,null,{"$f":"SUM(I230:I244)","v":0}]
[]
[null,{"$f":"IF(topdowntables!$N$4=1, \"    blanding 2, for vægtinterval, kg:\", \"    mixture 2, for weight interval, kg:\")","v":"    blanding 2, for vægtinterval, kg:"},null,null,{"$f":"IF(topdowntables!$N$4=1, \"fra, kg:\", \"from, kg:\")","v":"fra, kg:"},{"$f":"IF(F228>H228,F228,H228)","v":0},{"$f":"IF(topdowntables!$N$4=1, \"til, kg:\", \"to, kg:\")","v":"til, kg:"}]
[null,{"$f":"IF(topdowntables!$N$4=1, \"     Indhold:\", \"     Composition:\")","v":"     Indhold:"},null,null,{"$f":"IF(topdowntables!$N$4=1, \"Indhold:\", \"Composition:\")","v":"Indhold:"},null,null,null,{"$f":"IF(topdowntables!$N$4=1, \"% af kg\", \"% of \")","v":"% af kg"},null,null,null,null,null,{"$f":"IF(topdowntables!$N$4=1, \"Tilgængelig på gård, kg\", \"Available at farm, kg\")","v":"Tilgængelig på gård, kg"}]
[null,{"$f":"IF(topdowntables!$N$4=1, \"       foderkomponent 1\", \"       feedstuff 1\")","v":"       foderkomponent 1"},null,null,null,null,null,null,null,null,null,null,null,null,{"$f":"IF(OR(E249=$E$429, E249=$E$439, E249=$E$449, E249=$E$459, E249=$E$469, E249=$E$479), VLOOKUP(E249, feedavailability, 3, FALSE)-VLOOKUP(E249, feedavailability, 5, FALSE), 0)","v":0}]
[null,{"$f":"IF(topdowntables!$N$4=1, \"       foderkomponent 2\", \"       feedstuff 2\")","v":"       foderkomponent 2"},null,null,null,null,null,null,null,null,null,null,null,null,0]
[null,{"$f":"IF(topdowntables!$N$4=1, \"       foderkomponent 3\", \"       feedstuff 3\")","v":"       foderkomponent 3"},null,null,null,null,null,null,null,null,null,null,null,null,0]
[null,{"$f":"IF(topdowntables!$N$4=1, \"       foderkomponent 4\", \"       feedstuff 4\")","v":"       foderkomponent 4"},null,null,null,null,null,null,null,null,null,null,null,null,0]
[null,{"$f":"IF(topdowntables!$N$4=1, \"       foderkomponent 5\", \"       feedstuff 5\")","v":"       foderkomponent 5"},null,null,null,null,null,null,null,null,null,null,null,null,0]
[null,{"$f":"IF(topdowntables!$N$4=1, \"       foderkomponent 6\", \"       feedstuff 6\")","v":"       foderkomponent 6"},null,null,null,null,null,null,null,null,null,null,null,null,0]
[null,{"$f":"IF(topdowntables!$N$4=1, \"       foderkomponent 7\", \"       feedstuff 7\")","v":"       foderkomponent 7"},null,null,null,null,null,null,null,null,null,null,null,null,0]
[null,{"$f":"IF(topdowntables!$N$4=1, \"       foderkomponent 8\", \"       feedstuff 8\")","v":"       foderkomponent 8"},null,null,null,null,null,null,null,null,null,null,null,null,0]
[null,{"$f":"IF(topdowntables!$N$4=1, \"       foderkomponent 9\", \"       feedstuff 9\")","v":"       foderkomponent 9"},null,null,null,null,null,null,null,null,null,null,null,null,0]
[null,{"$f":"IF(topdowntables!$N$4=1, \"       foderkomponent 10\", \"       feedstuff 10\")","v":"       foderkomponent 10"},null,null,null,null,null,null,null,null,null,null,null,null,0]
[null,{"$f":"IF(topdowntables!$N$4=1, \"       foderkomponent 11\", \"       feedstuff 11\")","v":"       foderkomponent 11"},null,null,null,null,null,null,null,null,null,null,null,null,0]
[null,{"$f":"IF(topdowntables!$N$4=1, \"       foderkomponent 12\", \"       feedstuff 12\")","v":"       foderkomponent 12"},null,null,null,null,null,null,null,null,null,null,null,null,0]
[null,{"$f":"IF(topdowntables!$N$4=1, \"       foderkomponent 13\", \"       feedstuff 13\")","v":"       foderkomponent 13"},null,null,null,null,null,null,null,null,null,null,null,null,0]
[null,{"$f":"IF(topdowntables!$N$4=1, \"       foderkomponent 14\", \"       feedstuff 14\")","v":"       foderkomponent 14"},null,null,null,null,null,null,null,null,null,null,null,null,0]
[null,{"$f":"IF(topdowntables!$N$4=1, \"       foderkomponent 15\", \"       feedstuff 15\")","v":"       foderkomponent 15"},null,null,null,null,null,null,null,null,null,null,null,null,0]
[null,{"$f":"IF(topdowntables!$N$4=1,IF(I264=100,\"       Tryk '-' for at slutte\",\"       Tjeck, skal være 100\"),IF(I264=100,\"       Click '-' to finalize\",\"       Check total\"))","v":"       Tjeck, skal være 100"},null,null,null,null,null,null,{"$f":"SUM(I249:I263)","v":0}]
[]
[null,{"$f":"IF(topdowntables!$N$4=1, \"    blanding 3, for vægtinterval, kg:\", \"    mixture 3, for weight interval, kg:\")","v":"    blanding 3, for vægtinterval, kg:"},null,null,{"$f":"IF(topdowntables!$N$4=1, \"fra, kg:\", \"from, kg:\")","v":"fra, kg:"},{"$f":"IF(F247>H247,F247,H247)","v":0},{"$f":"IF(topdowntables!$N$4=1, \"til afgang, ved kg:\", \"to, kg:\")","v":"til afgang, ved kg:"},{"$f":"E36","v":0}]
[null,{"$f":"IF(topdowntables!$N$4=1, \"     Indhold:\", \"     Composition:\")","v":"     Indhold:"},null,null,{"$f":"IF(topdowntables!$N$4=1, \"Indhold:\", \"Composition:\")","v":"Indhold:"},null,null,null,{"$f":"IF(topdowntables!$N$4=1, \"% af kg\", \"% of \")","v":"% af kg"},null,null,null,null,null,{"$f":"IF(topdowntables!$N$4=1, \"Tilgængelig på gård, kg\", \"Available at farm, kg\")","v":"Tilgængelig på gård, kg"}]
[null,{"$f":"IF(topdowntables!$N$4=1, \"       foderkomponent 1\", \"       feedstuff 1\")","v":"       foderkomponent 1"},null,null,null,null,null,null,null,null,null,null,null,null,{"$f":"IF(OR(E268=$E$429, E268=$E$439, E268=$E$449, E268=$E$459, E268=$E$469, E268=$E$479), VLOOKUP(E268, feedavailability, 3, FALSE)-VLOOKUP(E268, feedavailability, 5, FALSE), 0)","v":0}]
[null,{"$f":"IF(topdowntables!$N$4=1, \"       foderkomponent 2\", \"       feedstuff 2\")","v":"       foderkomponent 2"},null,null,null,null,null,null,null,null,null,null,null,null,0]
[null,{"$f":"IF(topdowntables!$N$4=1, \"       foderkomponent 3\", \"       feedstuff 3\")","v":"       foderkomponent 3"},null,null,null,null,null,null,null,null,null,null,null,null,0]
[null,{"$f":"IF(topdowntables!$N$4=1, \"       foderkomponent 4\", \"       feedstuff 4\")","v":"       foderkomponent 4"},null,null,null,null,null,null,null,null,null,null,null,null,0]
[null,{"$f":"IF(topdowntables!$N$4=1, \"       foderkomponent 5\", \"       feedstuff 5\")","v":"       foderkomponent 5"},null,null,null,null,null,null,null,null,null,null,null,null,0]
[null,{"$f":"IF(topdowntables!$N$4=1, \"       foderkomponent 6\", \"       feedstuff 6\")","v":"       foderkomponent 6"},null,null,null,null,null,null,null,null,null,null,null,null,0]
[null,{"$f":"IF(topdowntables!$N$4=1, \"       foderkomponent 7\", \"       feedstuff 7\")","v":"       foderkomponent 7"},null,null,null,null,null,null,null,null,null,null,null,null,0]
[null,{"$f":"IF(topdowntables!$N$4=1, \"       foderkomponent 8\", \"       feedstuff 8\")","v":"       foderkomponent 8"},null,null,null,null,null,null,null,null,null,null,null,null,0]
[null,{"$f":"IF(topdowntables!$N$4=1, \"       foderkomponent 9\", \"       feedstuff 9\")","v":"       foderkomponent 9"},null,null,null,null,null,null,null,null,null,null,null,null,0]
[null,{"$f":"IF(topdowntables!$N$4=1, \"       foderkomponent 10\", \"       feedstuff 10\")","v":"       foderkomponent 10"},null,null,null,null,null,null,null,null,null,null,null,null,0]
[null,{"$f":"IF(topdowntables!$N$4=1, \"       foderkomponent 11\", \"       feedstuff 11\")","v":"       foderkomponent 11"},null,null,null,null,null,null,null,null,null,null,null,null,0]
[null,{"$f":"IF(topdowntables!$N$4=1, \"       foderkomponent 12\", \"       feedstuff 12\")","v":"       foderkomponent 12"},null,null,null,null,null,null,null,null,null,null,null,null,0]
[null,{"$f":"IF(topdowntables!$N$4=1, \"       foderkomponent 13\", \"       feedstuff 13\")","v":"       foderkomponent 13"},null,null,null,null,null,null,null,null,null,null,null,null,0]
[null,{"$f":"IF(topdowntables!$N$4=1, \"       foderkomponent 14\", \"       feedstuff 14\")","v":"       foderkomponent 14"},null,null,null,null,null,null,null,null,null,null,null,null,0]
[null,{"$f":"IF(topdowntables!$N$4=1, \"       foderkomponent 15\", \"       feedstuff 15\")","v":"       foderkomponent 15"},null,null,null,null,null,null,null,null,null,null,null,null,0]
[null,{"$f":"IF(topdowntables!$N$4=1,IF(I283=100,\"       Tryk '-' for at slutte\",\"       Tjeck, skal være 100\"),IF(I283=100,\"       Click '-' to finalize\",\"       Check total\"))","v":"       Tjeck, skal være 100"},null,null,null,null,null,null,{"$f":"SUM(I268:I282)","v":0}]
[]
[null,{"$f":"IF(topdowntables!$N$4=1, \"  Grovfoder:\", \"  Roughage:\")","v":"  Grovfoder:"}]
[null,{"$f":"IF(topdowntables!$N$4=1, \"     kg per dyr per dag\", \"     kg per animal per day\")","v":"     kg per dyr per dag"}]
[null,{"$f":"IF(topdowntables!$N$4=1, \"     grovfodertildeling, dage per år\", \"     period of use, days per year\")","v":"     grovfodertildeling, dage per år"}]
[null,{"$f":"IF(topdowntables!$N$4=1, \"     Grovfodertyper, anvendt:\", \"     Roughage type, used:\")","v":"     Grovfodertyper, anvendt:"},null,null,{"$f":"IF(topdowntables!$N$4=1, \"Indhold:\", \"Composition:\")","v":"Indhold:"},null,null,null,{"$f":"IF(topdowntables!$N$4=1, \"% af kg\", \"% of kg \")","v":"% af kg"},null,null,null,null,null,{"$f":"IF(topdowntables!$N$4=1, \"Tilgængelig på gård, kg\", \"Available at farm, kg\")","v":"Tilgængelig på gård, kg"}]
[null,{"$f":"IF(topdowntables!$N$4=1, \"       grovfodertype 1\", \"       roughage type 1\")","v":"       grovfodertype 1"},null,null,null,null,null,null,null,null,null,null,null,null,{"$f":"IF(OR(E289=$E$429, E289=$E$439, E289=$E$449, E289=$E$459, E289=$E$469, E289=$E$479), VLOOKUP(E289, feedavailability, 3, FALSE)-VLOOKUP(E289, feedavailability, 5, FALSE), 0)","v":0}]
[null,{"$f":"IF(topdowntables!$N$4=1, \"       grovfodertype 2\", \"       roughage type 2\")","v":"       grovfodertype 2"},null,null,null,null,null,null,null,null,null,null,null,null,{"$f":"IF(OR(E290=$E$429, E290=$E$439, E290=$E$449, E290=$E$459, E290=$E$469, E290=$E$479), VLOOKUP(E290, feedavailability, 3, FALSE)-VLOOKUP(E290, feedavailability, 5, FALSE), 0)","v":0}]
[null,{"$f":"IF(topdowntables!$N$4=1, \"       grovfodertype 3\", \"       roughage type 3\")","v":"       grovfodertype 3"},null,null,null,null,null,null,null,null,null,null,null,null,{"$f":"IF(OR(E291=$E$429, E291=$E$439, E291=$E$449, E291=$E$459, E291=$E$469, E291=$E$479), VLOOKUP(E291, feedavailability, 3, FALSE)-VLOOKUP(E291, feedavailability, 5, FALSE), 0)","v":0}]
[null,{"$f":"IF(topdowntables!$N$4=1, \"       grovfodertype 4\", \"       roughage type 4\")","v":"       grovfodertype 4"},null,null,null,null,null,null,null,null,null,null,null,null,{"$f":"IF(OR(E292=$E$429, E292=$E$439, E292=$E$449, E292=$E$459, E292=$E$469, E292=$E$479), VLOOKUP(E292, feedavailability, 3, FALSE)-VLOOKUP(E292, feedavailability, 5, FALSE), 0)","v":0}]
[null,{"$f":"IF(topdowntables!$N$4=1, \"       grovfodertype 5\", \"       roughage type 5\")","v":"       grovfodertype 5"},null,null,null,null,null,null,null,null,null,null,null,null,{"$f":"IF(OR(E293=$E$429, E293=$E$439, E293=$E$449, E293=$E$459, E293=$E$469, E293=$E$479), VLOOKUP(E293, feedavailability, 3, FALSE)-VLOOKUP(E293, feedavailability, 5, FALSE), 0)","v":0}]
[null,{"$f":"IF(topdowntables!$N$4=1,IF(I294=100,\"       Tryk '-' for at slutte\",\"       Tjeck, skal være 100\"),IF(I294=100,\"       Click '-' to finalize\",\"       Check total\"))","v":"       Tjeck, skal være 100"},null,null,null,null,null,null,{"$f":"SUM(I289:I293)","v":0}]
[]
[]
[]
[null,{"$f":"IF(topdowntables!$N$4=1, \" Stalde/Folde\", \"Stable/Paddock\")","v":" Stalde/Folde"}]
[]
[null,{"$f":"IF(topdowntables!$N$4=1, \" Diegivning søer\", \"Lactating sows\")","v":" Diegivning søer"}]
[]
[null,{"$f":"IF(topdowntables!$N$4=1, \"   Opstaldningsform (inde/ude)\", \"   Housing type (indoor/outdoor)\")","v":"   Opstaldningsform (inde/ude)"},null,null,"Ude hele året"]
[null,null,null,null,{"$f":" IFERROR(IF(topdowntables!$N$4=1, VLOOKUP('input-data'!$E$302,So_flyt,3,FALSE), VLOOKUP('input-data'!$E$302,topdowntables!C9:G11,3,FALSE)), \"\")","v":""}]
[null,{"$f":"IF(topdowntables!$N$4=1, \"   Opstaldning udendørs:\", \"   Housing, outdoor:\")","v":"   Opstaldning udendørs:"}]
[null,{"$f":"IF(topdowntables!$N$4=1, \"    farefolde i alt, ha\", \"    paddock area for lactating sows, ha\")","v":"    farefolde i alt, ha"}]
[null,{"$f":"IF(topdowntables!$N$4=1, \"    farefoldetype\", \"    paddock type\")","v":"    farefoldetype"},null,null,"kløvergræs "]
[null,null,null,null,{"$f":"IF(topdowntables!N4=1, IF('input-data'!E306:F306='Opstaldingsform-Housing '!$B$34, \"treer areal, %:\", \"\"),  IF('input-data'!E306:F306='Opstaldingsform-Housing '!$B$71, \"trees area, %:\", \"\"))","v":""}]
[]
[null,{"$f":"IF(topdowntables!$N$4=1, \"    strøelse forbrug, kg per faring\", \"    straw, kg per farrowing\")","v":"    strøelse forbrug, kg per faring"}]
[null,{"$f":"IF(topdowntables!$N$4=1, \"    strøelse type\", \"    straw type\")","v":"    strøelse type"},null,null,"KORNHALM, Byg",null,null,null,null,null,"KORNHALM, Byg","KORNHALM, Byg","KORNHALM, Byg"]
[]
[null,{"$f":"IF(topdowntables!$N$4=1, \"   Opstaldning indendørs:\", \"   Housing, indoor:\")","v":"   Opstaldning indendørs:"},null,null,{"$f":"IF(topdowntables!N4=1, \"Gulvtype:\", \"Floor type:\")","v":"Gulvtype:"},null,null,{"$f":"IF(E312=0, IF(topdowntables!$N$4=1, \"<- Input data\", \"Input data\"), \"\")","v":""}]
[null,{"$f":"IF(topdowntables!$N$4=1, \"     indendørs areal, type\", \"     indoor area, type\")","v":"     indendørs areal, type"},null,null,null,null,null,{"$f":"IF(OR($E$302=topdowntables!$C$5, $E$302=topdowntables!$C$6, $E$302=topdowntables!$C$10, $E$302=topdowntables!$C$11), IF(E313=0, IF(topdowntables!$N$4=1, \"<- Indtast data\", \"<- Please select floor type\"), \"\"), \"\")","v":""}]
[null,{"$f":"IF(topdowntables!$N$4=1, \"     udendørs areal, type\", \"     outdoor area, type\")","v":"     udendørs areal, type"},null,null,null,null,null,{"$f":"IF(OR($E$302=topdowntables!$C$5, $E$302=topdowntables!$C$6, $E$302=topdowntables!$C$10, $E$302=topdowntables!$C$11), IF(E314=0, IF(topdowntables!$N$4=1, \"<- Indtast data\", \"<- Please select floor type\"), \"\"), \"\")","v":""}]
[]
[null,{"$f":"IF(topdowntables!$N$4=1, \"     strøelse forbrug, kg per faring\", \"     straw, kg per farrowing\")","v":"     strøelse forbrug, kg per faring"}]
[null,{"$f":"IF(topdowntables!$N$4=1, \"     strøelse type\", \"     straw type\")","v":"     strøelse type"},null,null,"KORNHALM, Byg",null,null,null,null,null,"KORNHALM, Byg","KORNHALM, Byg","KORNHALM, Byg"]
[null,{"$f":"IF(topdowntables!$N$4=1, \"     gødning til biogas, %\", \"     manure delivered to biogas plants, %\")","v":"     gødning til biogas, %"}]
[null,{"$f":"IF(topdowntables!$N$4=1, \"     gylle forsuring, %\", \"     slurry, acidified in stable, %\")","v":"     gylle forsuring, %"}]
[null,{"$f":"IF(topdowntables!$N$4=1, \"     fast staldgødning/dybstrøelse til mark, %\", \"     solid manure/deep litter, directly applied to fields, %\")","v":"     fast staldgødning/dybstrøelse til mark, %"}]
[]
[null,{"$f":"IF(topdowntables!$N$4=1, \" Drægtige søer\", \"Gestating sows\")","v":" Drægtige søer"}]
[]
[null,{"$f":"IF(topdowntables!$N$4=1, \"   Opstaldningsform (inde/ude)\", \"   Housing type (indoor/outdoor)\")","v":"   Opstaldningsform (inde/ude)"},null,null,"Ude hele året"]
[null,null,null,null,{"$f":" IFERROR(IF(topdowntables!$N$4=1, VLOOKUP('input-data'!$E$324,So_flyt,3,FALSE), VLOOKUP('input-data'!$E$324,topdowntables!$C$9:$G$11,3,FALSE)), \"\")","v":""}]
[null,{"$f":"IF(topdowntables!$N$4=1, \"   Opstaldning udendørs:\", \"   Housing, outdoor:\")","v":"   Opstaldning udendørs:"}]
[null,{"$f":"IF(topdowntables!$N$4=1, \"    drægtidhedfolde i alt, ha\", \"    paddock area for gestating sows, ha\")","v":"    drægtidhedfolde i alt, ha"}]
[null,{"$f":"IF(topdowntables!$N$4=1, \"    drægtighedsfolde, type\", \"    paddock type\")","v":"    drægtighedsfolde, type"},null,null,"kløvergræs "]
[null,null,null,null,{"$f":"IF(topdowntables!$N$4=1, IF('input-data'!E328:F328='Opstaldingsform-Housing '!$B$34, \"treer areal, %:\", \"\"),  IF('input-data'!E328:F328='Opstaldingsform-Housing '!$B$73, \"trees area, %:\", \"\"))","v":""}]
[]
[null,{"$f":"IF(topdowntables!$N$4=1, \"     strøelse forbrug, kg per dyr per dag\", \"     straw, kg per animal per day\")","v":"     strøelse forbrug, kg per dyr per dag"},null,null,0.1]
[null,{"$f":"IF(topdowntables!$N$4=1, \"     strøelse type\", \"     straw type\")","v":"     strøelse type"},null,null,"KORNHALM, Byg",null,null,null,null,null,"KORNHALM, Byg","KORNHALM, Byg","KORNHALM, Byg"]
[]
[null,{"$f":"IF(topdowntables!$N$4=1, \"   Opstaldning indendørs:\", \"   Housing, indoor:\")","v":"   Opstaldning indendørs:"},null,null,{"$f":"IF(topdowntables!$N$4=1, \"Gulvtype:\", \"Floor type:\")","v":"Gulvtype:"}]
[null,{"$f":"IF(topdowntables!$N$4=1, \"     indendørs areal, type\", \"     indoor area, type\")","v":"     indendørs areal, type"},null,null,null,null,null,{"$f":"IF(OR($E$324=topdowntables!$C$5, $E$324=topdowntables!$C$6, $E$324=topdowntables!$C$10, $E$324=topdowntables!$C$11), IF(E335=0, IF(topdowntables!$N$4=1, \"<- Indtast data\", \"<- Please select floor type\"), \"\"), \"\")","v":""}]
[null,{"$f":"IF(topdowntables!$N$4=1, \"     udendørs areal, type\", \"     outdoor area, type\")","v":"     udendørs areal, type"},null,null,null,null,null,{"$f":"IF(OR($E$324=topdowntables!$C$5, $E$324=topdowntables!$C$6, $E$324=topdowntables!$C$10, $E$324=topdowntables!$C$11), IF(E336=0, IF(topdowntables!$N$4=1, \"<- Indtast data\", \"<- Please select floor type\"), \"\"), \"\")","v":""}]
[]
[null,{"$f":"IF(topdowntables!$N$4=1, \"     strøelse forbrug, kg per dyr per dag\", \"     straw, kg per animal per day\")","v":"     strøelse forbrug, kg per dyr per dag"}]
[null,{"$f":"IF(topdowntables!$N$4=1, \"     strøelse type\", \"     straw type\")","v":"     strøelse type"},null,null,null,null,null,null,null,null,"KORNHALM, Byg","KORNHALM, Byg","KORNHALM, Byg"]
[null,{"$f":"IF(topdowntables!$N$4=1, \"     gødning til biogas, %\", \"     manure delivered to biogas plants, %\")","v":"     gødning til biogas, %"}]
[null,{"$f":"IF(topdowntables!$N$4=1, \"     gylle forsuring, %\", \"     slurry, acidified in stable, %\")","v":"     gylle forsuring, %"}]
[null,{"$f":"IF(topdowntables!$N$4=1, \"     fast staldgødning/dybstrøelse til mark, %\", \"     solid manure/deep litter, directly applied to fields, %\")","v":"     fast staldgødning/dybstrøelse til mark, %"}]
[]
[null,{"$f":"IF(topdowntables!$N$4=1, \" Smågrise\", \" Piglets\")","v":" Smågrise"}]
[]
[null,{"$f":"IF(topdowntables!$N$4=1, \"   Opstaldningsform (inde/ude)\", \"   Housing type (indoor/outdoor)\")","v":"   Opstaldningsform (inde/ude)"},null,null,"Ude hele smågriseperioden"]
[null,null,null,null,{"$f":"IFERROR( IF(topdowntables!$N$4=1, (VLOOKUP($E$346,Opstald_flyt,3,FALSE)), (VLOOKUP($E$346, topdowntables!$C$19:$G$21,3,FALSE))), \"\")","v":""}]
[null,{"$f":"IF(topdowntables!$N$4=1, \"   Opstaldning udendørs:\", \"   Housing, outdoor:\")","v":"   Opstaldning udendørs:"}]
[null,{"$f":"IF(topdowntables!$N$4=1, \"     smågrisefolde i alt, ha\", \"     paddock area for piglets, ha\")","v":"     smågrisefolde i alt, ha"}]
[null,{"$f":"IF(topdowntables!$N$4=1, \"     smågrisefoldetype\", \"     paddock type\")","v":"     smågrisefoldetype"},null,null,"kløvergræs "]
[null,null,null,null,{"$f":"IF(topdowntables!$N$4=1, IF('input-data'!E350:F350='Opstaldingsform-Housing '!$B$34, \"treer areal, %:\", \"\"),  IF('input-data'!E350:F350='Opstaldingsform-Housing '!$B$73, \"trees area, %:\", \"\"))","v":""}]
[]
[null,{"$f":"IF(topdowntables!$N$4=1, \"     strøelse forbrug, kg per dyr per dag\", \"     straw, kg per animal per day\")","v":"     strøelse forbrug, kg per dyr per dag"},null,null,0.5]
[null,{"$f":"IF(topdowntables!$N$4=1, \"     strøelse type\", \"     straw type\")","v":"     strøelse type"},null,null,"KORNHALM, Byg",null,null,null,null,null,"KORNHALM, Byg","KORNHALM, Byg","KORNHALM, Byg"]
[]
[null,{"$f":"IF(topdowntables!$N$4=1, \"   Opstaldning indendørs:\", \"   Housing, indoor:\")","v":"   Opstaldning indendørs:"},null,null,{"$f":"IF(topdowntables!$N$4=1, \"Gulvtype:\", \"Floor type:\")","v":"Gulvtype:"},null,null,null,null,null,"Select………","Select………","Select………"]
[null,{"$f":"IF(topdowntables!$N$4=1, \"     indendørs areal, type\", \"     indoor area, type\")","v":"     indendørs areal, type"},null,null,null,null,null,{"$f":"IF(OR($E$346=topdowntables!$C$14, $E$346=topdowntables!$C$16, $E$346=topdowntables!$C$19, $E$346=topdowntables!$C$21), IF(E357=0, IF(topdowntables!$N$4=1, \"<- Indtast data\", \"<- Please select floor type\"), \"\"), \"\")","v":""}]
[null,{"$f":"IF(topdowntables!$N$4=1, \"     udendørs areal, type\", \"     outdoor area, type\")","v":"     udendørs areal, type"},null,null,null,null,null,{"$f":"IF(OR($E$346=topdowntables!$C$14, $E$346=topdowntables!$C$16, $E$346=topdowntables!$C$19, $E$346=topdowntables!$C$21), IF(E358=0, IF(topdowntables!$N$4=1, \"<- Indtast data\", \"<- Please select floor type\"), \"\"), \"\")","v":""}]
[]
[null,{"$f":"IF(topdowntables!$N$4=1, \"     strøelse forbrug, kg per dyr per dag\", \"     straw, kg per animal per day\")","v":"     strøelse forbrug, kg per dyr per dag"}]
[null,{"$f":"IF(topdowntables!$N$4=1, \"     strøelse type\", \"     straw type\")","v":"     strøelse type"},null,null,null,null,null,null,null,null,"KORNHALM, Byg","KORNHALM, Byg","KORNHALM, Byg"]
[null,{"$f":"IF(topdowntables!$N$4=1, \"     gødning til biogas, %\", \"     manure delivered to biogas plants, %\")","v":"     gødning til biogas, %"}]
[null,{"$f":"IF(topdowntables!$N$4=1, \"     gylle forsuring, %\", \"     slurry, acidified in stable, %\")","v":"     gylle forsuring, %"}]
[null,{"$f":"IF(topdowntables!$N$4=1, \"     fast staldgødning/dybstræelse til mark, %\", \"     solid manure/deep litter, directly applied to fields, %\")","v":"     fast staldgødning/dybstræelse til mark, %"}]
[]
[null,{"$f":"IF(topdowntables!$N$4=1, \" Slagtesvin\", \" Slaughter pigs\")","v":" Slagtesvin"}]
[]
[null,{"$f":"IF(topdowntables!$N$4=1, \"   Opstaldningsform (inde/ude)\", \"   Housing type (indoor/outdoor)\")","v":"   Opstaldningsform (inde/ude)"},null,null,"Inde hele slagtesvineperioden"]
[null,null,null,null,{"$f":"IFERROR( IF(topdowntables!$N$4=1, (VLOOKUP($E$368,topdowntables!C25:G27,3,FALSE)), (VLOOKUP($E$368, topdowntables!$C$30:$G$32,3,FALSE))), \"\")","v":""}]
[null,{"$f":"IF(topdowntables!$N$4=1, \"   Opstaldning udendørs:\", \"   Housing, outdoor:\")","v":"   Opstaldning udendørs:"}]
[null,{"$f":"IF(topdowntables!$N$4=1, \"     slagtersvinefolde i alt, ha\", \"     paddock area, ha\")","v":"     slagtersvinefolde i alt, ha"}]
[null,{"$f":"IF(topdowntables!$N$4=1, \"     slagtesvinefoldetype\", \"     paddock type\")","v":"     slagtesvinefoldetype"},null,null,"Vælg…………………………….."]
[null,null,null,null,{"$f":"IF(topdowntables!$N$4=1, IF('input-data'!E372:F372='Opstaldingsform-Housing '!$B$34, \"treer areal, %:\", \"\"),  IF('input-data'!E372:F372='Opstaldingsform-Housing '!$B$73, \"trees area, %:\", \"\"))","v":""}]
[]
[null,{"$f":"IF(topdowntables!$N$4=1, \"     strøelse forbrug, kg per dyr per dag\", \"     straw, kg per animal per dag\")","v":"     strøelse forbrug, kg per dyr per dag"}]
[null,{"$f":"IF(topdowntables!$N$4=1, \"     strøelse type\", \"     straw type\")","v":"     strøelse type"},null,null,null,null,null,null,null,null,"KORNHALM, Byg","KORNHALM, Byg","KORNHALM, Byg"]
[]
[null,{"$f":"IF(topdowntables!$N$4=1, \"   Opstaldning indendørs:\", \"   Housing, indoor:\")","v":"   Opstaldning indendørs:"},null,null,{"$f":"IF(topdowntables!$N$4=1, \"Gulvtype:\", \"Floor type:\")","v":"Gulvtype:"},null,null,null,null,null,"Select………","Select………","Select………"]
[null,{"$f":"IF(topdowntables!$N$4=1, \"     indendørs areal, type\", \"     indoor area, type\")","v":"     indendørs areal, type"},null,null,null,null,null,{"$f":"IF(OR($E$368=topdowntables!$C$25, $E$368=topdowntables!$C$27, $E$368=topdowntables!$C$30, $E$368=topdowntables!$C$32), IF(E379=0, IF(topdowntables!$N$4=1, \"<- Indtast data\", \"<- Please select floor type\"), \"\"), \"\")","v":"<- Indtast data"}]
[null,{"$f":"IF(topdowntables!$N$4=1, \"     udendørs areal, type\", \"     outdoor area, type\")","v":"     udendørs areal, type"},null,null,null,null,null,{"$f":"IF(OR($E$368=topdowntables!$C$25, $E$368=topdowntables!$C$27, $E$368=topdowntables!$C$30, $E$368=topdowntables!$C$32), IF(E380=0, IF(topdowntables!$N$4=1, \"<- Indtast data\", \"<- Please select floor type\"), \"\"), \"\")","v":"<- Indtast data"}]
[]
[null,{"$f":"IF(topdowntables!$N$4=1, \"     strøelse forbrug, kg per dyr per dag\", \"     straw, kg per animal per day\")","v":"     strøelse forbrug, kg per dyr per dag"}]
[null,{"$f":"IF(topdowntables!$N$4=1, \"     strøelse type\", \"     straw type\")","v":"     strøelse type"},null,null,"KORNHALM, Byg",null,null,null,null,null,"KORNHALM, Byg","KORNHALM, Byg","KORNHALM, Byg"]
[null,{"$f":"IF(topdowntables!$N$4=1, \"     gødning til biogas, %\", \"     manure delivered to biogas plants, %\")","v":"     gødning til biogas, %"}]
[null,{"$f":"IF(topdowntables!$N$4=1, \"     gylle forsuring, %\", \"     slurry, acidified in stable, %\")","v":"     gylle forsuring, %"}]
[null,{"$f":"IF(topdowntables!$N$4=1, \"     fast staldgødning/dybstrøelse til mark, %\", \"     solid manure/deep litter, directly applied to fields, %\")","v":"     fast staldgødning/dybstrøelse til mark, %"}]
[]
[]
[null,{"$f":"IF(topdowntables!$N$4=1, \" Lagring af gødning\", \"Storage of manure\")","v":" Lagring af gødning"}]
[]
[null,{"$f":"IF($B$3=\"Dansk\", \"Gødningstyper\", \"Manure types\")","v":"Gødningstyper"}]
[null,{"$f":"IF($B$3=\"Dansk\", \"   gylle\", \"   slurry\")","v":"   gylle"},null,null,"overdækket (flydelag)"]
[null,{"$f":"IF($B$3=\"Dansk\", \"   dybstrøelse\", \"   deep litter\")","v":"   dybstrøelse"}]
[]
[null,{"$f":"IF(topdowntables!$N$4=1, \"Indkøb/Salg af gødning\", \" Purchase/Sale of manure\")","v":"Indkøb/Salg af gødning"}]
[null,null,null,null,{"$f":"IF(B3=\"Dansk\", \"Type\", \"Type\")","v":"Type"},null,"tons"]
[null,{"$f":"IF(B3=\"Dansk\", \"Gødning solgt\", \"Sold manure\")","v":"Gødning solgt"}]
[null,{"$f":"IF($B$3=\"Dansk\", \"Gødning købt\", \"Bought-in manure\")","v":"Gødning købt"}]
[]
[]
[null,{"$f":"IF(topdowntables!$N$4=1, \" Mark\", \"Fields\")","v":" Mark"}]
[]
[]
[null,{"$f":"IF($B$3=\"Dansk\",\"Græsareal\", \"Activities in the paddock\")","v":"Græsareal"}]
[]
[null,{"$f":"IF(topdowntables!$N$4=1, \"farefolde\", \"paddock for lactating sows\")","v":"farefolde"},null,null,{"$f":"$E$306","v":"kløvergræs "}]
[null,{"$f":"IF($B$3=\"Dansk\", \"      areal, ha\", \"      area, ha\")","v":"      areal, ha"},null,null,{"$f":"E305","v":0}]
[null,{"$f":"IF($B$3=\"Dansk\", \"      slæt til ensilage, FE per ha\", \"      cut for silage, FU per ha\")","v":"      slæt til ensilage, FE per ha"}]
[null,{"$f":"IF($B$3=\"Dansk\",IF(E406='Opstaldingsform-Housing '!$B$34,\"      handling af treer\",\"\"),IF(E406='Opstaldingsform-Housing '!$B$73,\"      handling of trees\",\"\"))","v":""}]
[]
[null,{"$f":"IF(topdowntables!$N$4=1, \"drægtighedsfolde\", \"paddock for gestating sows, ha\")","v":"drægtighedsfolde"},null,null,{"$f":"$E$328","v":"kløvergræs "}]
[null,{"$f":"IF($B$3=\"Dansk\", \"      areal, ha\", \"      area, ha\")","v":"      areal, ha"},null,null,{"$f":"E327","v":0}]
[null,{"$f":"IF($B$3=\"Dansk\", \"      slæt til ensilage, FE per ha\", \"      cut for silage, FU per ha\")","v":"      slæt til ensilage, FE per ha"}]
[null,{"$f":"IF($B$3=\"Dansk\",IF(E411='Opstaldingsform-Housing '!$B$34,\"      handling af treer\",\"\"),IF(E411='Opstaldingsform-Housing '!$B$73,\"      handling of trees\",\"\"))","v":""}]
[]
[null,{"$f":"IF(topdowntables!$N$4=1, \"smågrisefolde\", \"paddock for piglets\")","v":"smågrisefolde"},null,null,{"$f":"$E$350","v":"kløvergræs "}]
[null,{"$f":"IF($B$3=\"Dansk\", \"      areal, ha\", \"      area, ha\")","v":"      areal, ha"},null,null,{"$f":"E349","v":0}]
[null,{"$f":"IF($B$3=\"Dansk\", \"      slæt til ensilage, FE per ha\", \"      cut for silage, FU per ha\")","v":"      slæt til ensilage, FE per ha"}]
[null,{"$f":"IF($B$3=\"Dansk\",IF(E416='Opstaldingsform-Housing '!$B$34,\"      handling af treer\",\"\"),IF(E416='Opstaldingsform-Housing '!$B$73,\"      handling of trees\",\"\"))","v":""}]
[]
[null,{"$f":"IF(topdowntables!$N$4=1, \"slagtesvinefolde\", \"paddock for slaughter pigs\")","v":"slagtesvinefolde"},null,null,{"$f":"$E$372","v":"Vælg…………………………….."}]
[null,{"$f":"IF($B$3=\"Dansk\", \"      areal, ha\", \"      area, ha\")","v":"      areal, ha"},null,null,{"$f":"E371","v":0}]
[null,{"$f":"IF($B$3=\"Dansk\", \"      slæt til ensilage, FE per ha\", \"      cut for silage, FU per ha\")","v":"      slæt til ensilage, FE per ha"},null,null,0]
[null,{"$f":"IF($B$3=\"Dansk\",IF(E421='Opstaldingsform-Housing '!$B$34,\"      handling af treer\",\"\"),IF(E421='Opstaldingsform-Housing '!$B$73,\"      handling of trees\",\"\"))","v":""},null,null,null,null,null,null,null,null,"select…","select…","select…"]
[null,null,null,null,null,null,null,null,null,null,"select…","select…","select…"]
[]
[null,{"$f":"IF(B3=\"Dansk\", \"Afgrøder, ha\", \"Crops, ha\")","v":"Afgrøder, ha"}]
[]
[null,{"$f":"IF($B$3=\"Dansk\", \"afgrøde 1\", \"crop 1\")","v":"afgrøde 1"},null,null,"Vælg……………………………………"]
[null,{"$f":"IF($B$3=\"Dansk\", \"   areal, ha\", \"   area, ha\")","v":"   areal, ha"}]
[null,{"$f":"IF($B$3=\"Dansk\",IF(OR(E429=topdowntables!$R$11, E429=topdowntables!$R$12), \"   udbytte, FE per ha\",\"   udbytte, kg per ha\"), IF(OR(E429=topdowntables!$R$23, E429=topdowntables!$R$24), \"   yield, FU per ha\",  \"   yield, kg per ha\"))","v":"   udbytte, kg per ha"}]
[null,{"$f":"IF($B$3=\"Dansk\", \"   høstet halm, %\", \"   harvested straw, %\")","v":"   høstet halm, %"}]
[null,{"$f":"IF($B$3=\"Dansk\", \"   input per ha:\", \"   input per ha:\")","v":"   input per ha:"}]
[null,{"$f":"IF($B$3=\"Dansk\", \"      udsæd, kg per ha\", \"      seed, kg per ha\")","v":"      udsæd, kg per ha"}]
[null,{"$f":"IF($B$3=\"Dansk\", \"      kalk, kg per ha\", \"      lime, kg per ha\")","v":"      kalk, kg per ha"}]
[null,{"$f":"IF($B$3=\"Dansk\", \"      vanding, %\", \"      irrigation, %\")","v":"      vanding, %"}]
[null,{"$f":"IF($B$3=\"Dansk\", \"      vand forbrug, mm per ha\", \"      water for irrigation, mm per ha\")","v":"      vand forbrug, mm per ha"}]
[]
[null,{"$f":"IF($B$3=\"Dansk\", \"afgrøde 2\", \"crop 2\")","v":"afgrøde 2"},null,null,"Vælg……………………………………"]
[null,{"$f":"IF($B$3=\"Dansk\", \"   areal, ha\", \"   area, ha\")","v":"   areal, ha"}]
[null,{"$f":"IF($B$3=\"Dansk\",IF(OR(E439=topdowntables!$R$11, E439=topdowntables!$R$12), \"   udbytte, FE per ha\",\"   udbytte, kg per ha\"), IF(OR(E439=topdowntables!$R$23, E439=topdowntables!$R$24), \"   yield, FU per ha\",  \"   yield, kg per ha\"))","v":"   udbytte, kg per ha"}]
[null,{"$f":"IF($B$3=\"Dansk\", \"   høstet halm, %\", \"   harvested straw, %\")","v":"   høstet halm, %"}]
[null,{"$f":"IF($B$3=\"Dansk\", \"   input per ha:\", \"   input per ha:\")","v":"   input per ha:"}]
[null,{"$f":"IF($B$3=\"Dansk\", \"      udsæd, kg per ha\", \"      seed, kg per ha\")","v":"      udsæd, kg per ha"}]
[null,{"$f":"IF($B$3=\"Dansk\", \"      kalk, kg per ha\", \"      lime, kg per ha\")","v":"      kalk, kg per ha"}]
[null,{"$f":"IF($B$3=\"Dansk\", \"      vanding, %\", \"      irrigation, %\")","v":"      vanding, %"}]
[null,{"$f":"IF($B$3=\"Dansk\", \"      vand forbrug, mm per ha\", \"      water for irrigation, mm per ha\")","v":"      vand forbrug, mm per ha"}]
[]
[null,{"$f":"IF($B$3=\"Dansk\", \"afgrøde 3\", \"crop 3\")","v":"afgrøde 3"},null,null,"Vælg……………………………………"]
[null,{"$f":"IF($B$3=\"Dansk\", \"   areal, ha\", \"   area, ha\")","v":"   areal, ha"}]
[null,{"$f":"IF($B$3=\"Dansk\",IF(OR(E449=topdowntables!$R$11, E449=topdowntables!$R$12), \"   udbytte, FE per ha\",\"   udbytte, kg per ha\"), IF(OR(E449=topdowntables!$R$23, E449=topdowntables!$R$24), \"   yield, FU per ha\",  \"   yield, kg per ha\"))","v":"   udbytte, kg per ha"}]
[null,{"$f":"IF($B$3=\"Dansk\", \"   høstet halm, %\", \"   harvested straw, %\")","v":"   høstet halm, %"}]
[null,{"$f":"IF($B$3=\"Dansk\", \"   input per ha:\", \"   input per ha:\")","v":"   input per ha:"}]
[null,{"$f":"IF($B$3=\"Dansk\", \"      udsæd, kg per ha\", \"      seed, kg per ha\")","v":"      udsæd, kg per ha"}]
[null,{"$f":"IF($B$3=\"Dansk\", \"      kalk, kg per ha\", \"      lime, kg per ha\")","v":"      kalk, kg per ha"}]
[null,{"$f":"IF($B$3=\"Dansk\", \"      vanding, %\", \"      irrigation, %\")","v":"      vanding, %"}]
[null,{"$f":"IF($B$3=\"Dansk\", \"      vand forbrug, mm per ha\", \"      water for irrigation, mm per ha\")","v":"      vand forbrug, mm per ha"}]
[]
[null,{"$f":"IF($B$3=\"Dansk\", \"afgrøde 4\", \"crop 4\")","v":"afgrøde 4"},null,null,"Vælg……………………………………"]
[null,{"$f":"IF($B$3=\"Dansk\", \"   areal, ha\", \"   area, ha\")","v":"   areal, ha"}]
[null,{"$f":"IF($B$3=\"Dansk\",IF(OR(E459=topdowntables!$R$11, E459=topdowntables!$R$12), \"   udbytte, FE per ha\",\"   udbytte, kg per ha\"), IF(OR(E459=topdowntables!$R$23, E459=topdowntables!$R$24), \"   yield, FU per ha\",  \"   yield, kg per ha\"))","v":"   udbytte, kg per ha"}]
[null,{"$f":"IF($B$3=\"Dansk\", \"   høstet halm, %\", \"   harvested straw, %\")","v":"   høstet halm, %"}]
[null,{"$f":"IF($B$3=\"Dansk\", \"   input per ha:\", \"   input per ha:\")","v":"   input per ha:"}]
[null,{"$f":"IF($B$3=\"Dansk\", \"      udsæd, kg per ha\", \"      seed, kg per ha\")","v":"      udsæd, kg per ha"}]
[null,{"$f":"IF($B$3=\"Dansk\", \"      kalk, kg per ha\", \"      lime, kg per ha\")","v":"      kalk, kg per ha"}]
[null,{"$f":"IF($B$3=\"Dansk\", \"      vanding, %\", \"      irrigation, %\")","v":"      vanding, %"}]
[null,{"$f":"IF($B$3=\"Dansk\", \"      vand forbrug, mm per ha\", \"      water for irrigation, mm per ha\")","v":"      vand forbrug, mm per ha"}]
[]
[null,{"$f":"IF($B$3=\"Dansk\", \"afgrøde 5\", \"crop 5\")","v":"afgrøde 5"},null,null,"Vælg……………………………………"]
[null,{"$f":"IF($B$3=\"Dansk\", \"   areal, ha\", \"   area, ha\")","v":"   areal, ha"}]
[null,{"$f":"IF($B$3=\"Dansk\",IF(OR(E469=topdowntables!$R$11, E469=topdowntables!$R$12), \"   udbytte, FE per ha\",\"   udbytte, kg per ha\"), IF(OR(E469=topdowntables!$R$23, E469=topdowntables!$R$24), \"   yield, FU per ha\",  \"   yield, kg per ha\"))","v":"   udbytte, kg per ha"}]
[null,{"$f":"IF($B$3=\"Dansk\", \"   høstet halm, %\", \"   harvested straw, %\")","v":"   høstet halm, %"}]
[null,{"$f":"IF($B$3=\"Dansk\", \"   input per ha:\", \"   input per ha:\")","v":"   input per ha:"}]
[null,{"$f":"IF($B$3=\"Dansk\", \"      udsæd, kg per ha\", \"      seed, kg per ha\")","v":"      udsæd, kg per ha"}]
[null,{"$f":"IF($B$3=\"Dansk\", \"      kalk, kg per ha\", \"      lime, kg per ha\")","v":"      kalk, kg per ha"}]
[null,{"$f":"IF($B$3=\"Dansk\", \"      vanding, %\", \"      irrigation, %\")","v":"      vanding, %"}]
[null,{"$f":"IF($B$3=\"Dansk\", \"      vand forbrug, mm per ha\", \"      water for irrigation, mm per ha\")","v":"      vand forbrug, mm per ha"}]
[]
[null,{"$f":"IF($B$3=\"Dansk\", \"afgrøde 6\", \"crop 6\")","v":"afgrøde 6"},null,null,"Vælg……………………………………"]
[null,{"$f":"IF($B$3=\"Dansk\", \"   areal, ha\", \"   area, ha\")","v":"   areal, ha"}]
[null,{"$f":"IF($B$3=\"Dansk\",IF(OR(E479=topdowntables!$R$11, E479=topdowntables!$R$12), \"   udbytte, FE per ha\",\"   udbytte, kg per ha\"), IF(OR(E479=topdowntables!$R$23, E479=topdowntables!$R$24), \"   yield, FU per ha\",  \"   yield, kg per ha\"))","v":"   udbytte, kg per ha"}]
[null,{"$f":"IF($B$3=\"Dansk\", \"   høstet halm, %\", \"   harvested straw, %\")","v":"   høstet halm, %"}]
[null,{"$f":"IF($B$3=\"Dansk\", \"   input per ha:\", \"   input per ha:\")","v":"   input per ha:"}]
[null,{"$f":"IF($B$3=\"Dansk\", \"      udsæd, kg per ha\", \"      seed, kg per ha\")","v":"      udsæd, kg per ha"}]
[null,{"$f":"IF($B$3=\"Dansk\", \"      kalk, kg per ha\", \"      lime, kg per ha\")","v":"      kalk, kg per ha"}]
[null,{"$f":"IF($B$3=\"Dansk\", \"      vanding, %\", \"      irrigation, %\")","v":"      vanding, %"}]
[null,{"$f":"IF($B$3=\"Dansk\", \"      vand forbrug, mm per ha\", \"      water for irrigation, mm per ha\")","v":"      vand forbrug, mm per ha"}]
[]
[]
[]
[null,{"$f":"IF(B3=\"Dansk\", \"Energiforbrug\", \"Energy use\")","v":"Energiforbrug"}]
[null,{"$f":"IF(B3=\"Dansk\", \"elektricitet i stalde, kWh\", \"electricity used in stable\")","v":"elektricitet i stalde, kWh"}]
[null,{"$f":"IF(B3=\"Dansk\", \"diesel til mark operationer, l per ha\", \"disel, used for field operations, l per ha\")","v":"diesel til mark operationer, l per ha"},null,null,null,null,null,{"$f":"IF(E493=0, IF(B3=\"Dansk\", \"info: Typisk diesel forbrug er 64 liter per ha\", \"info: Typical diesel consumption is 64 l per ha\"), \"\")","v":"info: Typisk diesel forbrug er 64 liter per ha"}]
[]
[]
[]
[null,{"$f":"IF(B3=\"Dansk\", \"Produktion\", \"Output\")","v":"Produktion"}]
[null,{"$f":"IF(B3=\"Dansk\", \"solgt ved fravænning, stk. per år\", \"piglets, sold after weaning, p. per year\")","v":"solgt ved fravænning, stk. per år"},null,null,{"$f":"'Flow sohold'!D19","v":0}]
[null,{"$f":"IF(B3=\"Dansk\", \"søer til udsætning, stk. per år\", \"cull sows, p. per year\")","v":"søer til udsætning, stk. per år"},null,null,{"$f":"'Flow sohold'!D7+'Flow sohold'!D8","v":0}]
[null,{"$f":"IF(B3=\"Dansk\", \"solgte smågrise, stk. per år\", \"sold piglets, p. per year\")","v":"solgte smågrise, stk. per år"},null,null,{"$f":"'Flow smågrise'!D11","v":0}]
[null,{"$f":"IF(B3=\"Dansk\", \"producerede slagtesvin, stk. per år\", \"produced slaughter pigs, p. per year\")","v":"producerede slagtesvin, stk. per år"},null,null,{"$f":"'Flow slagtesvin'!D8","v":0}]
[null,{"$f":"IF(B3=\"Dansk\", \"salgsafgrøder, solgte t per år\", \"cash crops, t per year\")","v":"salgsafgrøder, solgte t per år"},null,null,{"$f":"IF($B$3=\"Dansk\", \"cash afgrøder type\", \"cash crop type\")","v":"cash afgrøder type"},{"$f":"IF($B$3=\"Dansk\", \"t\", \"t\")","v":"t"}]
[null,null,null,null,{"$f":"IF(OR(E429=\"Vælg……………………………………\",E429=\"Select…………………………………\"),\"\",E429)","v":""},{"$f":"IFERROR(IFERROR(IF( (VLOOKUP(E503, feedavailability, 3, FALSE)-VLOOKUP(E503, feedavailability, 5, FALSE))/1000>= 0, (VLOOKUP(E503, feedavailability, 3, FALSE)-VLOOKUP(E503, feedavailability, 5, FALSE))/1000,0), VLOOKUP(E503, feedavailability, 3, FALSE)/1000), 0)","v":0}]
[null,null,null,null,{"$f":"IF(OR(E439=\"Vælg……………………………………\",E439=\"Select…………………………………\"),\"\",E439)","v":""},0]
[null,null,null,null,{"$f":"IF(OR(E449=\"Vælg……………………………………\",E449=\"Select…………………………………\"),\"\",E449)","v":""},0]
[null,null,null,null,{"$f":"IF(OR(E459=\"Vælg……………………………………\",E459=\"Select…………………………………\"),\"\",E459)","v":""},0]
[null,null,null,null,{"$f":"IF(OR(E469=\"Vælg……………………………………\",E469=\"Select…………………………………\"),\"\",E469)","v":""},0]
[null,null,null,null,{"$f":"IF(OR(E479=\"Vælg……………………………………\",E479=\"Select…………………………………\"),\"\",E479)","v":""},0]
[]
[]
[]
[]
[]
[]
[]
[]
[]
[]
[]
[]
[]
[]
[]
[]
[null,null,null,null,null,null,null,null,null,null,null,null,null,null,"              "]

{"sheet":"N-balance","index":3,"n_rows":168,"n_cols":14,"rows_kept":168,"cut":false,"hidden":false,"merged":[[7,7,8,7],[7,8,8,8]]}
[]
[null,null,null,{"$f":"IF('input-data'!$B$3=\"Dansk\", \"N balancer\", \"N balances\")","v":"N balancer"}]
[]
[null,null,null,{"$f":"IF('input-data'!$B$3=\"Dansk\", \"Dyr N balance\", \"Herd N balance\")","v":"Dyr N balance"}]
[]
[null,null,null,{"$f":"IF('input-data'!$B$3=\"Dansk\", \"  Stalde\", \"  Stables\")","v":"  Stalde"}]
[]
[null,null,null,{"$f":"IF('input-data'!$B$3=\"Dansk\", \"Dyr\", \"Herd\")","v":"Dyr"},null,null,null,{"$f":"'input-data'!B43","v":" Diegivning søer"},{"$f":"'input-data'!B98","v":" Drægtige søer"},{"$f":"'input-data'!B154","v":" Smågrise"},{"$f":"'input-data'!B225","v":" Slagtesvin"},null,{"$f":"IF('input-data'!$B$3=\"Dansk\",\"Totalt\", \"Total\")","v":"Totalt"},{"$f":"IF('input-data'!$B$3=\"Dansk\",\"Totalt\", \"Total\")","v":"Totalt"}]
[null,null,null,null,null,null,{"$f":"IF('input-data'!$B$3=\"Dansk\", \"Enhed\", \"Unit\")","v":"Enhed"},null,null,null,null,null,{"$f":"IF('input-data'!$B$3=\"Dansk\",\"per gård\", \"per farm\")","v":"per gård"},{"$f":"IF('input-data'!$B$3=\"Dansk\",\"per ha\", \"per ha\")","v":"per ha"}]
[null,null,null,{"$f":"IF('input-data'!$B$3=\"Dansk\", \"Stalde\", \"Stables\")","v":"Stalde"}]
[null,null,null,{"$f":"IF('input-data'!$B$3=\"Dansk\", \"N-ind\", \"N input\")","v":"N-ind"},{"$f":"IF('input-data'!$B$3=\"Dansk\",\"Dyr\", \"Animals\")","v":"Dyr"},null,"kg N",{"$f":"'N-P balance sohold'!C6-H39","v":0},null,{"$f":"IF(OR('input-data'!$E$346=topdowntables!$C$14, 'input-data'!$E$346=topdowntables!$C$19), 'N-P balance smågrise'!$C$6, IF( OR('input-data'!$E$346=topdowntables!$C$15, 'input-data'!$E$346=topdowntables!$C$20), 0, 'input-data'!F347*'Flow smågrise'!D9*'NPK tal'!B5/1000))","v":0},{"$f":"IF(OR('input-data'!$E$368=topdowntables!$C$25,'input-data'!$E$368=topdowntables!$C$30),'N-P balance slagtesvin'!$C$6,IF(OR('input-data'!$E$368=topdowntables!$C$26, 'input-data'!$E$368=topdowntables!$C$31), 0, 'input-data'!$F$369*'Flow slagtesvin'!$D$8*'NPK tal'!$B$6/1000))","v":0},null,{"$f":"SUM(H11:K11)","v":0},{"$f":"IFERROR(M11/('Mark-Fields'!$M$6-'Mark-Fields'!$C$6-'Mark-Fields'!$D$6-'Mark-Fields'!$E$6-'Mark-Fields'!$F$6),0)","v":0}]
[null,null,null,null,{"$f":"IF('input-data'!$B$3=\"Dansk\",\"Foder\", \"Feed\")","v":"Foder"},{"$f":"IF('input-data'!$B$3=\"Dansk\",\"Kraftoder\", \"Concentrated feed\")","v":"Kraftoder"},"kg N",{"$f":"'N-P balance sohold'!C8+'N-P balance sohold'!C9-H40","v":0},{"$f":"'N-P balance sohold'!C114-I40","v":0},{"$f":"'N-P balance smågrise'!C9","v":0},{"$f":"'N-P balance slagtesvin'!C9","v":0},null,{"$f":"SUM(H12:K12)","v":0},{"$f":"IFERROR(M12/('Mark-Fields'!$M$6-'Mark-Fields'!$C$6-'Mark-Fields'!$D$6-'Mark-Fields'!$E$6-'Mark-Fields'!$F$6),0)","v":0}]
[null,null,null,null,null,{"$f":"IF('input-data'!$B$3=\"Dansk\",\"Grovfoder\", \"Roughage\")","v":"Grovfoder"},"kg N",{"$f":"'N-P balance sohold'!C12","v":0},{"$f":"'N-P balance sohold'!C117","v":0},{"$f":"'N-P balance smågrise'!C12","v":0},{"$f":"IFERROR('N-P balance slagtesvin'!C12,0)","v":0},null,0,{"$f":"IFERROR(M13/('Mark-Fields'!$M$6-'Mark-Fields'!$C$6-'Mark-Fields'!$D$6-'Mark-Fields'!$E$6-'Mark-Fields'!$F$6),0)","v":0}]
[null,null,null,null,{"$f":"IF('input-data'!$B$3=\"Dansk\",\"Strøelse\", \"Bedding materials\")","v":"Strøelse"},null,"kg N",{"$f":"'N-P balance sohold'!C15","v":0},{"$f":"'N-P balance sohold'!C120","v":0},{"$f":"IFERROR('N-P balance smågrise'!C15,0)","v":0},{"$f":"'N-P balance slagtesvin'!C15","v":0},null,0,{"$f":"IFERROR(M14/('Mark-Fields'!$M$6-'Mark-Fields'!$C$6-'Mark-Fields'!$D$6-'Mark-Fields'!$E$6-'Mark-Fields'!$F$6),0)","v":0}]
[null,null,null,{"$f":"IF('input-data'!$B$3=\"Dansk\",\"Total N - ind\", \"Total N input\")","v":"Total N - ind"},null,null,"kg N",{"$f":"SUM(H11:H14)","v":0},{"$f":"SUM(I11:I14)","v":0},{"$f":"SUM(J11:J14)","v":0},0,null,{"$f":"SUM(M11:M14)","v":0},{"$f":"IFERROR(M15/('Mark-Fields'!$M$6-'Mark-Fields'!$C$6-'Mark-Fields'!$D$6-'Mark-Fields'!$E$6-'Mark-Fields'!$F$6),0)","v":0}]
[null,null,null,{"$f":"IF('input-data'!$B$3=\"Dansk\",\"N-ud\", \"N output\")","v":"N-ud"},{"$f":"IF('input-data'!$B$3=\"Dansk\",\"Dyr\", \"Animals\")","v":"Dyr"},{"$f":"IF('input-data'!$B$3=\"Dansk\",\"Overførte / Solgt\", \"Transffered / Sold\")","v":"Overførte / Solgt"},"kg N",{"$f":"'N-P balance sohold'!C19-H45","v":0},{"$f":"'N-P balance sohold'!C124-I45","v":0},{"$f":"'N-P balance smågrise'!C19-J45","v":0},{"$f":"'N-P balance slagtesvin'!C19","v":0},null,{"$f":"H16+I16+J16+K16","v":0},{"$f":"IFERROR(M16/('Mark-Fields'!$M$6-'Mark-Fields'!$C$6-'Mark-Fields'!$D$6-'Mark-Fields'!$E$6-'Mark-Fields'!$F$6),0)","v":0}]
[null,null,null,null,null,{"$f":"IF('input-data'!$B$3=\"Dansk\",\"Døde\", \"Dead\")","v":"Døde"},"kg N",{"$f":"'N-P balance sohold'!C20-H46","v":0},null,{"$f":"IF(OR('input-data'!$E$346=topdowntables!$C$14, 'input-data'!$E$346=topdowntables!$C$19), 'N-P balance smågrise'!$C$20, IF( OR('input-data'!$E$346=topdowntables!$C$15, 'input-data'!$E$346=topdowntables!$C$20), 0,'N-P balance smågrise'!$C$20/2 ))","v":0},{"$f":"IF(OR('input-data'!$E$368=topdowntables!$C$25,'input-data'!$E$368=topdowntables!$C$30),'N-P balance slagtesvin'!$C$20,IF(OR('input-data'!$E$368=topdowntables!$C$26, 'input-data'!$E$368=topdowntables!$C$31), 0, 'N-P balance slagtesvin'!$C$20/2))","v":0},null,{"$f":"SUM(H17:K17)","v":0},{"$f":"IFERROR(M17/('Mark-Fields'!$M$6-'Mark-Fields'!$C$6-'Mark-Fields'!$D$6-'Mark-Fields'!$E$6-'Mark-Fields'!$F$6),0)","v":0}]
[null,null,null,{"$f":"IF('input-data'!$B$3=\"Dansk\",\"Total N - ud\", \"Total N output\")","v":"Total N - ud"},null,null,"kg N",{"$f":"SUM(H16:H17)","v":0},{"$f":"SUM(I16:I17)","v":0},{"$f":"SUM(J16:J17)","v":0},0,null,{"$f":"M16+M17","v":0},{"$f":"IFERROR(M18/('Mark-Fields'!$M$6-'Mark-Fields'!$C$6-'Mark-Fields'!$D$6-'Mark-Fields'!$E$6-'Mark-Fields'!$F$6),0)","v":0}]
[null,null,null,{"$f":"IF('input-data'!$B$3=\"Dansk\", \"N ab dyr + strøelse\", \"N ex-animal + straw\")","v":"N ab dyr + strøelse"},null,null,"kg N",{"$f":"H15-H18","v":0},{"$f":"I15-I18","v":0},{"$f":"J15-J18","v":0},{"$f":"K15-K18","v":0},null,{"$f":"M15-M18","v":0},{"$f":"IFERROR(M19/('Mark-Fields'!$M$6-'Mark-Fields'!$C$6-'Mark-Fields'!$D$6-'Mark-Fields'!$E$6-'Mark-Fields'!$F$6),0)","v":0}]
[null,null,null,{"$f":"IF('input-data'!$B$3=\"Dansk\", \"N ab dyr\", \"N ex-animal\")","v":"N ab dyr"},null,null,"kg N",{"$f":"'N-P balance sohold'!C24","v":0},{"$f":"'N-P balance sohold'!C128","v":0},{"$f":"'N-P balance smågrise'!C24","v":0},{"$f":"'N-P balance slagtesvin'!C24","v":0},null,{"$f":"SUM(H20:K20)","v":0},{"$f":"IFERROR(M20/('Mark-Fields'!$M$6-'Mark-Fields'!$C$6-'Mark-Fields'!$D$6-'Mark-Fields'!$E$6-'Mark-Fields'!$F$6),0)","v":0}]
[null,null,null,{"$f":"IF('input-data'!$B$3=\"Dansk\", \"N-Tab stald\", \"N loss stable\")","v":"N-Tab stald"},"NH3-N",{"$f":"IF('input-data'!$B$3=\"Dansk\",\"Gødning\", \"Manure\")","v":"Gødning"},"kg N",{"$f":"'N-P balance sohold'!C43","v":0},{"$f":"'N-P balance sohold'!C147","v":0},{"$f":"'N-P balance smågrise'!C43","v":0},{"$f":"'N-P balance slagtesvin'!C43","v":0},null,{"$f":"SUM(H21:K21)","v":0},{"$f":"IFERROR(M21/('Mark-Fields'!$M$6-'Mark-Fields'!$C$6-'Mark-Fields'!$D$6-'Mark-Fields'!$E$6-'Mark-Fields'!$F$6),0)","v":0}]
[null,null,null,null,{"$f":"IF('input-data'!$B$3=\"Dansk\",\"direkte N2O-N\", \"direct N2O-N\")","v":"direkte N2O-N"},{"$f":"IF('input-data'!$B$3=\"Dansk\",\"Gødning\", \"Manure\")","v":"Gødning"},"kg N",{"$f":"'N-P balance sohold'!C44","v":0},{"$f":"'N-P balance sohold'!C148","v":0},{"$f":"'N-P balance smågrise'!C44","v":0},{"$f":"'N-P balance slagtesvin'!C44","v":0},null,0,{"$f":"IFERROR(M22/('Mark-Fields'!$M$6-'Mark-Fields'!$C$6-'Mark-Fields'!$D$6-'Mark-Fields'!$E$6-'Mark-Fields'!$F$6),0)","v":0}]
[null,null,null,null,{"$f":"IF('input-data'!$B$3=\"Dansk\",\"indirekte N2O-N\", \"indirect N2O-N\")","v":"indirekte N2O-N"},"NH3","kg N",{"$f":"H21*0.01","v":0},{"$f":"I21*0.01","v":0},0,0,null,{"$f":"SUM(H23:K23)","v":0},{"$f":"IFERROR(M23/('Mark-Fields'!$M$6-'Mark-Fields'!$C$6-'Mark-Fields'!$D$6-'Mark-Fields'!$E$6-'Mark-Fields'!$F$6),0)","v":0}]
[null,null,null,null,"NOx-N",{"$f":"IF('input-data'!$B$3=\"Dansk\",\"Gødning\", \"Manure\")","v":"Gødning"},"kg N",{"$f":"'N-P balance sohold'!C46","v":0},{"$f":"'N-P balance sohold'!C150","v":0},{"$f":"'N-P balance smågrise'!C46","v":0},{"$f":"'N-P balance slagtesvin'!C46","v":0},null,0,{"$f":"IFERROR(M24/('Mark-Fields'!$M$6-'Mark-Fields'!$C$6-'Mark-Fields'!$D$6-'Mark-Fields'!$E$6-'Mark-Fields'!$F$6),0)","v":0}]
[null,null,null,null,"N2-N",{"$f":"IF('input-data'!$B$3=\"Dansk\",\"Gødning\", \"Manure\")","v":"Gødning"},"kg N",{"$f":"'N-P balance sohold'!C45","v":0},{"$f":"'N-P balance sohold'!C149","v":0},{"$f":"'N-P balance smågrise'!C45","v":0},{"$f":"'N-P balance slagtesvin'!C45","v":0},null,0,{"$f":"IFERROR(M25/('Mark-Fields'!$M$6-'Mark-Fields'!$C$6-'Mark-Fields'!$D$6-'Mark-Fields'!$E$6-'Mark-Fields'!$F$6),0)","v":0}]
[null,null,null,{"$f":"IF('input-data'!$B$3=\"Dansk\", \"N-Tab lager\", \"N loss storage\")","v":"N-Tab lager"},"NH3-N",{"$f":"IF('input-data'!$B$3=\"Dansk\",\"Gødning\", \"Manure\")","v":"Gødning"},"kg N",{"$f":"'N-P balance sohold'!C54+'N-P balance sohold'!C61+'N-P balance sohold'!C68+'N-P balance sohold'!C75","v":0},{"$f":"'N-P balance sohold'!C158+'N-P balance sohold'!C165+'N-P balance sohold'!C172+'N-P balance sohold'!C179","v":0},{"$f":"'N-P balance smågrise'!C54+'N-P balance smågrise'!C61+'N-P balance smågrise'!C68+'N-P balance smågrise'!C75","v":0},{"$f":"'N-P balance slagtesvin'!C54+'N-P balance slagtesvin'!C61+'N-P balance slagtesvin'!C68+'N-P balance slagtesvin'!C75","v":0},null,{"$f":"H26+I26+J26+K26","v":0},{"$f":"IFERROR(M26/('Mark-Fields'!$M$6-'Mark-Fields'!$C$6-'Mark-Fields'!$D$6-'Mark-Fields'!$E$6-'Mark-Fields'!$F$6),0)","v":0}]
[null,null,null,null,{"$f":"IF('input-data'!$B$3=\"Dansk\",\"direkte N2O-N\", \"direct N2O-N\")","v":"direkte N2O-N"},{"$f":"IF('input-data'!$B$3=\"Dansk\",\"Gødning\", \"Manure\")","v":"Gødning"},"kg N",{"$f":"'N-P balance sohold'!C55+'N-P balance sohold'!C62+'N-P balance sohold'!C69+'N-P balance sohold'!C76","v":0},{"$f":"'N-P balance sohold'!C159+'N-P balance sohold'!C166+'N-P balance sohold'!C173+'N-P balance sohold'!C180","v":0},{"$f":"'N-P balance smågrise'!C55+'N-P balance smågrise'!C62+'N-P balance smågrise'!C69+'N-P balance smågrise'!C76","v":0},{"$f":"'N-P balance slagtesvin'!C55+'N-P balance slagtesvin'!C62+'N-P balance slagtesvin'!C69+'N-P balance slagtesvin'!C76","v":0},null,{"$f":"H27+I27+J27+K27","v":0},{"$f":"IFERROR(M27/('Mark-Fields'!$M$6-'Mark-Fields'!$C$6-'Mark-Fields'!$D$6-'Mark-Fields'!$E$6-'Mark-Fields'!$F$6),0)","v":0}]
[null,null,null,null,{"$f":"IF('input-data'!$B$3=\"Dansk\",\"indirekte N2O-N\", \"indirect N2O-N\")","v":"indirekte N2O-N"},"NH3","kg N",{"$f":"H26*0.01","v":0},{"$f":"I26*0.01","v":0},0,0,null,{"$f":"H28+I28+J28+K28","v":0},{"$f":"IFERROR(M28/('Mark-Fields'!$M$6-'Mark-Fields'!$C$6-'Mark-Fields'!$D$6-'Mark-Fields'!$E$6-'Mark-Fields'!$F$6),0)","v":0}]
[null,null,null,null,"NOx-N",{"$f":"IF('input-data'!$B$3=\"Dansk\",\"Gødning\", \"Manure\")","v":"Gødning"},"kg N",{"$f":"'N-P balance sohold'!C57+'N-P balance sohold'!C64+'N-P balance sohold'!C71+'N-P balance sohold'!C78","v":0},{"$f":"'N-P balance sohold'!C161+'N-P balance sohold'!C168+'N-P balance sohold'!C175+'N-P balance sohold'!C182","v":0},{"$f":"'N-P balance smågrise'!C57+'N-P balance smågrise'!C64+'N-P balance smågrise'!C71+'N-P balance smågrise'!C78","v":0},{"$f":"'N-P balance slagtesvin'!C64+'N-P balance slagtesvin'!C57+'N-P balance slagtesvin'!C71+'N-P balance slagtesvin'!C78","v":0},null,0,{"$f":"IFERROR(M29/('Mark-Fields'!$M$6-'Mark-Fields'!$C$6-'Mark-Fields'!$D$6-'Mark-Fields'!$E$6-'Mark-Fields'!$F$6),0)","v":0}]
[null,null,null,null,"N2-N",{"$f":"IF('input-data'!$B$3=\"Dansk\",\"Gødning\", \"Manure\")","v":"Gødning"},"kg N",{"$f":"'N-P balance sohold'!C56+'N-P balance sohold'!C63+'N-P balance sohold'!C70+'N-P balance sohold'!C77","v":0},{"$f":"'N-P balance sohold'!C160+'N-P balance sohold'!C167+'N-P balance sohold'!C174+'N-P balance sohold'!C181","v":0},{"$f":"'N-P balance smågrise'!C56+'N-P balance smågrise'!C63+'N-P balance smågrise'!C70+'N-P balance smågrise'!C77","v":0},{"$f":"'N-P balance slagtesvin'!C56+'N-P balance slagtesvin'!C63+'N-P balance slagtesvin'!C70+'N-P balance slagtesvin'!C77","v":0},null,0,{"$f":"IFERROR(M30/('Mark-Fields'!$M$6-'Mark-Fields'!$C$6-'Mark-Fields'!$D$6-'Mark-Fields'!$E$6-'Mark-Fields'!$F$6),0)","v":0}]
[null,null,null,{"$f":"IF('input-data'!$B$3=\"Dansk\", \"Indsamlet N-gødning\", \"Collected N loss manure\")","v":"Indsamlet N-gødning"},null,{"$f":"IF('input-data'!$B$3=\"Dansk\",\"Gødning\", \"Manure\")","v":"Gødning"},"kg N",{"$f":"H20-H21-H22-H24-H25-H26-H27-H29-H30","v":0},{"$f":"I20-I21-I22-I24-I25-I26-I27-I29-I30","v":0},0,0,null,{"$f":"M20-M21-M22-M23-M24-M25-M26-M27-M28-M29-M30","v":0},{"$f":"IFERROR(M31/('Mark-Fields'!$M$6-'Mark-Fields'!$C$6-'Mark-Fields'!$D$6-'Mark-Fields'!$E$6-'Mark-Fields'!$F$6),0)","v":0}]
[null,null,null,null,{"$f":"IF('input-data'!$B$3=\"Dansk\",\"gylle\", \"slurry\")","v":"gylle"},{"$f":"IF('input-data'!$B$3=\"Dansk\",\"Gødning\", \"Manure\")","v":"Gødning"},"%",{"$f":"IFERROR('N-P balance sohold'!C58/('N-P balance sohold'!$C$58+'N-P balance sohold'!$C$65+'N-P balance sohold'!$C$72+'N-P balance sohold'!$C$79)*100, 0)","v":0},{"$f":"IFERROR('N-P balance sohold'!C162/('N-P balance sohold'!$C$162+'N-P balance sohold'!$C$169+'N-P balance sohold'!$C$176+'N-P balance sohold'!$C$183)*100, 0)","v":0},{"$f":"IFERROR('N-P balance smågrise'!C58/('N-P balance smågrise'!$C$58+'N-P balance smågrise'!$C$65+'N-P balance smågrise'!$C$72+'N-P balance smågrise'!$C$79)*100,0)","v":0},{"$f":"IFERROR('N-P balance slagtesvin'!C58/('N-P balance slagtesvin'!$C$58+'N-P balance slagtesvin'!$C$65+'N-P balance slagtesvin'!$C$72+'N-P balance slagtesvin'!$C$79)*100, 0)","v":0},null,{"$f":"IFERROR((H32/100*$H$31+I32/100*$I$31+J32/100*$J$31+K32/100*$K$31)/$M$31*100,0)","v":0}]
[null,null,null,null,{"$f":"IF('input-data'!$B$3=\"Dansk\",\"afgasset gylle\", \"de-gassed slurry\")","v":"afgasset gylle"},{"$f":"IF('input-data'!$B$3=\"Dansk\",\"Gødning\", \"Manure\")","v":"Gødning"},"%",{"$f":"IFERROR('N-P balance sohold'!C72/('N-P balance sohold'!$C$58+'N-P balance sohold'!$C$65+'N-P balance sohold'!$C$72+'N-P balance sohold'!$C$79)*100,0)","v":0},{"$f":"IFERROR('N-P balance sohold'!C176/('N-P balance sohold'!$C$162+'N-P balance sohold'!$C$169+'N-P balance sohold'!$C$176+'N-P balance sohold'!$C$183)*100, 0)","v":0},{"$f":"IFERROR('N-P balance smågrise'!C72/('N-P balance smågrise'!$C$58+'N-P balance smågrise'!$C$65+'N-P balance smågrise'!$C$72+'N-P balance smågrise'!$C$79)*100, 0)","v":0},{"$f":"IFERROR('N-P balance slagtesvin'!C65/('N-P balance slagtesvin'!$C$58+'N-P balance slagtesvin'!$C$65+'N-P balance slagtesvin'!$C$72+'N-P balance slagtesvin'!$C$79)*100, 0)","v":0},null,{"$f":"IFERROR((H33/100*$H$31+I33/100*$I$31+J33/100*$J$31+K33/100*$K$31)/$M$31*100,0)","v":0}]
[null,null,null,null,{"$f":"IF('input-data'!$B$3=\"Dansk\",\"forsuret gylle\", \"acidified slurry\")","v":"forsuret gylle"},{"$f":"IF('input-data'!$B$3=\"Dansk\",\"Gødning\", \"Manure\")","v":"Gødning"},"%",{"$f":"IFERROR('N-P balance sohold'!C79/('N-P balance sohold'!$C$58+'N-P balance sohold'!$C$65+'N-P balance sohold'!$C$72+'N-P balance sohold'!$C$79)*100, 0)","v":0},{"$f":"IFERROR('N-P balance sohold'!C183/('N-P balance sohold'!$C$162+'N-P balance sohold'!$C$169+'N-P balance sohold'!$C$176+'N-P balance sohold'!$C$183)*100, 0)","v":0},{"$f":"IFERROR('N-P balance smågrise'!C79/('N-P balance smågrise'!$C$58+'N-P balance smågrise'!$C$65+'N-P balance smågrise'!$C$72+'N-P balance smågrise'!$C$79)*100, 0)","v":0},{"$f":"IFERROR('N-P balance slagtesvin'!C72/('N-P balance slagtesvin'!$C$58+'N-P balance slagtesvin'!$C$65+'N-P balance slagtesvin'!$C$72+'N-P balance slagtesvin'!$C$79)*100, 0)","v":0},null,{"$f":"IFERROR((H34/100*$H$31+I34/100*$I$31+J34/100*$J$31+K34/100*$K$31)/$M$31*100,0)","v":0}]
[null,null,null,null,{"$f":"IF('input-data'!$B$3=\"Dansk\",\"dybstrøelse\", \"deep litter\")","v":"dybstrøelse"},{"$f":"IF('input-data'!$B$3=\"Dansk\",\"Gødning\", \"Manure\")","v":"Gødning"},"%",{"$f":"IFERROR('N-P balance sohold'!C65/('N-P balance sohold'!$C$58+'N-P balance sohold'!$C$65+'N-P balance sohold'!$C$72+'N-P balance sohold'!$C$79)*100,0)","v":0},{"$f":"IFERROR('N-P balance sohold'!C169/('N-P balance sohold'!$C$162+'N-P balance sohold'!$C$169+'N-P balance sohold'!$C$176+'N-P balance sohold'!$C$183)*100,0)","v":0},{"$f":"IFERROR('N-P balance smågrise'!C65/('N-P balance smågrise'!$C$58+'N-P balance smågrise'!$C$65+'N-P balance smågrise'!$C$72+'N-P balance smågrise'!$C$79)*100, 0)","v":0},{"$f":"IFERROR('N-P balance slagtesvin'!C79/('N-P balance slagtesvin'!$C$58+'N-P balance slagtesvin'!$C$65+'N-P balance slagtesvin'!$C$72+'N-P balance slagtesvin'!$C$79)*100, 0)","v":0},null,{"$f":"IFERROR((H35/100*$H$31+I35/100*$I$31+J35/100*$J$31+K35/100*$K$31)/$M$31*100,0)","v":0}]
[]
[null,null,null,{"$f":"IF('input-data'!$B$3=\"Dansk\", \"  Folde\", \"  Paddock\")","v":"  Folde"}]
[null,null,null,{"$f":"IF('input-data'!$B$3=\"Dansk\", \"Folde\", \"Paddock\")","v":"Folde"},null,null,null,{"$f":"H8","v":" Diegivning søer"},{"$f":"I8","v":" Drægtige søer"}," Smågrise"," Slagtesvin",null,{"$f":"IF('input-data'!$B$3=\"Dansk\",\"Totalt per gård\", \"Total per farm\")","v":"Totalt per gård"},"per ha"]
[null,null,null,{"$f":"IF('input-data'!$B$3=\"Dansk\", \"N-ind\", \"N input\")","v":"N-ind"},{"$f":"IF('input-data'!$B$3=\"Dansk\",\"Dyr\", \"Animals\")","v":"Dyr"},null,"kg N",{"$f":"IF(OR('input-data'!E302=topdowntables!C4,'input-data'!E302=topdowntables!C9),'N-P balance sohold'!C6,'N-P balance sohold'!C6*('input-data'!$F$303/365))","v":0},null,{"$f":"IF(OR('input-data'!$E$346=topdowntables!$C$14, 'input-data'!$E$346=topdowntables!$C$19), 0, IF( OR('input-data'!$E$346=topdowntables!$C$15, 'input-data'!$E$346=topdowntables!$C$20), 'N-P balance smågrise'!$C$6, 'Flow sohold'!$D$18*'Flow sohold'!$D$21*'NPK tal'!$B$5/1000))","v":0},{"$f":"IF(OR('input-data'!$E$368=topdowntables!$C$25,'input-data'!$E$368=topdowntables!$C$30),0,IF(OR('input-data'!$E$368=topdowntables!$C$26, 'input-data'!$E$368=topdowntables!$C$31), 'N-P balance slagtesvin'!$C$6, 'Flow smågrise'!$D$12*'Flow smågrise'!$D$13*'NPK tal'!$B$6/1000))","v":0},null,{"$f":"SUM(H39:K39)","v":0},{"$f":"IFERROR(M39/('Mark-Fields'!$C$6+'Mark-Fields'!$D$6+'Mark-Fields'!$E$6+'Mark-Fields'!$F$6),0)","v":0}]
[null,null,null,null,{"$f":"IF('input-data'!$B$3=\"Dansk\",\"Foder\", \"Feed\")","v":"Foder"},{"$f":"IF('input-data'!$B$3=\"Dansk\",\"Kraftoder\", \"Concentrated feed\")","v":"Kraftoder"},"kg N",{"$f":"IF(OR('input-data'!E302=topdowntables!C4,'input-data'!E302=topdowntables!C9), ('N-P balance sohold'!C8+'N-P balance sohold'!C9), ('N-P balance sohold'!C8+'N-P balance sohold'!C9)*('input-data'!$F$303/365))","v":0},{"$f":"IF(OR('input-data'!E324=topdowntables!C4,'input-data'!E324=topdowntables!C9), 'N-P balance sohold'!C114, 'N-P balance sohold'!C114*'input-data'!$F$325/365)","v":0},{"$f":"'N-P balance smågrise'!C8","v":0},{"$f":"'N-P balance slagtesvin'!C8","v":0},null,{"$f":"SUM(H40:K40)","v":0},{"$f":"IFERROR(M40/('Mark-Fields'!$C$6+'Mark-Fields'!$D$6+'Mark-Fields'!$E$6+'Mark-Fields'!$F$6),0)","v":0}]
[null,null,null,null,null,{"$f":"IF('input-data'!$B$3=\"Dansk\",\"Grovfoder\", \"Roughage\")","v":"Grovfoder"},"kg N",{"$f":"'N-P balance sohold'!C11-H42","v":0},{"$f":"'N-P balance sohold'!C116-I42","v":0},{"$f":"'N-P balance smågrise'!C11-J42","v":0},{"$f":"'N-P balance slagtesvin'!C11-K42","v":0},null,0,{"$f":"IFERROR(M41/('Mark-Fields'!$C$6+'Mark-Fields'!$D$6+'Mark-Fields'!$E$6+'Mark-Fields'!$F$6),0)","v":0}]
[null,null,null,null,null,{"$f":"IF('input-data'!$B$3=\"Dansk\",\"Afgræsning\", \"Grazing\")","v":"Afgræsning"},"kg N",{"$f":"'Flow sohold'!D40*Fodertabel!$L$319/100/6.25","v":0},{"$f":"'Flow sohold'!D44*Fodertabel!$L$319/100/6.25","v":0},{"$f":"'Flow smågrise'!D37*Fodertabel!L319/100/6.25","v":0},{"$f":"'Flow slagtesvin'!D36*Fodertabel!L322/100/6.25","v":0},null,0,{"$f":"IFERROR(M42/('Mark-Fields'!$C$6+'Mark-Fields'!$D$6+'Mark-Fields'!$E$6+'Mark-Fields'!$F$6),0)","v":0}]
[null,null,null,null,{"$f":"IF('input-data'!$B$3=\"Dansk\",\"Strøelse\", \"Bedding materials\")","v":"Strøelse"},null,"kg N",{"$f":"'N-P balance sohold'!C14","v":0},{"$f":"'N-P balance sohold'!C119","v":0},{"$f":"'N-P balance smågrise'!C14","v":0},{"$f":"'N-P balance slagtesvin'!C14","v":0},null,0,{"$f":"IFERROR(M43/('Mark-Fields'!$C$6+'Mark-Fields'!$D$6+'Mark-Fields'!$E$6+'Mark-Fields'!$F$6),0)","v":0}]
[null,null,null,{"$f":"IF('input-data'!$B$3=\"Dansk\",\"Total N - ind\", \"Total N input\")","v":"Total N - ind"},null,null,null,{"$f":"SUM(H39:H43)","v":0},{"$f":"SUM(I39:I43)","v":0},{"$f":"SUM(J39:J43)","v":0},{"$f":"SUM(K39:K43)","v":0},null,0,{"$f":"IFERROR(M44/('Mark-Fields'!$C$6+'Mark-Fields'!$D$6+'Mark-Fields'!$E$6+'Mark-Fields'!$F$6),0)","v":0}]
[null,null,null,{"$f":"IF('input-data'!$B$3=\"Dansk\",\"N-ud\", \"N output\")","v":"N-ud"},{"$f":"IF('input-data'!$B$3=\"Dansk\",\"Dyr\", \"Animals\")","v":"Dyr"},{"$f":"IF('input-data'!$B$3=\"Dansk\",\"Overførte / Solgt\", \"Transffered / Sold\")","v":"Overførte / Solgt"},"kg N",{"$f":"IF(OR('input-data'!E302=topdowntables!C4,'input-data'!E302=topdowntables!C9),'N-P balance sohold'!C19,'N-P balance sohold'!C19*('input-data'!$F$303/365))","v":0},{"$f":"IF(OR('input-data'!E324=topdowntables!C4, 'input-data'!E324=topdowntables!C9),'N-P balance sohold'!C124, 'N-P balance sohold'!C124*'input-data'!$F$325/365)","v":0},{"$f":"IF(OR('input-data'!E346=topdowntables!C15, 'input-data'!E346=topdowntables!C20),'N-P balance smågrise'!C19,'N-P balance smågrise'!C19*'input-data'!F347/'input-data'!E29 )","v":0},{"$f":"('Flow slagtesvin'!D5+'Flow slagtesvin'!D6)*('input-data'!F369)*'NPK tal'!B6/1000","v":0},null,0,{"$f":"IFERROR(M45/('Mark-Fields'!$C$6+'Mark-Fields'!$D$6+'Mark-Fields'!$E$6+'Mark-Fields'!$F$6),0)","v":0}]
[null,null,null,null,null,{"$f":"IF('input-data'!$B$3=\"Dansk\",\"Døde\", \"Dead\")","v":"Døde"},"kg N",{"$f":"IF(OR('input-data'!E302=topdowntables!C4, 'input-data'!E302=topdowntables!C9),'N-P balance sohold'!C20, 'N-P balance sohold'!C20*('input-data'!$F$303/365))","v":0},null,{"$f":"IF(OR('input-data'!$E$346=topdowntables!$C$14, 'input-data'!$E$346=topdowntables!$C$19), 0, IF( OR('input-data'!$E$346=topdowntables!$C$15, 'input-data'!$E$346=topdowntables!$C$20), 'N-P balance smågrise'!$C$20,'N-P balance smågrise'!$C$20/2 ))","v":0},{"$f":"IF(OR('input-data'!$E$368=topdowntables!$C$25,'input-data'!$E$368=topdowntables!$C$30),0,IF(OR('input-data'!$E$368=topdowntables!$C$26, 'input-data'!$E$368=topdowntables!$C$31), 'N-P balance slagtesvin'!$C$20, 'N-P balance slagtesvin'!$C$20/2))","v":0},null,0,{"$f":"IFERROR(M46/('Mark-Fields'!$C$6+'Mark-Fields'!$D$6+'Mark-Fields'!$E$6+'Mark-Fields'!$F$6),0)","v":0}]
[null,null,null,{"$f":"IF('input-data'!$B$3=\"Dansk\",\"Total N - ud\", \"Total N output\")","v":"Total N - ud"},null,null,null,{"$f":"SUM(H45:H46)","v":0},{"$f":"SUM(I45:I46)","v":0},{"$f":"SUM(J45:J46)","v":0},0,null,{"$f":"SUM(H47:K47)","v":0},{"$f":"IFERROR(M47/('Mark-Fields'!$C$6+'Mark-Fields'!$D$6+'Mark-Fields'!$E$6+'Mark-Fields'!$F$6),0)","v":0}]
[null,null,null,{"$f":"IF('input-data'!$B$3=\"Dansk\", \"N ab dyr + strøelse\", \"N ex-animal + straw\")","v":"N ab dyr + strøelse"},null,null,"kg N",{"$f":"H44-H47","v":0},{"$f":"I44-I47","v":0},{"$f":"J44-J47","v":0},0,null,0,{"$f":"IFERROR(M48/('Mark-Fields'!$C$6+'Mark-Fields'!$D$6+'Mark-Fields'!$E$6+'Mark-Fields'!$F$6),0)","v":0}]
[null,null,null,{"$f":"IF('input-data'!$B$3=\"Dansk\", \"N ab dyr\", \"N ex-animal\")","v":"N ab dyr"},null,null,null,{"$f":"'N-P balance sohold'!C23","v":0},{"$f":"'N-P balance sohold'!C127","v":0},{"$f":"'N-P balance smågrise'!C23","v":0},{"$f":"'N-P balance slagtesvin'!C23","v":0},null,0,{"$f":"IFERROR(M49/('Mark-Fields'!$C$6+'Mark-Fields'!$D$6+'Mark-Fields'!$E$6+'Mark-Fields'!$F$6),0)","v":0}]
[null,null,null,{"$f":"IF('input-data'!$B$3=\"Dansk\", \"N-Tab folde\", \"N losses paddock\")","v":"N-Tab folde"},"NH3-N",{"$f":"IF('input-data'!$B$3=\"Dansk\",\"Gødning\", \"Manure\")","v":"Gødning"},"kg N",{"$f":"'N-P balance sohold'!C36","v":0},{"$f":"'N-P balance sohold'!C140","v":0},{"$f":"'N-P balance smågrise'!C36","v":0},{"$f":"'N-P balance slagtesvin'!C36","v":0},null,0,{"$f":"IFERROR(M50/('Mark-Fields'!$C$6+'Mark-Fields'!$D$6+'Mark-Fields'!$E$6+'Mark-Fields'!$F$6),0)","v":0}]
[null,null,null,null,{"$f":"IF('input-data'!$B$3=\"Dansk\",\"direkte N2O-N\", \"direct N2O-N\")","v":"direkte N2O-N"},{"$f":"IF('input-data'!$B$3=\"Dansk\",\"Gødning\", \"Manure\")","v":"Gødning"},"kg N",{"$f":"'N-P balance sohold'!C37","v":0},{"$f":"'N-P balance sohold'!C141","v":0},{"$f":"'N-P balance smågrise'!C37","v":0},{"$f":"'N-P balance slagtesvin'!C37","v":0},null,0,{"$f":"IFERROR(M51/('Mark-Fields'!$C$6+'Mark-Fields'!$D$6+'Mark-Fields'!$E$6+'Mark-Fields'!$F$6),0)","v":0}]
[null,null,null,null,"NOx-N",{"$f":"IF('input-data'!$B$3=\"Dansk\",\"Gødning\", \"Manure\")","v":"Gødning"},"kg N",{"$f":"'N-P balance sohold'!C39","v":0},{"$f":"'N-P balance sohold'!C143","v":0},{"$f":"'N-P balance smågrise'!C39","v":0},{"$f":"'N-P balance slagtesvin'!C39","v":0},null,0,{"$f":"IFERROR(M52/('Mark-Fields'!$C$6+'Mark-Fields'!$D$6+'Mark-Fields'!$E$6+'Mark-Fields'!$F$6),0)","v":0}]
[null,null,null,null,"N2-N",{"$f":"IF('input-data'!$B$3=\"Dansk\",\"Gødning\", \"Manure\")","v":"Gødning"},"kg N",{"$f":"'N-P balance sohold'!C38","v":0},{"$f":"'N-P balance sohold'!C143","v":0},{"$f":"'N-P balance smågrise'!C38","v":0},{"$f":"'N-P balance slagtesvin'!C38","v":0},null,0,{"$f":"IFERROR(M53/('Mark-Fields'!$C$6+'Mark-Fields'!$D$6+'Mark-Fields'!$E$6+'Mark-Fields'!$F$6),0)","v":0}]
[null,null,null,null,{"$f":"IF('input-data'!$B$3=\"Dansk\",\"indirekte N2O-N\", \"indirect N2O-N\")","v":"indirekte N2O-N"},"NH3","kg N",{"$f":"'Mark-Fields'!C95*'Mark-Fields'!C6","v":0},{"$f":"'Mark-Fields'!D95*'Mark-Fields'!D6","v":0},{"$f":"'Mark-Fields'!E95*'Mark-Fields'!E6","v":0},{"$f":"'Mark-Fields'!F95*'Mark-Fields'!F6","v":0},null,{"$f":"SUM(H54:K54)","v":0},{"$f":"IFERROR(M54/('Mark-Fields'!$C$6+'Mark-Fields'!$D$6+'Mark-Fields'!$E$6+'Mark-Fields'!$F$6),0)","v":0}]
[]
[]
[]
[]
[null,null,null,{"$f":"IF('input-data'!$B$3=\"Dansk\", \"Mark\", \"Fields\")","v":"Mark"}]
[null,null,null,{"$f":"IF('input-data'!$B$3=\"Dansk\", \"Mark\", \"Fields\")","v":"Mark"},null,null,null,{"$f":"D38","v":"Folde"},{"$f":"IF('input-data'!$B$3=\"Dansk\", \"Øvrige mark\", \"Other fields\")","v":"Øvrige mark"},null,null,null,{"$f":"IF('input-data'!$B$3=\"Dansk\",\"Totalt per gård\", \"Total per farm\")","v":"Totalt per gård"},"per ha"]
[null,null,null,null,{"$f":"IF('input-data'!$B$3=\"Dansk\",\"Areal, ha\", \"Area, ha\")","v":"Areal, ha"},null,null,{"$f":"SUM('Mark-Fields'!C6:F6)","v":0},{"$f":"SUM('Mark-Fields'!G6:L6)","v":0},null,null,null,{"$f":"H61+I61","v":0}]
[null,null,null,{"$f":"IF('input-data'!$B$3=\"Dansk\", \"N-ind\", \"N input\")","v":"N-ind"},{"$f":"IF('input-data'!$B$3=\"Dansk\",\"Gødning\", \"Manure\")","v":"Gødning"},null,"kg N",{"$f":"SUMPRODUCT('Mark-Fields'!$C$6:$F$6, 'Mark-Fields'!C83:F83)","v":0},{"$f":"M31","v":0},null,null,null,{"$f":"H62+I62","v":0},{"$f":"IFERROR(M62/$M$61,0)","v":0}]
[null,null,null,null,{"$f":"IF('input-data'!$B$3=\"Dansk\",\"Udsæd\", \"Seed\")","v":"Udsæd"},null,"kg N",{"$f":"SUMPRODUCT('Mark-Fields'!$C$6:$F$6, 'Mark-Fields'!C84:F84)","v":0},{"$f":"SUMPRODUCT('Mark-Fields'!G6:L6, 'Mark-Fields'!G84:L84)","v":0},null,null,null,{"$f":"H63+I63","v":0},{"$f":"IFERROR(M63/$M$61,0)","v":0}]
[null,null,null,null,{"$f":"IF('input-data'!$B$3=\"Dansk\",\"Fiksering\", \"Fixation\")","v":"Fiksering"},null,"kg N",{"$f":"SUMPRODUCT('Mark-Fields'!$C$6:$F$6, 'Mark-Fields'!C85:F85)","v":0},{"$f":"SUMPRODUCT('Mark-Fields'!G6:L6, 'Mark-Fields'!G85:L85)","v":0},null,null,null,0,0]
[null,null,null,null,"Deposition",null,"kg N",{"$f":"SUMPRODUCT('Mark-Fields'!$C$6:$F$6, 'Mark-Fields'!C86:F86)","v":0},{"$f":"SUMPRODUCT('Mark-Fields'!G6:L6, 'Mark-Fields'!G86:L86)","v":0},null,null,null,0,0]
[null,null,null,{"$f":"IF('input-data'!$B$3=\"Dansk\",\"Total N - ind\", \"Total N input\")","v":"Total N - ind"},null,null,"kg N",{"$f":"SUM(H62:H65)","v":0},{"$f":"SUM(I62:I65)","v":0},null,null,null,0,0]
[null,null,null,{"$f":"IF('input-data'!$B$3=\"Dansk\",\"N-ud\", \"N output\")","v":"N-ud"},{"$f":"IF('input-data'!$B$3=\"Dansk\",\"Afgrøder\", \"Crops\")","v":"Afgrøder"},null,"kg N",{"$f":"SUMPRODUCT('Mark-Fields'!$C$6:$F$6, 'Mark-Fields'!C89:F89)","v":0},{"$f":"SUMPRODUCT('Mark-Fields'!G6:L6, 'Mark-Fields'!G89:L89)","v":0},null,null,null,{"$f":"H67+I67","v":0},0]
[null,null,null,null,{"$f":"IF('input-data'!$B$3=\"Dansk\",\"Halm\", \"Straw\")","v":"Halm"},null,"kg N",{"$f":"SUMPRODUCT('Mark-Fields'!$C$6:$F$6, 'Mark-Fields'!C90:F90)","v":0},{"$f":"SUMPRODUCT('Mark-Fields'!G6:L6, 'Mark-Fields'!G90:L90)","v":0},null,null,null,0,0]
[null,null,null,{"$f":"IF('input-data'!$B$3=\"Dansk\",\"Total N - ud\", \"Total N output\")","v":"Total N - ud"},null,null,"kg N",{"$f":"SUM(H67:H68)","v":0},{"$f":"SUM(I67:I68)","v":0},null,null,null,0,0]
[null,null,null,{"$f":"IF('input-data'!$B$3=\"Dansk\",\"N overskud\", \"N surplus\")","v":"N overskud"},null,null,"kg N",{"$f":"H66-H69","v":0},{"$f":"I66-I69","v":0},null,null,null,0,0]
[null,null,null,{"$f":"IF('input-data'!$B$3=\"Dansk\", \"N-Tab\", \"N losses\")","v":"N-Tab"},"NH3-N",{"$f":"IF('input-data'!$B$3=\"Dansk\",\"Gødning\", \"Manure\")","v":"Gødning"},"kg N",{"$f":"SUMPRODUCT('Mark-Fields'!$C$6:$F$6, 'Mark-Fields'!C68:F68)","v":0},{"$f":"IFERROR(SUMPRODUCT('Mark-Fields'!G6:L6, 'Mark-Fields'!G68:L68),0)","v":0},null,null,null,{"$f":"H71+I71","v":0},0]
[null,null,null,null,null,{"$f":"IF('input-data'!$B$3=\"Dansk\",\"Afgrøder rester\", \"Crop residues\")","v":"Afgrøder rester"},"kg N",{"$f":"SUMPRODUCT('Mark-Fields'!$C$6:$F$6, 'Mark-Fields'!C69:F69)","v":0},{"$f":"SUMPRODUCT('Mark-Fields'!G6:L6, 'Mark-Fields'!G69:L69)","v":0},null,null,null,0,0]
[null,null,null,null,{"$f":"IF('input-data'!$B$3=\"Dansk\",\"direkte N2O-N\", \"direct N2O-N\")","v":"direkte N2O-N"},{"$f":"IF('input-data'!$B$3=\"Dansk\",\"Gødning\", \"Manure\")","v":"Gødning"},"kg N",{"$f":"SUMPRODUCT('Mark-Fields'!$C$6:$F$6, 'Mark-Fields'!C65:F65)","v":0},{"$f":"IFERROR(SUMPRODUCT('Mark-Fields'!G6:L6, 'Mark-Fields'!G65:L65),0)","v":0},null,null,null,0,0]
[null,null,null,null,null,{"$f":"IF('input-data'!$B$3=\"Dansk\",\"Afgrøder rester\", \"Crop residues\")","v":"Afgrøder rester"},"kg N",{"$f":"SUMPRODUCT('Mark-Fields'!$C$6:$F$6, 'Mark-Fields'!C66:F66)","v":0},{"$f":"SUMPRODUCT('Mark-Fields'!G6:L6, 'Mark-Fields'!G66:L66)","v":0},null,null,null,0,0]
[null,null,null,null,"NOx-N",{"$f":"IF('input-data'!$B$3=\"Dansk\",\"Gødning\", \"Manure\")","v":"Gødning"},"kg N",{"$f":"SUMPRODUCT('Mark-Fields'!$C$6:$F$6, 'Mark-Fields'!C71:F71)","v":0},{"$f":"SUMPRODUCT('Mark-Fields'!G6:L6, 'Mark-Fields'!G71:L71)","v":0},null,null,null,0,0]
[null,null,null,null,null,{"$f":"IF('input-data'!$B$3=\"Dansk\",\"Afgrøder rester\", \"Crop residues\")","v":"Afgrøder rester"},"kg N",{"$f":"SUMPRODUCT('Mark-Fields'!$C$6:$F$6, 'Mark-Fields'!C72:F72)","v":0},{"$f":"SUMPRODUCT('Mark-Fields'!G6:L6, 'Mark-Fields'!G72:L72)","v":0},null,null,null,0,0]
[null,null,null,null,"N2-N",{"$f":"IF('input-data'!$B$3=\"Dansk\",\"Gødning\", \"Manure\")","v":"Gødning"},"kg N",{"$f":"SUMPRODUCT('Mark-Fields'!$C$6:$F$6, 'Mark-Fields'!C74:F74)","v":0},{"$f":"SUMPRODUCT('Mark-Fields'!G6:L6, 'Mark-Fields'!G74:L74)","v":0},null,null,null,0,0]
[null,null,null,null,null,{"$f":"IF('input-data'!$B$3=\"Dansk\",\"Afgrøder rester\", \"Crop residues\")","v":"Afgrøder rester"},"kg N",{"$f":"SUMPRODUCT('Mark-Fields'!$C$6:$F$6, 'Mark-Fields'!C75:F75)","v":0},{"$f":"SUMPRODUCT('Mark-Fields'!G6:L6, 'Mark-Fields'!G75:L75)","v":0},null,null,null,0,0]
[null,null,null,null,{"$f":"IF('input-data'!$B$3=\"Dansk\",\"indirekte N2O-N\", \"indirect N2O-N\")","v":"indirekte N2O-N"},"NH3","kg N",{"$f":"SUMPRODUCT('Mark-Fields'!$C$6:$F$6, 'Mark-Fields'!C77:F77)","v":0},{"$f":"SUMPRODUCT('Mark-Fields'!G6:L6, 'Mark-Fields'!G77:L77)","v":0},null,null,null,0,0]
[null,null,null,{"$f":"IF('input-data'!$B$3=\"Dansk\", \"C i jord\", \"soil C changes\")","v":"C i jord"},"N",null,"kg N",{"$f":"SUMPRODUCT('Mark-Fields'!$C$6:$F$6, 'Mark-Fields'!C99:F99)","v":0},{"$f":"SUMPRODUCT('Mark-Fields'!G6:L6, 'Mark-Fields'!G99:L99)","v":0},null,null,null,0,0]
[null,null,null,{"$f":"IF('input-data'!$B$3=\"Dansk\", \"optag fra træer\", \"trees uptake\")","v":"optag fra træer"},null,null,"kg N",{"$f":"SUMPRODUCT('Mark-Fields'!$C$6:$F$6, 'Mark-Fields'!C100:F100)","v":0},{"$f":"SUMPRODUCT('Mark-Fields'!G6:L6, 'Mark-Fields'!G100:L100)","v":0},null,null,null,0,0]
[null,null,null,{"$f":"IF('input-data'!$B$3=\"Dansk\", \"Potentiel N  - Udvasking\", \"Potential N leaching\")","v":"Potentiel N  - Udvasking"},null,null,"kg N",{"$f":"H70-H71-H72-H73-H74-H75-H76-H77-H78-H79-H80-H81","v":0},{"$f":"I70-I71-I72-I73-I74-I75-I76-I77-I78-I79-I80-I81","v":0},null,null,null,{"$f":"H82+I82","v":0},{"$f":"IFERROR(M82/$M$61,0)","v":0}]
[null,null,null,null,{"$f":"IF('input-data'!$B$3=\"Dansk\",\"indirekte N2O-N\", \"indirect N2O-N\")","v":"indirekte N2O-N"},{"$f":"IF('input-data'!$B$3=\"Dansk\",\"udvaskning\", \"leaching\")","v":"udvaskning"},"kg N",{"$f":"SUMPRODUCT('Mark-Fields'!$C$6:$F$6, 'Mark-Fields'!C102:F102)","v":0},{"$f":"SUMPRODUCT('Mark-Fields'!G6:L6, 'Mark-Fields'!G102:L102)","v":0},null,null,null,0,0]
[]
[]
[null,null,null,{"$f":"IF('input-data'!$B$3=\"Dansk\", \"Gård\", \"Farm\")","v":"Gård"}]
[]
[null,null,null,{"$f":"D86","v":"Gård"},null,null,null,null,null,null,null,null,{"$f":"IF('input-data'!$B$3=\"Dansk\",\"Totalt per gård\", \"Total per farm\")","v":"Totalt per gård"},"per ha"]
[null,null,null,{"$f":"IF('input-data'!$B$3=\"Dansk\", \"N-ind\", \"N input\")","v":"N-ind"},{"$f":"IF('input-data'!$B$3=\"Dansk\",\"Foder\", \"Feed\")","v":"Foder"},{"$f":"IF('input-data'!$B$3=\"Dansk\",\"indkøb\", \"bought-in\")","v":"indkøb"},"kg N",null,null,null,null,null,{"$f":"'Feed - overview'!K191-'Feed - overview'!O191","v":0},{"$f":"IFERROR(M89/$M$61,0)","v":0}]
[null,null,null,null,{"$f":"IF('input-data'!$B$3=\"Dansk\",\"Strøelse\", \"Bedding materials\")","v":"Strøelse"},{"$f":"IF('input-data'!$B$3=\"Dansk\",\"indkøb\", \"bought-in\")","v":"indkøb"},"kg N",null,null,null,null,null,{"$f":"M14+M43","v":0},{"$f":"IFERROR(M90/$M$61,0)","v":0}]
[null,null,null,null,{"$f":"IF('input-data'!$B$3=\"Dansk\",\"Udsæd\", \"Seed\")","v":"Udsæd"},null,"kg N",null,null,null,null,null,{"$f":"M63","v":0},{"$f":"IFERROR(M91/$M$61,0)","v":0}]
[null,null,null,null,{"$f":"IF('input-data'!$B$3=\"Dansk\",\"Fiksering\", \"Fixation\")","v":"Fiksering"},null,"kg N",null,null,null,null,null,{"$f":"M64","v":0},0]
[null,null,null,null,"Deposition",null,"kg N",null,null,null,null,null,{"$f":"M65","v":0},0]
[null,null,null,{"$f":"IF('input-data'!$B$3=\"Dansk\",\"Total N - ind\", \"Total N input\")","v":"Total N - ind"},null,null,"kg N",null,null,null,null,null,{"$f":"SUM(M89:M93)","v":0},0]
[null,null,null,{"$f":"IF('input-data'!$B$3=\"Dansk\",\"N-ud\", \"N output\")","v":"N-ud"},{"$f":"IF('input-data'!$B$3=\"Dansk\",\"Afgrøder\", \"Crops\")","v":"Afgrøder"},{"$f":"IF('input-data'!$B$3=\"Dansk\",\"solgt\", \"sold\")","v":"solgt"},"kg N",null,null,null,null,null,{"$f":"'input-data'!F503*1000*VLOOKUP('input-data'!E503, Fodertabel, 10, FALSE)/100/6.25+'input-data'!F504*1000*VLOOKUP('input-data'!E504, Fodertabel, 10, FALSE)/100/6.25+'input-data'!F505*1000*VLOOKUP('input-data'!E505, Fodertabel, 10, FALSE)/100/6.25+'input-data'!F506*1000*VLOOKUP('input-data'!E506, Fodertabel, 10, FALSE)/100/6.25+'input-data'!F507*1000*VLOOKUP('input-data'!E507, Fodertabel, 10, FALSE)/100/6.25+'input-data'!F508*1000*VLOOKUP('input-data'!E508, Fodertabel, 10, FALSE)/100/6.25","v":{"$error":"#N/A"}},0]
[null,null,null,null,{"$f":"IF('input-data'!$B$3=\"Dansk\",\"Gødning\", \"Manure\")","v":"Gødning"},{"$f":"IF('input-data'!$B$3=\"Dansk\",\"solgt\", \"sold\")","v":"solgt"},"kg N",null,null,null,null,null,{"$f":"'input-data'!G397*5.84","v":0},0]
[null,null,null,null,{"$f":"IF('input-data'!$B$3=\"Dansk\",\"Dyr\", \"Animals\")","v":"Dyr"},{"$f":"IF('input-data'!$B$3=\"Dansk\",\"levende vægt\", \"liveweight\")","v":"levende vægt"},"kg N",null,null,null,null,null,{"$f":"K16","v":0},0]
[null,null,null,{"$f":"IF('input-data'!$B$3=\"Dansk\",\"Total N - ud\", \"Total N output\")","v":"Total N - ud"},null,null,"kg N",null,null,null,null,null,{"$f":"SUM(M95:M97)","v":{"$error":"#N/A"}},0]
[null,null,null,{"$f":"IF('input-data'!$B$3=\"Dansk\", \"N-Tab\", \"N losses\")","v":"N-Tab"},"NH3",{"$f":"IF('input-data'!$B$3=\"Dansk\",\"gødning + afgrøder rester\", \"manure + crop residiues\")","v":"gødning + afgrøder rester"},"kg N",null,null,null,null,null,{"$f":"M71+M72+M21+M26","v":0},0]
[null,null,null,null,{"$f":"IF('input-data'!$B$3=\"Dansk\",\"direkte N2O-N\", \"direct N2O-N\")","v":"direkte N2O-N"},{"$f":"IF('input-data'!$B$3=\"Dansk\",\"gødning + afgrøder rester\", \"manure + crop residiues\")","v":"gødning + afgrøder rester"},"kg N",null,null,null,null,null,{"$f":"M73+M74+M79+M22+M27","v":0},0]
[null,null,null,null,"NOx-N",{"$f":"IF('input-data'!$B$3=\"Dansk\",\"gødning + afgrøder rester\", \"manure + crop residiues\")","v":"gødning + afgrøder rester"},"kg N",null,null,null,null,null,{"$f":"M75+M76+M24+M29","v":0},0]
[null,null,null,null,"N2-N",{"$f":"IF('input-data'!$B$3=\"Dansk\",\"gødning + afgrøder rester\", \"manure + crop residiues\")","v":"gødning + afgrøder rester"},"kg N",null,null,null,null,null,{"$f":"M77+M78+M25+M30","v":0},0]
[null,null,null,null,{"$f":"IF('input-data'!$B$3=\"Dansk\", \"C i jord\", \"soil C changes\")","v":"C i jord"},{"$f":"IF('input-data'!$B$3=\"Dansk\",\"gødning + afgrøder rester\", \"manure + crop residiues\")","v":"gødning + afgrøder rester"},"kg N",null,null,null,null,null,{"$f":"M80","v":0},0]
[null,null,null,null,{"$f":"IF('input-data'!$B$3=\"Dansk\", \"optag fra træer\", \"trees uptake\")","v":"optag fra træer"},null,"kg N",null,null,null,null,null,{"$f":"M81","v":0},0]
[null,null,null,{"$f":"IF('input-data'!$B$3=\"Dansk\", \"Potentiel N  - Udvasking\", \"Potential N leaching\")","v":"Potentiel N  - Udvasking"},null,null,"kg N",null,null,null,null,null,{"$f":"M94-M98-M99-M100-M101-M102-M103-M104","v":{"$error":"#N/A"}},{"$f":"IFERROR(M105/$M$61,0)","v":0}]
[null,null,null,null,{"$f":"IF('input-data'!$B$3=\"Dansk\",\"indirekte N2O-N\", \"indirect N2O-N\")","v":"indirekte N2O-N"},{"$f":"IF('input-data'!$B$3=\"Dansk\",\"udvaskning\", \"leaching\")","v":"udvaskning"},"kg N",null,null,null,null,null,{"$f":"M83","v":0},0]
[]
[]
[]
[]
[]
[null,null,null,{"$f":"IF('input-data'!$B$3=\"Dansk\", \"CH4 emissioner gødning\", \"CH4 emission manure\")","v":"CH4 emissioner gødning"}]
[]
[null,null,null,{"$f":"IF('input-data'!$B$3=\"Dansk\", \"CH4 emissioner gødning\", \"CH4 emission manure\")","v":"CH4 emissioner gødning"}]
[]
[null,null,null,{"$f":"IF('input-data'!$B$3=\"Dansk\", \"Stalde\", \"Stables\")","v":"Stalde"},null,null,null,{"$f":"H8","v":" Diegivning søer"},{"$f":"I8","v":" Drægtige søer"},{"$f":"J8","v":" Smågrise"},{"$f":"K8","v":" Slagtesvin"},null,"Total"]
[null,null,null,null,{"$f":"IF('input-data'!$B$3=\"Dansk\", \"gylle ab dyr\", \"slurry ex-animal\")","v":"gylle ab dyr"},"kg N",null,{"$f":"H20*(H32+H33+H34)/100","v":0},{"$f":"I20*(I32+I33+I34)/100","v":0},0,0,null,{"$f":"SUM(H117:K117)","v":0}]
[null,null,null,null,{"$f":"IF('input-data'!$B$3=\"Dansk\", \"dybstrøelse ab dyr\", \"deep litter ex-animal\")","v":"dybstrøelse ab dyr"},"kg N",null,{"$f":"H20*H35/100","v":0},{"$f":"I20*I35/100","v":0},0,0,null,{"$f":"SUM(H118:K118)","v":0}]
[null,null,null,null,{"$f":"IF('input-data'!$B$3=\"Dansk\", \"gylle ab dyr\", \"slurry ex-animal\")","v":"gylle ab dyr"},"kg ",null,{"$f":"1.68*1000/6.38*H117","v":0},{"$f":"3.96*1000/14.88*I117","v":0},{"$f":"0.132*1000/0.447*J117","v":0},{"$f":"530/2.59*K117","v":0},null,0]
[null,null,null,null,{"$f":"IF('input-data'!$B$3=\"Dansk\", \"dybstrøelse ab dyr\", \"deep litter ex-animal\")","v":"dybstrøelse ab dyr"},"kg",null,{"$f":"1.78*1000/13.44*H118","v":0},{"$f":"1.78*1000/13.44*I118","v":0},{"$f":"0.026*1000/0.298*J118","v":0},{"$f":"0.17*1000/1.931*K118","v":0},null,0]
[null,null,null,null,{"$f":"IF('input-data'!$B$3=\"Dansk\", \"gylle ab dyr\", \"slurry ex-animal\")","v":"gylle ab dyr"},{"$f":"IF('input-data'!$B$3=\"Dansk\", \"TS, %\", \"DM, %\")","v":"TS, %"},null,{"$f":"'øvrige EFS-other EFs'!E16","v":4.5},{"$f":"'øvrige EFS-other EFs'!E16","v":4.5},{"$f":"'øvrige EFS-other EFs'!F16","v":4.4000000000000004},{"$f":"'øvrige EFS-other EFs'!G16","v":6},null,19.399999999999999]
[null,null,null,null,{"$f":"IF('input-data'!$B$3=\"Dansk\", \"dybstrøelse ab dyr\", \"deep litter ex-animal\")","v":"dybstrøelse ab dyr"},{"$f":"IF('input-data'!$B$3=\"Dansk\", \"TS, %\", \"DM, %\")","v":"TS, %"},null,{"$f":"'øvrige EFS-other EFs'!E17","v":33},{"$f":"'øvrige EFS-other EFs'!E17","v":33},{"$f":"'øvrige EFS-other EFs'!F17","v":33},{"$f":"'øvrige EFS-other EFs'!G17","v":33},null,132]
[null,null,null,null,{"$f":"IF('input-data'!$B$3=\"Dansk\",\"halm\", \"straw\")","v":"halm"},"kg",null,{"$f":"(('input-data'!$E$316*'input-data'!$E$15)*((365-'input-data'!$F$303)/365))*'Flow sohold'!$D$5","v":0},{"$f":"((('Flow sohold'!$D$27+'Flow sohold'!$D$28)*'input-data'!$E$338)*((365-'input-data'!$F$325)/365))*'Flow sohold'!D5","v":0},{"$f":"'Flow smågrise'!D43*'Flow smågrise'!D9","v":0},{"$f":"'Flow slagtesvin'!D42*'Flow slagtesvin'!D8","v":0},null,0]
[null,null,null,null,{"$f":"IF('input-data'!$B$3=\"Dansk\", \"gylle ab dyr\", \"slurry ex-animal\")","v":"gylle ab dyr"},"kg VS",null,{"$f":"H119*H121/100*'øvrige EFS-other EFs'!$E$14/100","v":0},{"$f":"I119*I121/100*'øvrige EFS-other EFs'!$E$14/100","v":0},{"$f":"J119*J121/100*'øvrige EFS-other EFs'!$E$14/100","v":0},{"$f":"K119*K121/100*'øvrige EFS-other EFs'!$E$14/100","v":0},null,0]
[null,null,null,null,{"$f":"IF('input-data'!$B$3=\"Dansk\", \"dybstrøelse ab dyr\", \"deep litter ex-animal\")","v":"dybstrøelse ab dyr"},"kg VS",null,{"$f":"H120*H122/100*'øvrige EFS-other EFs'!$E$14/100+H123*85/100*(1-'øvrige EFS-other EFs'!$E$13/100)","v":0},{"$f":"I120*I122/100*'øvrige EFS-other EFs'!$E$14/100+I123*85/100*(1-'øvrige EFS-other EFs'!$E$13/100)","v":0},{"$f":"J120*J122/100*'øvrige EFS-other EFs'!$E$14/100+J123*85/100*(1-'øvrige EFS-other EFs'!$E$13/100)","v":0},{"$f":"K120*K122/100*'øvrige EFS-other EFs'!$E$14/100+K123*85/100*(1-'øvrige EFS-other EFs'!$E$13/100)","v":0},null,0]
[null,null,null,null,{"$f":"IF('input-data'!$B$3=\"Dansk\", \"emission gylle\", \"emission slurry\")","v":"emission gylle"},"kg CH4",null,{"$f":"H124*'Opstaldingsform-Housing '!$O$12*0.67*'øvrige EFS-other EFs'!$E$12","v":0},{"$f":"I124*'Opstaldingsform-Housing '!$O$12*0.67*'øvrige EFS-other EFs'!$E$12","v":0},{"$f":"J124*'Opstaldingsform-Housing '!$O$12*0.67*'øvrige EFS-other EFs'!$E$12","v":0},{"$f":"K124*'Opstaldingsform-Housing '!$O$12*0.67*'øvrige EFS-other EFs'!$E$12","v":0},null,0]
[null,null,null,null,{"$f":"IF('input-data'!$B$3=\"Dansk\", \"emission dybstrøelse\", \"emission deep litter\")","v":"emission dybstrøelse"},"kg CH4",null,{"$f":"IF(('Flow sohold'!D26-'input-data'!F303)>30, H125*17/100*0.67*'øvrige EFS-other EFs'!$E$12, 'N-balance'!H125*3/100*0.67*'øvrige EFS-other EFs'!$E$12)","v":0},{"$f":"IF('Flow sohold'!D27-'input-data'!F325>31, I125*17/100*0.67*'øvrige EFS-other EFs'!$E$12, I125*3/100*0.67*'øvrige EFS-other EFs'!$E$12)","v":0},{"$f":"IF('Flow smågrise'!D27>31, J125*17/100*0.67*'øvrige EFS-other EFs'!$E$12,J125*3/100*0.67*'øvrige EFS-other EFs'!$E$12)","v":0},{"$f":"IF('Flow slagtesvin'!D26>31, K125*17/100*0.67*'øvrige EFS-other EFs'!$E$12, K125*3/100*0.67*'øvrige EFS-other EFs'!$E$12)","v":0},null,0]
[null,null,null,null,"total emission","kg CH4",null,{"$f":"H126+H127","v":0},{"$f":"I126+I127","v":0},0,0,null,0]
[null,null,null,null,{"$f":"IF('input-data'!$B$3=\"Dansk\", \"teknologi forbrug påvirkning:\", \"impact of technologies:\")","v":"teknologi forbrug påvirkning:"}]
[null,null,null,null,{"$f":"IF('[1]input-data'!$B$3=\"Dansk\", \"biogas\", \"biogas\")","v":"biogas"},"kg CH4",null,{"$f":"-25/100*$H$126*'input-data'!E318/100","v":0},{"$f":"-25/100*$I$126*'input-data'!E340/100","v":0},{"$f":"-25/100*$J$126*'input-data'!E362/100","v":0},{"$f":"-25/100*$K$126*'input-data'!E384/100","v":0},null,0]
[null,null,null,null,{"$f":"IF('[1]input-data'!$B$3=\"Dansk\", \"forsuring\", \"acidification\")","v":"forsuring"},"kg CH4",null,{"$f":"-60/100*$H$126*'input-data'!E319/100","v":0},{"$f":"-60/100*$I$126*'input-data'!E341/100","v":0},{"$f":"-60/100*$J$126*'input-data'!E363/100","v":0},{"$f":"-60/100*$K$126*'input-data'!E385/100","v":0},null,0]
[null,null,null,null,{"$f":"IF('[1]input-data'!$B$3=\"Dansk\", \"direkte udbringning\", \"direct application\")","v":"direkte udbringning"},"kg CH4",null,{"$f":"-50/100*$H$127*'input-data'!E320/100","v":0},{"$f":"-50/100*$I$127*'input-data'!E342/100","v":0},{"$f":"-50/100*$J$127*'input-data'!E364/100","v":0},{"$f":"-50/100*$K$127*'input-data'!E386/100","v":0},null,0]
[null,null,null,null,"total net emission","kg CH4",null,{"$f":"H126+H127+H130+H131+H132","v":0},{"$f":"I126+I127+I130+I131+I132","v":0},0,0,0,0]
[null,null,null,{"$f":"IF('input-data'!$B$3=\"Dansk\", \"Folde\", \"Paddock\")","v":"Folde"},null,null,null,{"$f":"H116","v":" Diegivning søer"},{"$f":"I116","v":" Drægtige søer"}," Smågrise"," Slagtesvin",null,{"$f":"M116","v":"Total"}]
[null,null,null,null,{"$f":"IF('input-data'!$B$3=\"Dansk\", \"gødning ab dyr\", \"deposited manure\")","v":"gødning ab dyr"},{"$f":"F117","v":"kg N"},null,{"$f":"H49","v":0},{"$f":"I49","v":0},{"$f":"J49","v":0},{"$f":"K49","v":0},null,{"$f":"SUM(H135:K135)","v":0}]
[null,null,null,null,{"$f":"E135","v":"gødning ab dyr"},{"$f":"F119","v":"kg "},null,{"$f":"1.29*1000/8.15*H135","v":0},{"$f":"1.29*1000/8.15*I135","v":0},{"$f":"0.09*1000/0.48*J135","v":0},{"$f":"530/2.59*K135","v":0},null,0]
[null,null,null,null,{"$f":"E135","v":"gødning ab dyr"},{"$f":"F121","v":"TS, %"},null,{"$f":"'øvrige EFS-other EFs'!E20","v":7.7},{"$f":"'øvrige EFS-other EFs'!E20","v":7.7},{"$f":"'øvrige EFS-other EFs'!F20","v":7.7},{"$f":"'øvrige EFS-other EFs'!G20","v":7.7},null,30.8]
[null,null,null,null,{"$f":"IF('input-data'!$B$3=\"Dansk\",\"halm\", \"straw\")","v":"halm"},"kg",null,{"$f":"('input-data'!$E$309*'input-data'!$E$15*('input-data'!$F$303/365))*'Flow sohold'!$D$5","v":0},{"$f":"(('Flow sohold'!$D$27+'Flow sohold'!$D$28)*'input-data'!$E$331*('input-data'!$F$325/365))*'Flow sohold'!D5","v":0},{"$f":"'Flow smågrise'!D42*'Flow smågrise'!D9","v":0},{"$f":"'Flow slagtesvin'!D41*'Flow slagtesvin'!D8","v":0},null,0]
[null,null,null,null,{"$f":"E137","v":"gødning ab dyr"},{"$f":"F124","v":"kg VS"},null,{"$f":"H136*H137/100*'øvrige EFS-other EFs'!$E$14/100+H138*85/100*(1-'øvrige EFS-other EFs'!$E$13/100)","v":0},{"$f":"I136*I137/100*'øvrige EFS-other EFs'!$E$14/100+I138*85/100*(1-'øvrige EFS-other EFs'!$E$13/100)","v":0},{"$f":"J136*J137/100*'øvrige EFS-other EFs'!$E$14/100+J138*85/100*(1-'øvrige EFS-other EFs'!$E$13/100)","v":0},{"$f":"K136*K137/100*'øvrige EFS-other EFs'!$E$14/100+K138*85/100*(1-'øvrige EFS-other EFs'!$E$13/100)","v":0},null,0]
[null,null,null,null,"emission",{"$f":"F126","v":"kg CH4"},null,{"$f":"H139*'Opstaldingsform-Housing '!$O$33*0.67*'øvrige EFS-other EFs'!$E$12","v":0},{"$f":"I139*'Opstaldingsform-Housing '!$O$33*0.67*'øvrige EFS-other EFs'!$E$12","v":0},{"$f":"J139*'Opstaldingsform-Housing '!$O$33*0.67*'øvrige EFS-other EFs'!$E$12","v":0},{"$f":"K139*'Opstaldingsform-Housing '!$O$33*0.67*'øvrige EFS-other EFs'!$E$12","v":0},null,0]
[]
[]
[null,null,null,{"$f":"IF('input-data'!$B$3=\"Dansk\", \"Erstatningsværdi af handelsgødning\", \"Substitution of mineral fertilisers\")","v":"Erstatningsværdi af handelsgødning"}]
[]
[null,null,null,{"$f":"IF('input-data'!$B$3=\"Dansk\", \"Erstatningsværdi for handelsgødning\", \"Substitution of mineral fertilisers\")","v":"Erstatningsværdi for handelsgødning"}]
[]
[]
[null,null,null,null,null,"Unit",null,{"$f":"H134","v":" Diegivning søer"},{"$f":"I134","v":" Drægtige søer"}," Smågrise"," Slagtesvin",0,"Total"]
[]
[null,null,null,{"$f":"IF('input-data'!$B$3=\"Dansk\", \"Indsamlet N-gødning\", \"Collected N loss manure\")","v":"Indsamlet N-gødning"},null,"kg N",null,{"$f":"H31","v":0},{"$f":"I31","v":0},{"$f":"J31","v":0},{"$f":"K31","v":0},{"$f":"L31","v":0},{"$f":"SUM(H150:K150)","v":0}]
[null,null,null,null,null,"kg P",null,{"$f":"'N-P balance sohold'!E24","v":0},{"$f":"'N-P balance sohold'!E128","v":0},{"$f":"'N-P balance smågrise'!E24","v":0},{"$f":"'N-P balance slagtesvin'!E24","v":0},null,{"$f":"SUM(H151:K151)","v":0}]
[null,null,null,null,null,"kg K",null,{"$f":"9.32/23.9*H150","v":0},{"$f":"9.32/23.9*I150","v":0},{"$f":"0.27/0.48*J150","v":0},{"$f":"1.39/2.86*K150","v":0},null,0]
[null,null,null,{"$f":"IF('input-data'!$B$3=\"Dansk\", \"Erstatning af handelsgødning\", \"Substitution of mineral fertilisers\")","v":"Erstatning af handelsgødning"},null,{"$f":"F150","v":"kg N"},null,{"$f":"H150*0.75","v":0},{"$f":"I150*0.75","v":0},0,0,null,0]
[null,null,null,null,null,{"$f":"F151","v":"kg P"},null,{"$f":"H151*1","v":0},{"$f":"I151*1","v":0},0,0,null,0]
[null,null,null,null,null,{"$f":"F152","v":"kg K"},null,{"$f":"H152*1","v":0},{"$f":"I152*1","v":0},0,0,null,0]
[null,null,null,{"$f":"IF('input-data'!$B$3=\"Dansk\", \"Undgående emissioner\", \"Avoided emission\")","v":"Undgående emissioner"}]
[null,null,null,null,{"$f":"IF('input-data'!$B$3=\"Dansk\", \"produktion of handelgødning\", \"production of mineral fertilisers\")","v":"produktion of handelgødning"},"kg CAN",null,{"$f":"H153/0.265","v":0},{"$f":"I153/0.265","v":0},0,0,null,0]
[null,null,null,null,null,"kg P2O5",null,{"$f":"H154/0.437","v":0},{"$f":"I154/0.437","v":0},0,0,null,0]
[null,null,null,null,null,"kg K2O",null,{"$f":"H155/0.83","v":0},{"$f":"I155/0.83","v":0},0,0,null,0]
[null,null,null,null,{"$f":"IF('input-data'!$B$3=\"Dansk\", \"emission ved udbringning\", \"emission at application\")","v":"emission ved udbringning"},null,null,null,null,null,null,null,0]
[null,null,null,null,{"$f":"IF('input-data'!$B$3=\"Dansk\",\"direkte N2O-N\", \"direct N2O-N\")","v":"direkte N2O-N"},"kg N2O-N",null,{"$f":"H153*1/100","v":0},{"$f":"I153*1/100","v":0},0,0,null,0]
[null,null,null,null,"NH3","kg NH3-N",null,{"$f":"H153*2.2/100","v":0},{"$f":"I153*2.2/100","v":0},0,0,null,0]
[null,null,null,null,"NOx","kg Nox-N",null,{"$f":"H153*7/100","v":0},{"$f":"I153*7/100","v":0},0,0,null,0]
[null,null,null,null,"N2","kg N2-N",null,{"$f":"H153*3/100","v":0},{"$f":"I153*3/100","v":0},0,0,null,0]
[null,null,null,null,"NO3","kg NO3-N",null,null,null,null,null,null,0]
[null,null,null,null,{"$f":"IF('input-data'!$B$3=\"Dansk\",\"indirekte N2O-N\", \"indirect N2O-N\")","v":"indirekte N2O-N"},"kg N2O-N",null,{"$f":"H162*1/100","v":0},{"$f":"I162*1/100","v":0},0,0,null,0]
[null,null,null,null,"transport","tkm",null,{"$f":"(H157+H158+H159)/1000*134","v":0},{"$f":"(I157+I158+I159)/1000*134","v":0},0,0,null,0]
[null,null,null,null,{"$f":"IF('input-data'!$B$3=\"Dansk\",\"læsning af gødning\", \"loading of manure\")","v":"læsning af gødning"},"MJ",null,{"$f":"(H157+H158+H159)/1000*0.4","v":0},{"$f":"(I157+I158+I159)/1000*0.4","v":0},0,0,null,0]

{"sheet":"results","index":4,"n_rows":133,"n_cols":10,"rows_kept":133,"cut":false,"hidden":false,"merged":[[7,9,8,9],[7,3,8,3],[7,4,8,4],[7,5,8,5],[7,6,8,6],[7,7,8,7],[7,8,8,8],[71,8,73,8],[71,9,73,9],[71,3,73,3],[71,4,73,4],[71,5,73,5],[71,6,73,6],[71,7,73,7]]}
[]
[]
[null,{"$f":"IF('input-data'!$B$3=\"Dansk\", \"ÅRSSØER med PATTEGRISE\", \"YEAR-SOWS with PIGLETS\")","v":"ÅRSSØER med PATTEGRISE"}]
[]
[]
[null,{"$f":"IF('input-data'!$B$3=\"Dansk\", \"ÅRSSØER med PATTEGRISE\", \"YEAR-SOWS with PIGLETS\")","v":"ÅRSSØER med PATTEGRISE"}]
[null,null,null,{"$f":"IF('input-data'!$B$3=\"Dansk\", \"Miljømæssig påvirkning\", \"Environmental impact\")","v":"Miljømæssig påvirkning"}]
[null,null,null,{"$f":"IF('input-data'!$B$3=\"Dansk\", \"Klimaaftryk, kg CO2-ækv\", \"GWP, kg CO2-eq\")","v":"Klimaaftryk, kg CO2-ækv"},{"$f":"IF('input-data'!$B$3=\"Dansk\", \"C i jord, kg CO2-ækv\", \"soil C change, kg CO2-eq\")","v":"C i jord, kg CO2-ækv"},{"$f":"IF('input-data'!$B$3=\"Dansk\", \"iLUC, kg CO2-ækv\", \"iLUC, kg CO2-eq\")","v":"iLUC, kg CO2-ækv"},{"$f":"IF('input-data'!$B$3=\"Dansk\", \"Eutrofiering, kg NO3-ækv\", \"Eutrophication potential, kg NO3-eq\")","v":"Eutrofiering, kg NO3-ækv"},{"$f":"IF('input-data'!$B$3=\"Dansk\", \"Energiforbrug, MJ\", \"NRE, MJ\")","v":"Energiforbrug, MJ"},{"$f":"IF('input-data'!$B$3=\"Dansk\", \"Forsuring potential, kg SO2-ækv\", \"AP, kg SO2-eq.\")","v":"Forsuring potential, kg SO2-ækv"},{"$f":"IF('input-data'!$B$3=\"Dansk\", \"Arealforbrug, m2\", \"LU, m2\")","v":"Arealforbrug, m2"}]
[null,{"$f":"IF('input-data'!$B$3=\"Dansk\", \"      INPUT\", \"          INPUT\")","v":"      INPUT"},{"$f":"IF('input-data'!$B$3=\"Dansk\", \"Mængde\", \"Amount\")","v":"Mængde"}]
[null,{"$f":"IF('input-data'!$B$3=\"Dansk\", \"          Foder, kg TS\", \"          Feed , kg DM\")","v":"          Foder, kg TS"},{"$f":"SUM('Feed - overview'!J17:J88)","v":0},{"$f":"SUM('Feed - overview'!Q17:Q88)","v":0},{"$f":"SUM('Feed - overview'!R17:R88)","v":0},{"$f":"SUM('Feed - overview'!S17:S88)","v":0},{"$f":"SUM('Feed - overview'!T17:T88)","v":0},{"$f":"SUM('Feed - overview'!U17:U88)","v":0},{"$f":"SUM('Feed - overview'!V17:V88)","v":0},{"$f":"SUM('Feed - overview'!W17:W88)","v":0}]
[null,{"$f":"IF('input-data'!$B$3=\"Dansk\", \"          Strøelse, kg\", \"          Bedding materials, kg\")","v":"          Strøelse, kg"},{"$f":"'N-balance'!H123+'N-balance'!I123+'N-balance'!H138+'N-balance'!I138","v":0},{"$f":"$C11*'background data'!$G$11","v":0},{"$f":"$C11*'background data'!$H$11","v":0},{"$f":"$C11*'background data'!$J$11","v":0},{"$f":"$C11*'background data'!$L$11","v":0},{"$f":"$C11*'background data'!$M$11","v":0},{"$f":"$C11*'background data'!$N$11","v":0},{"$f":"$C11*'background data'!$O$11","v":0}]
[null,{"$f":"IF('input-data'!$B$3=\"Dansk\", \"          Energiforbrug, kWh\", \"          Energy use, kWh\")","v":"          Energiforbrug, kWh"}]
[null,"      TOTAL INPUT",null,{"$f":"SUM(D10:D12)","v":0},{"$f":"SUM(E10:E12)","v":0},0,0,0,0,0]
[null,"      TRANSPORT, tkm",{"$f":"((C10-SUM('Feed - overview'!N17:N88))/0.85+C11)/1000*50","v":0},{"$f":"$C14*'background data'!K$59","v":0},null,null,{"$f":"$C14*'background data'!L$59","v":0},{"$f":"$C14*'background data'!M$59","v":0},{"$f":"$C14*'background data'!N$59","v":0},{"$f":"$C14*'background data'!O$59","v":0}]
[null,{"$f":"IF('input-data'!$B$3=\"Dansk\", \"      EMISSIONER\", \"      EMISSIONS\")","v":"      EMISSIONER"}]
[null,{"$f":"IF('input-data'!$B$3=\"Dansk\", \"          Fordøjelse, kg CH4\", \"          Enteric fermentation, kg CH4\")","v":"          Fordøjelse, kg CH4"},{"$f":"IFERROR(SUM('Feed - overview'!H17:H88)*100*1340/(55.65*1000000), 0)","v":0},{"$f":"C16*'øvrige EFS-other EFs'!$D$28","v":0}]
[null,{"$f":"IF('input-data'!$B$3=\"Dansk\", \"          CH4 gødning, kg CH4\", \"          CH4 manure, kg CH4\")","v":"          CH4 gødning, kg CH4"},{"$f":"'N-balance'!H128+'N-balance'!I128+'N-balance'!H140+'N-balance'!I140","v":0},{"$f":"C17*'øvrige EFS-other EFs'!$D$28","v":0}]
[null,{"$f":"IF('input-data'!$B$3=\"Dansk\", \"          N emissioner stalde og lager\", \"          N emission stable and storage\")","v":"          N emissioner stalde og lager"}]
[null,"              N2O, kg",{"$f":"IFERROR(('N-balance'!H22+'N-balance'!I22+'N-balance'!H23+'N-balance'!I23+'N-balance'!H27+'N-balance'!I27+'N-balance'!H28+'N-balance'!I28)*44/28, 0)","v":0},{"$f":"C19*'øvrige EFS-other EFs'!$D$27","v":0}]
[null,"              NH3, kg",{"$f":"IFERROR(('N-balance'!H21+'N-balance'!I21+'N-balance'!H26+'N-balance'!I26)*17/14, 0)","v":0},null,null,null,{"$f":"C20*'øvrige EFS-other EFs'!$I$31","v":0},null,{"$f":"C20*'øvrige EFS-other EFs'!$K$31","v":0}]
[null,"              NOx, kg",{"$f":"IFERROR(('N-balance'!H24+'N-balance'!I24+'N-balance'!H29+'N-balance'!I29)*30/14,0)","v":0},null,null,null,{"$f":"C21*'øvrige EFS-other EFs'!$I$32","v":0},null,{"$f":"C21*'øvrige EFS-other EFs'!$K$32","v":0}]
[null,{"$f":"IF('input-data'!$B$3=\"Dansk\", \"          Erstatningsværdi for handelsgødning\", \"          Substitution of mineral fertilisers\")","v":"          Erstatningsværdi for handelsgødning"},null,{"$f":"IFERROR(-(('N-balance'!$H$153+'N-balance'!$I$153)*'background data'!$K$24+('N-balance'!$H$154+'N-balance'!$I$154)*'background data'!$K$25+('N-balance'!$H$155+'N-balance'!$I$155)*'background data'!$K$26+('N-balance'!$H$161+'N-balance'!$I$161+'N-balance'!$H$166+'N-balance'!$I$166)*44/24*'øvrige EFS-other EFs'!$D$27+('N-balance'!$H$168+'N-balance'!$I$168)/37*'background data'!$K$34+('N-balance'!$H$167+'N-balance'!$I$167)*'background data'!$K$59), 0)","v":0},null,null,{"$f":"IFERROR(-(('N-balance'!$H$153+'N-balance'!$I$153)*'background data'!$L$24+('N-balance'!$H$154+'N-balance'!$I$154)*'background data'!$L$25+('N-balance'!$H$155+'N-balance'!$I$155)*'background data'!$L$26+('N-balance'!$H$168+'N-balance'!$I$168)/37*'background data'!$L$34+('N-balance'!$H$167+'N-balance'!$I$167)*'background data'!$L$59+('N-balance'!$H$162+'N-balance'!$I$162)*17/14*'øvrige EFS-other EFs'!$I$31+('N-balance'!$H$163+'N-balance'!$I$163)*31/14*'øvrige EFS-other EFs'!$I$32), 0)","v":0},{"$f":"IFERROR(-(('N-balance'!$H$153+'N-balance'!$I$153)*'background data'!$M$24+('N-balance'!$H$154+'N-balance'!$I$154)*'background data'!$M$25+('N-balance'!$H$155+'N-balance'!$I$155)*'background data'!$M$26+('N-balance'!$H$168+'N-balance'!$I$168)/37*'background data'!$M$34+('N-balance'!$H$167+'N-balance'!$I$167)*'background data'!$M$59), 0)","v":0},{"$f":"IFERROR(-(('N-balance'!$H$153+'N-balance'!$I$153)*'background data'!$N$24+('N-balance'!$H$154+'N-balance'!$I$154)*'background data'!$N$25+('N-balance'!$H$155+'N-balance'!$I$155)*'background data'!$N$26+('N-balance'!$H$168+'N-balance'!$I$168)/37*'background data'!$N$34+('N-balance'!$H$167+'N-balance'!$I$167)*'background data'!$N$59+('N-balance'!$H$162+'N-balance'!$I$162)*17/14*'øvrige EFS-other EFs'!$K$31), 0)","v":0}]
[null,{"$f":"IF('input-data'!$B$3=\"Dansk\", \"      TOTAL EMISSIONER\", \"      TOTAL EMISSIONS\")","v":"      TOTAL EMISSIONER"},null,{"$f":"D16+D17+D19+D20+D21+D22","v":0},{"$f":"E16+E17+E19+E20+E21+E22","v":0},0,0,0,0,0]
[null,"      TOTAL ",null,{"$f":"D13+D14+D23","v":0},{"$f":"E13+E14+E23","v":0},0,0,0,0,0]
[null,{"$f":"IF('input-data'!$B$3=\"Dansk\", \"      OUTPUT\", \"          OUTPUT\")","v":"      OUTPUT"},{"$f":"C9","v":"Mængde"}]
[null,{"$f":"IF('input-data'!$B$3=\"Dansk\", \"         søer udsat, stk.\", \"         cull sows, p.\")","v":"         søer udsat, stk."},{"$f":"'Flow sohold'!D6/100*'Flow sohold'!D5","v":0}]
[null,{"$f":"IF('input-data'!$B$3=\"Dansk\", \"         søer udsat, kg levende vægt\", \"         cull sows, kg LW\")","v":"         søer udsat, kg levende vægt"},{"$f":"C26*'Flow sohold'!D9","v":0}]
[null,{"$f":"IF('input-data'!$B$3=\"Dansk\", \"         fravænnede grise, stk.\", \"         weaned piglets, p.\")","v":"         fravænnede grise, stk."},{"$f":"'Flow sohold'!D18","v":0}]
[null,{"$f":"IF('input-data'!$B$3=\"Dansk\", \"         fravænnede grise, kg levende vægt\", \"         weaned piglets, kg LW\")","v":"         fravænnede grise, kg levende vægt"},{"$f":"C28*'Flow sohold'!D21","v":0}]
[null,{"$f":"IF('input-data'!$B$3=\"Dansk\", \"      TOTAL OUTPUT, kg levende vægt\", \"          TOTAL OUTPUT, kg LW\")","v":"      TOTAL OUTPUT, kg levende vægt"},{"$f":"C27+C29","v":0}]
[null,{"$f":"IF('input-data'!$B$3=\"Dansk\", \"      Påvirkning per fravænnet gris\", \"          Impact per weaned piglet\")","v":"      Påvirkning per fravænnet gris"},null,{"$f":"IFERROR(D24*$C$29/$C$30/$C$28, 0)","v":0},{"$f":"IFERROR(E24*$C$29/$C$30/$C$28, 0)","v":0},{"$f":"IFERROR(F24*$C$29/$C$30/$C$28,0)","v":0},{"$f":"IFERROR(G24*$C$29/$C$30/$C$28, 0)","v":0},{"$f":"IFERROR(H24*$C$29/$C$30/$C$28, 0)","v":0},{"$f":"IFERROR(I24*$C$29/$C$30/$C$28, 0)","v":0},{"$f":"IFERROR(J24*$C$29/$C$30/$C$28,0)","v":0}]
[null,{"$f":"IF('input-data'!$B$3=\"Dansk\", \"      Påvirkning per kg levende vægt grise \", \"          Impact per kg LW weaned piglet\")","v":"      Påvirkning per kg levende vægt grise "},null,{"$f":"IFERROR(D31/'Flow sohold'!$D$21, 0)","v":0},{"$f":"IFERROR(E31/'Flow sohold'!$D$21, 0)","v":0},{"$f":"IFERROR(F31/'Flow sohold'!$D$21, 0)","v":0},{"$f":"IFERROR(G31/'Flow sohold'!$D$21, 0)","v":0},{"$f":"IFERROR(H31/'Flow sohold'!$D$21, 0)","v":0},{"$f":"IFERROR(I31/'Flow sohold'!$D$21,0)","v":0},{"$f":"IFERROR(J31/'Flow sohold'!$D$21,0)","v":0}]
[]
[]
[null,{"$f":"IF('input-data'!$B$3=\"Dansk\", \"SMÅGRISE\", \"PIGLETS\")","v":"SMÅGRISE"}]
[]
[]
[null,{"$f":"IF('input-data'!$B$3=\"Dansk\", \"SMÅGRISE\", \"PIGLETS\")","v":"SMÅGRISE"}]
[null,null,null,{"$f":"D7","v":"Miljømæssig påvirkning"}]
[null,null,null,{"$f":"D8","v":"Klimaaftryk, kg CO2-ækv"},{"$f":"E8","v":"C i jord, kg CO2-ækv"},"iLUC, kg CO2-ækv","Eutrofiering, kg NO3-ækv","Energiforbrug, MJ","Forsuring potential, kg SO2-ækv","Arealforbrug, m2"]
[null,"      INPUT",{"$f":"C9","v":"Mængde"}]
[null,{"$f":"IF('input-data'!$B$3=\"Dansk\", \"          Fravænnede grise, stk.\", \"          Weaned piglets, p.\")","v":"          Fravænnede grise, stk."},{"$f":"'Flow smågrise'!D5+'Flow smågrise'!D6","v":0},{"$f":"'Flow smågrise'!$D$5*D31+'Flow smågrise'!$D$6*D32*'Flow smågrise'!$D$7","v":0},{"$f":"'Flow smågrise'!$D$5*E31+'Flow smågrise'!$D$6*E32*'Flow smågrise'!$D$7","v":0},{"$f":"'Flow smågrise'!$D$5*F31+'Flow smågrise'!$D$6*F32*'Flow smågrise'!$D$7","v":0},{"$f":"'Flow smågrise'!$D$5*G31+'Flow smågrise'!$D$6*G32*'Flow smågrise'!$D$7","v":0},{"$f":"'Flow smågrise'!$D$5*H31+'Flow smågrise'!$D$6*H32*'Flow smågrise'!$D$7","v":0},{"$f":"'Flow smågrise'!$D$5*I31+'Flow smågrise'!$D$6*I32*'Flow smågrise'!$D$7","v":0},{"$f":"'Flow smågrise'!$D$5*J31+'Flow smågrise'!$D$6*J32*'Flow smågrise'!$D$7","v":0}]
[null,{"$f":"B10","v":"          Foder, kg TS"},{"$f":"SUM('Feed - overview'!J88:J139)","v":0},{"$f":"SUM('Feed - overview'!Q89:Q139)","v":0},{"$f":"SUM('Feed - overview'!R89:R139)","v":0},{"$f":"SUM('Feed - overview'!S89:S139)","v":0},{"$f":"SUM('Feed - overview'!T89:T139)","v":0},{"$f":"SUM('Feed - overview'!U89:U139)","v":0},{"$f":"SUM('Feed - overview'!V89:V139)","v":0},{"$f":"SUM('Feed - overview'!W89:W139)","v":0}]
[null,{"$f":"B11","v":"          Strøelse, kg"},{"$f":"'N-balance'!J123+'N-balance'!J138","v":0},{"$f":"$C44*'background data'!$G$11","v":0},{"$f":"$C44*'background data'!$H$11","v":0},{"$f":"$C44*'background data'!$J$11","v":0},{"$f":"$C44*'background data'!$L$11","v":0},{"$f":"$C44*'background data'!$M$11","v":0},{"$f":"$C44*'background data'!$N$11","v":0},{"$f":"$C44*'background data'!$O$11","v":0}]
[null,{"$f":"B12","v":"          Energiforbrug, kWh"}]
[null,{"$f":" IF('input-data'!$B$3=\"Dansk\", \"          Dyr, stk.\", \"          Animals, p.\")","v":"          Dyr, stk."},{"$f":"'input-data'!E27","v":0},{"$f":"IF(D32=0, 'input-data'!$E$27*'input-data'!$E$28*2.95, 'input-data'!$E$27*'input-data'!$E$28*D32)","v":0},{"$f":"IF(E32=0, 'input-data'!$E$27*'input-data'!$E$28*0.5, 'input-data'!$E$27*'input-data'!$E$28*E32)","v":0},{"$f":"IF(F32=0, 'input-data'!$E$27*'input-data'!$E$28*1.52, 'input-data'!$E$27*'input-data'!$E$28*F32)","v":0},{"$f":"IF(G32=0, 'input-data'!$E$27*'input-data'!$E$28*0.3, 'input-data'!$E$27*'input-data'!$E$28*G32)","v":0},{"$f":"IF(H32=0, 'input-data'!$E$27*'input-data'!$E$28*11.3, 'input-data'!$E$27*'input-data'!$E$28*H32)","v":0},{"$f":"IF(I32=0, 'input-data'!$E$27*'input-data'!$E$28*0.02, 'input-data'!$E$27*'input-data'!$E$28*I32)","v":0},{"$f":"IF(J32=0, 'input-data'!$E$27*'input-data'!$E$28*10.6, 'input-data'!$E$27*'input-data'!$E$28*J32)","v":0}]
[null,"      TOTAL INPUT",null,{"$f":"SUM(D42:D46)","v":0},{"$f":"SUM(E42:E46)","v":0},0,0,0,0,0]
[null,"      TRANSPORT, tkm",{"$f":"((C43-SUM('Feed - overview'!N89:N139))/0.85+C44)/1000*50","v":0},{"$f":"$C48*'background data'!K$59","v":0},null,null,{"$f":"$C48*'background data'!L$59","v":0},{"$f":"$C48*'background data'!M$59","v":0},{"$f":"$C48*'background data'!N$59","v":0},{"$f":"$C48*'background data'!O$59","v":0}]
[null,{"$f":"B15","v":"      EMISSIONER"}]
[null,"          Fordøjelse, kg CH4",{"$f":"IFERROR(SUM('Feed - overview'!H89:H139)*90*670/(55.65*1000000),0)","v":0},{"$f":"C50*'øvrige EFS-other EFs'!$D$28","v":0}]
[null,"          CH4 gødning, kg CH4",{"$f":"'N-balance'!J128+'N-balance'!J140","v":0},{"$f":"C51*'øvrige EFS-other EFs'!$D$28","v":0}]
[null,"          N emissioner stalde og lager"]
[null,"              N2O, kg",{"$f":"('N-balance'!J22+'N-balance'!J23+'N-balance'!J27+'N-balance'!J28)*44/28","v":0},{"$f":"C53*'øvrige EFS-other EFs'!$D$27","v":0}]
[null,"              NH3, kg",{"$f":"('N-balance'!J21+'N-balance'!J26)*17/14","v":0},null,null,null,{"$f":"C54*'øvrige EFS-other EFs'!$I$31","v":0},null,{"$f":"C54*'øvrige EFS-other EFs'!$K$31","v":0}]
[null,"              NOx, kg",{"$f":"('N-balance'!J24+'N-balance'!J29)*30/14","v":0},null,null,null,{"$f":"C55*'øvrige EFS-other EFs'!$I$32","v":0},null,{"$f":"C55*'øvrige EFS-other EFs'!$K$32","v":0}]
[null,"          Erstatningsværdi for handelsgødning",null,{"$f":"-(('N-balance'!$J$153)*'background data'!$K$24+('N-balance'!$J$154)*'background data'!$K$25+('N-balance'!$J$155)*'background data'!$K$26+('N-balance'!$J$161+'N-balance'!$J$166)*44/24*'øvrige EFS-other EFs'!$D$27+('N-balance'!$J$168)/37*'background data'!$K$34+('N-balance'!$J$167)*'background data'!$K$59)","v":0},null,null,{"$f":"-(('N-balance'!$J$153)*'background data'!$L$24+('N-balance'!$J$154)*'background data'!$L$25+('N-balance'!$J$155)*'background data'!$L$26+('N-balance'!$J$168)/37*'background data'!$L$34+('N-balance'!$J$167)*'background data'!$L$59+('N-balance'!$J$162)*17/14*'øvrige EFS-other EFs'!$I$31+('N-balance'!$J$163)*31/14*'øvrige EFS-other EFs'!$I$32)","v":0},{"$f":"-(('N-balance'!$J$153)*'background data'!$M$24+('N-balance'!$J$154)*'background data'!$M$25+('N-balance'!$J$155)*'background data'!$M$26+('N-balance'!$J$168)/37*'background data'!$M$34+('N-balance'!$J$167)*'background data'!$M$59)","v":0},{"$f":"-(('N-balance'!$J$153)*'background data'!$N$24+('N-balance'!$J$154)*'background data'!$N$25+('N-balance'!$J$155)*'background data'!$N$26+('N-balance'!$J$168)/37*'background data'!$N$34+('N-balance'!$J$167)*'background data'!$N$59+('N-balance'!$J$162)*17/14*'øvrige EFS-other EFs'!$K$31)","v":0}]
[null,"      TOTAL EMISSIONER",null,{"$f":"D50+D51+D53+D54+D55+D56","v":0},{"$f":"E50+E51+E53+E54+E55+E56","v":0},0,0,0,{"$f":"I50+I51+I53+I54+I55+I56","v":0},{"$f":"J50+J51+J53+J54+J55+J56","v":0}]
[null,"      TOTAL ",null,{"$f":"D47+D48+D57","v":0},{"$f":"E47+E48+E57","v":0},0,0,0,0,0]
[null,"      OUTPUT",{"$f":"C41","v":"Mængde"}]
[null,{"$f":"IF('input-data'!$B$3=\"Dansk\", \"         smågrise, stk.\", \"         piglets, p.\")","v":"         smågrise, stk."},{"$f":"'Flow smågrise'!D9","v":0}]
[null,{"$f":"IF('input-data'!$B$3=\"Dansk\", \"         smågrise, kg levende vægt\", \"         piglets, kg LW\")","v":"         smågrise, kg levende vægt"},{"$f":"C60*'Flow smågrise'!$D$13","v":0}]
[null,{"$f":"B30","v":"      TOTAL OUTPUT, kg levende vægt"},{"$f":"C61","v":0}]
[null,{"$f":"IF('input-data'!$B$3=\"Dansk\", \"      Påvirkning per smågris\", \"          Impact per piglet\")","v":"      Påvirkning per smågris"},null,{"$f":"IFERROR(D58/$C$60,0)","v":0},{"$f":"IFERROR(E58/$C$60,0)","v":0},0,0,0,0,0]
[null,{"$f":"IF('input-data'!$B$3=\"Dansk\", \"      Påvirkning per kg levende vægt smågrise \", \"          Impact per kg LW piglet\")","v":"      Påvirkning per kg levende vægt smågrise "},null,{"$f":"IFERROR(D63/'Flow smågrise'!$D$13,0)","v":0},{"$f":"IFERROR(E63/'Flow smågrise'!$D$13,0)","v":0},{"$f":"IFERROR(F63/'Flow smågrise'!$D$13,0)","v":0},{"$f":"IFERROR(G63/'Flow smågrise'!$D$13,0)","v":0},{"$f":"IFERROR(H63/'Flow smågrise'!$D$13,0)","v":0},{"$f":"IFERROR(I63/'Flow smågrise'!$D$13,0)","v":0},{"$f":"IFERROR(J63/'Flow smågrise'!$D$13,0)","v":0}]
[]
[]
[null,{"$f":"IF('input-data'!$B$3=\"Dansk\", \"SLAGTESVIN\", \"SLAUGHTER PIGS\")","v":"SLAGTESVIN"}]
[]
[]
[null,{"$f":"IF('input-data'!$B$3=\"Dansk\", \"SLAGTESVIN\", \"SLAUGHTER PIGS\")","v":"SLAGTESVIN"}]
[null,null,null,{"$f":"D7","v":"Miljømæssig påvirkning"}]
[null,null,null,{"$f":"D8","v":"Klimaaftryk, kg CO2-ækv"},{"$f":"E8","v":"C i jord, kg CO2-ækv"},"iLUC, kg CO2-ækv","Eutrofiering, kg NO3-ækv","Energiforbrug, MJ","Forsuring potential, kg SO2-ækv","Arealforbrug, m2"]
[null,null,{"$f":"C9","v":"Mængde"}]
[null,"      INPUT"]
[null,{"$f":"IF('input-data'!$B$3=\"Dansk\", \"          Smågrise, stk.\", \"          Piglets, p.\")","v":"          Smågrise, stk."},{"$f":"'Flow slagtesvin'!D5","v":0},{"$f":"$C$75*D63","v":0},0,0,0,0,0,0]
[null,{"$f":"B10","v":"          Foder, kg TS"},{"$f":"SUM('Feed - overview'!J118:J169)","v":0},{"$f":"SUM('Feed - overview'!Q140:Q190)","v":0},{"$f":"SUM('Feed - overview'!R140:R190)","v":0},{"$f":"SUM('Feed - overview'!S140:S190)","v":0},{"$f":"SUM('Feed - overview'!T140:T190)","v":0},{"$f":"SUM('Feed - overview'!U140:U190)","v":0},{"$f":"SUM('Feed - overview'!V140:V190)","v":0},{"$f":"SUM('Feed - overview'!W140:W190)","v":0}]
[null,{"$f":"B11","v":"          Strøelse, kg"},{"$f":"'N-balance'!K123+'N-balance'!K138","v":0},{"$f":"$C77*'background data'!$G$11","v":0},{"$f":"$C77*'background data'!$H$11","v":0},{"$f":"$C77*'background data'!$J$11","v":0},{"$f":"$C77*'background data'!$L$11","v":0},{"$f":"$C77*'background data'!$M$11","v":0},{"$f":"$C77*'background data'!$N$11","v":0},{"$f":"$C77*'background data'!$O$11","v":0}]
[null,{"$f":"B12","v":"          Energiforbrug, kWh"},{"$f":"'input-data'!E492","v":0},{"$f":"C78*'background data'!K38","v":0},{"$f":"D78","v":0},{"$f":"D78","v":0},{"$f":"$C78*'background data'!L38","v":0},{"$f":"$C78*'background data'!M38","v":0},{"$f":"$C78*'background data'!N38","v":0},{"$f":"$C78*'background data'!O38","v":0}]
[null,{"$f":" IF('input-data'!$B$3=\"Dansk\", \"          Dyr, stk.\", \"          Animals, p.\")","v":"          Dyr, stk."},{"$f":"'input-data'!E34","v":0},{"$f":"IF(D64=0, $C$79*'input-data'!$E$35*2.28,$C$79*'input-data'!$E$35*D64)","v":0},{"$f":"IF(E64=0, $C$79*'input-data'!$E$35*0.4,$C$79*'input-data'!$E$35*E64)","v":0},{"$f":"IF(F64=0, $C$79*'input-data'!$E$35*1.2,$C$79*'input-data'!$E$35*F64)","v":0},{"$f":"IF(G64=0, $C$79*'input-data'!$E$35*0.26,$C$79*'input-data'!$E$35*G64)","v":0},{"$f":"IF(H64=0, $C$79*'input-data'!$E$35*8.88,$C$79*'input-data'!$E$35*H64)","v":0},{"$f":"IF(I64=0, $C$79*'input-data'!$E$35*0.02,$C$79*'input-data'!$E$35*I64)","v":0},{"$f":"IF(J64=0, $C$79*'input-data'!$E$35*8.4,$C$79*'input-data'!$E$35*J64)","v":0}]
[null,"      TOTAL INPUT",null,{"$f":"SUM(D75:D79)","v":0},{"$f":"SUM(E75:E79)","v":0},0,0,0,0,0]
[null,"      TRANSPORT, tkm",{"$f":"((C76-SUM('Feed - overview'!N140:N190))/0.85+C77)/1000*50","v":0},{"$f":"$C81*'background data'!K$59","v":0},null,null,{"$f":"$C81*'background data'!L$59","v":0},{"$f":"$C81*'background data'!M$59","v":0},{"$f":"$C81*'background data'!N$59","v":0},{"$f":"$C81*'background data'!O$59","v":0}]
[null,{"$f":"B15","v":"      EMISSIONER"}]
[null,"          Fordøjelse, kg CH4",{"$f":"SUM('Feed - overview'!H140:H190)*90*670/(55.65*1000000)","v":0},{"$f":"C83*'øvrige EFS-other EFs'!$D$28","v":0}]
[null,"          CH4 gødning, kg CH4",{"$f":"'N-balance'!K128+'N-balance'!K140","v":0},{"$f":"C84*'øvrige EFS-other EFs'!$D$28","v":0}]
[null,"          N emissioner stalde og lager"]
[null,"              N2O, kg",{"$f":"('N-balance'!K22+'N-balance'!K27)*44/28","v":0},{"$f":"C86*'øvrige EFS-other EFs'!$D$27","v":0}]
[null,"              NH3, kg",{"$f":"('N-balance'!K21+'N-balance'!K26)*17/14","v":0},null,null,null,{"$f":"C87*'øvrige EFS-other EFs'!$I$31","v":0},null,{"$f":"C87*'øvrige EFS-other EFs'!$K$31","v":0}]
[null,"              NOx, kg",{"$f":"('N-balance'!K24+'N-balance'!K29)*30/14","v":0},null,null,null,{"$f":"C88*'øvrige EFS-other EFs'!$I$32","v":0},null,{"$f":"C88*'øvrige EFS-other EFs'!$K$32","v":0}]
[null,"          Erstatningsværdi for handelsgødning",null,{"$f":"-(('N-balance'!$K$153)*'background data'!$K$24+('N-balance'!$K$154)*'background data'!$K$25+('N-balance'!$K$155)*'background data'!$K$26+('N-balance'!$K$161+'N-balance'!$K$166)*44/24*'øvrige EFS-other EFs'!$D$27+('N-balance'!$K$168)/37*'background data'!$K$34+('N-balance'!$K$167)*'background data'!$K$59)","v":0},null,null,{"$f":"-(('N-balance'!$K$153)*'background data'!$L$24+('N-balance'!$K$154)*'background data'!$L$25+('N-balance'!$K$155)*'background data'!$L$26+('N-balance'!$K$168)/37*'background data'!$L$34+('N-balance'!$K$167)*'background data'!$L$59+('N-balance'!$K$162)*17/14*'øvrige EFS-other EFs'!$I$31+('N-balance'!$K$163)*31/14*'øvrige EFS-other EFs'!$I$32)","v":0},{"$f":"-(('N-balance'!$K$153)*'background data'!$M$24+('N-balance'!$K$154)*'background data'!$M$25+('N-balance'!$K$155)*'background data'!$M$26+('N-balance'!$K$168)/37*'background data'!$M$34+('N-balance'!$K$167)*'background data'!$M$59)","v":0},{"$f":"-(('N-balance'!$J$153)*'background data'!$N$24+('N-balance'!$J$154)*'background data'!$N$25+('N-balance'!$J$155)*'background data'!$N$26+('N-balance'!$J$168)/37*'background data'!$N$34+('N-balance'!$J$167)*'background data'!$N$59+('N-balance'!$J$162)*17/14*'øvrige EFS-other EFs'!$K$31)","v":0}]
[null,"      TOTAL EMISSIONER",null,{"$f":"D83+D84+D86+D87+D88+D89","v":0},{"$f":"E83+E84+E86+E87+E88+E89","v":0},0,0,0,0,0]
[null,"     TOTAL ",null,{"$f":"D80+D81+D90","v":0},{"$f":"E80+E81+E90","v":0},0,0,0,0,0]
[null,"     OUTPUT",{"$f":"C73","v":"Mængde"}]
[null,{"$f":"IF('input-data'!$B$3=\"Dansk\", \"         slagtesvin, stk.\", \"         slaughter pigs, p.\")","v":"         slagtesvin, stk."},{"$f":"'Flow slagtesvin'!D8","v":0}]
[null,{"$f":"IF('input-data'!$B$3=\"Dansk\", \"         slagtesvin, kg levende vægt\", \"         slaughter pigs, kg LW\")","v":"         slagtesvin, kg levende vægt"},{"$f":"C93*'Flow slagtesvin'!D12","v":0}]
[null,{"$f":"B30","v":"      TOTAL OUTPUT, kg levende vægt"},{"$f":"C94","v":0}]
[null,{"$f":"IF('input-data'!$B$3=\"Dansk\", \"      Påvirkning per slagtesvin\", \"          Impact per slaughter pig\")","v":"      Påvirkning per slagtesvin"},null,{"$f":"IFERROR(D91/$C$93,0)","v":0},{"$f":"IFERROR(E91/$C$93,0)","v":0},0,0,0,0,0]
[null,{"$f":"IF('input-data'!$B$3=\"Dansk\", \"      Påvirkning per kg levende vægt slagtesvin \", \"          Impact per kg LW slaughter pig\")","v":"      Påvirkning per kg levende vægt slagtesvin "},null,{"$f":"IFERROR(D91/$C$95,0)","v":0},{"$f":"IFERROR(E91/$C$95,0)","v":0},0,0,0,0,0]
[]
[]
[null,{"$f":"IF('input-data'!$B$3=\"Dansk\", \"GÅRD\", \"FARM\")","v":"GÅRD"}]
[]
[]
[null,{"$f":"IF('input-data'!$B$3=\"Dansk\", \"GÅRD\", \"FARM\")","v":"GÅRD"}]
[null,null,null,{"$f":"D7","v":"Miljømæssig påvirkning"}]
[null,null,null,{"$f":"D8","v":"Klimaaftryk, kg CO2-ækv"},{"$f":"E8","v":"C i jord, kg CO2-ækv"},"iLUC, kg CO2-ækv","Eutrofiering, kg NO3-ækv","Energiforbrug, MJ","Forsuring potential, kg SO2-ækv","Arealforbrug, m2"]
[null,"      INPUT",{"$f":"C9","v":"Mængde"}]
[null,{"$f":"B10","v":"          Foder, kg TS"},{"$f":"C10+C43+C76","v":0},{"$f":"D10+D43+D76","v":0},0,0,0,0,0,0]
[null,{"$f":"B11","v":"          Strøelse, kg"},{"$f":"C11+C44+C77","v":0},{"$f":"D11+D44+D77","v":0},0,0,0,0,0,0]
[null,{"$f":"B12","v":"          Energiforbrug, kWh"},{"$f":"C12+C45+C78","v":0},{"$f":"D12+D45+D78","v":0},0,0,0,0,0,0]
[null,{"$f":" IF('input-data'!$B$3=\"Dansk\", \"          Dyr, stk.:\", \"          Animals, p.:\")","v":"          Dyr, stk.:"}]
[null,{"$f":" IF('input-data'!$B$3=\"Dansk\", \"             smågrise\", \"             piglets\")","v":"             smågrise"},{"$f":"'input-data'!E27","v":0},{"$f":"D46","v":0},{"$f":"E46","v":0},0,0,0,0,0]
[null,{"$f":" IF('input-data'!$B$3=\"Dansk\", \"             slagtesvin\", \"             slaughter pigs\")","v":"             slagtesvin"},{"$f":"'input-data'!E34","v":0},{"$f":"D79","v":0},{"$f":"E79","v":0},0,0,0,0,0]
[null,"      TOTAL INPUT",null,{"$f":"SUM(D107:D112)","v":0},{"$f":"SUM(E107:E112)","v":0},0,0,0,0,0]
[null,"      TRANSPORT, tkm",{"$f":"C14+C48+C81","v":0},{"$f":"D14+D48+D81","v":0},0,0,0,0,0,0]
[null,{"$f":"B15","v":"      EMISSIONER"}]
[null,"          Fordøjelse, kg CH4",{"$f":"C16+C50+C83","v":0},{"$f":"D16+D50+D83","v":0}]
[null,"          CH4 gødning, kg CH4",{"$f":"C17+C51+C84","v":0},{"$f":"D17+D51+D84","v":0}]
[null,"          N emissioner stalde og lager"]
[null,"              N2O, kg",{"$f":"C19+C53+C86","v":0},{"$f":"D19+D53+D86","v":0},0,0,0,0,0,0]
[null,"              NH3, kg",{"$f":"C20+C54+C87","v":0},{"$f":"D20+D54+D87","v":0},0,0,0,0,0,0]
[null,"              NOx, kg",{"$f":"C21+C55+C88","v":0},0,0,0,0,0,0,0]
[null,"          Erstatningsværdi for handelsgødning",null,0,0,0,0,0,0,0]
[null,"      TOTAL EMISSIONER",null,{"$f":"D116+D117+D119+D120+D121+D122","v":0},{"$f":"E116+E117+E119+E120+E121+E122","v":0},0,0,0,0,0]
[null,"      TOTAL ",null,{"$f":"D113+D114+D123","v":0},{"$f":"E113+E114+E123","v":0},0,0,0,0,0]
[null,"      OUTPUT",{"$f":"C106","v":"Mængde"}]
[null,{"$f":"IF('input-data'!$B$3=\"Dansk\", \"         slagtesvin, stk.\", \"         slaughter pigs, p.\")","v":"         slagtesvin, stk."},{"$f":"C93","v":0}]
[null,{"$f":"IF('input-data'!$B$3=\"Dansk\", \"         søer udsat, stk.\", \"         cull sows, p.\")","v":"         søer udsat, stk."},{"$f":"C26","v":0}]
[null,{"$f":"IF('input-data'!$B$3=\"Dansk\", \"         solgte smågrise, stk.\", \"         sold piglets, p.\")","v":"         solgte smågrise, stk."},{"$f":"'input-data'!E500","v":0}]
[null,{"$f":"IF('input-data'!$B$3=\"Dansk\", \"         søer udsat, kg levende vægt\", \"         cull sows, kg LW\")","v":"         søer udsat, kg levende vægt"},{"$f":"C27","v":0}]
[null,{"$f":"IF('input-data'!$B$3=\"Dansk\", \"         solgte smågrise, kg levende vægt\", \"         sold piglets, kg LW\")","v":"         solgte smågrise, kg levende vægt"},{"$f":"C128*'Flow smågrise'!D13","v":0}]
[null,{"$f":"IF('input-data'!$B$3=\"Dansk\", \"         slagtesvin, kg levende vægt\", \"         slaughter pigs, kg LW\")","v":"         slagtesvin, kg levende vægt"},{"$f":"C94","v":0}]
[null,{"$f":"B30","v":"      TOTAL OUTPUT, kg levende vægt"},{"$f":"C129+C130+C131","v":0}]
[null,{"$f":"IF('input-data'!$B$3=\"Dansk\", \"      Påvirkning per kg levende vægt \", \"          Impact per kg LW\")","v":"      Påvirkning per kg levende vægt "},null,{"$f":"IFERROR(D124/$C$132,0)","v":0},{"$f":"IFERROR(E124/$C$132,0)","v":0},0,0,0,0,0]

{"sheet":"feed available","index":5,"n_rows":14,"n_cols":11,"rows_kept":14,"cut":false,"hidden":true,"merged":[]}
[]
[]
[null,{"$f":"IF('input-data'!$B$3=\"Dansk\", \"Foder type \", \"Feed type D22\")","v":"Foder type "},{"$f":"IF('input-data'!$B$3=\"Dansk\", \"Produktion, kg TS per gård \", \"Production, kg DM per farm\")","v":"Produktion, kg TS per gård "},{"$f":"IF('input-data'!$B$3=\"Dansk\", \"Produktion, kg per gård \", \"Production, kg DM per farm\")","v":"Produktion, kg per gård "},{"$f":"IF('input-data'!$B$3=\"Dansk\", \"Forbrug, kg TS per gård\", \"Use, kg DM per faarm\")","v":"Forbrug, kg TS per gård"},{"$f":"IF('input-data'!$B$3=\"Dansk\", \"Forbrug, kg per gård\", \"Use, kg per farm\")","v":"Forbrug, kg per gård"},{"$f":"IF('input-data'!$B$3=\"Dansk\", \"Forbrug, kg N\", \"Use, kg N\")","v":"Forbrug, kg N"},{"$f":"IF('input-data'!$B$3=\"Dansk\", \"Forbrug, kg P\", \"Use, kg P\")","v":"Forbrug, kg P"}]
[null,1,2,3,4,5,6,7,8,9,10]
[null,{"$f":"IF('input-data'!$B$3=\"Dansk\", topdowntables!R5, topdowntables!R17)","v":"byg - fra gaard"},{"$f":"IFERROR(VLOOKUP('feed available'!B5, production, 2, FALSE)*VLOOKUP(B5, production, 3, FALSE), 0)","v":0},{"$f":"IFERROR(VLOOKUP(B5, production, 4, FALSE),0)","v":0},{"$f":"SUMIF('Feed - overview'!$E$17:$E$190, B5, 'Feed - overview'!$J$17:$J$190)","v":0},{"$f":"SUMIF('Feed - overview'!$E$17:$E$190, B5, 'Feed - overview'!$H$17:$H$190)","v":0},{"$f":"SUMIF('Feed - overview'!$E$17:$E$190, B5, 'Feed - overview'!$K$17:$K$190)","v":0},{"$f":"SUMIF('Feed - overview'!$E$17:$E$190, B5, 'Feed - overview'!$L$17:$L$190)","v":0}]
[null,{"$f":"IF('input-data'!$B$3=\"Dansk\", topdowntables!R6, topdowntables!R18)","v":"hvede - fra gaard"},{"$f":"IFERROR(VLOOKUP('feed available'!B6, production, 2, FALSE)*VLOOKUP(B6, production, 3, FALSE), 0)","v":0},0,{"$f":"SUMIF('Feed - overview'!$E$17:$E$190, B6, 'Feed - overview'!$J$17:$J$190)","v":0},{"$f":"SUMIF('Feed - overview'!$E$17:$E$190, B6, 'Feed - overview'!$H$17:$H$190)","v":0},{"$f":"SUMIF('Feed - overview'!$E$17:$E$190, B6, 'Feed - overview'!$K$17:$K$190)","v":0},{"$f":"SUMIF('Feed - overview'!$E$17:$E$190, B6, 'Feed - overview'!$L$17:$L$190)","v":0}]
[null,{"$f":"IF('input-data'!$B$3=\"Dansk\", topdowntables!R7, topdowntables!R19)","v":"havre - fra gaard"},{"$f":"IFERROR(VLOOKUP('feed available'!B7, production, 2, FALSE)*VLOOKUP(B7, production, 3, FALSE), 0)","v":0},0,{"$f":"SUMIF('Feed - overview'!$E$17:$E$190, B7, 'Feed - overview'!$J$17:$J$190)","v":0},{"$f":"SUMIF('Feed - overview'!$E$17:$E$190, B7, 'Feed - overview'!$H$17:$H$190)","v":0},{"$f":"SUMIF('Feed - overview'!$E$17:$E$190, B7, 'Feed - overview'!$K$17:$K$190)","v":0},{"$f":"SUMIF('Feed - overview'!$E$17:$E$190, B7, 'Feed - overview'!$L$17:$L$190)","v":0}]
[null,{"$f":"IF('input-data'!$B$3=\"Dansk\", topdowntables!R8, topdowntables!R20)","v":"rug - fra gaard"},{"$f":"IFERROR(VLOOKUP('feed available'!B8, production, 2, FALSE)*VLOOKUP(B8, production, 3, FALSE), 0)","v":0},0,{"$f":"SUMIF('Feed - overview'!$E$17:$E$190, B8, 'Feed - overview'!$J$17:$J$190)","v":0},{"$f":"SUMIF('Feed - overview'!$E$17:$E$190, B8, 'Feed - overview'!$H$17:$H$190)","v":0},{"$f":"SUMIF('Feed - overview'!$E$17:$E$190, B8, 'Feed - overview'!$K$17:$K$190)","v":0},{"$f":"SUMIF('Feed - overview'!$E$17:$E$190, B8, 'Feed - overview'!$L$17:$L$190)","v":0}]
[null,{"$f":"IF('input-data'!$B$3=\"Dansk\", topdowntables!R9, topdowntables!R21)","v":"triticale - fra gaard"},{"$f":"IFERROR(VLOOKUP('feed available'!B9, production, 2, FALSE)*VLOOKUP(B9, production, 3, FALSE), 0)","v":0},0,{"$f":"SUMIF('Feed - overview'!$E$17:$E$190, B9, 'Feed - overview'!$J$17:$J$190)","v":0},{"$f":"SUMIF('Feed - overview'!$E$17:$E$190, B9, 'Feed - overview'!$H$17:$H$190)","v":0},{"$f":"SUMIF('Feed - overview'!$E$17:$E$190, B9, 'Feed - overview'!$K$17:$K$190)","v":0},{"$f":"SUMIF('Feed - overview'!$E$17:$E$190, B9, 'Feed - overview'!$L$17:$L$190)","v":0}]
[null,{"$f":"IF('input-data'!$B$3=\"Dansk\", topdowntables!R10, topdowntables!R22)","v":"ærter - fra gaard"},{"$f":"IFERROR(VLOOKUP('feed available'!B10, production, 2, FALSE)*VLOOKUP(B10, production, 3, FALSE), 0)","v":0},0,{"$f":"SUMIF('Feed - overview'!$E$17:$E$190, B10, 'Feed - overview'!$J$17:$J$190)","v":0},{"$f":"SUMIF('Feed - overview'!$E$17:$E$190, B10, 'Feed - overview'!$H$17:$H$190)","v":0},{"$f":"SUMIF('Feed - overview'!$E$17:$E$190, B10, 'Feed - overview'!$K$17:$K$190)","v":0},{"$f":"SUMIF('Feed - overview'!$E$17:$E$190, B10, 'Feed - overview'!$L$17:$L$190)","v":0}]
[null,{"$f":"IF('input-data'!$B$3=\"Dansk\", topdowntables!R11, topdowntables!R23)","v":"kløvergræs ensilage - fra gaard"},{"$f":"IFERROR(VLOOKUP('feed available'!B11, production, 2, FALSE)*VLOOKUP(B11, production, 3, FALSE), 0)","v":0},0,{"$f":"SUMIF('Feed - overview'!$E$17:$E$190, B11, 'Feed - overview'!$J$17:$J$190)","v":0},{"$f":"SUMIF('Feed - overview'!$E$17:$E$190, B11, 'Feed - overview'!$H$17:$H$190)","v":0},{"$f":"SUMIF('Feed - overview'!$E$17:$E$190, B11, 'Feed - overview'!$K$17:$K$190)","v":0},{"$f":"SUMIF('Feed - overview'!$E$17:$E$190, B11, 'Feed - overview'!$L$17:$L$190)","v":0}]
[null,{"$f":"IF('input-data'!$B$3=\"Dansk\", topdowntables!R12, topdowntables!R24)","v":"græs ensilage - fra gaard"},{"$f":"IFERROR(VLOOKUP('feed available'!B12, production, 2, FALSE)*VLOOKUP(B12, production, 3, FALSE), 0)","v":0},0,{"$f":"SUMIF('Feed - overview'!$E$17:$E$190, B12, 'Feed - overview'!$J$17:$J$190)","v":0},{"$f":"SUMIF('Feed - overview'!$E$17:$E$190, B12, 'Feed - overview'!$H$17:$H$190)","v":0},{"$f":"SUMIF('Feed - overview'!$E$17:$E$190, B12, 'Feed - overview'!$K$17:$K$190)","v":0},{"$f":"SUMIF('Feed - overview'!$E$17:$E$190, B12, 'Feed - overview'!$L$17:$L$190)","v":0}]
[null,{"$f":"IF('input-data'!$B$3=\"Dansk\", topdowntables!R13, topdowntables!R25)","v":"hestebønner - fra gaard"},{"$f":"IFERROR(VLOOKUP('feed available'!B13, production, 2, FALSE)*VLOOKUP(B13, production, 3, FALSE), 0)","v":0},0,{"$f":"SUMIF('Feed - overview'!$E$17:$E$190, B13, 'Feed - overview'!$J$17:$J$190)","v":0},{"$f":"SUMIF('Feed - overview'!$E$17:$E$190, B13, 'Feed - overview'!$H$17:$H$190)","v":0},{"$f":"SUMIF('Feed - overview'!$E$17:$E$190, B13, 'Feed - overview'!$K$17:$K$190)","v":0},{"$f":"SUMIF('Feed - overview'!$E$17:$E$190, B13, 'Feed - overview'!$L$17:$L$190)","v":0}]
[null,{"$f":"IF('input-data'!$B$3=\"Dansk\", topdowntables!R14, topdowntables!R26)","v":"………………………………………….."},{"$f":"IFERROR(VLOOKUP('feed available'!B14, production, 2, FALSE)*VLOOKUP(B14, production, 3, FALSE), 0)","v":0},0,{"$f":"SUMIF('Feed - overview'!$E$17:$E$190, B14, 'Feed - overview'!$J$17:$J$190)","v":0},{"$f":"SUMIF('Feed - overview'!$E$17:$E$190, B14, 'Feed - overview'!$H$17:$H$190)","v":0},{"$f":"SUMIF('Feed - overview'!$E$17:$E$190, B14, 'Feed - overview'!$K$17:$K$190)","v":0},{"$f":"SUMIF('Feed - overview'!$E$17:$E$190, B14, 'Feed - overview'!$L$17:$L$190)","v":0}]

{"sheet":"Feed rations","index":6,"n_rows":20,"n_cols":7,"rows_kept":20,"cut":false,"hidden":false,"merged":[]}
[]
[null,{"$f":"'Feed - overview'!C16","v":"Foder type"},{"$f":"'Feed - overview'!B17","v":" Diegivning søer"},{"$f":"'Feed - overview'!B38","v":" Pattegrisene ved soen"},{"$f":"'Feed - overview'!B53","v":" Drægtige søer"},{"$f":"'Feed - overview'!B89","v":" Smågrise"},{"$f":"'Feed - overview'!B140","v":" Slagtesvin"}]
[null,null,{"$f":"IF('input-data'!$B$3=\"Dansk\", \"SFU per år per dyr\", \"FU per yearanimal\")","v":"SFU per år per dyr"},{"$f":"IF('input-data'!$B$3=\"Dansk\", \"SFU per dyr\", \"FU per animal\")","v":"SFU per dyr"},{"$f":"IF('input-data'!$B$3=\"Dansk\", \"SFU per år per dyr\", \"FU per yearanimal\")","v":"SFU per år per dyr"},{"$f":"IF('input-data'!$B$3=\"Dansk\", \"SFU per dyr\", \"FU per animal\")","v":"SFU per dyr"},{"$f":"IF('input-data'!$B$3=\"Dansk\", \"SFU per dyr\", \"FU per animal\")","v":"SFU per dyr"}]
[null,{"$f":"'Feed use at farm'!C4","v":"byg"},{"$f":"SUMIF('Feed - overview'!$X$17:$X$37, B4, 'Feed - overview'!$G$17:$G$37)","v":0},{"$f":"SUMIF('Feed - overview'!$X$38:$X$52, B4, 'Feed - overview'!$G$38:$G$52)","v":0},{"$f":"SUMIF('Feed - overview'!$X$53:$X$88, B4, 'Feed - overview'!$G$53:$G$88)","v":0},{"$f":"SUMIF('Feed - overview'!$X$89:$X$139, B4, 'Feed - overview'!$G$89:$G$139)","v":0},{"$f":"SUMIF('Feed - overview'!$X$140:$X$190, B4, 'Feed - overview'!$G$140:$G$190)","v":0}]
[null,{"$f":"'Feed use at farm'!C6","v":"hvede"},{"$f":"SUMIF('Feed - overview'!$X$17:$X$37, B5, 'Feed - overview'!$G$17:$G$37)","v":0},{"$f":"SUMIF('Feed - overview'!$X$38:$X$52, B5, 'Feed - overview'!$G$38:$G$52)","v":0},{"$f":"SUMIF('Feed - overview'!$X$53:$X$88, B5, 'Feed - overview'!$G$53:$G$88)","v":0},{"$f":"SUMIF('Feed - overview'!$X$89:$X$139, B5, 'Feed - overview'!$G$89:$G$139)","v":0},{"$f":"SUMIF('Feed - overview'!$X$140:$X$190, B5, 'Feed - overview'!$G$140:$G$190)","v":0}]
[null,{"$f":"'Feed use at farm'!C8","v":"rug"},{"$f":"SUMIF('Feed - overview'!$X$17:$X$37, B6, 'Feed - overview'!$G$17:$G$37)","v":0},{"$f":"SUMIF('Feed - overview'!$X$38:$X$52, B6, 'Feed - overview'!$G$38:$G$52)","v":0},{"$f":"SUMIF('Feed - overview'!$X$53:$X$88, B6, 'Feed - overview'!$G$53:$G$88)","v":0},{"$f":"SUMIF('Feed - overview'!$X$89:$X$139, B6, 'Feed - overview'!$G$89:$G$139)","v":0},{"$f":"SUMIF('Feed - overview'!$X$140:$X$190, B6, 'Feed - overview'!$G$140:$G$190)","v":0}]
[null,{"$f":"'Feed use at farm'!C10","v":"havre"},{"$f":"SUMIF('Feed - overview'!$X$17:$X$37, B7, 'Feed - overview'!$G$17:$G$37)","v":0},{"$f":"SUMIF('Feed - overview'!$X$38:$X$52, B7, 'Feed - overview'!$G$38:$G$52)","v":0},{"$f":"SUMIF('Feed - overview'!$X$53:$X$88, B7, 'Feed - overview'!$G$53:$G$88)","v":0},{"$f":"SUMIF('Feed - overview'!$X$89:$X$139, B7, 'Feed - overview'!$G$89:$G$139)","v":0},{"$f":"SUMIF('Feed - overview'!$X$140:$X$190, B7, 'Feed - overview'!$G$140:$G$190)","v":0}]
[null,{"$f":"'Feed use at farm'!C12","v":"triticale"},{"$f":"SUMIF('Feed - overview'!$X$17:$X$37, B8, 'Feed - overview'!$G$17:$G$37)","v":0},{"$f":"SUMIF('Feed - overview'!$X$38:$X$52, B8, 'Feed - overview'!$G$38:$G$52)","v":0},{"$f":"SUMIF('Feed - overview'!$X$53:$X$88, B8, 'Feed - overview'!$G$53:$G$88)","v":0},{"$f":"SUMIF('Feed - overview'!$X$89:$X$139, B8, 'Feed - overview'!$G$89:$G$139)","v":0},{"$f":"SUMIF('Feed - overview'!$X$140:$X$190, B8, 'Feed - overview'!$G$140:$G$190)","v":0}]
[null,{"$f":"'Feed use at farm'!C14","v":"sojakage"},{"$f":"SUMIF('Feed - overview'!$X$17:$X$37, B9, 'Feed - overview'!$G$17:$G$37)","v":0},{"$f":"SUMIF('Feed - overview'!$X$38:$X$52, B9, 'Feed - overview'!$G$38:$G$52)","v":0},{"$f":"SUMIF('Feed - overview'!$X$53:$X$88, B9, 'Feed - overview'!$G$53:$G$88)","v":0},{"$f":"SUMIF('Feed - overview'!$X$89:$X$139, B9, 'Feed - overview'!$G$89:$G$139)","v":0},{"$f":"SUMIF('Feed - overview'!$X$140:$X$190, B9, 'Feed - overview'!$G$140:$G$190)","v":0}]
[null,{"$f":"'Feed use at farm'!C22","v":"rapskagefoder"},{"$f":"SUMIF('Feed - overview'!$X$17:$X$37, B10, 'Feed - overview'!$G$17:$G$37)","v":0},{"$f":"SUMIF('Feed - overview'!$X$38:$X$52, B10, 'Feed - overview'!$G$38:$G$52)","v":0},{"$f":"SUMIF('Feed - overview'!$X$53:$X$88, B10, 'Feed - overview'!$G$53:$G$88)","v":0},{"$f":"SUMIF('Feed - overview'!$X$89:$X$139, B10, 'Feed - overview'!$G$89:$G$139)","v":0},{"$f":"SUMIF('Feed - overview'!$X$140:$X$190, B10, 'Feed - overview'!$G$140:$G$190)","v":0}]
[null,{"$f":"'Feed use at farm'!C15","v":"fiskemel"},{"$f":"SUMIF('Feed - overview'!$X$17:$X$37, B11, 'Feed - overview'!$G$17:$G$37)","v":0},{"$f":"SUMIF('Feed - overview'!$X$38:$X$52, B11, 'Feed - overview'!$G$38:$G$52)","v":0},{"$f":"SUMIF('Feed - overview'!$X$53:$X$88, B11, 'Feed - overview'!$G$53:$G$88)","v":0},{"$f":"SUMIF('Feed - overview'!$X$89:$X$139, B11, 'Feed - overview'!$G$89:$G$139)","v":0},{"$f":"SUMIF('Feed - overview'!$X$140:$X$190, B11, 'Feed - overview'!$G$140:$G$190)","v":0}]
[null,{"$f":"'Feed use at farm'!C16","v":"hestebønner"},{"$f":"SUMIF('Feed - overview'!$X$17:$X$37, B12, 'Feed - overview'!$G$17:$G$37)","v":0},{"$f":"SUMIF('Feed - overview'!$X$38:$X$52, B12, 'Feed - overview'!$G$38:$G$52)","v":0},{"$f":"SUMIF('Feed - overview'!$X$53:$X$88, B12, 'Feed - overview'!$G$53:$G$88)","v":0},{"$f":"SUMIF('Feed - overview'!$X$89:$X$139, B12, 'Feed - overview'!$G$89:$G$139)","v":0},{"$f":"SUMIF('Feed - overview'!$X$140:$X$190, B12, 'Feed - overview'!$G$140:$G$190)","v":0}]
[null,{"$f":"'Feed use at farm'!C18","v":"ærter"},{"$f":"SUMIF('Feed - overview'!$X$17:$X$37, B13, 'Feed - overview'!$G$17:$G$37)","v":0},{"$f":"SUMIF('Feed - overview'!$X$38:$X$52, B13, 'Feed - overview'!$G$38:$G$52)","v":0},{"$f":"SUMIF('Feed - overview'!$X$53:$X$88, B13, 'Feed - overview'!$G$53:$G$88)","v":0},{"$f":"SUMIF('Feed - overview'!$X$89:$X$139, B13, 'Feed - overview'!$G$89:$G$139)","v":0},{"$f":"SUMIF('Feed - overview'!$X$140:$X$190, B13, 'Feed - overview'!$G$140:$G$190)","v":0}]
[null,{"$f":"'Feed use at farm'!C20","v":"kartoffelprotein"},{"$f":"SUMIF('Feed - overview'!$X$17:$X$37, B14, 'Feed - overview'!$G$17:$G$37)","v":0},{"$f":"SUMIF('Feed - overview'!$X$38:$X$52, B14, 'Feed - overview'!$G$38:$G$52)","v":0},{"$f":"SUMIF('Feed - overview'!$X$53:$X$88, B14, 'Feed - overview'!$G$53:$G$88)","v":0},{"$f":"SUMIF('Feed - overview'!$X$89:$X$139, B14, 'Feed - overview'!$G$89:$G$139)","v":0},{"$f":"SUMIF('Feed - overview'!$X$140:$X$190, B14, 'Feed - overview'!$G$140:$G$190)","v":0}]
[null,{"$f":"'Feed use at farm'!C21","v":"vitaminer og mineraler"},{"$f":"SUMIF('Feed - overview'!$X$17:$X$37, B15, 'Feed - overview'!$G$17:$G$37)","v":0},{"$f":"SUMIF('Feed - overview'!$X$38:$X$52, B15, 'Feed - overview'!$G$38:$G$52)","v":0},{"$f":"SUMIF('Feed - overview'!$X$53:$X$88, B15, 'Feed - overview'!$G$53:$G$88)","v":0},{"$f":"SUMIF('Feed - overview'!$X$89:$X$139, B15, 'Feed - overview'!$G$89:$G$139)","v":0},{"$f":"SUMIF('Feed - overview'!$X$140:$X$190, B15, 'Feed - overview'!$G$140:$G$190)","v":0}]
[null,{"$f":"'Feed use at farm'!C23","v":"øvrige"},{"$f":"SUMIF('Feed - overview'!$X$17:$X$37, B16, 'Feed - overview'!$G$17:$G$37)","v":0},{"$f":"SUMIF('Feed - overview'!$X$38:$X$52, B16, 'Feed - overview'!$G$38:$G$52)","v":0},{"$f":"SUMIF('Feed - overview'!$X$53:$X$88, B16, 'Feed - overview'!$G$53:$G$88)","v":0},{"$f":"SUMIF('Feed - overview'!$X$89:$X$139, B16, 'Feed - overview'!$G$89:$G$139)","v":0},{"$f":"SUMIF('Feed - overview'!$X$140:$X$190, B16, 'Feed - overview'!$G$140:$G$190)","v":0}]
[null,{"$f":"'Feed use at farm'!C24","v":"kløvergræs ensilage"},{"$f":"SUMIF('Feed - overview'!$X$17:$X$37, B17, 'Feed - overview'!$G$17:$G$37)","v":0},{"$f":"SUMIF('Feed - overview'!$X$38:$X$52, B17, 'Feed - overview'!$G$38:$G$52)","v":0},{"$f":"SUMIF('Feed - overview'!$X$53:$X$88, B17, 'Feed - overview'!$G$53:$G$88)","v":0},{"$f":"SUMIF('Feed - overview'!$X$89:$X$139, B17, 'Feed - overview'!$G$89:$G$139)","v":0},{"$f":"SUMIF('Feed - overview'!$X$140:$X$190, B17, 'Feed - overview'!$G$140:$G$190)","v":0}]
[null,{"$f":"'Feed use at farm'!C26","v":"græsensilage"},{"$f":"SUMIF('Feed - overview'!$X$17:$X$37, B18, 'Feed - overview'!$G$17:$G$37)","v":0},{"$f":"SUMIF('Feed - overview'!$X$38:$X$52, B18, 'Feed - overview'!$G$38:$G$52)","v":0},{"$f":"SUMIF('Feed - overview'!$X$53:$X$88, B18, 'Feed - overview'!$G$53:$G$88)","v":0},{"$f":"SUMIF('Feed - overview'!$X$89:$X$139, B18, 'Feed - overview'!$G$89:$G$139)","v":0},{"$f":"SUMIF('Feed - overview'!$X$140:$X$190, B18, 'Feed - overview'!$G$140:$G$190)","v":0}]
[null,{"$f":"'Feed use at farm'!C28","v":"kløvergræs"},{"$f":"SUMIF('Feed - overview'!$X$17:$X$37, B19, 'Feed - overview'!$G$17:$G$37)","v":0},{"$f":"SUMIF('Feed - overview'!$X$38:$X$52, B19, 'Feed - overview'!$G$38:$G$52)","v":0},{"$f":"SUMIF('Feed - overview'!$X$53:$X$88, B19, 'Feed - overview'!$G$53:$G$88)","v":0},{"$f":"SUMIF('Feed - overview'!$X$89:$X$139, B19, 'Feed - overview'!$G$89:$G$139)","v":0},{"$f":"SUMIF('Feed - overview'!$X$140:$X$190, B19, 'Feed - overview'!$G$140:$G$190)","v":0}]
[null,"TOTAL",{"$f":"SUM(C4:C19)","v":0},{"$f":"SUM(D4:D19)","v":0},0,0,0]

{"sheet":"Mark-Fields","index":7,"n_rows":218,"n_cols":14,"rows_kept":218,"cut":false,"hidden":false,"merged":[]}
[]
[null,null,"Standard"]
[]
[null,null,{"$f":"IF(topdowntables!$N$4=1, \"farefolde\", \"paddock for lactating sows\")","v":"farefolde"},{"$f":"IF(topdowntables!$N$4=1, \"drægtighedsfolde\", \"paddock for gestating sows\")","v":"drægtighedsfolde"},{"$f":"IF(topdowntables!$N$4=1, \"smågrisefolde\", \"paddock for piglets\")","v":"smågrisefolde"},{"$f":"IF(topdowntables!$N$4=1, \"slagtesvinefolde\", \"paddock for slaughter pigs\")","v":"slagtesvinefolde"},{"$f":"IF(topdowntables!$N$4=1, \"afgrøde 1\", \"crop 1\")","v":"afgrøde 1"},{"$f":"IF(topdowntables!$N$4=1, \"afgrøde 2\", \"crop 2\")","v":"afgrøde 2"},{"$f":"IF(topdowntables!$N$4=1, \"afgrøde 3\", \"crop 3\")","v":"afgrøde 3"},{"$f":"IF(topdowntables!$N$4=1, \"afgrøde 4\", \"crop 4\")","v":"afgrøde 4"},{"$f":"IF(topdowntables!$N$4=1, \"afgrøde 5\", \"crop 5\")","v":"afgrøde 5"},{"$f":"IF(topdowntables!$N$4=1, \"afgrøde 6\", \"crop 6\")","v":"afgrøde 6"},"Total"]
[null,{"$f":"IF(topdowntables!N4=1, \"type\", \"type\")","v":"type"},{"$f":"IF(C6>0, 'input-data'!E306, \"\")","v":""},{"$f":"IF(D6>0, 'input-data'!E328, \"\")","v":""},{"$f":"IF(E6>0, 'input-data'!E350, \"\")","v":""},{"$f":"IF(F6>0, 'input-data'!E372, \"\")","v":""},{"$f":"IF(G6>0, 'input-data'!E429, \"\")","v":""},{"$f":"IF(H6>0, 'input-data'!E439, \"\")","v":""},{"$f":"IF(I6>0, 'input-data'!E449, \"\")","v":""},{"$f":"IF(J6>0, 'input-data'!E459, \"\")","v":""},{"$f":"IF(K6>0, 'input-data'!E469, \"\")","v":""},{"$f":"IF(L6>0, 'input-data'!E479, \"\")","v":""}]
[null,{"$f":"IF(topdowntables!N4=1, \"areal\", \"area\")","v":"areal"},{"$f":"'input-data'!E305","v":0},{"$f":"'input-data'!E327","v":0},{"$f":"'input-data'!E349","v":0},{"$f":"'input-data'!E371","v":0},{"$f":"'input-data'!E430","v":0},{"$f":"'input-data'!E440","v":0},{"$f":"'input-data'!E450","v":0},{"$f":"'input-data'!E460","v":0},{"$f":"'input-data'!E470","v":0},{"$f":"'input-data'!E480","v":0},{"$f":"SUM(C6:L6)","v":0}]
[]
[]
[null,"Input per ha"]
[null,{"$f":"IF(topdowntables!$N$4=1, \"husdyrgødning, kg N gødning ab lager per ha\", \"manure, kg N ex-storage per ha\")","v":"husdyrgødning, kg N gødning ab lager per ha"},null,null,null,null,{"$f":"IF(G6>0, ('N-balance'!$M$31-'input-data'!$G$397*5.84+'input-data'!$G$398*5.84)/($M$6-SUM($C$6:$F$6)), 0)","v":0},{"$f":"IF(H6>0, ('N-balance'!$M$31-'input-data'!$G$397*5.84+'input-data'!$G$398*5.84)/($M$6-SUM($C$6:$F$6)), 0)","v":0},{"$f":"IF(I6>0, ('N-balance'!$M$31-'input-data'!$G$397*5.84+'input-data'!$G$398*5.84)/($M$6-SUM($C$6:$F$6)), 0)","v":0},{"$f":"IF(J6>0, ('N-balance'!$M$31-'input-data'!$G$397*5.84+'input-data'!$G$398*5.84)/($M$6-SUM($C$6:$F$6)), 0)","v":0},{"$f":"IF(K6>0, ('N-balance'!$M$31-'input-data'!$G$397*5.84+'input-data'!$G$398*5.84)/($M$6-SUM($C$6:$F$6)), 0)","v":0},{"$f":"IF(L6>0, ('N-balance'!$M$31-'input-data'!$G$397*5.84+'input-data'!$G$398*5.84)/($M$6-SUM($C$6:$F$6)), 0)","v":0},{"$f":"C10*$C$6+D10*$D$6+E10*$E$6+F10*$F$6+G10*$G$6+H10*$H$6+I10*$I$6+J10*$J$6+K10*$K$6+L10*$L$6","v":0}]
[null,{"$f":"IF(topdowntables!$N$4=1,\"     gylle, %\",  \"     slurry, %\")","v":"     gylle, %"},null,null,null,null,{"$f":"IF('input-data'!$E$397='input-data'!$B$392, IF('input-data'!$E$398='input-data'!$B$392, ('N-balance'!$M$32/100*'N-balance'!$M$31-'input-data'!$G$397*5.84+'input-data'!$G$398*5.84)/'Mark-Fields'!$M$10*100,  ('N-balance'!$M$32/100*'N-balance'!$M$31-'input-data'!$G$397*5.84)/'Mark-Fields'!$M$10*100), IF('input-data'!$E$398='input-data'!$B$392,  ('N-balance'!$M$32/100*'N-balance'!$M$31+'input-data'!$G$398*5.84)/'Mark-Fields'!$M$10*100, 'N-balance'!$M$32))","v":0},{"$f":"IF(H6>0, $G$11, 0)","v":0},{"$f":"IF(I6>0, $G$11, 0)","v":0},0,0,0,{"$f":"C11*$C$6+D11*$D$6+E11*$E$6+F11*$F$6+G11*$G$6+H11*$H$6+I11*$I$6+J11*$J$6+K11*$K$6+L11*$L$6","v":0}]
[null,{"$f":"IF(topdowntables!$N$4=1,\"     afgasset gylle, %\",  \"     degassed slurry, %\")","v":"     afgasset gylle, %"},null,null,null,null,{"$f":"IFERROR(('N-balance'!$M$33/100*'N-balance'!$M$31)/M10*100, 0)","v":0},{"$f":"IF(H6>0, $G$12, 0)","v":0},{"$f":"IF(I6>0, $G$12, 0)","v":0},0,0,0,0]
[null,{"$f":"IF(topdowntables!$N$4=1,\"     forsuret gylle, %\",  \"     acidified slurry, %\")","v":"     forsuret gylle, %"},null,null,null,null,{"$f":"IFERROR(('N-balance'!$M$34/100*'N-balance'!$M$31)/M10*100, 0)","v":0},{"$f":"IF(H6>0, $G13, 0)","v":0},{"$f":"IF(I6>0, $G13, 0)","v":0},0,0,0,0]
[null,{"$f":"IF(topdowntables!$N$4=1,\"     faststald gødning, %\",  \"     solid manure, %\")","v":"     faststald gødning, %"},null,null,null,null,null,null,null,null,null,null,0]
[null,{"$f":"IF(topdowntables!$N$4=1,\"     dybstrøelse, %\",  \"     deep litter, %\")","v":"     dybstrøelse, %"},null,null,null,null,{"$f":"IFERROR(IF('input-data'!$E$397='input-data'!$B$393, IF('input-data'!$E$398='input-data'!$B$393, ('N-balance'!$M$35/100*'N-balance'!$M$31-'input-data'!$G$397*5.84+'input-data'!$G$398*5.84)/'Mark-Fields'!$M$10*100,  ('N-balance'!$M$35/100*'N-balance'!$M$31-'input-data'!$G$397*5.84)/'Mark-Fields'!$M$10*100), IF('input-data'!$E$398='input-data'!$B$393,  ('N-balance'!$M$35/100*'N-balance'!$M$31+'input-data'!$G$398*5.84)/'Mark-Fields'!$M$10*100, ('N-balance'!$M$35/100*'N-balance'!$M$31)/'Mark-Fields'!M10*100)),0)","v":0},{"$f":"IF(H6>0, $G$15, 0)","v":0},{"$f":"IF(I6>0, $G$15, 0)","v":0},0,0,0,0]
[null,{"$f":"IF(topdowntables!N4=1, \"husdyrgødning, kg N per ha (afgræsning)\", \"manure, kg N deposited at pasture per ha\")","v":"husdyrgødning, kg N per ha (afgræsning)"},{"$f":"IFERROR('N-P balance sohold'!C23/C6, 0)","v":0},{"$f":"IFERROR('N-P balance sohold'!C127/D6, 0)","v":0},{"$f":"IFERROR('N-P balance smågrise'!C23/E6, 0)","v":0},{"$f":"IFERROR('N-P balance slagtesvin'!C23/F6, 0)","v":0},null,null,null,null,null,null,{"$f":"$C$6*C16+$D$6*D16+$E$6*E16+$F$6*F16+$G$6*G16+$H$6*H16+$I$6*I16+$J$6*J16+$K$6*K16+$L$6*L16","v":0}]
[null,{"$f":"IF(topdowntables!$N$4=1, \"gødning, kg N plante tilgængeligt per ha\", \"manure, kg N plant available per ha\")","v":"gødning, kg N plante tilgængeligt per ha"},{"$f":"(C10+C16)*0.75","v":0},{"$f":"(D10+D16)*0.75","v":0},0,0,{"$f":"(G11+G12+G13)/100*G10*0.75+G15/100*G10*0.45","v":0},{"$f":"(H11+H12+H13)/100*H10*0.75+H15/100*H10*0.45","v":0},0,0,0,0,{"$f":"$C$6*C17+$D$6*D17+$E$6*E17+$F$6*F17+$G$6*G17+$H$6*H17+$I$6*I17+$J$6*J17+$K$6*K17+$L$6*L17","v":0}]
[null,{"$f":"IF(topdowntables!$N$4=1, \"gødning, kg P plante tilgængeligt per ha\", \"manure, kg P plant available per ha\")","v":"gødning, kg P plante tilgængeligt per ha"},{"$f":"IFERROR('N-P balance sohold'!E23/C6, 0)","v":0},{"$f":"IFERROR('N-P balance sohold'!E127/D6, 0)","v":0},{"$f":"IFERROR('N-P balance smågrise'!E23/E6, 0)","v":0},{"$f":"IFERROR('N-P balance slagtesvin'!E23/F6, 0)","v":0},{"$f":"G17*0.22","v":0},0,0,0,0,0,0]
[null,{"$f":"IF(topdowntables!$N$4=1, \"gødning, kg K plante tilgængeligt per ha\", \"manure, kg K plant available per ha\")","v":"gødning, kg K plante tilgængeligt per ha"},{"$f":"C17*0.49","v":0},{"$f":"D17*0.49","v":0},0,0,0,0,0,0,0,0,0,"based on (Normtal, 2017)"]
[null,{"$f":"IF(topdowntables!$N$4=1,\"udsæd, kg per ha\",  \"seed, kg per ha\")","v":"udsæd, kg per ha"},{"$f":"IF(C6>0, 12, 0)","v":0},{"$f":"IF(D6>0, 12, 0)","v":0},{"$f":"IF(E6>0, 12, 0)","v":0},{"$f":"IF(F6>0, 12, 0)","v":0},{"$f":"'input-data'!E434","v":0},{"$f":"'input-data'!E444","v":0},{"$f":"'input-data'!E454","v":0},{"$f":"'input-data'!E464","v":0},{"$f":"'input-data'!E474","v":0},{"$f":"'input-data'!E484","v":0},{"$f":"$C$6*C20+$D$6*D20+$E$6*E20+$F$6*F20+$G$6*G20+$H$6*H20+$I$6*I20+$J$6*J20+$K$6*K20+$L$6*L20","v":0}]
[null,{"$f":"IF(topdowntables!$N$4=1, \"kalk, kg per ha\", \"lime, kg per ha\")","v":"kalk, kg per ha"},null,null,null,null,{"$f":"'input-data'!E435","v":0},{"$f":"'input-data'!E445","v":0},{"$f":"'input-data'!E455","v":0},{"$f":"'input-data'!E465","v":0},{"$f":"'input-data'!E475","v":0},{"$f":"'input-data'!E485","v":0},{"$f":"$C$6*C21+$D$6*D21+$E$6*E21+$F$6*F21+$G$6*G21+$H$6*H21+$I$6*I21+$J$6*J21+$K$6*K21+$L$6*L21","v":0}]
[null,{"$f":"IF(topdowntables!N4=1, \"andel vandet, %\", \"irrigation share of ha crop, %\")","v":"andel vandet, %"},null,null,null,null,{"$f":"'input-data'!E436","v":0},{"$f":"'input-data'!E446","v":0},{"$f":"'input-data'!E456","v":0},{"$f":"'input-data'!E466","v":0},{"$f":"'input-data'!E476","v":0},{"$f":"'input-data'!E486","v":0},{"$f":"$C$6*C22+$D$6*D22+$E$6*E22+$F$6*F22+$G$6*G22+$H$6*H22+$I$6*I22+$J$6*J22+$K$6*K22+$L$6*L22","v":0}]
[null,{"$f":"IF(topdowntables!$N$4=1, \"vandforbrug til vanding, mm per ha\", \"water used for irrigation, mm per irrigated ha\")","v":"vandforbrug til vanding, mm per ha"},null,null,null,null,{"$f":"'input-data'!E437","v":0},{"$f":"'input-data'!E447","v":0},{"$f":"'input-data'!E457","v":0},{"$f":"'input-data'!E467","v":0},{"$f":"'input-data'!E477","v":0},{"$f":"'input-data'!E487","v":0},0]
[null,{"$f":"IF(topdowntables!$N$4=1, \"energi forbrug til vanding, kWh per ha\", \"electricity for irrigation, kWh per ha\")","v":"energi forbrug til vanding, kWh per ha"},null,null,null,null,{"$f":"0.5*G23*10*G22/100","v":0},{"$f":"0.5*H23*10*H22/100","v":0},0,0,0,0,0]
[null,{"$f":"IF(topdowntables!N4=1, \"energi forbrug til tørring, olie, kg per ha\", \"energy for drying, oil, kg per ha\")","v":"energi forbrug til tørring, olie, kg per ha"},null,null,null,null,{"$f":"G30/100*6.2/40.7","v":0},{"$f":"H30/100*6.2/40.7","v":0},0,0,0,0,0]
[null,{"$f":"IF(topdowntables!$N$4=1, \"disel forbrug til markoperationer, l per ha\", \"diesel for field work, l per ha\")","v":"disel forbrug til markoperationer, l per ha"},{"$f":"IF(C6>0, 'input-data'!$E$493, 0)","v":0},{"$f":"IF(D6>0, 'input-data'!$E$493, 0)","v":0},{"$f":"IF(E6>0, 'input-data'!$E$493, 0)","v":0},{"$f":"IF(F6>0, 'input-data'!$E$493, 0)","v":0},{"$f":"IF(G6>0, 'input-data'!$E$493, 0)","v":0},{"$f":"IF(H6>0, 'input-data'!$E$493, 0)","v":0},{"$f":"IF(I6>0, 'input-data'!$E$493, 0)","v":0},{"$f":"IF(J6>0, 'input-data'!$E$493, 0)","v":0},{"$f":"IF(K6>0, 'input-data'!$E$493, 0)","v":0},{"$f":"IF(L6>0, 'input-data'!$E$493, 0)","v":0},0]
[null,{"$f":"IF(topdowntables!N4=1, \"smøremiddelolie, l per ha\", \"lubricant oil, l per ha\")","v":"smøremiddelolie, l per ha"},null,null,null,null,{"$f":"G26*0.1","v":0},{"$f":"H26*0.1","v":0},0,0,0,0,{"$f":"$C$6*C27+$D$6*D27+$E$6*E27+$F$6*F27+$G$6*G27+$H$6*H27+$I$6*I27+$J$6*J27+$K$6*K27+$L$6*L27","v":0}]
[]
[null,"Output per ha",{"$f":"C5","v":""},{"$f":"D5","v":""},"","","","","","","","",{"$f":"M4","v":"Total"}]
[null,{"$f":"IF(topdowntables!$N$4=1, \"udbytte, kg per ha\", \"yield, kg per ha\")","v":"udbytte, kg per ha"},{"$f":"IF(C6>0, C31*5, 0)","v":0},{"$f":"IF(D6>0, D31*5, 0)","v":0},0,0,{"$f":"IF(OR(G5=topdowntables!$R$11,G5=topdowntables!$R$23),'input-data'!E431/0.23,IF(OR(G5=topdowntables!$R$12,G5=topdowntables!$R$24),'input-data'!E431/0.23,'input-data'!E431))","v":0},{"$f":"IF(OR(H5=topdowntables!$R$11,H5=topdowntables!$R$23),'input-data'!E441/0.23,IF(OR(H5=topdowntables!$R$12,H5=topdowntables!$R$24),'input-data'!E441/0.23,'input-data'!E441))","v":0},{"$f":"IF(OR(I5=topdowntables!$R$11,I5=topdowntables!$R$23),'input-data'!E451/0.23,IF(OR(I5=topdowntables!$R$12,I5=topdowntables!$R$24),'input-data'!E451/0.23,'input-data'!E451))","v":0},{"$f":"IF(OR(J5=topdowntables!$R$11,J5=topdowntables!$R$23),'input-data'!E461/0.23,IF(OR(J5=topdowntables!$R$12,J5=topdowntables!$R$24),'input-data'!E461/0.23,'input-data'!E461))","v":0},{"$f":"IF(OR(K5=topdowntables!$R$11,K5=topdowntables!$R$23),'input-data'!E471/0.23,IF(OR(K5=topdowntables!$R$12,K5=topdowntables!$R$24),'input-data'!E471/0.23,'input-data'!E471))","v":0},{"$f":"IF(OR(L5=topdowntables!$R$11,L5=topdowntables!$R$23),'input-data'!E481/0.23,IF(OR(L5=topdowntables!$R$12,L5=topdowntables!$R$24),'input-data'!E481/0.23,'input-data'!E481))","v":0}]
[null,{"$f":"IF(topdowntables!$N$4=1, \"udbytte, kg TS per ha\", \"yield, kg DM per ha\")","v":"udbytte, kg TS per ha"},{"$f":"IF(C6>0, C32*1.05, 0)","v":0},{"$f":"IF(D6>0, D32*1.05, 0)","v":0},0,0,{"$f":"IFERROR(VLOOKUP(G5, topdowntables!$R$5:$AH$26, 5, FALSE)*G30, 0)","v":0},{"$f":"IFERROR(VLOOKUP(H5, topdowntables!$R$5:$AH$26, 5, FALSE)*H30, 0)","v":0},{"$f":"IFERROR(VLOOKUP(I5, topdowntables!$R$5:$AH$26, 5, FALSE)*I30, 0)","v":0},{"$f":"IFERROR(VLOOKUP(J5, topdowntables!$R$5:$AH$26, 5, FALSE)*J30, 0)","v":0},{"$f":"IFERROR(VLOOKUP(K5, topdowntables!$R$5:$AH$26, 5, FALSE)*K30, 0)","v":0},{"$f":"IFERROR(VLOOKUP(L5, topdowntables!$R$5:$AH$26, 5, FALSE)*L30, 0)","v":0}]
[null,{"$f":"IF(topdowntables!$N$4=1, \"udbytte, SFU per ha\", \"yield, FU per ha\")","v":"udbytte, SFU per ha"},{"$f":"IF(C6>0, 1500+'input-data'!E408, 0)","v":0},{"$f":"IF(D6>0, 1500+'input-data'!E413, 0)","v":0},{"$f":"IF(E6>0, 1500+'input-data'!E418, 0)","v":0},{"$f":"IF(F6>0, 1500+'input-data'!E423:F423, 0)","v":0},{"$f":"IFERROR(VLOOKUP(G5, topdowntables!$R$5:$AH$26, 6, FALSE)*G30, 0)","v":0},{"$f":"IFERROR(VLOOKUP(H5, topdowntables!$R$5:$AH$26, 6, FALSE)*H30, 0)","v":0},{"$f":"IFERROR(VLOOKUP(I5, topdowntables!$R$5:$AH$26, 6, FALSE)*I30, 0)","v":0},{"$f":"IFERROR(VLOOKUP(J5, topdowntables!$R$5:$AH$26, 6, FALSE)*J30, 0)","v":0},{"$f":"IFERROR(VLOOKUP(K5, topdowntables!$R$5:$AH$26, 6, FALSE)*K30, 0)","v":0},{"$f":"IFERROR(VLOOKUP(L5, topdowntables!$R$5:$AH$26, 6, FALSE)*L30, 0)","v":0}]
[null,{"$f":"IF(topdowntables!N4=1, \"tab, % af TS\", \"total losses, % of DM\")","v":"tab, % af TS"},{"$f":"IF(C6>0, 60, 0)","v":0},{"$f":"IF(D6>0, 60, 0)","v":0},{"$f":"IF(E6>0, 60, 0)","v":0},{"$f":"IF(F6>0, 60, 0)","v":0},{"$f":"IFERROR(VLOOKUP(G5, topdowntables!$R$5:$AH$26, 7, FALSE), 0)","v":0},{"$f":"IFERROR(VLOOKUP(H5, topdowntables!$R$5:$AH$26, 7, FALSE), 0)","v":0},{"$f":"IFERROR(VLOOKUP(I5, topdowntables!$R$5:$AH$26, 7, FALSE), 0)","v":0},{"$f":"IFERROR(VLOOKUP(J5, topdowntables!$R$5:$AH$26, 7, FALSE), 0)","v":0},{"$f":"IFERROR(VLOOKUP(K5, topdowntables!$R$5:$AH$26, 7, FALSE), 0)","v":0},{"$f":"IFERROR(VLOOKUP(L5, topdowntables!$R$5:$AH$26, 7, FALSE), 0)","v":0}]
[null,{"$f":"IF(topdowntables!N4=1, \"udbytte, kg TS i alt\", \"total yield, kg DM\")","v":"udbytte, kg TS i alt"},{"$f":"C31*(100+C33)/100","v":0},{"$f":"D31*(100+D33)/100","v":0},0,0,{"$f":"G31*(100+G33)/100","v":0},{"$f":"H31*(100+H33)/100","v":0},0,0,0,0]
[null,{"$f":"IF(topdowntables!$N$4=1, \"halm, kg TS\", \"straw, kg DM per ha\")","v":"halm, kg TS"},null,null,null,null,{"$f":"IFERROR(VLOOKUP(G5, topdowntables!$R$5:$AH$26,8, FALSE)/100*G31, 0)","v":0},{"$f":"IFERROR(VLOOKUP(H5, topdowntables!$R$5:$AH$26,8, FALSE)/100*H31, 0)","v":0},{"$f":"IFERROR(VLOOKUP(I5, topdowntables!$R$5:$AH$26,8, FALSE)/100*I31, 0)","v":0},{"$f":"IFERROR(VLOOKUP(J5, topdowntables!$R$5:$AH$26,8, FALSE)/100*J31, 0)","v":0},{"$f":"IFERROR(VLOOKUP(K5, topdowntables!$R$5:$AH$26,8, FALSE)/100*K31, 0)","v":0},{"$f":"IFERROR(VLOOKUP(L5, topdowntables!$R$5:$AH$26,8, FALSE)/100*L31, 0)","v":0}]
[null,{"$f":"IF(topdowntables!$N$4=1, \"   heraf høstet, %\", \"   hereof harvested, %\")","v":"   heraf høstet, %"},null,null,null,null,{"$f":"'input-data'!$E$432","v":0},{"$f":"'input-data'!$E$442","v":0},{"$f":"'input-data'!$E$452","v":0},{"$f":"'input-data'!$E$462","v":0},{"$f":"'input-data'!$E$472","v":0},{"$f":"'input-data'!$E$482","v":0}]
[null,{"$f":"IF(topdowntables!N4=1, \"   heraf nedmuldet, %\", \"   hereof incorporated in soil, %\")","v":"   heraf nedmuldet, %"},null,null,null,null,{"$f":"IF(G35>0, 100-G36, 0)","v":0},{"$f":"IF(H35>0, 100-H36, 0)","v":0},0,0,0,0]
[]
[]
[null,{"$f":"IF(topdowntables!$N$4=1, \" Emission ved ændret kulstof i jord per ha\", \"Soil C changes, per ha\")","v":" Emission ved ændret kulstof i jord per ha"},{"$f":"C5","v":""},{"$f":"D5","v":""},"","","","","","","","",{"$f":"M4","v":"Total"}]
[null,{"$f":"IF(topdowntables!$N$4=1, \"C tool indikatorer\", \"C tool parameters\")","v":"C tool indikatorer"},null,null,null,null,null,null,null,null,null,null,null,"check LU, TILLAGE FACTORS"]
[null,"a",{"$f":"IF(C6>0, 0.55, 0)","v":0},{"$f":"IF(D6>0, 0.55, 0)","v":0},{"$f":"IF(E6>0, 0.55, 0)","v":0},{"$f":"IF(F6>0, 0.55, 0)","v":0},{"$f":"IFERROR(VLOOKUP(G5, topdowntables!$R$5:$AH$26, 2, FALSE), 0)","v":0},{"$f":"IFERROR(VLOOKUP(H5, topdowntables!$R$5:$AH$26, 2, FALSE), 0)","v":0},{"$f":"IFERROR(VLOOKUP(I5, topdowntables!$R$5:$AH$26, 2, FALSE), 0)","v":0},{"$f":"IFERROR(VLOOKUP(J5, topdowntables!$R$5:$AH$26, 2, FALSE), 0)","v":0},{"$f":"IFERROR(VLOOKUP(K5, topdowntables!$R$5:$AH$26, 2, FALSE), 0)","v":0},{"$f":"IFERROR(VLOOKUP(L5, topdowntables!$R$5:$AH$26, 2, FALSE), 0)","v":0},null,"CHEACK PEAS"]
[null,"b",{"$f":"IF(C6>0, 0.45, 0)","v":0},{"$f":"IF(D6>0, 0.45, 0)","v":0},{"$f":"IF(E6>0, 0.45, 0)","v":0},{"$f":"IF(F6>0, 0.45, 0)","v":0},{"$f":"IFERROR(VLOOKUP(G5, topdowntables!$R$5:$AH$26, 3, FALSE), 0)","v":0},{"$f":"IFERROR(VLOOKUP(H5, topdowntables!$R$5:$AH$26, 3, FALSE), 0)","v":0},{"$f":"IFERROR(VLOOKUP(I5, topdowntables!$R$5:$AH$26, 3, FALSE), 0)","v":0},{"$f":"IFERROR(VLOOKUP(J5, topdowntables!$R$5:$AH$26, 3, FALSE), 0)","v":0},{"$f":"IFERROR(VLOOKUP(K5, topdowntables!$R$5:$AH$26, 3, FALSE), 0)","v":0},{"$f":"IFERROR(VLOOKUP(L5, topdowntables!$R$5:$AH$26, 3, FALSE), 0)","v":0},null,"TOTAL LOSSES FOR GRAZED AREAS"]
[null,"c",0,0,0,0,{"$f":"IFERROR(VLOOKUP(G5, topdowntables!$R$5:$AH$26, 4, FALSE), 0)","v":0},{"$f":"IFERROR(VLOOKUP(H5, topdowntables!$R$5:$AH$26, 4, FALSE), 0)","v":0},{"$f":"IFERROR(VLOOKUP(I5, topdowntables!$R$5:$AH$26, 4, FALSE), 0)","v":0},{"$f":"IFERROR(VLOOKUP(J5, topdowntables!$R$5:$AH$26, 4, FALSE), 0)","v":0},{"$f":"IFERROR(VLOOKUP(K5, topdowntables!$R$5:$AH$26, 4, FALSE), 0)","v":0},{"$f":"IFERROR(VLOOKUP(L5, topdowntables!$R$5:$AH$26, 4, FALSE), 0)","v":0}]
[null,{"$f":"IF(topdowntables!$N$4=1, \"total produktion, kg TS per ha\", \"total production, kg DM per ha\")","v":"total produktion, kg TS per ha"},{"$f":"IFERROR((1500*(1+C33/100)+(C31-1500))*(1/((1-C43)*C42)), 0)","v":0},{"$f":"IFERROR((1500*(1+D33/100)+(D31-1500))*(1/((1-D43)*D42)), 0)","v":0},0,0,{"$f":"IFERROR(G31*(1/((1-G43)*G42)), 0)","v":0},0,0,0,0,0]
[null,{"$f":"IF(topdowntables!$N$4=1, \"underjordiske rester, kg TS per ha\", \"belowground crop residues, kg DM per ha\")","v":"underjordiske rester, kg TS per ha"},{"$f":"C45*C43","v":0},{"$f":"D45*D43","v":0},0,0,{"$f":"G45*G43","v":0},0,0,0,0,0]
[null,{"$f":"IF(topdowntables!$N$4=1, \"overjordiske rester, kg TS per ha\", \"aboveground crop residues, kg DM per ha\")","v":"overjordiske rester, kg TS per ha"},{"$f":"C45-C46-C31-C35*C36/100","v":0},{"$f":"D45-D46-D31-D35*D36/100","v":0},0,0,0,0,0,0,0,0]
[null,{"$f":"IF(topdowntables!$N$4=1, \"C input i jord, kg C per ha\", \"C input to soil, kg C per ha\")","v":"C input i jord, kg C per ha"}]
[null,{"$f":"IF(topdowntables!$N$4=1, \"   fra under- og over-jordiske rester\", \"   from AG, BG crop residues\")","v":"   fra under- og over-jordiske rester"},{"$f":"(C46+C47)*0.45","v":0},0,0,0,0,0,0,0,0,0,null,"  0,45 kg C in dry matter"]
[null,{"$f":"IF(topdowntables!$N$4=1, \"   fra gødning\", \"   from manure\")","v":"   fra gødning"},{"$f":"(C16+(C10*(C11+C12+C13)/100))*8*1.3/10+C10*(C15+C14)/100*21*1.3/10","v":0},{"$f":"(D16+(D10*(D11+D12+D13)/100))*8*1.3/10+D10*(D15+D14)/100*21*1.3/10","v":0},{"$f":"IFERROR((E16+(E10*(E11+E12+E13)/100))*8*1.3/10+E10*(E15+E14)/100*21*1.3/10, 0)","v":0},0,0,0,0,0,0,0]
[null,{"$f":"IF(topdowntables!$N$4=1, \"C input, kg C i alt per ha\", \"Total C input, kg C per ha\")","v":"C input, kg C i alt per ha"},{"$f":"SUM(C49:C50)","v":0},0,0,0,0,0,0,0,0,0]
[null,{"$f":"IF(topdowntables!$N$4=1, \"arealforbrug faktor\", \"LU factor\")","v":"arealforbrug faktor"},0.93,0.93,0.93,0.93,{"$f":"IFERROR(VLOOKUP(G5, topdowntables!$R$5:$AH$26, 9, FALSE),0)","v":0},{"$f":"IFERROR(VLOOKUP(H5, topdowntables!$R$5:$AH$26, 9, FALSE),0)","v":0},{"$f":"IFERROR(VLOOKUP(I5, topdowntables!$R$5:$AH$26, 9, FALSE),0)","v":0},{"$f":"IFERROR(VLOOKUP(J5, topdowntables!$R$5:$AH$26, 9, FALSE),0)","v":0},{"$f":"IFERROR(VLOOKUP(K5, topdowntables!$R$5:$AH$26, 9, FALSE),0)","v":0},{"$f":"IFERROR(VLOOKUP(L5, topdowntables!$R$5:$AH$26, 9, FALSE),0)","v":0}]
[null,{"$f":"IF(topdowntables!$N$4=1, \"jordbearbejdningsfaktor\", \"tillage factor\")","v":"jordbearbejdningsfaktor"},1.1000000000000001,1.1000000000000001,1.1000000000000001,1.1000000000000001,{"$f":"IFERROR(VLOOKUP(G5, topdowntables!$R$5:$AH$26, 10, FALSE), 0)","v":0},{"$f":"IFERROR(VLOOKUP(H5, topdowntables!$R$5:$AH$26, 10, FALSE), 0)","v":0},{"$f":"IFERROR(VLOOKUP(I5, topdowntables!$R$5:$AH$26, 10, FALSE), 0)","v":0},{"$f":"IFERROR(VLOOKUP(J5, topdowntables!$R$5:$AH$26, 10, FALSE), 0)","v":0},{"$f":"IFERROR(VLOOKUP(K5, topdowntables!$R$5:$AH$26, 10, FALSE), 0)","v":0},{"$f":"IFERROR(VLOOKUP(L5, topdowntables!$R$5:$AH$26, 10, FALSE), 0)","v":0}]
[null,{"$f":"IF(topdowntables!$N$4=1, \"C i jord 100 år perspektiv, kg C per ha\", \"C that remains in soil in 100 years perspective, kg C per ha\")","v":"C i jord 100 år perspektiv, kg C per ha"},{"$f":"C51*C52*C53*0.097","v":0},{"$f":"D51*D52*D53*0.097","v":0},0,0,0,0,0,0,0,0]
[null,{"$f":"IF(topdowntables!$N$4=1, \"C i jord 20 år perspektiv, kg C per ha\", \"C that remains in soil in 20 years perspective, kg C per ha\")","v":"C i jord 20 år perspektiv, kg C per ha"},{"$f":"C51*C52*C53*0.213","v":0},{"$f":"D51*D52*D53*0.213","v":0},0,0,0,0,0,0,0,0]
[null,{"$f":"IF(topdowntables!N4=1, \"skalering til reference afgrøde (hvede)\", \"scaling to reference crop (wheat)\")","v":"skalering til reference afgrøde (hvede)"}]
[null,{"$f":"IF(topdowntables!$N$4=1, \"   C i jord 100 år perspektiv, kg C per ha\", \"   C in soil 100 years perspective , kg C per ha\")","v":"   C i jord 100 år perspektiv, kg C per ha"},{"$f":"IF(C6>0, C54-397, 0)","v":0},0,0,0,0,0,{"$f":"IF(I6>0, I54-397, 0)","v":0},0,0,0,null,"scaling factor from Mogensen et al., 2018"]
[null,{"$f":"IF(topdowntables!$N$4=1, \"   C i jord 20 år perspektiv, kg C per ha\", \"   C in soil 20 years perspective , kg C per ha\")","v":"   C i jord 20 år perspektiv, kg C per ha"},{"$f":"IF(C6>0, C55-846, 0)","v":0},0,0,0,0,0,0,0,0,0,null,"scaling factor from Mogensen et al., 2018"]
[null,{"$f":"IF(topdowntables!$N$4=1, \"emission ved ændret kulstof i jord 100 år perspektiv, kg CO2 ækv.\", \"soil change 100 years perspective, kg CO2 eq.\")","v":"emission ved ændret kulstof i jord 100 år perspektiv, kg CO2 ækv."},{"$f":"-C57*44/12","v":0},{"$f":"-D57*44/12","v":0},0,0,0,0,0,0,0,0,{"$f":"$C$6*C59+$D$6*D59+$E$6*E59+$F$6*F59+$G$6*G59+$H$6*H59+$I$6*I59+$J$6*J59+$K$6*K59+$L$6*L59","v":0}]
[null,{"$f":"IF(topdowntables!$N$4=1, \"emission ved ændret kulstof i jord 20 år perspektiv, kg CO2 ækv.\", \"soil change 20 years perspective, kg CO2 eq.\")","v":"emission ved ændret kulstof i jord 20 år perspektiv, kg CO2 ækv."},{"$f":"-C58*44/12","v":0},{"$f":"-D58*44/12","v":0},0,0,0,0,0,0,0,0,{"$f":"$C$6*C60+$D$6*D60+$E$6*E60+$F$6*F60+$G$6*G60+$H$6*H60+$I$6*I60+$J$6*J60+$K$6*K60+$L$6*L60","v":0}]
[]
[null,{"$f":"IF(topdowntables!$N$4=1, \" Estimation af emissioner\", \"Estimation of emission\")","v":" Estimation af emissioner"},{"$f":"C5","v":""},{"$f":"D5","v":""},"","","","","","","","",{"$f":"M4","v":"Total"}]
[null,{"$f":"IF(topdowntables!$N$4=1, \" Estimation af N emissioner\", \"Estimation of N emission\")","v":" Estimation af N emissioner"}]
[null,{"$f":"IF(topdowntables!$N$4=1, \"direkt N2O\", \"direct N2O\")","v":"direkt N2O"}]
[null,{"$f":"IF(topdowntables!$N$4=1, \"   fra husdyrgødning, kg N2O-N\", \"   from manure, kg N2O-N\")","v":"   fra husdyrgødning, kg N2O-N"},{"$f":"IFERROR('N-P balance sohold'!C37/C6, 0)","v":0},{"$f":"IFERROR('N-P balance sohold'!C141/D6, 0)","v":0},{"$f":"IFERROR('N-P balance smågrise'!C37/E6, 0)","v":0},{"$f":"IFERROR('N-P balance slagtesvin'!C37/F6, 0)","v":0},{"$f":"G10*G11/100*'Udbringning af gylleApplication'!$E$6+G10*G12/100*'Udbringning af gylleApplication'!$E$7+G10*G13/100*'Udbringning af gylleApplication'!$E$8+G10*G14/100*'Udbringning af gylleApplication'!$E$10+G10*G15/100*'Udbringning af gylleApplication'!$E$9+G16*'Opstaldingsform-Housing '!$I$33","v":0},{"$f":"H10*H11/100*'Udbringning af gylleApplication'!$E$6+H10*H12/100*'Udbringning af gylleApplication'!$E$7+H10*H13/100*'Udbringning af gylleApplication'!$E$8+H10*H14/100*'Udbringning af gylleApplication'!$E$10+H10*H15/100*'Udbringning af gylleApplication'!$E$9+H16*'Opstaldingsform-Housing '!$I$33","v":0},{"$f":"I10*I11/100*'Udbringning af gylleApplication'!$E$6+I10*I12/100*'Udbringning af gylleApplication'!$E$7+I10*I13/100*'Udbringning af gylleApplication'!$E$8+I10*I14/100*'Udbringning af gylleApplication'!$E$10+I10*I15/100*'Udbringning af gylleApplication'!$E$9+I16*'Opstaldingsform-Housing '!$I$33","v":0},{"$f":"J10*J11/100*'Udbringning af gylleApplication'!$E$6+J10*J12/100*'Udbringning af gylleApplication'!$E$7+J10*J13/100*'Udbringning af gylleApplication'!$E$8+J10*J14/100*'Udbringning af gylleApplication'!$E$10+J10*J15/100*'Udbringning af gylleApplication'!$E$9+J16*'Opstaldingsform-Housing '!$I$33","v":0},{"$f":"K10*K11/100*'Udbringning af gylleApplication'!$E$6+K10*K12/100*'Udbringning af gylleApplication'!$E$7+K10*K13/100*'Udbringning af gylleApplication'!$E$8+K10*K14/100*'Udbringning af gylleApplication'!$E$10+K10*K15/100*'Udbringning af gylleApplication'!$E$9+K16*'Opstaldingsform-Housing '!$I$33","v":0},{"$f":"L10*L11/100*'Udbringning af gylleApplication'!$E$6+L10*L12/100*'Udbringning af gylleApplication'!$E$7+L10*L13/100*'Udbringning af gylleApplication'!$E$8+L10*L14/100*'Udbringning af gylleApplication'!$E$10+L10*L15/100*'Udbringning af gylleApplication'!$E$9+L16*'Opstaldingsform-Housing '!$I$33","v":0},{"$f":"$C$6*C65+$D$6*D65+$E$6*E65+$F$6*F65+$G$6*G65+$H$6*H65+$I$6*I65+$J$6*J65+$K$6*K65+$L$6*L65","v":0}]
[null,{"$f":"IF(topdowntables!$N$4=1, \"   fra afgrøder rester, kg N2O-N\", \"   from crop residues, kg N2O-N\")","v":"   fra afgrøder rester, kg N2O-N"},{"$f":"(C46*9.2/100/6.25+C47*22/100/6.25)*1/100","v":0},{"$f":"(D46*9.2/100/6.25+D47*22/100/6.25)*1/100","v":0},0,0,{"$f":"IFERROR((G46*VLOOKUP(G5,topdowntables!$R$5:$AH$26, 12, FALSE)/100/6.25+G47*VLOOKUP(G5, topdowntables!$R$5:$AH$26, 11, FALSE)/100/6.25), 0)*1/100","v":0},{"$f":"IFERROR((H46*VLOOKUP(H5,topdowntables!$R$5:$AH$26, 12, FALSE)/100/6.25+H47*VLOOKUP(H5, topdowntables!$R$5:$AH$26, 11, FALSE)/100/6.25), 0)*1/100","v":0},{"$f":"IFERROR((I46*VLOOKUP(I5,topdowntables!$R$5:$AH$26, 12, FALSE)/100/6.25+I47*VLOOKUP(I5, topdowntables!$R$5:$AH$26, 11, FALSE)/100/6.25), 0)*1/100","v":0},{"$f":"IFERROR((J46*VLOOKUP(J5,topdowntables!$R$5:$AH$26, 12, FALSE)/100/6.25+J47*VLOOKUP(J5, topdowntables!$R$5:$AH$26, 11, FALSE)/100/6.25), 0)*1/100","v":0},{"$f":"IFERROR((K46*VLOOKUP(K5,topdowntables!$R$5:$AH$26, 12, FALSE)/100/6.25+K47*VLOOKUP(K5, topdowntables!$R$5:$AH$26, 11, FALSE)/100/6.25), 0)*1/100","v":0},{"$f":"IFERROR((L46*VLOOKUP(L5,topdowntables!$R$5:$AH$26, 12, FALSE)/100/6.25+L47*VLOOKUP(L5, topdowntables!$R$5:$AH$26, 11, FALSE)/100/6.25), 0)*1/100","v":0},{"$f":"$C$6*C66+$D$6*D66+$E$6*E66+$F$6*F66+$G$6*G66+$H$6*H66+$I$6*I66+$J$6*J66+$K$6*K66+$L$6*L66","v":0}," EF is 1% (IPCC, 2006)"]
[null,"NH3"]
[null,{"$f":"IF(topdowntables!$N$4=1, \"   fra husdyrgødning, kg NH3-N\", \"   from manure, kg NH3-N\")","v":"   fra husdyrgødning, kg NH3-N"},{"$f":"IFERROR('N-P balance sohold'!C36/C6, 0)","v":0},{"$f":"IFERROR('N-P balance sohold'!C140/D6, 0)","v":0},{"$f":"IFERROR('N-P balance smågrise'!C36/E6, 0)","v":0},{"$f":"IFERROR('N-P balance slagtesvin'!C36/F6, 0)","v":0},{"$f":"G10*G11/100*'Udbringning af gylleApplication'!$C$6+G10*G12/100*'Udbringning af gylleApplication'!$C$7+G10*G13/100*'Udbringning af gylleApplication'!$C$8+G10*G14/100*'Udbringning af gylleApplication'!$C$10+G10*G15/100*'Udbringning af gylleApplication'!$C$9","v":0},{"$f":"H10*H11/100*'Udbringning af gylleApplication'!$C$6+H10*H12/100*'Udbringning af gylleApplication'!$C$7+H10*H13/100*'Udbringning af gylleApplication'!$C$8+H10*H14/100*'Udbringning af gylleApplication'!$C$10+H10*H15/100*'Udbringning af gylleApplication'!$C$9","v":0},{"$f":"I10*I11/100*'Udbringning af gylleApplication'!$C$6+I10*I12/100*'Udbringning af gylleApplication'!$C$7+I10*I13/100*'Udbringning af gylleApplication'!$C$8+I10*I14/100*'Udbringning af gylleApplication'!$C$10+I10*I15/100*'Udbringning af gylleApplication'!$C$9","v":0},{"$f":"J10*J11/100*'Udbringning af gylleApplication'!$C$6+J10*J12/100*'Udbringning af gylleApplication'!$C$7+J10*J13/100*'Udbringning af gylleApplication'!$C$8+J10*J14/100*'Udbringning af gylleApplication'!$C$10+J10*J15/100*'Udbringning af gylleApplication'!$C$9","v":0},{"$f":"K10*K11/100*'Udbringning af gylleApplication'!$C$6+K10*K12/100*'Udbringning af gylleApplication'!$C$7+K10*K13/100*'Udbringning af gylleApplication'!$C$8+K10*K14/100*'Udbringning af gylleApplication'!$C$10+K10*K15/100*'Udbringning af gylleApplication'!$C$9","v":0},{"$f":"L10*L11/100*'Udbringning af gylleApplication'!$C$6+L10*L12/100*'Udbringning af gylleApplication'!$C$7+L10*L13/100*'Udbringning af gylleApplication'!$C$8+L10*L14/100*'Udbringning af gylleApplication'!$C$10+L10*L15/100*'Udbringning af gylleApplication'!$C$9","v":0},0]
[null,{"$f":"IF(topdowntables!$N$4=1, \"   fra afgrøder, kg NH3-N\", \"   from crop, kg NH3-N\")","v":"   fra afgrøder, kg NH3-N"},{"$f":"IF(C6>0, 0.5, 0)","v":0},{"$f":"IF(D6>0, 0.5, 0)","v":0},0,0,{"$f":"IF(G6>0, 2, 0)","v":0},{"$f":"IF(H6>0, 2, 0)","v":0},0,0,0,0,0]
[null,"NOx"]
[null,{"$f":"IF(topdowntables!$N$4=1, \"   fra husdyrgødning, kg NOx-N\", \"   from manure, kg NOx-N\")","v":"   fra husdyrgødning, kg NOx-N"},{"$f":"IFERROR('N-P balance sohold'!C39/C6, 0)","v":0},{"$f":"IFERROR('N-P balance sohold'!C143/D6, 0)","v":0},{"$f":"IFERROR('N-P balance smågrise'!C39/E6, 0)","v":0},{"$f":"IFERROR('N-P balance slagtesvin'!C46/F6, 0)","v":0},{"$f":"G10*G11/100*'Udbringning af gylleApplication'!$I$6+G10*G12/100*'Udbringning af gylleApplication'!$I$7+G10*G13/100*'Udbringning af gylleApplication'!$I$8+G10*G14/100*'Udbringning af gylleApplication'!$I$10+G10*G15/100*'Udbringning af gylleApplication'!$I$9","v":0},{"$f":"H10*H11/100*'Udbringning af gylleApplication'!$I$6+H10*H12/100*'Udbringning af gylleApplication'!$I$7+H10*H13/100*'Udbringning af gylleApplication'!$I$8+H10*H14/100*'Udbringning af gylleApplication'!$I$10+H10*H15/100*'Udbringning af gylleApplication'!$I$9","v":0},{"$f":"I10*I11/100*'Udbringning af gylleApplication'!$I$6+I10*I12/100*'Udbringning af gylleApplication'!$I$7+I10*I13/100*'Udbringning af gylleApplication'!$I$8+I10*I14/100*'Udbringning af gylleApplication'!$I$10+I10*I15/100*'Udbringning af gylleApplication'!$I$9","v":0},{"$f":"J10*J11/100*'Udbringning af gylleApplication'!$I$6+J10*J12/100*'Udbringning af gylleApplication'!$I$7+J10*J13/100*'Udbringning af gylleApplication'!$I$8+J10*J14/100*'Udbringning af gylleApplication'!$I$10+J10*J15/100*'Udbringning af gylleApplication'!$I$9","v":0},{"$f":"K10*K11/100*'Udbringning af gylleApplication'!$I$6+K10*K12/100*'Udbringning af gylleApplication'!$I$7+K10*K13/100*'Udbringning af gylleApplication'!$I$8+K10*K14/100*'Udbringning af gylleApplication'!$I$10+K10*K15/100*'Udbringning af gylleApplication'!$I$9","v":0},{"$f":"L10*L11/100*'Udbringning af gylleApplication'!$I$6+L10*L12/100*'Udbringning af gylleApplication'!$I$7+L10*L13/100*'Udbringning af gylleApplication'!$I$8+L10*L14/100*'Udbringning af gylleApplication'!$I$10+L10*L15/100*'Udbringning af gylleApplication'!$I$9","v":0},0]
[null,{"$f":"IF(topdowntables!$N$4=1, \"   fra afgrøder rester, kg NOx-N\", \"   from crop residues, kg NOx-N\")","v":"   fra afgrøder rester, kg NOx-N"},{"$f":"(C46*9.2/100/6.25+C47*22/100/6.25)*0.1/100","v":0},{"$f":"(D46*9.2/100/6.25+D47*22/100/6.25)*0.1/100","v":0},0,0,{"$f":"IFERROR((G47*VLOOKUP(G5, topdowntables!$R$5:$AH$26, 11, FALSE)/100/6.25+G46*VLOOKUP(G5, topdowntables!$R$5:$AH$26, 12, FALSE)/100/6.25), 0)*0.1/100","v":0},{"$f":"IFERROR((H47*VLOOKUP(H5, topdowntables!$R$5:$AH$26, 11, FALSE)/100/6.25+H46*VLOOKUP(H5, topdowntables!$R$5:$AH$26, 12, FALSE)/100/6.25), 0)*0.1/100","v":0},{"$f":"IFERROR((I47*VLOOKUP(I5, topdowntables!$R$5:$AH$26, 11, FALSE)/100/6.25+I46*VLOOKUP(I5, topdowntables!$R$5:$AH$26, 12, FALSE)/100/6.25), 0)*0.1/100","v":0},{"$f":"IFERROR((J47*VLOOKUP(J5, topdowntables!$R$5:$AH$26, 11, FALSE)/100/6.25+J46*VLOOKUP(J5, topdowntables!$R$5:$AH$26, 12, FALSE)/100/6.25), 0)*0.1/100","v":0},{"$f":"IFERROR((K47*VLOOKUP(K5, topdowntables!$R$5:$AH$26, 11, FALSE)/100/6.25+K46*VLOOKUP(K5, topdowntables!$R$5:$AH$26, 12, FALSE)/100/6.25), 0)*0.1/100","v":0},{"$f":"IFERROR((L47*VLOOKUP(L5, topdowntables!$R$5:$AH$26, 11, FALSE)/100/6.25+L46*VLOOKUP(L5, topdowntables!$R$5:$AH$26, 12, FALSE)/100/6.25), 0)*0.1/100","v":0},0,"  EF is 0,1% (Dammgen, Hutchings, 2008)"]
[null,"N2"]
[null,{"$f":"IF(topdowntables!$N$4=1, \"   fra husdyrgødning, kg N2-N\", \"   from manure, kg N2-N\")","v":"   fra husdyrgødning, kg N2-N"},{"$f":"IFERROR('N-P balance sohold'!C38/C6, 0)","v":0},{"$f":"IFERROR('N-P balance sohold'!C143/D6, 0)","v":0},{"$f":"IFERROR('N-P balance smågrise'!C38/E6, 0)","v":0},{"$f":"IFERROR('N-P balance slagtesvin'!C38/F6, 0)","v":0},{"$f":"G10*G11/100*'Udbringning af gylleApplication'!$G$6+G10*G12/100*'Udbringning af gylleApplication'!$G$7+G10*G13/100*'Udbringning af gylleApplication'!$G$8+G10*G14/100*'Udbringning af gylleApplication'!$G$10+G10*G15/100*'Udbringning af gylleApplication'!$G$9","v":0},{"$f":"H10*H11/100*'Udbringning af gylleApplication'!$G$6+H10*H12/100*'Udbringning af gylleApplication'!$G$7+H10*H13/100*'Udbringning af gylleApplication'!$G$8+H10*H14/100*'Udbringning af gylleApplication'!$G$10+H10*H15/100*'Udbringning af gylleApplication'!$G$9","v":0},{"$f":"I10*I11/100*'Udbringning af gylleApplication'!$G$6+I10*I12/100*'Udbringning af gylleApplication'!$G$7+I10*I13/100*'Udbringning af gylleApplication'!$G$8+I10*I14/100*'Udbringning af gylleApplication'!$G$10+I10*I15/100*'Udbringning af gylleApplication'!$G$9","v":0},{"$f":"J10*J11/100*'Udbringning af gylleApplication'!$G$6+J10*J12/100*'Udbringning af gylleApplication'!$G$7+J10*J13/100*'Udbringning af gylleApplication'!$G$8+J10*J14/100*'Udbringning af gylleApplication'!$G$10+J10*J15/100*'Udbringning af gylleApplication'!$G$9","v":0},{"$f":"K10*K11/100*'Udbringning af gylleApplication'!$G$6+K10*K12/100*'Udbringning af gylleApplication'!$G$7+K10*K13/100*'Udbringning af gylleApplication'!$G$8+K10*K14/100*'Udbringning af gylleApplication'!$G$10+K10*K15/100*'Udbringning af gylleApplication'!$G$9","v":0},{"$f":"L10*L11/100*'Udbringning af gylleApplication'!$G$6+L10*L12/100*'Udbringning af gylleApplication'!$G$7+L10*L13/100*'Udbringning af gylleApplication'!$G$8+L10*L14/100*'Udbringning af gylleApplication'!$G$10+L10*L15/100*'Udbringning af gylleApplication'!$G$9","v":0},0]
[null,{"$f":"IF(topdowntables!$N$4=1, \"   fra afgrøder rester, kg N2-N\", \"   from crop residues, kg N2-N\")","v":"   fra afgrøder rester, kg N2-N"},{"$f":"(C46*9.2/100/6.25+C47*22/100/6.25)*3/100","v":0},{"$f":"(D46*9.2/100/6.25+D47*22/100/6.25)*3/100","v":0},0,0,{"$f":"IFERROR((G47*VLOOKUP(G5, topdowntables!$R$5:$AH$26, 11, FALSE)/100/6.25+G46*VLOOKUP(G5, topdowntables!$R$5:$AH$26, 12, FALSE)/100/6.25), 0)*3/100","v":0},{"$f":"IFERROR((H47*VLOOKUP(H5, topdowntables!$R$5:$AH$26, 11, FALSE)/100/6.25+H46*VLOOKUP(H5, topdowntables!$R$5:$AH$26, 12, FALSE)/100/6.25), 0)*3/100","v":0},{"$f":"IFERROR((I47*VLOOKUP(I5, topdowntables!$R$5:$AH$26, 11, FALSE)/100/6.25+I46*VLOOKUP(I5, topdowntables!$R$5:$AH$26, 12, FALSE)/100/6.25), 0)*3/100","v":0},{"$f":"IFERROR((J47*VLOOKUP(J5, topdowntables!$R$5:$AH$26, 11, FALSE)/100/6.25+J46*VLOOKUP(J5, topdowntables!$R$5:$AH$26, 12, FALSE)/100/6.25), 0)*3/100","v":0},{"$f":"IFERROR((K47*VLOOKUP(K5, topdowntables!$R$5:$AH$26, 11, FALSE)/100/6.25+K46*VLOOKUP(K5, topdowntables!$R$5:$AH$26, 12, FALSE)/100/6.25), 0)*3/100","v":0},{"$f":"IFERROR((L47*VLOOKUP(L5, topdowntables!$R$5:$AH$26, 11, FALSE)/100/6.25+L46*VLOOKUP(L5, topdowntables!$R$5:$AH$26, 12, FALSE)/100/6.25), 0)*3/100","v":0},0,"  EF is 3% (Vinther, F.P., 2005)"]
[null,{"$f":"IF(topdowntables!$N$4=1, \"indirekt N2O\", \"indirect N2O\")","v":"indirekt N2O"}]
[null,{"$f":"IF(topdowntables!$N$4=1, \"   fra NH3, kg N2O-N\", \"   from NH3, kg N2O-N\")","v":"   fra NH3, kg N2O-N"},{"$f":"(C68+C69)*1/100","v":0},{"$f":"(D68+D69)*1/100","v":0},0,0,0,0,0,0,0,0,0," EF is 1% (IPCC, 2006)"]
[null,{"$f":"IF(topdowntables!$N$4=1, \" Estimation af  CO2 emissioner\", \"Estimation of CO2 emission\")","v":" Estimation af  CO2 emissioner"}]
[null,{"$f":"IF(topdowntables!$N$4=1, \"   fra kalkning, kg CO2\", \"   from liming, kg CO2\")","v":"   fra kalkning, kg CO2"},{"$f":"C21*0.12*(44/12)","v":0},0,0,0,0,0,0,0,0,0,0,"   EF is 12% (IPCC, 2006)"]
[]
[null,{"$f":"IF(topdowntables!$N$4=1, \" N balance\", \"N balance\")","v":" N balance"},{"$f":"C5","v":""},{"$f":"D5","v":""},"","","","","","","",""]
[null,"N input, kg N per ha"]
[null,{"$f":"IF(topdowntables!$N$4=1, \"   husdyrgødning\", \"   manure\")","v":"   husdyrgødning"},{"$f":"C17/0.75","v":0},0,0,0,0,0,0,0,0,0,{"$f":"$C$6*C83+$D$6*D83+$E$6*E83+$F$6*F83+$G$6*G83+$H$6*H83+$I$6*I83+$J$6*J83+$K$6*K83+$L$6*L83","v":0}]
[null,{"$f":"IF(topdowntables!$N$4=1, \"   udsæd\", \"   seed\")","v":"   udsæd"},{"$f":"IFERROR(C20*C31/C30*22/100/6.25, 0)","v":0},{"$f":"IFERROR(D20*D31/D30*22/100/6.25, 0)","v":0},{"$f":"IFERROR(E20*E31/E30*22/100/6.25, 0)","v":0},{"$f":"IFERROR(F20*F31/F30*22/100/6.25, 0)","v":0},{"$f":"IFERROR(G20*VLOOKUP(G5, topdowntables!$R$5:$AH$26, 5, FALSE)*VLOOKUP(G5, topdowntables!$R$5:$AH$26, 13, FALSE)/100/6.25, 0)","v":0},{"$f":"IFERROR(H20*VLOOKUP(H5, topdowntables!$R$5:$AH$26, 5, FALSE)*VLOOKUP(H5, topdowntables!$R$5:$AH$26, 13, FALSE)/100/6.25, 0)","v":0},{"$f":"IFERROR(I20*VLOOKUP(I5, topdowntables!$R$5:$AH$26, 5, FALSE)*VLOOKUP(I5, topdowntables!$R$5:$AH$26, 13, FALSE)/100/6.25, 0)","v":0},{"$f":"IFERROR(J20*VLOOKUP(J5, topdowntables!$R$5:$AH$26, 5, FALSE)*VLOOKUP(J5, topdowntables!$R$5:$AH$26, 13, FALSE)/100/6.25, 0)","v":0},{"$f":"IFERROR(K20*VLOOKUP(K5, topdowntables!$R$5:$AH$26, 5, FALSE)*VLOOKUP(K5, topdowntables!$R$5:$AH$26, 13, FALSE)/100/6.25, 0)","v":0},{"$f":"IFERROR(L20*VLOOKUP(L5, topdowntables!$R$5:$AH$26, 5, FALSE)*VLOOKUP(L5, topdowntables!$R$5:$AH$26, 13, FALSE)/100/6.25, 0)","v":0},0]
[null,{"$f":"IF(topdowntables!$N$4=1, \"   fixering\", \"   fixation\")","v":"   fixering"},{"$f":"2.829*C32/100-0.0101*C32/100*C17*0.3+0.00001109*(C32/100)*(C17*0.3)*(C17*0.3)","v":0},{"$f":"2.829*D32/100-0.0101*D32/100*D17*0.3+0.00001109*(D32/100)*(D17*0.3)*(D17*0.3)","v":0},{"$f":"2.829*E32/100-0.0101*E32/100*E17*0.3+0.00001109*(E32/100)*(E17*0.3)*(E17*0.3)","v":0},{"$f":"2.829*F32/100-0.0101*F32/100*F17*0.3+0.00001109*(F32/100)*(F17*0.3)*(F17*0.3)","v":0},{"$f":"IF(OR(G5=topdowntables!$R$10, G5=topdowntables!$R$22, G5=topdowntables!$R$11, G5=topdowntables!$R$12, G5=topdowntables!$R$23, G5=topdowntables!$R$24), 2.829*G32/100-0.0101*G32/100*G17*0.3+0.00001109*(G32/100)*(G17*0.3)*(G17*0.3), 0)","v":0},{"$f":"IF(OR(H5=topdowntables!$R$10, H5=topdowntables!$R$22, H5=topdowntables!$R$11, H5=topdowntables!$R$12, H5=topdowntables!$R$23, H5=topdowntables!$R$24), 2.829*H32/100-0.0101*H32/100*H17*0.3+0.00001109*(H32/100)*(H17*0.3)*(H17*0.3), 0)","v":0},{"$f":"IF(OR(I5=topdowntables!$R$10, I5=topdowntables!$R$22, I5=topdowntables!$R$11, I5=topdowntables!$R$12, I5=topdowntables!$R$23, I5=topdowntables!$R$24), 2.829*I32/100-0.0101*I32/100*I17*0.3+0.00001109*(I32/100)*(I17*0.3)*(I17*0.3), 0)","v":0},{"$f":"IF(OR(J5=topdowntables!$R$10, J5=topdowntables!$R$22, J5=topdowntables!$R$11, J5=topdowntables!$R$12, J5=topdowntables!$R$23, J5=topdowntables!$R$24), 2.829*J32/100-0.0101*J32/100*J17*0.3+0.00001109*(J32/100)*(J17*0.3)*(J17*0.3), 0)","v":0},{"$f":"IF(OR(K5=topdowntables!$R$10, K5=topdowntables!$R$22, K5=topdowntables!$R$11, K5=topdowntables!$R$12, K5=topdowntables!$R$23, K5=topdowntables!$R$24), 2.829*K32/100-0.0101*K32/100*K17*0.3+0.00001109*(K32/100)*(K17*0.3)*(K17*0.3), 0)","v":0},{"$f":"IF(OR(L5=topdowntables!$R$10, L5=topdowntables!$R$22, L5=topdowntables!$R$11, L5=topdowntables!$R$12, L5=topdowntables!$R$23, L5=topdowntables!$R$24), 2.829*L32/100-0.0101*L32/100*L17*0.3+0.00001109*(L32/100)*(L17*0.3)*(L17*0.3), 0)","v":0},0," equation based on Kristensen et al, 2007"]
[null,{"$f":"IF(topdowntables!$N$4=1, \"   atmosfærisk deposition\", \"   atmosferic deposition\")","v":"   atmosfærisk deposition"},{"$f":"IF(C6>0, 14, 0)","v":0},0,0,0,0,0,0,0,0,0,0]
[null,{"$f":"IF(topdowntables!$N$4=1,\"N input, kg N i alt per ha\",\"Total N input, kg N per ha\")","v":"N input, kg N i alt per ha"},{"$f":"SUM(C83:C86)","v":0},0,0,0,0,0,0,0,0,0,0]
[null,{"$f":"IF(topdowntables!$N$4=1,\"N output, kg N per ha\",\"N output, kg N per ha\")","v":"N output, kg N per ha"}]
[null,{"$f":"IF(topdowntables!$N$4=1, \"   udbytte\", \"   crop yield\")","v":"   udbytte"},{"$f":"C31*20/100/6.25","v":0},{"$f":"D31*20/100/6.25","v":0},{"$f":"E31*20/100/6.25","v":0},{"$f":"F31*20/100/6.25","v":0},{"$f":"IFERROR(G31*VLOOKUP(G5, topdowntables!$R$5:$AH$26, 13, FALSE)/100/6.25, 0)","v":0},{"$f":"IFERROR(H31*VLOOKUP(H5, topdowntables!$R$5:$AH$26, 13, FALSE)/100/6.25, 0)","v":0},{"$f":"IFERROR(I31*VLOOKUP(I5, topdowntables!$R$5:$AH$26, 13, FALSE)/100/6.25, 0)","v":0},{"$f":"IFERROR(J31*VLOOKUP(J5, topdowntables!$R$5:$AH$26, 13, FALSE)/100/6.25, 0)","v":0},{"$f":"IFERROR(K31*VLOOKUP(K5, topdowntables!$R$5:$AH$26, 13, FALSE)/100/6.25, 0)","v":0},{"$f":"IFERROR(L31*VLOOKUP(L5, topdowntables!$R$5:$AH$26, 13, FALSE)/100/6.25, 0)","v":0},0]
[null,{"$f":"IF(topdowntables!$N$4=1, \"   halmudbytte\", \"   straw yield\")","v":"   halmudbytte"},null,null,null,null,{"$f":"IFERROR(G35*G36/100*VLOOKUP(G5, topdowntables!$R$5:$AH$26, 14, FALSE)/100/6.25, 0)","v":0},{"$f":"IFERROR(H35*H36/100*VLOOKUP(H5, topdowntables!$R$5:$AH$26, 14, FALSE)/100/6.25, 0)","v":0},{"$f":"IFERROR(I35*I36/100*VLOOKUP(I5, topdowntables!$R$5:$AH$26, 14, FALSE)/100/6.25, 0)","v":0},{"$f":"IFERROR(J35*J36/100*VLOOKUP(J5, topdowntables!$R$5:$AH$26, 14, FALSE)/100/6.25, 0)","v":0},{"$f":"IFERROR(K35*K36/100*VLOOKUP(K5, topdowntables!$R$5:$AH$26, 14, FALSE)/100/6.25, 0)","v":0},{"$f":"IFERROR(L35*L36/100*VLOOKUP(L5, topdowntables!$R$5:$AH$26, 14, FALSE)/100/6.25, 0)","v":0},0]
[null,{"$f":"IF(topdowntables!$N$4=1,\"N output, kg N i alt per ha\",\"Total N output, kg N per ha\")","v":"N output, kg N i alt per ha"},{"$f":"SUM(C89:C90)","v":0},{"$f":"SUM(D89:D90)","v":0},0,0,0,0,0,0,0,0,0]
[null,{"$f":"IF(topdowntables!$N$4=1,\"N overskud, kg N per ha\",\"N surplus, kg N per ha\")","v":"N overskud, kg N per ha"},{"$f":"C87-C91","v":0},{"$f":"D87-D91","v":0},0,0,0,0,0,0,0,0,0]
[null,{"$f":"IF(topdowntables!$N$4=1,\"Tabposter N, kg N per ha\",\"N emissions, kg N per ha\")","v":"Tabposter N, kg N per ha"}]
[null,{"$f":"IF(topdowntables!$N$4=1, \"   direkt N2O, kg N2O-N\", \"direct N2O, kg N2O-N\")","v":"   direkt N2O, kg N2O-N"},{"$f":"C65+C66","v":0},0,0,0,0,0,0,0,0,0,0]
[null,{"$f":"IF(topdowntables!$N$4=1, \"   indirekt N2O, kg N2O-N\", \"indirect N2O, kg N2O-N\")","v":"   indirekt N2O, kg N2O-N"},{"$f":"C77","v":0},0,0,0,0,0,0,0,0,0,0]
[null,{"$f":"IF(topdowntables!$N$4=1, \"   NH3, kg NH3-N\", \"   NH3, kg NH3-N\")","v":"   NH3, kg NH3-N"},{"$f":"C68+C69","v":0},0,0,0,0,0,0,0,0,0,0]
[null,{"$f":"IF(topdowntables!$N$4=1, \"   NOx, kg NOx-N\", \"   NOx, kg NOx-N\")","v":"   NOx, kg NOx-N"},{"$f":"C71+C72","v":0},0,0,0,0,0,0,0,0,0,0]
[null,{"$f":"IF(topdowntables!$N$4=1, \"   N2, kg N2-N\", \"   N2, kg N2-N\")","v":"   N2, kg N2-N"},{"$f":"C74+C75","v":0},0,0,0,0,0,0,0,0,0,0]
[null,{"$f":"IF(topdowntables!$N$4=1,\"N i jord 100 år perspektiv, kg N per ha\",\"soil N change 100 years perspective, kg N per ha\")","v":"N i jord 100 år perspektiv, kg N per ha"},{"$f":"C57/10","v":0},0,0,0,0,0,0,0,0,0,{"$f":"$C$6*C99+$D$6*D99+$E$6*E99+$F$6*F99+$G$6*G99+$H$6*H99+$I$6*I99+$J$6*J99+$K$6*K99+$L$6*L99","v":0}]
[null,{"$f":"IF(topdowntables!$N$4=1,\"N optag fra treer, kg N per ha\",\"N uptake by trees, kg N per ha\")","v":"N optag fra treer, kg N per ha"},{"$f":"IF(OR(C5=\"kløvergræs + treer\",C5=\"Paddock - grass clover + trees\"),IF(OR('input-data'!E409=topdowntables!$C$35,'input-data'!E409=topdowntables!$C$40),'øvrige EFS-other EFs'!$J$24*'input-data'!F307/100,IF(OR('input-data'!E409=topdowntables!$C$36,'input-data'!E409=topdowntables!$C$41),'øvrige EFS-other EFs'!$J$25*'input-data'!F307/100,0)), 0)","v":0},{"$f":"IF(OR(D5=\"kløvergræs + treer\",D5=\"Paddock - grass clover + trees\"),IF(OR('input-data'!E414=topdowntables!$C$35,'input-data'!E414=topdowntables!$C$40),'øvrige EFS-other EFs'!$J$24*'input-data'!F329/100,IF(OR('input-data'!E414=topdowntables!$C$36,'input-data'!E414=topdowntables!$C$41),'øvrige EFS-other EFs'!$J$25*'input-data'!F329/100,0)), 0)","v":0},{"$f":"IF(OR(E5=\"kløvergræs + treer\",E5=\"Paddock - grass clover + trees\"),IF(OR('input-data'!E419=topdowntables!$C$35,'input-data'!E419=topdowntables!$C$40),'øvrige EFS-other EFs'!$J$24*'input-data'!F351/100,IF(OR('input-data'!E419=topdowntables!$C$36,'input-data'!E419=topdowntables!$C$41),'øvrige EFS-other EFs'!$J$25*'input-data'!F351/100,0)), 0)","v":0},{"$f":"IF(OR(F5=\"kløvergræs + treer\",F5=\"Paddock - grass clover + trees\"),IF(OR('input-data'!E424=topdowntables!$C$35,'input-data'!E424=topdowntables!$C$40),'øvrige EFS-other EFs'!$J$24*'input-data'!F373/100,IF(OR('input-data'!E424=topdowntables!$C$36,'input-data'!E424=topdowntables!$C$41),'øvrige EFS-other EFs'!$J$25*'input-data'!F373/100,0)), 0)","v":0}]
[null,{"$f":"IF(topdowntables!$N$4=1,\"Potentiel N udvaskning, kg NO3-N per ha\",\"Potential N leaching, kg NO3-N per ha\")","v":"Potentiel N udvaskning, kg NO3-N per ha"},{"$f":"C92-SUM(C94:C98)-C99-C100","v":0},{"$f":"D92-SUM(D94:D98)-D99-D100","v":0},0,0,0,0,0,0,0,0,0]
[null,{"$f":"IF(topdowntables!$N$4=1, \"   indirekt N2O fra udvaskning, kg N2O-N\", \"indirect N2O from leaching, kg N2O-N\")","v":"   indirekt N2O fra udvaskning, kg N2O-N"},{"$f":"C101*0.0075","v":0},{"$f":"D101*0.0075","v":0},0,0,0,0,0,0,0,0,0]
[]
[null,{"$f":"IF(topdowntables!$N$4=1, \" P balance\", \"P balance\")","v":" P balance"},{"$f":"C5","v":""},"","","","","","","","",""]
[null,"P input, kg P per ha"]
[null,{"$f":"IF(topdowntables!$N$4=1, \"   husdyrgødning\", \"   manure\")","v":"   husdyrgødning"},{"$f":"C18","v":0},0,0,0,0,0,0,0,0,0,{"$f":"$C$6*C106+$D$6*D106+$E$6*E106+$F$6*F106+$G$6*G106+$H$6*H106+$I$6*I106+$J$6*J106+$K$6*K106+$L$6*L106","v":0}]
[null,{"$f":"IF(topdowntables!$N$4=1, \"   udsæd\", \"   seed\")","v":"   udsæd"},{"$f":"IFERROR(C20*C31/C30*4/100, 0)","v":0},{"$f":"IFERROR(D20*D31/D30*4/100, 0)","v":0},{"$f":"IFERROR(E20*E31/E30*4/100, 0)","v":0},{"$f":"IFERROR(F20*F31/F30*4/100, 0)","v":0},{"$f":"IFERROR(G20*G31/G30*VLOOKUP(G5, topdowntables!$R$5:$AH$26, 15, FALSE)/100, 0)","v":0},{"$f":"IFERROR(H20*H31/H30*VLOOKUP(H5, topdowntables!$R$5:$AH$26, 15, FALSE)/100, 0)","v":0},{"$f":"IFERROR(I20*I31/I30*VLOOKUP(I5, topdowntables!$R$5:$AH$26, 15, FALSE)/100, 0)","v":0},{"$f":"IFERROR(J20*J31/J30*VLOOKUP(J5, topdowntables!$R$5:$AH$26, 15, FALSE)/100, 0)","v":0},{"$f":"IFERROR(K20*K31/K30*VLOOKUP(K5, topdowntables!$R$5:$AH$26, 15, FALSE)/100, 0)","v":0},{"$f":"IFERROR(L20*L31/L30*VLOOKUP(L5, topdowntables!$R$5:$AH$26, 15, FALSE)/100, 0)","v":0},0]
[null,{"$f":"IF(topdowntables!$N$4=1,\"P input, kg P i alt per ha\",\"Total P input, kg P per ha\")","v":"P input, kg P i alt per ha"},{"$f":"C106+C107","v":0},0,0,0,0,0,0,0,0,0,0]
[null,{"$f":"IF(topdowntables!$N$4=1,\"P output, kg P per ha\",\"P output, kg P per ha\")","v":"P output, kg P per ha"},null,null,null,null,null,null,null,null,null,null,0]
[null,{"$f":"IF(topdowntables!$N$4=1, \"   udbytte\", \"   crop yield\")","v":"   udbytte"},{"$f":"IFERROR(C31*0.4/100, 0)","v":0},{"$f":"IFERROR(D31*0.4/100, 0)","v":0},{"$f":"IFERROR(E31*0.4/100, 0)","v":0},{"$f":"IFERROR(F31*0.4/100, 0)","v":0},{"$f":"IFERROR(G31*VLOOKUP(G5, topdowntables!$R$5:$AH$26, 15, FALSE)/100, 0)","v":0},{"$f":"IFERROR(H31*VLOOKUP(H5, topdowntables!$R$5:$AH$26, 15, FALSE)/100, 0)","v":0},{"$f":"IFERROR(I31*VLOOKUP(I5, topdowntables!$R$5:$AH$26, 15, FALSE)/100, 0)","v":0},{"$f":"IFERROR(J31*VLOOKUP(J5, topdowntables!$R$5:$AH$26, 15, FALSE)/100, 0)","v":0},{"$f":"IFERROR(K31*VLOOKUP(K5, topdowntables!$R$5:$AH$26, 15, FALSE)/100, 0)","v":0},{"$f":"IFERROR(L31*VLOOKUP(L5, topdowntables!$R$5:$AH$26, 15, FALSE)/100, 0)","v":0},0]
[null,{"$f":"IF(topdowntables!$N$4=1, \"   halmudbytte\", \"   straw yield\")","v":"   halmudbytte"},null,null,null,null,{"$f":"G35*G36/100*0.0009","v":0},0,0,0,0,0,0,"   0,0009 kg per kg DM (NorFor database)"]
[null,{"$f":"IF(topdowntables!$N$4=1,\"P output, kg P i alt per ha\",\"Total P output, kg P per ha\")","v":"P output, kg P i alt per ha"},{"$f":"SUM(C110:C111)","v":0},{"$f":"SUM(D110:D111)","v":0},0,0,0,0,0,0,0,0,0]
[null,{"$f":"IF(topdowntables!$N$4=1,\"P overskud, kg P per ha\",\"P surplus, kg P per ha\")","v":"P overskud, kg P per ha"},{"$f":"C108-C112","v":0},{"$f":"D108-D112","v":0},0,0,0,0,0,0,0,0,0]
[null,{"$f":"IF(topdowntables!$N$4=1,\"P i jord, kg P per ha\",\"soil P change, kg P per ha\")","v":"P i jord, kg P per ha"},{"$f":"C113*0.97","v":0},{"$f":"D113*0.97","v":0},0,0,0,0,0,0,0,0,0]
[null,{"$f":"IF(topdowntables!$N$4=1,\"Potentiel P udvaskning, kg PO4-P per ha\",\"Potential P leaching, kg PO4-P per ha\")","v":"Potentiel P udvaskning, kg PO4-P per ha"},{"$f":"IF(C113-C114>0, C113-C114, 0)","v":0},{"$f":"IF(D113-D114>0, D113-D114, 0)","v":0},0,0,0,0,0,0,0,0,0]
[]
[]
[null,{"$f":"IF(topdowntables!$N$4=1, \"Økonomisk allokering faktorer, %\", \"Economic allocation factors, %\")","v":"Økonomisk allokering faktorer, %"},{"$f":"C5","v":""},"","","","","","","","",""]
[null,{"$f":"IF(topdowntables!$N$4=1, \"   hovedprodukt\", \"   main product\")","v":"   hovedprodukt"},{"$f":"IF(C6>0, IF(C35=0, 100, 95*C36/100+100*C37/100), \"\")","v":""},"","","","","","","","",""]
[null,{"$f":"IF(topdowntables!$N$4=1, \"   biprodukt (halm)\", \"   by-product (straw)\")","v":"   biprodukt (halm)"},{"$f":"IF(C35>0, 100-C119, \"\")","v":""},"","","","","","","","",""]
[]
[]
[null,null,{"$f":"C5","v":""},"","","","","","","","",""]
[null,{"$f":"IF(topdowntables!$N$4=1, \"Klimaaftryk\", \"Climate change\")","v":"Klimaaftryk"}]
[null,{"$f":"IF(topdowntables!$N$4=1, \"Bidrag, kg CO2 ækv. per ha\", \"Contributors,  kg CO2 eq. per ha\")","v":"Bidrag, kg CO2 ækv. per ha"}]
[null,{"$f":"IF(topdowntables!$N$4=1, \"  udsæd\", \"  production of seed\")","v":"  udsæd"},{"$f":"C20*'background data'!$K$31","v":0},{"$f":"D20*'background data'!$K$31","v":0},{"$f":"E20*'background data'!$K$31","v":0},{"$f":"F20*'background data'!$K$31","v":0},{"$f":"G20*'background data'!$K$31","v":0},{"$f":"H20*'background data'!$K$31","v":0},{"$f":"I20*'background data'!$K$31","v":0},{"$f":"J20*'background data'!$K$31","v":0},{"$f":"K20*'background data'!$K$31","v":0},{"$f":"L20*'background data'!$K$31","v":0}]
[null,{"$f":"IF(topdowntables!$N$4=1, \"  diesel\", \"  production of diesel\")","v":"  diesel"},{"$f":"C26*'background data'!$K$34","v":0},{"$f":"D26*'background data'!$K$34","v":0},{"$f":"E26*'background data'!$K$34","v":0},{"$f":"F26*'background data'!$K$34","v":0},{"$f":"G26*'background data'!$K$34","v":0},{"$f":"H26*'background data'!$K$34","v":0},{"$f":"I26*'background data'!$K$34","v":0},{"$f":"J26*'background data'!$K$34","v":0},{"$f":"K26*'background data'!$K$34","v":0},{"$f":"L26*'background data'!$K$34","v":0}]
[null,{"$f":"IF(topdowntables!$N$4=1, \"  olie\", \"  production of oil\")","v":"  olie"},{"$f":"(C25*1.13+C27)*'background data'!$K$35","v":0},{"$f":"(D25*1.13+D27)*'background data'!$K$35","v":0},{"$f":"(E25*1.13+E27)*'background data'!$K$35","v":0},{"$f":"(F25*1.13+F27)*'background data'!$K$35","v":0},{"$f":"(G25*1.13+G27)*'background data'!$K$35","v":0},{"$f":"(H25*1.13+H27)*'background data'!$K$35","v":0},{"$f":"(I25*1.13+I27)*'background data'!$K$35","v":0},{"$f":"(J25*1.13+J27)*'background data'!$K$35","v":0},{"$f":"(K25*1.13+K27)*'background data'!$K$35","v":0},{"$f":"(L25*1.13+L27)*'background data'!$K$35","v":0}]
[null,{"$f":"IF(topdowntables!$N$4=1, \"  electricitet\", \"  electricity\")","v":"  electricitet"},{"$f":"C24*'background data'!$K$38","v":0},{"$f":"D24*'background data'!$K$38","v":0},{"$f":"E24*'background data'!$K$38","v":0},{"$f":"F24*'background data'!$K$38","v":0},{"$f":"G24*'background data'!$K$38","v":0},{"$f":"H24*'background data'!$K$38","v":0},{"$f":"I24*'background data'!$K$38","v":0},{"$f":"J24*'background data'!$K$38","v":0},{"$f":"K24*'background data'!$K$38","v":0},{"$f":"L24*'background data'!$K$38","v":0}]
[null,{"$f":"IF(topdowntables!$N$4=1, \"  produktion af kalk\", \"  production of lime\")","v":"  produktion af kalk"},{"$f":"C21*'background data'!$K$27","v":0},{"$f":"D21*'background data'!$K$27","v":0},{"$f":"E21*'background data'!$K$27","v":0},{"$f":"F21*'background data'!$K$27","v":0},{"$f":"G21*'background data'!$K$27","v":0},{"$f":"H21*'background data'!$K$27","v":0},{"$f":"I21*'background data'!$K$27","v":0},{"$f":"J21*'background data'!$K$27","v":0},{"$f":"K21*'background data'!$K$27","v":0},{"$f":"L21*'background data'!$K$27","v":0}]
[null,{"$f":"IF(topdowntables!$N$4=1, \"  kalkforbrug\", \"  use of lime\")","v":"  kalkforbrug"},{"$f":"C79","v":0},0,0,0,0,0,0,0,0,0]
[null,{"$f":"IF(topdowntables!$N$4=1, \"  N2O emission\", \"  N2O emission\")","v":"  N2O emission"},{"$f":"(C94+C95+C102)*44/28*'øvrige EFS-other EFs'!$D$27","v":0},{"$f":"(D94+D95+D102)*44/28*'øvrige EFS-other EFs'!$D$27","v":0},{"$f":"(E94+E95+E102)*44/28*'øvrige EFS-other EFs'!$D$27","v":0},{"$f":"(F94+F95+F102)*44/28*'øvrige EFS-other EFs'!$D$27","v":0},{"$f":"(G94+G95+G102)*44/28*'øvrige EFS-other EFs'!$D$27","v":0},{"$f":"(H94+H95+H102)*44/28*'øvrige EFS-other EFs'!$D$27","v":0},{"$f":"(I94+I95+I102)*44/28*'øvrige EFS-other EFs'!$D$27","v":0},{"$f":"(J94+J95+J102)*44/28*'øvrige EFS-other EFs'!$D$27","v":0},{"$f":"(K94+K95+K102)*44/28*'øvrige EFS-other EFs'!$D$27","v":0},{"$f":"(L94+L95+L102)*44/28*'øvrige EFS-other EFs'!$D$27","v":0}]
[null,{"$f":"IF(topdowntables!$N$4=1, \"Total emission, kg CO2 ækv. per ha\", \"Total,  kg CO2 eq. per ha\")","v":"Total emission, kg CO2 ækv. per ha"},{"$f":"SUM(C126:C132)","v":0},{"$f":"SUM(D126:D132)","v":0},0,0,0,0,0,0,0,0]
[null,{"$f":"IF(topdowntables!$N$4=1, \"C i jord 100 år perspektiv, kg CO2 ækv. per ha\", \"soil C change 100 years perspective, kg CO2 eq. per ha\")","v":"C i jord 100 år perspektiv, kg CO2 ækv. per ha"},{"$f":"C59","v":0},0,0,0,0,0,0,0,0,0]
[null,{"$f":"IF(topdowntables!$N$4=1, \"iLUC,  kg CO2 ækv. per ha\", \"iLUC, kg CO2 eq. per ha\")","v":"iLUC,  kg CO2 ækv. per ha"},{"$f":"1430","v":1430},{"$f":"1430","v":1430},{"$f":"1430","v":1430},{"$f":"1430","v":1430},{"$f":"1430","v":1430},{"$f":"1430","v":1430},{"$f":"1430","v":1430},{"$f":"1430","v":1430},{"$f":"1430","v":1430},{"$f":"1430","v":1430}]
[]
[null,{"$f":"IF(topdowntables!$N$4=1, \"per kg TS\", \"per kg DM\")","v":"per kg TS"}]
[]
[null,{"$f":"IF(topdowntables!$N$4=1, \"Klimaaftryk, kg CO2 ækv. per kg TS\", \"Climate change, kg CO2 eq. per kg DM\")","v":"Klimaaftryk, kg CO2 ækv. per kg TS"}]
[null,{"$f":"B119","v":"   hovedprodukt"},{"$f":"IFERROR(C133*C$119/100/C$31, 0)","v":0},0,0,0,0,0,0,0,{"$f":"IFERROR(K133*K$119/100/K$31, \"\")","v":""},""]
[null,{"$f":"B120","v":"   biprodukt (halm)"},{"$f":"IFERROR(C133*C$120/100/(C$35*C$36/100), 0)","v":0},0,0,0,0,0,0,0,{"$f":"IFERROR(K133*K$120/100/(K$35*K$36/100), \"\")","v":""},""]
[null,{"$f":"IF(topdowntables!N4=1, \"C i jord 100 år perspektiv, kg CO2 ækv. per kg TS\", \"soil C change 100 years perspective, kg CO2 eq. per kg DM\")","v":"C i jord 100 år perspektiv, kg CO2 ækv. per kg TS"}]
[null,{"$f":"B140","v":"   hovedprodukt"},{"$f":"IFERROR(C134*C$119/100/C$31, 0)","v":0},0,0,0,0,0,0,0,{"$f":"IFERROR(K134*K$119/100/K$31, \"\")","v":""},""]
[null,{"$f":"B141","v":"   biprodukt (halm)"},{"$f":"IFERROR(C134*C$120/100/(C$35*C$36/100), 0)","v":0},0,0,0,0,0,0,0,{"$f":"IFERROR(K134*K$120/100/(K$35*K$36/100), \"\")","v":""},""]
[null,{"$f":"IF(topdowntables!$N$4=1, \"iLUC,  kg CO2 ækv. per kg TS\", \"iLUC, kg CO2 eq. per kg DM\")","v":"iLUC,  kg CO2 ækv. per kg TS"}]
[null,{"$f":"B143","v":"   hovedprodukt"},{"$f":"IFERROR(C135*C$119/100/C$31, 0)","v":0},0,0,0,0,0,0,0,{"$f":"IFERROR(K135*K$119/100/K$31, \"\")","v":""},""]
[null,{"$f":"B144","v":"   biprodukt (halm)"},{"$f":"IFERROR(C135*C$120/100/(C$35*C$36/100), 0)","v":0},0,0,0,0,0,0,0,{"$f":"IFERROR(K135*K$120/100/(K$35*K$36/100), \"\")","v":""},""]
[]
[]
[null,null,{"$f":"C5","v":""},"","","","","","","","",""]
[null,{"$f":"IF(topdowntables!$N$4=1, \"Eutrofiering\", \"Eutrophication potential\")","v":"Eutrofiering"}]
[null,{"$f":"IF(topdowntables!$N$4=1, \"Bidrag, kg NO3 ækv. per ha\", \"Contributors,  kg NO3 eq. per ha\")","v":"Bidrag, kg NO3 ækv. per ha"}]
[null,{"$f":"IF(topdowntables!$N$4=1, \"  udsæd\", \"  production of seed\")","v":"  udsæd"},{"$f":"IF(C6>0, C20*'background data'!$L$31/1000, 0)","v":0},{"$f":"IF(D6>0, D20*'background data'!$L$31/1000, 0)","v":0},{"$f":"IF(E6>0, E20*'background data'!$L$31/1000, 0)","v":0},{"$f":"IF(F6>0, F20*'background data'!$L$31/1000, 0)","v":0},{"$f":"IF(G6>0, G20*'background data'!$L$31/1000, 0)","v":0},{"$f":"IF(H6>0, H20*'background data'!$L$31/1000, 0)","v":0},{"$f":"IF(I6>0, I20*'background data'!$L$31/1000, 0)","v":0},{"$f":"IF(J6>0, J20*'background data'!$L$31/1000, 0)","v":0},{"$f":"IF(K6>0, K20*'background data'!$L$31/1000, 0)","v":0},{"$f":"IF(L6>0, L20*'background data'!$L$31/1000, 0)","v":0}]
[null,{"$f":"IF(topdowntables!$N$4=1, \"  diesel\", \"  production of diesel\")","v":"  diesel"},{"$f":"IF(C6>0, C26*'background data'!$L$34/1000, 0)","v":0},{"$f":"IF(D6>0, D26*'background data'!$L$34/1000, 0)","v":0},{"$f":"IF(E6>0, E26*'background data'!$L$34/1000, 0)","v":0},{"$f":"IF(F6>0, F26*'background data'!$L$34/1000, 0)","v":0},{"$f":"IF(G6>0, G26*'background data'!$L$34/1000, 0)","v":0},{"$f":"IF(H6>0, H26*'background data'!$L$34/1000, 0)","v":0},{"$f":"IF(I6>0, I26*'background data'!$L$34/1000, 0)","v":0},{"$f":"IF(J6>0, J26*'background data'!$L$34/1000, 0)","v":0},{"$f":"IF(K6>0, K26*'background data'!$L$34/1000, 0)","v":0},{"$f":"IF(L6>0, L26*'background data'!$L$34/1000, 0)","v":0}]
[null,{"$f":"IF(topdowntables!$N$4=1, \"  olie\", \"  production of oil\")","v":"  olie"},{"$f":"IF(C6>0, (C25*1.13+C27)*'background data'!$L$35/1000, 0)","v":0},{"$f":"IF(D6>0, (D25*1.13+D27)*'background data'!$L$35/1000, 0)","v":0},{"$f":"IF(E6>0, (E25*1.13+E27)*'background data'!$L$35/1000, 0)","v":0},{"$f":"IF(F6>0, (F25*1.13+F27)*'background data'!$L$35/1000, 0)","v":0},{"$f":"IF(G6>0, (G25*1.13+G27)*'background data'!$L$35/1000, 0)","v":0},{"$f":"IF(H6>0, (H25*1.13+H27)*'background data'!$L$35/1000, 0)","v":0},{"$f":"IF(I6>0, (I25*1.13+I27)*'background data'!$L$35/1000, 0)","v":0},{"$f":"IF(J6>0, (J25*1.13+J27)*'background data'!$L$35/1000, 0)","v":0},{"$f":"IF(K6>0, (K25*1.13+K27)*'background data'!$L$35/1000, 0)","v":0},{"$f":"IF(L6>0, (L25*1.13+L27)*'background data'!$L$35/1000, 0)","v":0}]
[null,{"$f":"IF(topdowntables!$N$4=1, \"  electricitet\", \"  electricity\")","v":"  electricitet"},{"$f":"IF(C6>0, C24*'background data'!$L$38/1000, 0)","v":0},{"$f":"IF(D6>0, D24*'background data'!$L$38/1000, 0)","v":0},{"$f":"IF(E6>0, E24*'background data'!$L$38/1000, 0)","v":0},{"$f":"IF(F6>0, F24*'background data'!$L$38/1000, 0)","v":0},{"$f":"IF(G6>0, G24*'background data'!$L$38/1000, 0)","v":0},{"$f":"IF(H6>0, H24*'background data'!$L$38/1000, 0)","v":0},{"$f":"IF(I6>0, I24*'background data'!$L$38/1000, 0)","v":0},{"$f":"IF(J6>0, J24*'background data'!$L$38/1000, 0)","v":0},{"$f":"IF(K6>0, K24*'background data'!$L$38/1000, 0)","v":0},{"$f":"IF(L6>0, L24*'background data'!$L$38/1000, 0)","v":0}]
[null,{"$f":"IF(topdowntables!$N$4=1, \"  produktion af kalk\", \"  production of lime\")","v":"  produktion af kalk"},{"$f":"IF(C6>0, C21*'background data'!$L$27/1000, 0)","v":0},{"$f":"IF(D6>0, D21*'background data'!$L$27/1000, 0)","v":0},{"$f":"IF(E6>0, E21*'background data'!$L$27/1000, 0)","v":0},{"$f":"IF(F6>0, F21*'background data'!$L$27/1000, 0)","v":0},{"$f":"IF(G6>0, G21*'background data'!$L$27/1000, 0)","v":0},{"$f":"IF(H6>0, H21*'background data'!$L$27/1000, 0)","v":0},{"$f":"IF(I6>0, I21*'background data'!$L$27/1000, 0)","v":0},{"$f":"IF(J6>0, J21*'background data'!$L$27/1000, 0)","v":0},{"$f":"IF(K6>0, K21*'background data'!$L$27/1000, 0)","v":0},{"$f":"IF(L6>0, L21*'background data'!$L$27/1000, 0)","v":0}]
[null,{"$f":"IF(topdowntables!$N$4=1, \"  NO3 udvaskning\", \"  NO3 leaching\")","v":"  NO3 udvaskning"},{"$f":"IF(C6>0, C101*62/14*'øvrige EFS-other EFs'!$I$29, 0)","v":0},{"$f":"IF(D6>0, D101*62/14*'øvrige EFS-other EFs'!$I$29, 0)","v":0},{"$f":"IF(E6>0, E101*62/14*'øvrige EFS-other EFs'!$I$29, 0)","v":0},{"$f":"IF(F6>0, F101*62/14*'øvrige EFS-other EFs'!$I$29, 0)","v":0},{"$f":"IF(G6>0, G101*62/14*'øvrige EFS-other EFs'!$I$29, 0)","v":0},{"$f":"IF(H6>0, H101*62/14*'øvrige EFS-other EFs'!$I$29, 0)","v":0},{"$f":"IF(I6>0, I101*62/14*'øvrige EFS-other EFs'!$I$29, 0)","v":0},{"$f":"IF(J6>0, J101*62/14*'øvrige EFS-other EFs'!$I$29, 0)","v":0},{"$f":"IF(K6>0, K101*62/14*'øvrige EFS-other EFs'!$I$29, 0)","v":0},{"$f":"IF(L6>0, L101*62/14*'øvrige EFS-other EFs'!$I$29, 0)","v":0}]
[null,{"$f":"IF(topdowntables!$N$4=1, \"  PO4 udvaskning\", \"  PO4 leaching\")","v":"  PO4 udvaskning"},{"$f":"IF(C6>0, C115*'øvrige EFS-other EFs'!$I$30, 0)","v":0},{"$f":"IF(D6>0, D115*'øvrige EFS-other EFs'!$I$30, 0)","v":0},{"$f":"IF(E6>0, E115*'øvrige EFS-other EFs'!$I$30, 0)","v":0},{"$f":"IF(F6>0, F115*'øvrige EFS-other EFs'!$I$30, 0)","v":0},{"$f":"IF(G6>0, G115*'øvrige EFS-other EFs'!$I$30, 0)","v":0},{"$f":"IF(H6>0, H115*'øvrige EFS-other EFs'!$I$30, 0)","v":0},{"$f":"IF(I6>0, I115*'øvrige EFS-other EFs'!$I$30, 0)","v":0},{"$f":"IF(J6>0, J115*'øvrige EFS-other EFs'!$I$30, 0)","v":0},{"$f":"IF(K6>0, K115*'øvrige EFS-other EFs'!$I$30, 0)","v":0},{"$f":"IF(L6>0, L115*'øvrige EFS-other EFs'!$I$30, 0)","v":0}]
[null,{"$f":"IF(topdowntables!$N$4=1, \"  NH3 emissioner\", \"  NH3 emission\")","v":"  NH3 emissioner"},{"$f":"IF(C6>0, C96*17/14*'øvrige EFS-other EFs'!$I$31, 0)","v":0},{"$f":"IF(D6>0, D96*17/14*'øvrige EFS-other EFs'!$I$31, 0)","v":0},{"$f":"IF(E6>0, E96*17/14*'øvrige EFS-other EFs'!$I$31, 0)","v":0},{"$f":"IF(F6>0, F96*17/14*'øvrige EFS-other EFs'!$I$31, 0)","v":0},{"$f":"IF(G6>0, G96*17/14*'øvrige EFS-other EFs'!$I$31, 0)","v":0},{"$f":"IF(H6>0, H96*17/14*'øvrige EFS-other EFs'!$I$31, 0)","v":0},{"$f":"IF(I6>0, I96*17/14*'øvrige EFS-other EFs'!$I$31, 0)","v":0},{"$f":"IF(J6>0, J96*17/14*'øvrige EFS-other EFs'!$I$31, 0)","v":0},{"$f":"IF(K6>0, K96*17/14*'øvrige EFS-other EFs'!$I$31, 0)","v":0},{"$f":"IF(L6>0, L96*17/14*'øvrige EFS-other EFs'!$I$31, 0)","v":0}]
[null,{"$f":"IF(topdowntables!$N$4=1, \"  NOx emissioner\", \"  NOx emission\")","v":"  NOx emissioner"},{"$f":"IF(C6>0, C97*30/14*'øvrige EFS-other EFs'!$I$32, 0)","v":0},{"$f":"IF(D6>0, D97*30/14*'øvrige EFS-other EFs'!$I$32, 0)","v":0},{"$f":"IF(E6>0, E97*30/14*'øvrige EFS-other EFs'!$I$32, 0)","v":0},{"$f":"IF(F6>0, F97*30/14*'øvrige EFS-other EFs'!$I$32, 0)","v":0},{"$f":"IF(G6>0, G97*30/14*'øvrige EFS-other EFs'!$I$32, 0)","v":0},{"$f":"IF(H6>0, H97*30/14*'øvrige EFS-other EFs'!$I$32, 0)","v":0},{"$f":"IF(I6>0, I97*30/14*'øvrige EFS-other EFs'!$I$32, 0)","v":0},{"$f":"IF(J6>0, J97*30/14*'øvrige EFS-other EFs'!$I$32, 0)","v":0},{"$f":"IF(K6>0, K97*30/14*'øvrige EFS-other EFs'!$I$32, 0)","v":0},{"$f":"IF(L6>0, L97*30/14*'øvrige EFS-other EFs'!$I$32, 0)","v":0}]
[null,{"$f":"IF(topdowntables!$N$4=1, \"Total emission, kg N03 ækv. per ha\", \"Total,  kg NO3 eq. per ha\")","v":"Total emission, kg N03 ækv. per ha"},{"$f":"IFERROR(SUM(C153:C161), 0)","v":0},{"$f":"IFERROR(SUM(D153:D161), 0)","v":0},{"$f":"IFERROR(SUM(E153:E161), 0)","v":0},0,{"$f":"IFERROR(SUM(G153:G161), 0)","v":0},{"$f":"IFERROR(SUM(H153:H161), 0)","v":0},0,0,0,0]
[]
[null,{"$f":"IF(topdowntables!$N$4=1, \"per kg TS\", \"per kg DM\")","v":"per kg TS"}]
[null,{"$f":"IF(topdowntables!$N$4=1, \"Eutrofiering, kg NO3 ækv. per kg TS\", \"Eutrophication potential,  kg NO3 eq. per kg DM\")","v":"Eutrofiering, kg NO3 ækv. per kg TS"}]
[null,{"$f":"B140","v":"   hovedprodukt"},{"$f":"IFERROR(C162*C$119/100/C$31, 0)","v":0},{"$f":"IFERROR(D162*D$119/100/D$31, 0)","v":0},0,0,{"$f":"IFERROR(G162*G$119/100/G$31, 0)","v":0},{"$f":"IFERROR(H162*H$119/100/H$31, 0)","v":0},0,0,0,0]
[null,{"$f":"B141","v":"   biprodukt (halm)"},{"$f":"IFERROR(C162*C$120/100/(C$35*C$36/100), 0)","v":0},{"$f":"IFERROR(D162*D$120/100/(D$35*D$36/100), 0)","v":0},0,0,{"$f":"IFERROR(G162*G$120/100/(G$35*G$36/100), 0)","v":0},{"$f":"IFERROR(H162*H$120/100/(H$35*H$36/100), 0)","v":0},0,0,0,0]
[]
[]
[null,null,{"$f":"C5","v":""},"","","","","","","","",""]
[null,{"$f":"IF(topdowntables!$N$4=1, \"Forsuring potentiel\", \"Acidification potential\")","v":"Forsuring potentiel"}]
[null,{"$f":"IF(topdowntables!$N$4=1, \"Bidrag, kg SO2 ækv. per ha\", \"Contributors,  kg SO2 eq. per ha\")","v":"Bidrag, kg SO2 ækv. per ha"}]
[null,{"$f":"IF(topdowntables!$N$4=1, \"  udsæd\", \"  production of seed\")","v":"  udsæd"},{"$f":"IF(C6>0, C20*'background data'!$N$31/1000, 0)","v":0},{"$f":"IF(D6>0, D20*'background data'!$N$31/1000, 0)","v":0},{"$f":"IF(E6>0, E20*'background data'!$N$31/1000, 0)","v":0},{"$f":"IF(F6>0, F20*'background data'!$N$31/1000, 0)","v":0},{"$f":"IF(G6>0, G20*'background data'!$N$31/1000, 0)","v":0},{"$f":"IF(H6>0, H20*'background data'!$N$31/1000, 0)","v":0},{"$f":"IF(I6>0, I20*'background data'!$N$31/1000, 0)","v":0},{"$f":"IF(J6>0, J20*'background data'!$N$31/1000, 0)","v":0},{"$f":"IF(K6>0, K20*'background data'!$N$31/1000, 0)","v":0},{"$f":"IF(L6>0, L20*'background data'!$N$31/1000, 0)","v":0}]
[null,{"$f":"IF(topdowntables!$N$4=1, \"  diesel\", \"  production of diesel\")","v":"  diesel"},{"$f":"IF(C6>0, C26*'background data'!$N$34/1000, 0)","v":0},{"$f":"IF(D6>0, D26*'background data'!$N$34/1000, 0)","v":0},{"$f":"IF(E6>0, E26*'background data'!$N$34/1000, 0)","v":0},{"$f":"IF(F6>0, F26*'background data'!$N$34/1000, 0)","v":0},{"$f":"IF(G6>0, G26*'background data'!$N$34/1000, 0)","v":0},{"$f":"IF(H6>0, H26*'background data'!$N$34/1000, 0)","v":0},{"$f":"IF(I6>0, I26*'background data'!$N$34/1000, 0)","v":0},{"$f":"IF(J6>0, J26*'background data'!$N$34/1000, 0)","v":0},{"$f":"IF(K6>0, K26*'background data'!$N$34/1000, 0)","v":0},{"$f":"IF(L6>0, L26*'background data'!$N$34/1000, 0)","v":0}]
[null,{"$f":"IF(topdowntables!$N$4=1, \"  olie\", \"  production of oil\")","v":"  olie"},{"$f":"IF(C6>0, (C25*1.13+C47)*'background data'!$N$35/1000, 0)","v":0},{"$f":"IF(D6>0, (D25*1.13+D47)*'background data'!$N$35/1000, 0)","v":0},{"$f":"IF(E6>0, (E25*1.13+E47)*'background data'!$N$35/1000, 0)","v":0},{"$f":"IF(F6>0, (F25*1.13+F47)*'background data'!$N$35/1000, 0)","v":0},{"$f":"IF(G6>0, (G25*1.13+G47)*'background data'!$N$35/1000, 0)","v":0},{"$f":"IF(H6>0, (H25*1.13+H47)*'background data'!$N$35/1000, 0)","v":0},{"$f":"IF(I6>0, (I25*1.13+I47)*'background data'!$N$35/1000, 0)","v":0},{"$f":"IF(J6>0, (J25*1.13+J47)*'background data'!$N$35/1000, 0)","v":0},{"$f":"IF(K6>0, (K25*1.13+K47)*'background data'!$N$35/1000, 0)","v":0},{"$f":"IF(L6>0, (L25*1.13+L47)*'background data'!$N$35/1000, 0)","v":0}]
[null,{"$f":"IF(topdowntables!$N$4=1, \"  electricitet\", \"  electricity\")","v":"  electricitet"},{"$f":"IF(C6>0, C24*'background data'!$N$38/1000, 0)","v":0},{"$f":"IF(D6>0, D24*'background data'!$N$38/1000, 0)","v":0},{"$f":"IF(E6>0, E24*'background data'!$N$38/1000, 0)","v":0},{"$f":"IF(F6>0, F24*'background data'!$N$38/1000, 0)","v":0},{"$f":"IF(G6>0, G24*'background data'!$N$38/1000, 0)","v":0},{"$f":"IF(H6>0, H24*'background data'!$N$38/1000, 0)","v":0},{"$f":"IF(I6>0, I24*'background data'!$N$38/1000, 0)","v":0},{"$f":"IF(J6>0, J24*'background data'!$N$38/1000, 0)","v":0},{"$f":"IF(K6>0, K24*'background data'!$N$38/1000, 0)","v":0},{"$f":"IF(L6>0, L24*'background data'!$N$38/1000, 0)","v":0}]
[null,{"$f":"IF(topdowntables!$N$4=1, \"  produktion af kalk\", \"  production of lime\")","v":"  produktion af kalk"},{"$f":"IF(C6>0, C21*'background data'!$N$27/1000, 0)","v":0},{"$f":"IF(D6>0, D21*'background data'!$N$27/1000, 0)","v":0},{"$f":"IF(E6>0, E21*'background data'!$N$27/1000, 0)","v":0},{"$f":"IF(F6>0, F21*'background data'!$N$27/1000, 0)","v":0},{"$f":"IF(G6>0, G21*'background data'!$N$27/1000, 0)","v":0},{"$f":"IF(H6>0, H21*'background data'!$N$27/1000, 0)","v":0},{"$f":"IF(I6>0, I21*'background data'!$N$27/1000, 0)","v":0},{"$f":"IF(J6>0, J21*'background data'!$N$27/1000, 0)","v":0},{"$f":"IF(K6>0, K21*'background data'!$N$27/1000, 0)","v":0},{"$f":"IF(L6>0, L21*'background data'!$N$27/1000, 0)","v":0}]
[null,{"$f":"IF(topdowntables!$N$4=1, \"  NH3 emissioner\", \"  NH3 emission\")","v":"  NH3 emissioner"},{"$f":"IF(C6>0, C96*17/14*'øvrige EFS-other EFs'!$K$31, 0)","v":0},{"$f":"IF(D6>0, D96*17/14*'øvrige EFS-other EFs'!$K$31, 0)","v":0},{"$f":"IF(E6>0, E96*17/14*'øvrige EFS-other EFs'!$K$31, 0)","v":0},{"$f":"IF(F6>0, F96*17/14*'øvrige EFS-other EFs'!$K$31, 0)","v":0},{"$f":"IF(G6>0, G96*17/14*'øvrige EFS-other EFs'!$K$31, 0)","v":0},{"$f":"IF(H6>0, H96*17/14*'øvrige EFS-other EFs'!$K$31, 0)","v":0},{"$f":"IF(I6>0, I96*17/14*'øvrige EFS-other EFs'!$K$31, 0)","v":0},{"$f":"IF(J6>0, J96*17/14*'øvrige EFS-other EFs'!$K$31, 0)","v":0},{"$f":"IF(K6>0, K96*17/14*'øvrige EFS-other EFs'!$K$31, 0)","v":0},{"$f":"IF(L6>0, L96*17/14*'øvrige EFS-other EFs'!$K$31, 0)","v":0}]
[null,{"$f":"IF(topdowntables!$N$4=1, \"  NOx emissioner\", \"  NOx emission\")","v":"  NOx emissioner"},{"$f":"IF(C6>0, C97*30/14*'øvrige EFS-other EFs'!$K$32, 0)","v":0},{"$f":"IF(D6>0, D97*30/14*'øvrige EFS-other EFs'!$K$32, 0)","v":0},{"$f":"IF(E6>0, E97*30/14*'øvrige EFS-other EFs'!$K$32, 0)","v":0},{"$f":"IF(F6>0, F97*30/14*'øvrige EFS-other EFs'!$K$32, 0)","v":0},{"$f":"IF(G6>0, G97*30/14*'øvrige EFS-other EFs'!$K$32, 0)","v":0},{"$f":"IF(H6>0, H97*30/14*'øvrige EFS-other EFs'!$K$32, 0)","v":0},{"$f":"IF(I6>0, I97*30/14*'øvrige EFS-other EFs'!$K$32, 0)","v":0},{"$f":"IF(J6>0, J97*30/14*'øvrige EFS-other EFs'!$K$32, 0)","v":0},{"$f":"IF(K6>0, K97*30/14*'øvrige EFS-other EFs'!$K$32, 0)","v":0},{"$f":"IF(L6>0, L97*30/14*'øvrige EFS-other EFs'!$K$32, 0)","v":0}]
[null,{"$f":"IF(topdowntables!$N$4=1, \"Total emission, kg SO2 ækv. per ha\", \"Total,  kg SO2 eq. per ha\")","v":"Total emission, kg SO2 ækv. per ha"},{"$f":"IFERROR(SUM(C173:C179), 0)","v":0},{"$f":"IFERROR(SUM(D173:D179), 0)","v":0},0,0,{"$f":"IFERROR(SUM(G173:G179), 0)","v":0},{"$f":"IFERROR(SUM(H173:H179), 0)","v":0},0,0,0,0]
[]
[null,{"$f":"IF(topdowntables!$N$4=1, \"per kg TS\", \"per kg DM\")","v":"per kg TS"}]
[null,{"$f":"IF(topdowntables!$N$4=1, \"Forsyring potentiel, kg SO2 ækv. per kg TS\", \"Acidification potential,  kg SO2 eq. per kg DM\")","v":"Forsyring potentiel, kg SO2 ækv. per kg TS"}]
[null,{"$f":"B166","v":"   hovedprodukt"},{"$f":"IFERROR(C180*C$119/100/C$31, 0)","v":0},{"$f":"IFERROR(D180*D$119/100/D$31, 0)","v":0},0,0,{"$f":"IFERROR(G180*G$119/100/G$31, 0)","v":0},{"$f":"IFERROR(H180*H$119/100/H$31, 0)","v":0},0,0,0,0]
[null,{"$f":"B167","v":"   biprodukt (halm)"},{"$f":"IFERROR(C180*C$120/100/(C$35*C$36/100), 0)","v":0},{"$f":"IFERROR(D180*D$120/100/(D$35*D$36/100), 0)","v":0},0,0,{"$f":"IFERROR(G180*G$120/100/(G$35*G$36/100), 0)","v":0},{"$f":"IFERROR(H180*H$120/100/(H$35*H$36/100), 0)","v":0},0,0,0,0]
[]
[]
[null,null,{"$f":"C5","v":""},"","","","","","","","",""]
[null,{"$f":"IF(topdowntables!$N$4=1, \"Energiforbrug\", \"Energy use\")","v":"Energiforbrug"}]
[null,{"$f":"IF(topdowntables!$N$4=1, \"Bidrag, MJ per ha\", \"Contributors,  MJ per ha\")","v":"Bidrag, MJ per ha"}]
[null,{"$f":"IF(topdowntables!$N$4=1, \"  udsæd\", \"  production of seed\")","v":"  udsæd"},{"$f":"IF(C6>0, C20*'background data'!$M$31, 0)","v":0},{"$f":"IF(D6>0, D20*'background data'!$M$31, 0)","v":0},{"$f":"IF(E6>0, E20*'background data'!$M$31, 0)","v":0},{"$f":"IF(F6>0, F20*'background data'!$M$31, 0)","v":0},{"$f":"IF(G6>0, G20*'background data'!$M$31, 0)","v":0},{"$f":"IF(H6>0, H20*'background data'!$M$31, 0)","v":0},{"$f":"IF(I6>0, I20*'background data'!$M$31, 0)","v":0},{"$f":"IF(J6>0, J20*'background data'!$M$31, 0)","v":0},{"$f":"IF(K6>0, K20*'background data'!$M$31, 0)","v":0},{"$f":"IF(L6>0, L20*'background data'!$M$31, 0)","v":0}]
[null,{"$f":"IF(topdowntables!$N$4=1, \"  diesel\", \"  production of diesel\")","v":"  diesel"},{"$f":"IF(C6>0, C26*'background data'!$M$34, 0)","v":0},{"$f":"IF(D6>0, D26*'background data'!$M$34, 0)","v":0},{"$f":"IF(E6>0, E26*'background data'!$M$34, 0)","v":0},{"$f":"IF(F6>0, F26*'background data'!$M$34, 0)","v":0},{"$f":"IF(G6>0, G26*'background data'!$M$34, 0)","v":0},{"$f":"IF(H6>0, H26*'background data'!$M$34, 0)","v":0},{"$f":"IF(I6>0, I26*'background data'!$M$34, 0)","v":0},{"$f":"IF(J6>0, J26*'background data'!$M$34, 0)","v":0},{"$f":"IF(K6>0, K26*'background data'!$M$34, 0)","v":0},{"$f":"IF(L6>0, L26*'background data'!$M$34, 0)","v":0}]
[null,{"$f":"IF(topdowntables!$N$4=1, \"  olie\", \"  production of oil\")","v":"  olie"},{"$f":"IF(C6>0, (C25*1.13+C27)*'background data'!$M$35, 0)","v":0},{"$f":"IF(D6>0, (D25*1.13+D27)*'background data'!$M$35, 0)","v":0},{"$f":"IF(E6>0, (E25*1.13+E27)*'background data'!$M$35, 0)","v":0},{"$f":"IF(F6>0, (F25*1.13+F27)*'background data'!$M$35, 0)","v":0},{"$f":"IF(G6>0, (G25*1.13+G27)*'background data'!$M$35, 0)","v":0},{"$f":"IF(H6>0, (H25*1.13+H27)*'background data'!$M$35, 0)","v":0},{"$f":"IF(I6>0, (I25*1.13+I27)*'background data'!$M$35, 0)","v":0},{"$f":"IF(J6>0, (J25*1.13+J27)*'background data'!$M$35, 0)","v":0},{"$f":"IF(K6>0, (K25*1.13+K27)*'background data'!$M$35, 0)","v":0},{"$f":"IF(L6>0, (L25*1.13+L27)*'background data'!$M$35, 0)","v":0}]
[null,{"$f":"IF(topdowntables!$N$4=1, \"  electricitet\", \"  electricity\")","v":"  electricitet"},{"$f":"IF(C6>0, C24*'background data'!$M$38, 0)","v":0},{"$f":"IF(D6>0, D24*'background data'!$M$38, 0)","v":0},{"$f":"IF(E6>0, E24*'background data'!$M$38, 0)","v":0},{"$f":"IF(F6>0, F24*'background data'!$M$38, 0)","v":0},{"$f":"IF(G6>0, G24*'background data'!$M$38, 0)","v":0},{"$f":"IF(H6>0, H24*'background data'!$M$38, 0)","v":0},{"$f":"IF(I6>0, I24*'background data'!$M$38, 0)","v":0},{"$f":"IF(J6>0, J24*'background data'!$M$38, 0)","v":0},{"$f":"IF(K6>0, K24*'background data'!$M$38, 0)","v":0},{"$f":"IF(L6>0, L24*'background data'!$M$38, 0)","v":0}]
[null,{"$f":"IF(topdowntables!$N$4=1, \"  produktion af kalk\", \"  production of lime\")","v":"  produktion af kalk"},{"$f":"IF(C6>0, C21*'background data'!$M$27, 0)","v":0},{"$f":"IF(D6>0, D21*'background data'!$M$27, 0)","v":0},{"$f":"IF(E6>0, E21*'background data'!$M$27, 0)","v":0},{"$f":"IF(F6>0, F21*'background data'!$M$27, 0)","v":0},{"$f":"IF(G6>0, G21*'background data'!$M$27, 0)","v":0},{"$f":"IF(H6>0, H21*'background data'!$M$27, 0)","v":0},{"$f":"IF(I6>0, I21*'background data'!$M$27, 0)","v":0},{"$f":"IF(J6>0, J21*'background data'!$M$27, 0)","v":0},{"$f":"IF(K6>0, K21*'background data'!$M$27, 0)","v":0},{"$f":"IF(L6>0, L21*'background data'!$M$27, 0)","v":0}]
[null,{"$f":"IF(topdowntables!$N$4=1, \"Total, MJ per ha\", \"Total,  MJ per ha\")","v":"Total, MJ per ha"},{"$f":"SUM(C191:C195)","v":0},{"$f":"SUM(D191:D195)","v":0},0,0,{"$f":"SUM(G191:G195)","v":0},{"$f":"SUM(H191:H195)","v":0},0,0,0,0]
[]
[null,{"$f":"IF(topdowntables!$N$4=1, \"per kg TS\", \"per kg DM\")","v":"per kg TS"}]
[null,{"$f":"IF(topdowntables!$N$4=1, \"Energiforbrug, MJ per kg TS\", \"Energy use, MJ per kg DM\")","v":"Energiforbrug, MJ per kg TS"}]
[null,{"$f":"B166","v":"   hovedprodukt"},{"$f":"IFERROR(C196*C$119/100/C$31, 0)","v":0},{"$f":"IFERROR(D196*D$119/100/D$31, 0)","v":0},0,0,{"$f":"IFERROR(G196*G$119/100/G$31, 0)","v":0},{"$f":"IFERROR(H196*H$119/100/H$31, 0)","v":0},0,0,0,0]
[null,{"$f":"B167","v":"   biprodukt (halm)"},{"$f":"IFERROR(C196*C$120/100/(C$35*C$36/100), 0)","v":0},{"$f":"IFERROR(D196*D$120/100/(D$35*D$36/100), 0)","v":0},0,0,{"$f":"IFERROR(G196*G$120/100/(G$35*G$36/100), 0)","v":0},{"$f":"IFERROR(H196*H$120/100/(H$35*H$36/100), 0)","v":0},0,0,0,0]
[]
[]
[null,null,{"$f":"C5","v":""},"","","","","","","","",""]
[null,{"$f":"IF(topdowntables!$N$4=1, \"Arealforbrug, m2 per ha\", \"LU, m2 per ha\")","v":"Arealforbrug, m2 per ha"},{"$f":"IF(C6>0, 10000, 0)","v":0},{"$f":"IF(D6>0, 10000, 0)","v":0},0,0,0,0,0,0,0,0]
[]
[null,{"$f":"IF(topdowntables!$N$4=1, \"arealforbrug, m2 per kg TS\", \"LU, m2 per kg DM\")","v":"arealforbrug, m2 per kg TS"}]
[null,{"$f":"B200","v":"   hovedprodukt"},{"$f":"IFERROR(C205*C$119/100/C$31, 0)","v":0},{"$f":"IFERROR(D205*D$119/100/D$31, 0)","v":0},0,0,{"$f":"IFERROR(G205*G$119/100/G$31, 0)","v":0},{"$f":"IFERROR(H205*H$119/100/H$31, 0)","v":0},0,0,0,0]
[null,{"$f":"B201","v":"   biprodukt (halm)"},{"$f":"IFERROR(C205*C$120/100/(C$35*C$36/100), 0)","v":0},{"$f":"IFERROR(D205*D$120/100/(D$35*D$36/100), 0)","v":0},0,0,{"$f":"IFERROR(G205*G$120/100/(G$35*G$36/100), 0)","v":0},{"$f":"IFERROR(H205*H$120/100/(H$35*H$36/100), 0)","v":0},0,0,0,0]
[]
[]
[null,null,{"$f":"C5","v":""},"","","","","","","","",""]
[null,"BD, PDF per ha",{"$f":"IF(C6>0, 10000*(-0.12), \"\")","v":""},{"$f":"IF(D6>0, 10000*(-0.12), \"\")","v":""},{"$f":"IF(E6>0, 10000*(-0.12), \"\")","v":""},{"$f":"IF(F6>0, 10000*(-0.12), \"\")","v":""},{"$f":"IFERROR(10000*VLOOKUP(G5, topdowntables!$R$5:$AH$26, 16, FALSE), \"\")","v":""},{"$f":"IFERROR(10000*VLOOKUP(H5, topdowntables!$R$5:$AH$26, 16, FALSE), \"\")","v":""},{"$f":"IFERROR(10000*VLOOKUP(I5, topdowntables!$R$5:$AH$26, 16, FALSE), \"\")","v":""},{"$f":"IFERROR(10000*VLOOKUP(J5, topdowntables!$R$5:$AH$26, 16, FALSE), \"\")","v":""},{"$f":"IFERROR(10000*VLOOKUP(K5, topdowntables!$R$5:$AH$26, 16, FALSE), \"\")","v":""},{"$f":"IFERROR(10000*VLOOKUP(L5, topdowntables!$R$5:$AH$26, 16, FALSE), \"\")","v":""}]
[]
[null,{"$f":"IF(topdowntables!$N$4=1, \"per kg TS\", \"per kg DM\")","v":"per kg TS"}]
[null,{"$f":"IF(topdowntables!$N$4=1, \"BD, PDF per kg TS\", \"BD, PDF per kg DM\")","v":"BD, PDF per kg TS"}]
[null,{"$f":"B208","v":"   hovedprodukt"},{"$f":"IFERROR(C213*C$119/100/C$31, \"\")","v":""},"","","","","","","","",""]
[null,{"$f":"B209","v":"   biprodukt (halm)"},{"$f":"IFERROR(C213*C$120/100/(C$35*C$36/100), \"\")","v":""},"","","","","","","","",""]

{"sheet":"Feed - overview","index":8,"n_rows":191,"n_cols":24,"rows_kept":191,"cut":false,"hidden":false,"merged":[]}
[]
[null,{"$f":"IF('input-data'!$B$3=\"Dansk\", \"FODER\", \"FEED OVERVIEW\")","v":"FODER"}]
[]
[]
[null,{"$f":"IF('input-data'!$B$3=\"Dansk\", \"HJEMMEPRODUCERET FODER\", \"HOME-PRODUCED FEED\")","v":"HJEMMEPRODUCERET FODER"},null,null,null,null,null,null,"Environmental impact per kg DM"]
[null,{"$f":"IF('input-data'!$B$3=\"Dansk\", \"Afgrøder\", \"Produced crops\")","v":"Afgrøder"},{"$f":"IF('input-data'!$B$3=\"Dansk\", \"Areal, ha\", \"Area, ha\")","v":"Areal, ha"},{"$f":"IF('input-data'!$B$3=\"Dansk\", \"Udbytte,                 kg TS per ha\", \"Yield,                  kg DM per ha\")","v":"Udbytte,                 kg TS per ha"},{"$f":"IF('input-data'!$B$3=\"Dansk\", \"Total udbytte, kg\", \"Total production, kg\")","v":"Total udbytte, kg"},{"$f":"IF('input-data'!$B$3=\"Dansk\", \"Solgte afgrøder, t\", \"Sold crops, t\")","v":"Solgte afgrøder, t"},null,{"$f":"IF('input-data'!$B$3=\"Dansk\", \"Hjemmeforbrug, kg TS\", \"Used at farm, kg DM\")","v":"Hjemmeforbrug, kg TS"},{"$f":"IF('input-data'!$B$3=\"Dansk\", \"Klimaaftryk, kg CO2-ækv\", \"GWP, kg CO2-eq\")","v":"Klimaaftryk, kg CO2-ækv"},{"$f":"IF('input-data'!$B$3=\"Dansk\", \"C i jord, kg CO2-ækv\", \"soil C change, kg CO2-eq\")","v":"C i jord, kg CO2-ækv"},{"$f":"IF('input-data'!$B$3=\"Dansk\", \"iLUC, kg CO2-ækv\", \"iLUC, kg CO2-eq\")","v":"iLUC, kg CO2-ækv"},{"$f":"IF('input-data'!$B$3=\"Dansk\", \"EP, kg NO3-ækv\", \"EP, kg NO3-eq\")","v":"EP, kg NO3-ækv"},{"$f":"IF('input-data'!$B$3=\"Dansk\", \"Energiforbrug, MJ\", \"NRE, MJ\")","v":"Energiforbrug, MJ"},{"$f":"IF('input-data'!$B$3=\"Dansk\", \"Forsuring potential, kg SO2-ækv\", \"AP, kg SO2-eq.\")","v":"Forsuring potential, kg SO2-ækv"},{"$f":"IF('input-data'!$B$3=\"Dansk\", \"Arealforbrug, m2\", \"LU, m2\")","v":"Arealforbrug, m2"}]
[null,{"$f":"'input-data'!E429","v":"Vælg……………………………………"},{"$f":"IF(B7<>\"\", 'Mark-Fields'!G6, \"\")","v":0},{"$f":"IF(B7<>\"\", 'Mark-Fields'!G31, \"\")","v":0},{"$f":"IFERROR(IF(B7<>\"\", C7*D7/(VLOOKUP(B7, Fodertabel, 9, FALSE)/100), \"\"), 0)","v":0},{"$f":"IF(B7<>\"\", 'input-data'!F503, \"\")","v":0},null,{"$f":"IF(C7<>\"\", (E7/1000-F7), \"\")","v":0},{"$f":"IF(B7<>\"\", 'Mark-Fields'!G140, \"\")","v":0},{"$f":"IF(B7<>\"\", 'Mark-Fields'!G143, \"\")","v":0},{"$f":"IF(B7<>\"\", 'Mark-Fields'!G146, \"\")","v":0},{"$f":"IF(B7<>\"\", 'Mark-Fields'!G166, \"\")","v":0},{"$f":"IF(B7<>\"\", 'Mark-Fields'!G184, \"\")","v":0},{"$f":"IF(B7<>\"\", 'Mark-Fields'!G200, \"\")","v":0},{"$f":"IF(B7<>\"\", 'Mark-Fields'!G208, \"\")","v":0}]
[null,{"$f":"'input-data'!E439","v":"Vælg……………………………………"},{"$f":"IF(B8<>\"\", 'Mark-Fields'!H6, \"\")","v":0},{"$f":"IF(B8<>\"\", 'Mark-Fields'!H31, \"\")","v":0},0,{"$f":"IF(B8<>\"\", 'input-data'!F504, \"\")","v":0},null,0,{"$f":"IF(B8<>\"\", 'Mark-Fields'!H140, \"\")","v":0},{"$f":"IF(B8<>\"\", 'Mark-Fields'!H152, \"\")","v":0},{"$f":"IF(B8<>\"\", 'Mark-Fields'!H146, \"\")","v":0},{"$f":"IF(B8<>\"\", 'Mark-Fields'!H166, \"\")","v":0},{"$f":"IF(B8<>\"\", 'Mark-Fields'!H184, \"\")","v":0},{"$f":"IF(B8<>\"\", 'Mark-Fields'!H200, \"\")","v":0},{"$f":"IF(B8<>\"\", 'Mark-Fields'!H208, \"\")","v":0}]
[null,{"$f":"'input-data'!E449","v":"Vælg……………………………………"},{"$f":"IF(B9<>\"\", 'Mark-Fields'!I6, \"\")","v":0},{"$f":"IF(B9<>\"\", 'Mark-Fields'!I31, \"\")","v":0},0,{"$f":"IF(B9<>\"\", 'input-data'!F505, \"\")","v":0},null,0,{"$f":"IF(B9<>\"\", 'Mark-Fields'!I140, \"\")","v":0},{"$f":"IF(B9<>\"\", 'Mark-Fields'!I143, \"\")","v":0},{"$f":"IF(B9<>\"\", 'Mark-Fields'!I146, \"\")","v":0},{"$f":"IF(B9<>\"\", 'Mark-Fields'!I166, \"\")","v":0},{"$f":"IF(B9<>\"\", 'Mark-Fields'!I184, \"\")","v":0},{"$f":"IF(B9<>\"\", 'Mark-Fields'!I200, \"\")","v":0},{"$f":"IF(B9<>\"\", 'Mark-Fields'!I208, \"\")","v":0}]
[null,{"$f":"'input-data'!E459","v":"Vælg……………………………………"},{"$f":"IF(B10<>\"\", 'Mark-Fields'!J6, \"\")","v":0},{"$f":"IF(B10<>\"\", 'Mark-Fields'!J31, \"\")","v":0},0,{"$f":"IF(B10<>\"\", 'input-data'!F506, \"\")","v":0},null,0,{"$f":"IF(B10<>\"\", 'Mark-Fields'!J140, \"\")","v":0},{"$f":"IF(B10<>\"\", 'Mark-Fields'!J143, \"\")","v":0},{"$f":"IF(B10<>\"\", 'Mark-Fields'!J146, \"\")","v":0},{"$f":"IF(B10<>\"\", 'Mark-Fields'!J166, \"\")","v":0},{"$f":"IF(B10<>\"\", 'Mark-Fields'!J184, \"\")","v":0},{"$f":"IF(B10<>\"\", 'Mark-Fields'!J200, \"\")","v":0},{"$f":"IF(B10<>\"\", 'Mark-Fields'!J208, \"\")","v":0}]
[null,{"$f":"'input-data'!E469","v":"Vælg……………………………………"},{"$f":"IF(B11<>\"\", 'Mark-Fields'!K6, \"\")","v":0},{"$f":"IF(B11<>\"\", 'Mark-Fields'!J32, \"\")","v":0},0,{"$f":"IF(B11<>\"\", 'input-data'!F507, \"\")","v":0},null,0,{"$f":"IF(B11<>\"\", 'Mark-Fields'!K140, \"\")","v":""},{"$f":"IF(B11<>\"\", 'Mark-Fields'!K143, \"\")","v":""},{"$f":"IF(B11<>\"\", 'Mark-Fields'!K146, \"\")","v":""},{"$f":"IF(B11<>\"\", 'Mark-Fields'!K166, \"\")","v":0},{"$f":"IF(B11<>\"\", 'Mark-Fields'!K184, \"\")","v":0},{"$f":"IF(B11<>\"\", 'Mark-Fields'!J200, \"\")","v":0},{"$f":"IF(B11<>\"\", 'Mark-Fields'!K208, \"\")","v":0}]
[null,{"$f":"'input-data'!E479","v":"Vælg……………………………………"},{"$f":"IF(B12<>\"\", 'Mark-Fields'!L6, \"\")","v":0},{"$f":"IF(B12<>\"\", 'Mark-Fields'!L31, \"\")","v":0},0,{"$f":"IF(B12<>\"\", 'input-data'!F508, \"\")","v":0},null,0,{"$f":"IF(B12<>\"\", 'Mark-Fields'!L140, \"\")","v":""},{"$f":"IF(B12<>\"\", 'Mark-Fields'!L143, \"\")","v":""},{"$f":"IF(B12<>\"\", 'Mark-Fields'!G151, \"\")","v":0},{"$f":"IF(B12<>\"\", 'Mark-Fields'!L166, \"\")","v":0},{"$f":"IF(B12<>\"\", 'Mark-Fields'!L184, \"\")","v":0},{"$f":"IF(B12<>\"\", 'Mark-Fields'!L200, \"\")","v":0},{"$f":"IF(B12<>\"\", 'Mark-Fields'!L208, \"\")","v":0}]
[]
[null,{"$f":"IF('input-data'!$B$3=\"Dansk\", \"FODERFORBRUG\", \"FEED USE\")","v":"FODERFORBRUG"}]
[]
[null,{"$f":"IF('input-data'!$B$3=\"Dansk\", \"Dyr\", \"Animal category\")","v":"Dyr"},{"$f":"IF('input-data'!$B$3=\"Dansk\", \"Foder type\", \"Feed type\")","v":"Foder type"},{"$f":"IF('input-data'!$B$3=\"Dansk\", \"Foder blanding\", \"Mixture\")","v":"Foder blanding"},{"$f":"IF('input-data'!$B$3=\"Dansk\", \"Foder\", \"Feedstuff type\")","v":"Foder"},{"$f":"IF('input-data'!$B$3=\"Dansk\", \"kg per dyr\", \"kg per animal\")","v":"kg per dyr"},{"$f":"IF('input-data'!$B$3=\"Dansk\", \"SFU per dyr\", \"FE per animal\")","v":"SFU per dyr"},{"$f":"IF('input-data'!$B$3=\"Dansk\", \"kg per gård\", \"kg per farm\")","v":"kg per gård"},{"$f":"IF('input-data'!$B$3=\"Dansk\", \"kg TS per dyr\", \"kg DM per animal\")","v":"kg TS per dyr"},{"$f":"IF('input-data'!$B$3=\"Dansk\", \"kg TS per gård\", \"kg DM per farm\")","v":"kg TS per gård"},{"$f":"IF('input-data'!$B$3=\"Dansk\", \"kg N per gård\", \"kg N per farm\")","v":"kg N per gård"},{"$f":"IF('input-data'!$B$3=\"Dansk\", \"kg P per gård\", \"kg P per farm\")","v":"kg P per gård"},{"$f":"IF('input-data'!$B$3=\"Dansk\", \"Dyrkning sted\", \"Cultivation place\")","v":"Dyrkning sted"},{"$f":"IF('input-data'!$B$3=\"Dansk\", \"kg TS hjemmeproduceret\", \"kg DM home-produced\")","v":"kg TS hjemmeproduceret"},{"$f":"IF('input-data'!$B$3=\"Dansk\", \"kg N hjemmeproduceret\", \"kg N home-produced\")","v":"kg N hjemmeproduceret"},{"$f":"IF('input-data'!$B$3=\"Dansk\", \"kg P hjemmeproduceret\", \"kg P home-produced\")","v":"kg P hjemmeproduceret"},{"$f":"IF('input-data'!$B$3=\"Dansk\", \"Klimaaftryk, kg CO2-ækv\", \"GWP, kg CO2-eq\")","v":"Klimaaftryk, kg CO2-ækv"},{"$f":"IF('input-data'!$B$3=\"Dansk\", \"C i jord, kg CO2-ækv\", \"soil C change, kg CO2-eq\")","v":"C i jord, kg CO2-ækv"},{"$f":"IF('input-data'!$B$3=\"Dansk\", \"iLUC, kg CO2-ækv\", \"iLUC, kg CO2-eq\")","v":"iLUC, kg CO2-ækv"},{"$f":"IF('input-data'!$B$3=\"Dansk\", \"EP, kg NO3-ækv\", \"EP, kg NO3-eq\")","v":"EP, kg NO3-ækv"},{"$f":"IF('input-data'!$B$3=\"Dansk\", \"Energiforbrug, MJ\", \"NRE, MJ\")","v":"Energiforbrug, MJ"},{"$f":"IF('input-data'!$B$3=\"Dansk\", \"Forsuring potential, kg SO2-ækv\", \"AP, kg SO2-eq.\")","v":"Forsuring potential, kg SO2-ækv"},{"$f":"IF('input-data'!$B$3=\"Dansk\", \"Arealforbrug, m2\", \"LU, m2\")","v":"Arealforbrug, m2"}]
[null,{"$f":"'input-data'!$B$43","v":" Diegivning søer"},{"$f":"'input-data'!$B$44","v":"  Kraftfoder:"},{"$f":"'input-data'!$B$45","v":"    blanding 1:"},{"$f":"'input-data'!E50","v":0},{"$f":"IFERROR('Flow sohold'!$D$31*100/'Flow sohold'!$D$55*'input-data'!I50/100,0)","v":0},{"$f":"IFERROR(F17*VLOOKUP(E17, Fodertabel, 4, FALSE), 0)","v":0},{"$f":"F17*'Flow sohold'!$D$5","v":0},{"$f":"IFERROR(F17*VLOOKUP(E17, Fodertabel, 9, FALSE)/100, 0)","v":0},{"$f":"I17*'Flow sohold'!$D$5","v":0},{"$f":"IFERROR(J17*VLOOKUP(E17, Fodertabel, 60, FALSE)/100/6.25, 0)","v":0},{"$f":"IFERROR(J17*VLOOKUP(E17, Fodertabel, 23, FALSE)/1000, 0)","v":0},{"$f":"IFERROR(VLOOKUP(E17, Fodertabel, 226, FALSE), 0)","v":0},{"$f":"IF(OR(M17=\"onfarm\", M17=\"folde\", M17=\"paddock\"), J17, 0)","v":0},{"$f":"IFERROR(J17/N17*K17, 0)","v":0},{"$f":"IFERROR(N17/J17*L17, 0)","v":0},{"$f":"IFERROR(VLOOKUP($E17, Fodertabel, 218, FALSE)*$J17, 0)","v":0},{"$f":"IFERROR(VLOOKUP($E17, Fodertabel, 219, FALSE)*$J17, 0)","v":0},{"$f":"IFERROR(VLOOKUP($E17, Fodertabel, 220, FALSE)*$J17, 0)","v":0},{"$f":"IFERROR(VLOOKUP($E17, Fodertabel, 221, FALSE)*$J17, 0)","v":0},{"$f":"IFERROR(VLOOKUP($E17, Fodertabel, 222, FALSE)*$J17, 0)","v":0},{"$f":"IFERROR(VLOOKUP($E17, Fodertabel, 223, FALSE)*$J17, 0)","v":0},{"$f":"IFERROR(VLOOKUP($E17, Fodertabel, 224, FALSE)*$J17, 0)","v":0},{"$f":"IFERROR(VLOOKUP(E17, Fodertabel, 227, FALSE), 0)","v":0}]
[null,{"$f":"'input-data'!$B$43","v":" Diegivning søer"},{"$f":"'input-data'!$B$44","v":"  Kraftfoder:"},{"$f":"'input-data'!$B$45","v":"    blanding 1:"},{"$f":"'input-data'!E51","v":0},{"$f":"IFERROR('Flow sohold'!$D$31*100/'Flow sohold'!$D$55*'input-data'!I51/100,0)","v":0},0,{"$f":"F18*'Flow sohold'!$D$5","v":0},0,{"$f":"I18*'Flow sohold'!$D$5","v":0},0,0,0,0,0,0,0,0,0,0,0,0,0,0]
[null,{"$f":"'input-data'!$B$43","v":" Diegivning søer"},{"$f":"'input-data'!$B$44","v":"  Kraftfoder:"},{"$f":"'input-data'!$B$45","v":"    blanding 1:"},{"$f":"'input-data'!E52","v":0},{"$f":"IFERROR('Flow sohold'!$D$31*100/'Flow sohold'!$D$55*'input-data'!I52/100,0)","v":0},0,{"$f":"F19*'Flow sohold'!$D$5","v":0},0,{"$f":"I19*'Flow sohold'!$D$5","v":0},0,0,0,0,0,0,0,0,0,0,0,0,0,0]
[null,{"$f":"'input-data'!$B$43","v":" Diegivning søer"},{"$f":"'input-data'!$B$44","v":"  Kraftfoder:"},{"$f":"'input-data'!$B$45","v":"    blanding 1:"},{"$f":"'input-data'!E53","v":0},{"$f":"IFERROR('Flow sohold'!$D$31*100/'Flow sohold'!$D$55*'input-data'!I53/100,0)","v":0},0,{"$f":"F20*'Flow sohold'!$D$5","v":0},0,{"$f":"I20*'Flow sohold'!$D$5","v":0},0,0,0,0,0,0,0,0,0,0,0,0,0,0]
[null,{"$f":"'input-data'!$B$43","v":" Diegivning søer"},{"$f":"'input-data'!$B$44","v":"  Kraftfoder:"},{"$f":"'input-data'!$B$45","v":"    blanding 1:"},{"$f":"'input-data'!E54","v":0},{"$f":"IFERROR('Flow sohold'!$D$31*100/'Flow sohold'!$D$55*'input-data'!I54/100,0)","v":0},0,{"$f":"F21*'Flow sohold'!$D$5","v":0},0,{"$f":"I21*'Flow sohold'!$D$5","v":0},0,0,0,0,0,0,0,0,0,0,0,0,0,0]
[null,{"$f":"'input-data'!$B$43","v":" Diegivning søer"},{"$f":"'input-data'!$B$44","v":"  Kraftfoder:"},{"$f":"'input-data'!$B$45","v":"    blanding 1:"},{"$f":"'input-data'!E55","v":0},{"$f":"IFERROR('Flow sohold'!$D$31*100/'Flow sohold'!$D$55*'input-data'!I55/100,0)","v":0},0,{"$f":"F22*'Flow sohold'!$D$5","v":0},0,{"$f":"I22*'Flow sohold'!$D$5","v":0},0,0,0,0,0,0,0,0,0,0,0,0,0,0]
[null,{"$f":"'input-data'!$B$43","v":" Diegivning søer"},{"$f":"'input-data'!$B$44","v":"  Kraftfoder:"},{"$f":"'input-data'!$B$45","v":"    blanding 1:"},{"$f":"'input-data'!E56","v":0},{"$f":"IFERROR('Flow sohold'!$D$31*100/'Flow sohold'!$D$55*'input-data'!I56/100,0)","v":0},0,{"$f":"F23*'Flow sohold'!$D$5","v":0},0,{"$f":"I23*'Flow sohold'!$D$5","v":0},0,0,0,0,0,0,0,0,0,0,0,0,0,0]
[null,{"$f":"'input-data'!$B$43","v":" Diegivning søer"},{"$f":"'input-data'!$B$44","v":"  Kraftfoder:"},{"$f":"'input-data'!$B$45","v":"    blanding 1:"},{"$f":"'input-data'!E57","v":0},{"$f":"IFERROR('Flow sohold'!$D$31*100/'Flow sohold'!$D$55*'input-data'!I57/100,0)","v":0},0,{"$f":"F24*'Flow sohold'!$D$5","v":0},0,{"$f":"I24*'Flow sohold'!$D$5","v":0},0,0,0,0,0,0,0,0,0,0,0,0,0,0]
[null,{"$f":"'input-data'!$B$43","v":" Diegivning søer"},{"$f":"'input-data'!$B$44","v":"  Kraftfoder:"},{"$f":"'input-data'!$B$45","v":"    blanding 1:"},{"$f":"'input-data'!E58","v":0},{"$f":"IFERROR('Flow sohold'!$D$31*100/'Flow sohold'!$D$55*'input-data'!I58/100,0)","v":0},0,{"$f":"F25*'Flow sohold'!$D$5","v":0},0,{"$f":"I25*'Flow sohold'!$D$5","v":0},0,0,0,0,0,0,0,0,0,0,0,0,0,0]
[null,{"$f":"'input-data'!$B$43","v":" Diegivning søer"},{"$f":"'input-data'!$B$44","v":"  Kraftfoder:"},{"$f":"'input-data'!$B$45","v":"    blanding 1:"},{"$f":"'input-data'!E59","v":0},{"$f":"IFERROR('Flow sohold'!$D$31*100/'Flow sohold'!$D$55*'input-data'!I59/100,0)","v":0},0,{"$f":"F26*'Flow sohold'!$D$5","v":0},0,{"$f":"I26*'Flow sohold'!$D$5","v":0},0,0,0,0,0,0,0,0,0,0,0,0,0,0]
[null,{"$f":"'input-data'!$B$43","v":" Diegivning søer"},{"$f":"'input-data'!$B$44","v":"  Kraftfoder:"},{"$f":"'input-data'!$B$45","v":"    blanding 1:"},{"$f":"'input-data'!E60","v":0},{"$f":"IFERROR('Flow sohold'!$D$31*100/'Flow sohold'!$D$55*'input-data'!I60/100,0)","v":0},0,{"$f":"F27*'Flow sohold'!$D$5","v":0},0,{"$f":"I27*'Flow sohold'!$D$5","v":0},0,0,0,0,0,0,0,0,0,0,0,0,0,0]
[null,{"$f":"'input-data'!$B$43","v":" Diegivning søer"},{"$f":"'input-data'!$B$44","v":"  Kraftfoder:"},{"$f":"'input-data'!$B$45","v":"    blanding 1:"},{"$f":"'input-data'!E61","v":0},{"$f":"IFERROR('Flow sohold'!$D$31*100/'Flow sohold'!$D$55*'input-data'!I61/100,0)","v":0},0,{"$f":"F28*'Flow sohold'!$D$5","v":0},0,{"$f":"I28*'Flow sohold'!$D$5","v":0},0,0,0,0,0,0,0,0,0,0,0,0,0,0]
[null,{"$f":"'input-data'!$B$43","v":" Diegivning søer"},{"$f":"'input-data'!$B$44","v":"  Kraftfoder:"},{"$f":"'input-data'!$B$45","v":"    blanding 1:"},{"$f":"'input-data'!E62","v":0},{"$f":"IFERROR('Flow sohold'!$D$31*100/'Flow sohold'!$D$55*'input-data'!I62/100,0)","v":0},0,{"$f":"F29*'Flow sohold'!$D$5","v":0},0,{"$f":"I29*'Flow sohold'!$D$5","v":0},0,0,0,0,0,0,0,0,0,0,0,0,0,0]
[null,{"$f":"'input-data'!$B$43","v":" Diegivning søer"},{"$f":"'input-data'!$B$44","v":"  Kraftfoder:"},{"$f":"'input-data'!$B$45","v":"    blanding 1:"},{"$f":"'input-data'!E63","v":0},{"$f":"IFERROR('Flow sohold'!$D$31*100/'Flow sohold'!$D$55*'input-data'!I63/100,0)","v":0},0,{"$f":"F30*'Flow sohold'!$D$5","v":0},0,{"$f":"I30*'Flow sohold'!$D$5","v":0},0,0,0,0,0,0,0,0,0,0,0,0,0,0]
[null,{"$f":"'input-data'!$B$43","v":" Diegivning søer"},{"$f":"'input-data'!$B$44","v":"  Kraftfoder:"},{"$f":"'input-data'!$B$45","v":"    blanding 1:"},{"$f":"'input-data'!E64","v":0},{"$f":"IFERROR('Flow sohold'!$D$31*100/'Flow sohold'!$D$55*'input-data'!I64/100,0)","v":0},0,{"$f":"F31*'Flow sohold'!$D$5","v":0},0,{"$f":"I31*'Flow sohold'!$D$5","v":0},0,0,0,0,0,0,0,0,0,0,0,0,0,0]
[null,{"$f":"'input-data'!$B$43","v":" Diegivning søer"},{"$f":"'input-data'!$B$66","v":"  Grovfoder:"},{"$f":"'Flow sohold'!$C$41","v":"Tildelt grovfoder"},{"$f":"'input-data'!E70","v":0},{"$f":"IFERROR('Flow sohold'!$D$41*'input-data'!I70/100, 0)","v":0},0,{"$f":"F32*'Flow sohold'!$D$5","v":0},0,{"$f":"I32*'Flow sohold'!$D$5","v":0},0,0,0,0,0,0,0,0,0,0,0,0,0,0]
[null,{"$f":"'input-data'!$B$43","v":" Diegivning søer"},{"$f":"'input-data'!$B$66","v":"  Grovfoder:"},{"$f":"'Flow sohold'!$C$41","v":"Tildelt grovfoder"},{"$f":"'input-data'!E71","v":0},{"$f":"IFERROR('Flow sohold'!$D$41*'input-data'!I71/100, 0)","v":0},0,{"$f":"F33*'Flow sohold'!$D$5","v":0},0,{"$f":"I33*'Flow sohold'!$D$5","v":0},0,0,0,0,0,0,0,0,0,0,0,0,0,0]
[null,{"$f":"'input-data'!$B$43","v":" Diegivning søer"},{"$f":"'input-data'!$B$66","v":"  Grovfoder:"},{"$f":"'Flow sohold'!$C$41","v":"Tildelt grovfoder"},{"$f":"'input-data'!E72","v":0},{"$f":"IFERROR('Flow sohold'!$D$41*'input-data'!I72/100, 0)","v":0},0,{"$f":"F34*'Flow sohold'!$D$5","v":0},0,{"$f":"I34*'Flow sohold'!$D$5","v":0},0,0,0,0,0,0,0,0,0,0,0,0,0,0]
[null,{"$f":"'input-data'!$B$43","v":" Diegivning søer"},{"$f":"'input-data'!$B$66","v":"  Grovfoder:"},{"$f":"'Flow sohold'!$C$41","v":"Tildelt grovfoder"},{"$f":"'input-data'!E73","v":0},{"$f":"IFERROR('Flow sohold'!$D$41*'input-data'!I73/100, 0)","v":0},0,{"$f":"F35*'Flow sohold'!$D$5","v":0},0,{"$f":"I35*'Flow sohold'!$D$5","v":0},0,0,0,0,0,0,0,0,0,0,0,0,0,0]
[null,{"$f":"'input-data'!$B$43","v":" Diegivning søer"},{"$f":"'input-data'!$B$66","v":"  Grovfoder:"},{"$f":"'Flow sohold'!$C$41","v":"Tildelt grovfoder"},{"$f":"'input-data'!E74","v":0},{"$f":"IFERROR('Flow sohold'!$D$41*'input-data'!I74/100, 0)","v":0},0,{"$f":"F36*'Flow sohold'!$D$5","v":0},0,{"$f":"I36*'Flow sohold'!$D$5","v":0},0,0,0,0,0,0,0,0,0,0,0,0,0,0]
[null,{"$f":"'input-data'!$B$43","v":" Diegivning søer"},{"$f":"'input-data'!$B$66","v":"  Grovfoder:"},{"$f":"'Flow sohold'!$C$40","v":"Afgræsning (april-september)"},{"$f":"Fodertabel!D319","v":"kløvergræs "},{"$f":"'Flow sohold'!D40","v":0},0,{"$f":"F37*'Flow sohold'!$D$5","v":0},0,{"$f":"I37*'Flow sohold'!$D$5","v":0},0,0,"folde",0,0,0,{"$f":"$J37*'Mark-Fields'!$C$140","v":0},{"$f":"$J37*'Mark-Fields'!$C$143","v":0},{"$f":"$J37*'Mark-Fields'!$C$146","v":0},{"$f":"$J37*'Mark-Fields'!$C$166","v":0},{"$f":"$J37*'Mark-Fields'!$C$200","v":0},{"$f":"$J37*'Mark-Fields'!$C$184","v":0},{"$f":"$J37*'Mark-Fields'!$C$208","v":0},"kløvergræs"]
[null,{"$f":"'input-data'!$B$77","v":" Pattegrisene ved soen"},{"$f":"'input-data'!$B$78","v":"  Kraftfoder:"},null,{"$f":"'input-data'!E81","v":0},{"$f":"IFERROR('Flow sohold'!$D$34*100/'Flow sohold'!$D$66*'Flow sohold'!$D$5/'Flow sohold'!$D$18*'input-data'!I81/100,0)","v":0},0,{"$f":"F38*'Flow sohold'!$D$18","v":0},0,{"$f":"I38*'Flow sohold'!$D$18","v":0},0,0,0,0,0,0,{"$f":"IFERROR(VLOOKUP($E38, Fodertabel, 218, FALSE)*$J38, 0)","v":0},{"$f":"IFERROR(VLOOKUP($E38, Fodertabel, 219, FALSE)*$J38, 0)","v":0},{"$f":"IFERROR(VLOOKUP($E38, Fodertabel, 220, FALSE)*$J38, 0)","v":0},{"$f":"IFERROR(VLOOKUP($E38, Fodertabel, 221, FALSE)*$J38, 0)","v":0},{"$f":"IFERROR(VLOOKUP($E38, Fodertabel, 222, FALSE)*$J38, 0)","v":0},{"$f":"IFERROR(VLOOKUP($E38, Fodertabel, 223, FALSE)*$J38, 0)","v":0},{"$f":"IFERROR(VLOOKUP($E38, Fodertabel, 224, FALSE)*$J38, 0)","v":0},0]
[null,{"$f":"'input-data'!$B$77","v":" Pattegrisene ved soen"},{"$f":"'input-data'!$B$78","v":"  Kraftfoder:"},null,{"$f":"'input-data'!E82","v":0},{"$f":"IFERROR('Flow sohold'!$D$34*100/'Flow sohold'!$D$66*'Flow sohold'!$D$5/'Flow sohold'!$D$18*'input-data'!I82/100,0)","v":0},0,{"$f":"F39*'Flow sohold'!$D$18","v":0},0,{"$f":"I39*'Flow sohold'!$D$18","v":0},0,0,0,0,0,0,0,0,0,0,0,0,0,0]
[null,{"$f":"'input-data'!$B$77","v":" Pattegrisene ved soen"},{"$f":"'input-data'!$B$78","v":"  Kraftfoder:"},null,{"$f":"'input-data'!E83","v":0},{"$f":"IFERROR('Flow sohold'!$D$34*100/'Flow sohold'!$D$66*'Flow sohold'!$D$5/'Flow sohold'!$D$18*'input-data'!I83/100,0)","v":0},0,{"$f":"F40*'Flow sohold'!$D$18","v":0},0,{"$f":"I40*'Flow sohold'!$D$18","v":0},0,0,0,0,0,0,0,0,0,0,0,0,0,0]
[null,{"$f":"'input-data'!$B$77","v":" Pattegrisene ved soen"},{"$f":"'input-data'!$B$78","v":"  Kraftfoder:"},null,{"$f":"'input-data'!E84","v":0},{"$f":"IFERROR('Flow sohold'!$D$34*100/'Flow sohold'!$D$66*'Flow sohold'!$D$5/'Flow sohold'!$D$18*'input-data'!I84/100,0)","v":0},0,{"$f":"F41*'Flow sohold'!$D$18","v":0},0,{"$f":"I41*'Flow sohold'!$D$18","v":0},0,0,0,0,0,0,0,0,0,0,0,0,0,0]
[null,{"$f":"'input-data'!$B$77","v":" Pattegrisene ved soen"},{"$f":"'input-data'!$B$78","v":"  Kraftfoder:"},null,{"$f":"'input-data'!E85","v":0},{"$f":"IFERROR('Flow sohold'!$D$34*100/'Flow sohold'!$D$66*'Flow sohold'!$D$5/'Flow sohold'!$D$18*'input-data'!I85/100,0)","v":0},0,{"$f":"F42*'Flow sohold'!$D$18","v":0},0,{"$f":"I42*'Flow sohold'!$D$18","v":0},0,0,0,0,0,0,0,0,0,0,0,0,0,0]
[null,{"$f":"'input-data'!$B$77","v":" Pattegrisene ved soen"},{"$f":"'input-data'!$B$78","v":"  Kraftfoder:"},null,{"$f":"'input-data'!E86","v":0},{"$f":"IFERROR('Flow sohold'!$D$34*100/'Flow sohold'!$D$66*'Flow sohold'!$D$5/'Flow sohold'!$D$18*'input-data'!I86/100,0)","v":0},0,{"$f":"F43*'Flow sohold'!$D$18","v":0},0,{"$f":"I43*'Flow sohold'!$D$18","v":0},0,0,0,0,0,0,0,0,0,0,0,0,0,0]
[null,{"$f":"'input-data'!$B$77","v":" Pattegrisene ved soen"},{"$f":"'input-data'!$B$78","v":"  Kraftfoder:"},null,{"$f":"'input-data'!E87","v":0},{"$f":"IFERROR('Flow sohold'!$D$34*100/'Flow sohold'!$D$66*'Flow sohold'!$D$5/'Flow sohold'!$D$18*'input-data'!I87/100,0)","v":0},0,{"$f":"F44*'Flow sohold'!$D$18","v":0},0,{"$f":"I44*'Flow sohold'!$D$18","v":0},0,0,0,0,0,0,0,0,0,0,0,0,0,0]
[null,{"$f":"'input-data'!$B$77","v":" Pattegrisene ved soen"},{"$f":"'input-data'!$B$78","v":"  Kraftfoder:"},null,{"$f":"'input-data'!E88","v":0},{"$f":"IFERROR('Flow sohold'!$D$34*100/'Flow sohold'!$D$66*'Flow sohold'!$D$5/'Flow sohold'!$D$18*'input-data'!I88/100,0)","v":0},0,{"$f":"F45*'Flow sohold'!$D$18","v":0},0,{"$f":"I45*'Flow sohold'!$D$18","v":0},0,0,0,0,0,0,0,0,0,0,0,0,0,0]
[null,{"$f":"'input-data'!$B$77","v":" Pattegrisene ved soen"},{"$f":"'input-data'!$B$78","v":"  Kraftfoder:"},null,{"$f":"'input-data'!E89","v":0},{"$f":"IFERROR('Flow sohold'!$D$34*100/'Flow sohold'!$D$66*'Flow sohold'!$D$5/'Flow sohold'!$D$18*'input-data'!I89/100,0)","v":0},0,{"$f":"F46*'Flow sohold'!$D$18","v":0},0,{"$f":"I46*'Flow sohold'!$D$18","v":0},0,0,0,0,0,0,0,0,0,0,0,0,0,0]
[null,{"$f":"'input-data'!$B$77","v":" Pattegrisene ved soen"},{"$f":"'input-data'!$B$78","v":"  Kraftfoder:"},null,{"$f":"'input-data'!E90","v":0},{"$f":"IFERROR('Flow sohold'!$D$34*100/'Flow sohold'!$D$66*'Flow sohold'!$D$5/'Flow sohold'!$D$18*'input-data'!I90/100,0)","v":0},0,{"$f":"F47*'Flow sohold'!$D$18","v":0},0,{"$f":"I47*'Flow sohold'!$D$18","v":0},0,0,0,0,0,0,0,0,0,0,0,0,0,0]
[null,{"$f":"'input-data'!$B$77","v":" Pattegrisene ved soen"},{"$f":"'input-data'!$B$78","v":"  Kraftfoder:"},null,{"$f":"'input-data'!E91","v":0},{"$f":"IFERROR('Flow sohold'!$D$34*100/'Flow sohold'!$D$66*'Flow sohold'!$D$5/'Flow sohold'!$D$18*'input-data'!I91/100,0)","v":0},0,{"$f":"F48*'Flow sohold'!$D$18","v":0},0,{"$f":"I48*'Flow sohold'!$D$18","v":0},0,0,0,0,0,0,0,0,0,0,0,0,0,0]
[null,{"$f":"'input-data'!$B$77","v":" Pattegrisene ved soen"},{"$f":"'input-data'!$B$78","v":"  Kraftfoder:"},null,{"$f":"'input-data'!E92","v":0},{"$f":"IFERROR('Flow sohold'!$D$34*100/'Flow sohold'!$D$66*'Flow sohold'!$D$5/'Flow sohold'!$D$18*'input-data'!I92/100,0)","v":0},{"$f":"IFERROR(F49*VLOOKUP(E49, Fodertabel, 4, FALSE), 0)","v":0},{"$f":"F49*'Flow sohold'!$D$18","v":0},{"$f":"IFERROR(F49*VLOOKUP(E49, Fodertabel, 9, FALSE)/100, 0)","v":0},{"$f":"I49*'Flow sohold'!$D$18","v":0},{"$f":"IFERROR(J49*VLOOKUP(E49, Fodertabel, 60, FALSE)/100/6.25, 0)","v":0},{"$f":"IFERROR(J49*VLOOKUP(E49, Fodertabel, 23, FALSE)/1000, 0)","v":0},{"$f":"IFERROR(VLOOKUP(E49, Fodertabel, 226, FALSE), 0)","v":0},{"$f":"IF(OR(M49=\"onfarm\", M49=\"folde\", M49=\"paddock\"), J49, 0)","v":0},{"$f":"IFERROR(J49/N49*K49, 0)","v":0},{"$f":"IFERROR(N49/J49*L49, 0)","v":0},0,0,0,0,0,0,0,{"$f":"IFERROR(VLOOKUP(E49, Fodertabel, 227, FALSE), 0)","v":0}]
[null,{"$f":"'input-data'!$B$77","v":" Pattegrisene ved soen"},{"$f":"'input-data'!$B$78","v":"  Kraftfoder:"},null,{"$f":"'input-data'!E93","v":0},{"$f":"IFERROR('Flow sohold'!$D$34*100/'Flow sohold'!$D$66*'Flow sohold'!$D$5/'Flow sohold'!$D$18*'input-data'!I93/100,0)","v":0},0,{"$f":"F50*'Flow sohold'!$D$18","v":0},0,{"$f":"I50*'Flow sohold'!$D$18","v":0},0,0,0,0,0,0,0,0,0,0,0,0,0,0]
[null,{"$f":"'input-data'!$B$77","v":" Pattegrisene ved soen"},{"$f":"'input-data'!$B$78","v":"  Kraftfoder:"},null,{"$f":"'input-data'!E94","v":0},{"$f":"IFERROR('Flow sohold'!$D$34*100/'Flow sohold'!$D$66*'Flow sohold'!$D$5/'Flow sohold'!$D$18*'input-data'!I94/100,0)","v":0},0,{"$f":"F51*'Flow sohold'!$D$18","v":0},0,{"$f":"I51*'Flow sohold'!$D$18","v":0},0,0,0,0,0,0,0,0,0,0,0,0,0,0]
[null,{"$f":"'input-data'!$B$77","v":" Pattegrisene ved soen"},{"$f":"'input-data'!$B$78","v":"  Kraftfoder:"},null,{"$f":"'input-data'!E95","v":0},{"$f":"IFERROR('Flow sohold'!$D$34*100/'Flow sohold'!$D$66*'Flow sohold'!$D$5/'Flow sohold'!$D$18*'input-data'!I95/100,0)","v":0},0,{"$f":"F52*'Flow sohold'!$D$18","v":0},0,{"$f":"I52*'Flow sohold'!$D$18","v":0},0,0,0,0,0,0,0,0,0,0,0,0,0,0]
[null,{"$f":"'input-data'!$B$98","v":" Drægtige søer"},{"$f":"'input-data'!$B$99","v":"  Kraftfoder:"},{"$f":"'input-data'!$B$100","v":"    blanding 1:"},{"$f":"'input-data'!E104","v":0},{"$f":"IFERROR('input-data'!$E$101*'Flow sohold'!$D$82*100/'Flow sohold'!$D$78*'input-data'!I104/100,0)","v":0},0,{"$f":"F53*'Flow sohold'!$D$5","v":0},0,{"$f":"I53*'Flow sohold'!$D$5","v":0},0,0,0,0,0,0,0,0,0,0,0,0,0,0]
[null,{"$f":"'input-data'!$B$98","v":" Drægtige søer"},{"$f":"'input-data'!$B$99","v":"  Kraftfoder:"},{"$f":"'input-data'!$B$100","v":"    blanding 1:"},{"$f":"'input-data'!E105","v":0},{"$f":"IFERROR('input-data'!$E$101*'Flow sohold'!$D$82*100/'Flow sohold'!$D$78*'input-data'!I105/100,0)","v":0},0,{"$f":"F54*'Flow sohold'!$D$5","v":0},0,{"$f":"I54*'Flow sohold'!$D$5","v":0},0,0,0,0,0,0,0,0,0,0,0,0,0,0]
[null,{"$f":"'input-data'!$B$98","v":" Drægtige søer"},{"$f":"'input-data'!$B$99","v":"  Kraftfoder:"},{"$f":"'input-data'!$B$100","v":"    blanding 1:"},{"$f":"'input-data'!E106","v":0},{"$f":"IFERROR('input-data'!$E$101*'Flow sohold'!$D$82*100/'Flow sohold'!$D$78*'input-data'!I106/100,0)","v":0},0,{"$f":"F55*'Flow sohold'!$D$5","v":0},0,{"$f":"I55*'Flow sohold'!$D$5","v":0},0,0,0,0,0,0,0,0,0,0,0,0,0,0]
[null,{"$f":"'input-data'!$B$98","v":" Drægtige søer"},{"$f":"'input-data'!$B$99","v":"  Kraftfoder:"},{"$f":"'input-data'!$B$100","v":"    blanding 1:"},{"$f":"'input-data'!E107","v":0},{"$f":"IFERROR('input-data'!$E$101*'Flow sohold'!$D$82*100/'Flow sohold'!$D$78*'input-data'!I107/100,0)","v":0},0,{"$f":"F56*'Flow sohold'!$D$5","v":0},0,{"$f":"I56*'Flow sohold'!$D$5","v":0},0,0,0,0,0,0,0,0,0,0,0,0,0,0]
[null,{"$f":"'input-data'!$B$98","v":" Drægtige søer"},{"$f":"'input-data'!$B$99","v":"  Kraftfoder:"},{"$f":"'input-data'!$B$100","v":"    blanding 1:"},{"$f":"'input-data'!E108","v":0},{"$f":"IFERROR('input-data'!$E$101*'Flow sohold'!$D$82*100/'Flow sohold'!$D$78*'input-data'!I108/100,0)","v":0},0,{"$f":"F57*'Flow sohold'!$D$5","v":0},0,{"$f":"I57*'Flow sohold'!$D$5","v":0},0,0,0,0,0,0,0,0,0,0,0,0,0,0]
[null,{"$f":"'input-data'!$B$98","v":" Drægtige søer"},{"$f":"'input-data'!$B$99","v":"  Kraftfoder:"},{"$f":"'input-data'!$B$100","v":"    blanding 1:"},{"$f":"'input-data'!E109","v":0},{"$f":"IFERROR('input-data'!$E$101*'Flow sohold'!$D$82*100/'Flow sohold'!$D$78*'input-data'!I109/100,0)","v":0},0,{"$f":"F58*'Flow sohold'!$D$5","v":0},0,{"$f":"I58*'Flow sohold'!$D$5","v":0},0,0,0,0,0,0,0,0,0,0,0,0,0,0]
[null,{"$f":"'input-data'!$B$98","v":" Drægtige søer"},{"$f":"'input-data'!$B$99","v":"  Kraftfoder:"},{"$f":"'input-data'!$B$100","v":"    blanding 1:"},{"$f":"'input-data'!E110","v":0},{"$f":"IFERROR('input-data'!$E$101*'Flow sohold'!$D$82*100/'Flow sohold'!$D$78*'input-data'!I110/100,0)","v":0},0,{"$f":"F59*'Flow sohold'!$D$5","v":0},0,{"$f":"I59*'Flow sohold'!$D$5","v":0},0,0,0,0,0,0,0,0,0,0,0,0,0,0]
[null,{"$f":"'input-data'!$B$98","v":" Drægtige søer"},{"$f":"'input-data'!$B$99","v":"  Kraftfoder:"},{"$f":"'input-data'!$B$100","v":"    blanding 1:"},{"$f":"'input-data'!E111","v":0},{"$f":"IFERROR('input-data'!$E$101*'Flow sohold'!$D$82*100/'Flow sohold'!$D$78*'input-data'!I111/100,0)","v":0},0,{"$f":"F60*'Flow sohold'!$D$5","v":0},0,{"$f":"I60*'Flow sohold'!$D$5","v":0},0,0,0,0,0,0,0,0,0,0,0,0,0,0]
[null,{"$f":"'input-data'!$B$98","v":" Drægtige søer"},{"$f":"'input-data'!$B$99","v":"  Kraftfoder:"},{"$f":"'input-data'!$B$100","v":"    blanding 1:"},{"$f":"'input-data'!E112","v":0},{"$f":"IFERROR('input-data'!$E$101*'Flow sohold'!$D$82*100/'Flow sohold'!$D$78*'input-data'!I112/100,0)","v":0},0,{"$f":"F61*'Flow sohold'!$D$5","v":0},0,{"$f":"I61*'Flow sohold'!$D$5","v":0},0,0,0,0,0,0,0,0,0,0,0,0,0,0]
[null,{"$f":"'input-data'!$B$98","v":" Drægtige søer"},{"$f":"'input-data'!$B$99","v":"  Kraftfoder:"},{"$f":"'input-data'!$B$100","v":"    blanding 1:"},{"$f":"'input-data'!E113","v":0},{"$f":"IFERROR('input-data'!$E$101*'Flow sohold'!$D$82*100/'Flow sohold'!$D$78*'input-data'!I113/100,0)","v":0},0,{"$f":"F62*'Flow sohold'!$D$5","v":0},0,{"$f":"I62*'Flow sohold'!$D$5","v":0},0,0,0,0,0,0,0,0,0,0,0,0,0,0]
[null,{"$f":"'input-data'!$B$98","v":" Drægtige søer"},{"$f":"'input-data'!$B$99","v":"  Kraftfoder:"},{"$f":"'input-data'!$B$100","v":"    blanding 1:"},{"$f":"'input-data'!E114","v":0},{"$f":"IFERROR('input-data'!$E$101*'Flow sohold'!$D$82*100/'Flow sohold'!$D$78*'input-data'!I114/100,0)","v":0},0,{"$f":"F63*'Flow sohold'!$D$5","v":0},0,{"$f":"I63*'Flow sohold'!$D$5","v":0},0,0,0,0,0,0,0,0,0,0,0,0,0,0]
[null,{"$f":"'input-data'!$B$98","v":" Drægtige søer"},{"$f":"'input-data'!$B$99","v":"  Kraftfoder:"},{"$f":"'input-data'!$B$100","v":"    blanding 1:"},{"$f":"'input-data'!E115","v":0},{"$f":"IFERROR('input-data'!$E$101*'Flow sohold'!$D$82*100/'Flow sohold'!$D$78*'input-data'!I115/100,0)","v":0},0,{"$f":"F64*'Flow sohold'!$D$5","v":0},0,{"$f":"I64*'Flow sohold'!$D$5","v":0},0,0,0,0,0,0,0,0,0,0,0,0,0,0]
[null,{"$f":"'input-data'!$B$98","v":" Drægtige søer"},{"$f":"'input-data'!$B$99","v":"  Kraftfoder:"},{"$f":"'input-data'!$B$100","v":"    blanding 1:"},{"$f":"'input-data'!E116","v":0},{"$f":"IFERROR('input-data'!$E$101*'Flow sohold'!$D$82*100/'Flow sohold'!$D$78*'input-data'!I116/100,0)","v":0},0,{"$f":"F65*'Flow sohold'!$D$5","v":0},0,{"$f":"I65*'Flow sohold'!$D$5","v":0},0,0,0,0,0,0,0,0,0,0,0,0,0,0]
[null,{"$f":"'input-data'!$B$98","v":" Drægtige søer"},{"$f":"'input-data'!$B$99","v":"  Kraftfoder:"},{"$f":"'input-data'!$B$100","v":"    blanding 1:"},{"$f":"'input-data'!E117","v":0},{"$f":"IFERROR('input-data'!$E$101*'Flow sohold'!$D$82*100/'Flow sohold'!$D$78*'input-data'!I117/100,0)","v":0},0,{"$f":"F66*'Flow sohold'!$D$5","v":0},0,{"$f":"I66*'Flow sohold'!$D$5","v":0},0,0,0,0,0,0,0,0,0,0,0,0,0,0]
[null,{"$f":"'input-data'!$B$98","v":" Drægtige søer"},{"$f":"'input-data'!$B$99","v":"  Kraftfoder:"},{"$f":"'input-data'!$B$100","v":"    blanding 1:"},{"$f":"'input-data'!E118","v":0},{"$f":"IFERROR('input-data'!$E$101*'Flow sohold'!$D$82*100/'Flow sohold'!$D$78*'input-data'!I118/100,0)","v":0},0,{"$f":"F67*'Flow sohold'!$D$5","v":0},0,{"$f":"I67*'Flow sohold'!$D$5","v":0},0,0,0,0,0,0,0,0,0,0,0,0,0,0]
[null,{"$f":"'input-data'!$B$98","v":" Drægtige søer"},{"$f":"'input-data'!$B$99","v":"  Kraftfoder:"},{"$f":"'input-data'!$B$121","v":"    blanding 2:"},{"$f":"'input-data'!E125","v":0},{"$f":"IFERROR('input-data'!$E$122*'Flow sohold'!$D$89*100/'Flow sohold'!$D$85*'input-data'!I125/100, 0)","v":0},0,{"$f":"F68*'Flow sohold'!$D$5","v":0},0,{"$f":"I68*'Flow sohold'!$D$5","v":0},0,0,0,0,0,0,0,0,0,0,0,0,0,0]
[null,{"$f":"'input-data'!$B$98","v":" Drægtige søer"},{"$f":"'input-data'!$B$99","v":"  Kraftfoder:"},{"$f":"'input-data'!$B$121","v":"    blanding 2:"},{"$f":"'input-data'!E126","v":0},{"$f":"IFERROR('input-data'!$E$122*'Flow sohold'!$D$89*100/'Flow sohold'!$D$85*'input-data'!I126/100, 0)","v":0},0,{"$f":"F69*'Flow sohold'!$D$5","v":0},0,{"$f":"I69*'Flow sohold'!$D$5","v":0},0,0,0,0,0,0,0,0,0,0,0,0,0,0]
[null,{"$f":"'input-data'!$B$98","v":" Drægtige søer"},{"$f":"'input-data'!$B$99","v":"  Kraftfoder:"},{"$f":"'input-data'!$B$121","v":"    blanding 2:"},{"$f":"'input-data'!E127","v":0},{"$f":"IFERROR('input-data'!$E$122*'Flow sohold'!$D$89*100/'Flow sohold'!$D$85*'input-data'!I127/100, 0)","v":0},0,{"$f":"F70*'Flow sohold'!$D$5","v":0},0,{"$f":"I70*'Flow sohold'!$D$5","v":0},0,0,0,0,0,0,{"$f":"IFERROR(VLOOKUP($E70, Fodertabel, 218, FALSE)*$J70, 0)","v":0},{"$f":"IFERROR(VLOOKUP($E70, Fodertabel, 219, FALSE)*$J70, 0)","v":0},{"$f":"IFERROR(VLOOKUP($E70, Fodertabel, 220, FALSE)*$J70, 0)","v":0},{"$f":"IFERROR(VLOOKUP($E70, Fodertabel, 221, FALSE)*$J70, 0)","v":0},{"$f":"IFERROR(VLOOKUP($E70, Fodertabel, 222, FALSE)*$J70, 0)","v":0},{"$f":"IFERROR(VLOOKUP($E70, Fodertabel, 223, FALSE)*$J70, 0)","v":0},{"$f":"IFERROR(VLOOKUP($E70, Fodertabel, 224, FALSE)*$J70, 0)","v":0},0]
[null,{"$f":"'input-data'!$B$98","v":" Drægtige søer"},{"$f":"'input-data'!$B$99","v":"  Kraftfoder:"},{"$f":"'input-data'!$B$121","v":"    blanding 2:"},{"$f":"'input-data'!E128","v":0},{"$f":"IFERROR('input-data'!$E$122*'Flow sohold'!$D$89*100/'Flow sohold'!$D$85*'input-data'!I128/100, 0)","v":0},0,{"$f":"F71*'Flow sohold'!$D$5","v":0},0,{"$f":"I71*'Flow sohold'!$D$5","v":0},0,0,0,0,0,0,0,0,0,0,0,0,0,0]
[null,{"$f":"'input-data'!$B$98","v":" Drægtige søer"},{"$f":"'input-data'!$B$99","v":"  Kraftfoder:"},{"$f":"'input-data'!$B$121","v":"    blanding 2:"},{"$f":"'input-data'!E129","v":0},{"$f":"IFERROR('input-data'!$E$122*'Flow sohold'!$D$89*100/'Flow sohold'!$D$85*'input-data'!I129/100, 0)","v":0},0,{"$f":"F72*'Flow sohold'!$D$5","v":0},0,{"$f":"I72*'Flow sohold'!$D$5","v":0},0,0,0,0,0,0,0,0,0,0,0,0,0,0]
[null,{"$f":"'input-data'!$B$98","v":" Drægtige søer"},{"$f":"'input-data'!$B$99","v":"  Kraftfoder:"},{"$f":"'input-data'!$B$121","v":"    blanding 2:"},{"$f":"'input-data'!E130","v":0},{"$f":"IFERROR('input-data'!$E$122*'Flow sohold'!$D$89*100/'Flow sohold'!$D$85*'input-data'!I130/100, 0)","v":0},0,{"$f":"F73*'Flow sohold'!$D$5","v":0},0,{"$f":"I73*'Flow sohold'!$D$5","v":0},0,0,0,0,0,0,0,0,0,0,0,0,0,0]
[null,{"$f":"'input-data'!$B$98","v":" Drægtige søer"},{"$f":"'input-data'!$B$99","v":"  Kraftfoder:"},{"$f":"'input-data'!$B$121","v":"    blanding 2:"},{"$f":"'input-data'!E131","v":0},{"$f":"IFERROR('input-data'!$E$122*'Flow sohold'!$D$89*100/'Flow sohold'!$D$85*'input-data'!I131/100, 0)","v":0},0,{"$f":"F74*'Flow sohold'!$D$5","v":0},0,{"$f":"I74*'Flow sohold'!$D$5","v":0},0,0,0,0,0,0,0,0,0,0,0,0,0,0]
[null,{"$f":"'input-data'!$B$98","v":" Drægtige søer"},{"$f":"'input-data'!$B$99","v":"  Kraftfoder:"},{"$f":"'input-data'!$B$121","v":"    blanding 2:"},{"$f":"'input-data'!E132","v":0},{"$f":"IFERROR('input-data'!$E$122*'Flow sohold'!$D$89*100/'Flow sohold'!$D$85*'input-data'!I132/100, 0)","v":0},0,{"$f":"F75*'Flow sohold'!$D$5","v":0},0,{"$f":"I75*'Flow sohold'!$D$5","v":0},0,0,0,0,0,0,0,0,0,0,0,0,0,0]
[null,{"$f":"'input-data'!$B$98","v":" Drægtige søer"},{"$f":"'input-data'!$B$99","v":"  Kraftfoder:"},{"$f":"'input-data'!$B$121","v":"    blanding 2:"},{"$f":"'input-data'!E133","v":0},{"$f":"IFERROR('input-data'!$E$122*'Flow sohold'!$D$89*100/'Flow sohold'!$D$85*'input-data'!I133/100, 0)","v":0},0,{"$f":"F76*'Flow sohold'!$D$5","v":0},0,{"$f":"I76*'Flow sohold'!$D$5","v":0},0,0,0,0,0,0,0,0,0,0,0,0,0,0]
[null,{"$f":"'input-data'!$B$98","v":" Drægtige søer"},{"$f":"'input-data'!$B$99","v":"  Kraftfoder:"},{"$f":"'input-data'!$B$121","v":"    blanding 2:"},{"$f":"'input-data'!E134","v":0},{"$f":"IFERROR('input-data'!$E$122*'Flow sohold'!$D$89*100/'Flow sohold'!$D$85*'input-data'!I134/100, 0)","v":0},0,{"$f":"F77*'Flow sohold'!$D$5","v":0},0,{"$f":"I77*'Flow sohold'!$D$5","v":0},0,0,0,0,0,0,0,0,0,0,0,0,0,0]
[null,{"$f":"'input-data'!$B$98","v":" Drægtige søer"},{"$f":"'input-data'!$B$99","v":"  Kraftfoder:"},{"$f":"'input-data'!$B$121","v":"    blanding 2:"},{"$f":"'input-data'!E135","v":0},{"$f":"IFERROR('input-data'!$E$122*'Flow sohold'!$D$89*100/'Flow sohold'!$D$85*'input-data'!I135/100, 0)","v":0},0,{"$f":"F78*'Flow sohold'!$D$5","v":0},0,{"$f":"I78*'Flow sohold'!$D$5","v":0},0,0,0,0,0,0,0,0,0,0,0,0,0,0]
[null,{"$f":"'input-data'!$B$98","v":" Drægtige søer"},{"$f":"'input-data'!$B$99","v":"  Kraftfoder:"},{"$f":"'input-data'!$B$121","v":"    blanding 2:"},{"$f":"'input-data'!E136","v":0},{"$f":"IFERROR('input-data'!$E$122*'Flow sohold'!$D$89*100/'Flow sohold'!$D$85*'input-data'!I136/100, 0)","v":0},0,{"$f":"F79*'Flow sohold'!$D$5","v":0},0,{"$f":"I79*'Flow sohold'!$D$5","v":0},0,0,0,0,0,0,0,0,0,0,0,0,0,0]
[null,{"$f":"'input-data'!$B$98","v":" Drægtige søer"},{"$f":"'input-data'!$B$99","v":"  Kraftfoder:"},{"$f":"'input-data'!$B$121","v":"    blanding 2:"},{"$f":"'input-data'!E137","v":0},{"$f":"IFERROR('input-data'!$E$122*'Flow sohold'!$D$89*100/'Flow sohold'!$D$85*'input-data'!I137/100, 0)","v":0},0,{"$f":"F80*'Flow sohold'!$D$5","v":0},0,{"$f":"I80*'Flow sohold'!$D$5","v":0},0,0,0,0,0,0,0,0,0,0,0,0,0,0]
[null,{"$f":"'input-data'!$B$98","v":" Drægtige søer"},{"$f":"'input-data'!$B$99","v":"  Kraftfoder:"},{"$f":"'input-data'!$B$121","v":"    blanding 2:"},{"$f":"'input-data'!E138","v":0},{"$f":"IFERROR('input-data'!$E$122*'Flow sohold'!$D$89*100/'Flow sohold'!$D$85*'input-data'!I138/100, 0)","v":0},{"$f":"IFERROR(F81*VLOOKUP(E81, Fodertabel, 4, FALSE), 0)","v":0},{"$f":"F81*'Flow sohold'!$D$5","v":0},{"$f":"IFERROR(F81*VLOOKUP(E81, Fodertabel, 9, FALSE)/100, 0)","v":0},{"$f":"I81*'Flow sohold'!$D$5","v":0},{"$f":"IFERROR(J81*VLOOKUP(E81, Fodertabel, 60, FALSE)/100/6.25, 0)","v":0},{"$f":"IFERROR(J81*VLOOKUP(E81, Fodertabel, 23, FALSE)/1000, 0)","v":0},{"$f":"IFERROR(VLOOKUP(E81, Fodertabel, 226, FALSE), 0)","v":0},{"$f":"IF(OR(M81=\"onfarm\", M81=\"folde\", M81=\"paddock\"), J81, 0)","v":0},{"$f":"IFERROR(J81/N81*K81, 0)","v":0},{"$f":"IFERROR(N81/J81*L81, 0)","v":0},0,0,0,0,0,0,0,{"$f":"IFERROR(VLOOKUP(E81, Fodertabel, 227, FALSE), 0)","v":0}]
[null,{"$f":"'input-data'!$B$98","v":" Drægtige søer"},{"$f":"'input-data'!$B$99","v":"  Kraftfoder:"},{"$f":"'input-data'!$B$121","v":"    blanding 2:"},{"$f":"'input-data'!E139","v":0},{"$f":"IFERROR('input-data'!$E$122*'Flow sohold'!$D$89*100/'Flow sohold'!$D$85*'input-data'!I139/100, 0)","v":0},0,{"$f":"F82*'Flow sohold'!$D$5","v":0},0,{"$f":"I82*'Flow sohold'!$D$5","v":0},0,0,0,0,0,0,0,0,0,0,0,0,0,0]
[null,{"$f":"'input-data'!$B$98","v":" Drægtige søer"},{"$f":"'input-data'!$B$143","v":"  Grovfoder:"},{"$f":"'Flow sohold'!$C$45","v":"Tildelt grovfoder"},{"$f":"'input-data'!E147:H147","v":0},{"$f":"'Flow sohold'!$D$45*'input-data'!I147/100","v":0},0,{"$f":"F83*'Flow sohold'!$D$5","v":0},0,{"$f":"I83*'Flow sohold'!$D$5","v":0},0,0,0,0,0,0,0,0,0,0,0,0,0,0]
[null,{"$f":"'input-data'!$B$98","v":" Drægtige søer"},{"$f":"'input-data'!$B$143","v":"  Grovfoder:"},{"$f":"'Flow sohold'!$C$45","v":"Tildelt grovfoder"},{"$f":"'input-data'!E148:H148","v":0},{"$f":"'Flow sohold'!$D$45*'input-data'!I148/100","v":0},0,{"$f":"F84*'Flow sohold'!$D$5","v":0},0,{"$f":"I84*'Flow sohold'!$D$5","v":0},0,0,0,0,0,0,0,0,0,0,0,0,0,0]
[null,{"$f":"'input-data'!$B$98","v":" Drægtige søer"},{"$f":"'input-data'!$B$143","v":"  Grovfoder:"},{"$f":"'Flow sohold'!$C$45","v":"Tildelt grovfoder"},{"$f":"'input-data'!E149:H149","v":0},{"$f":"'Flow sohold'!$D$45*'input-data'!I149/100","v":0},0,{"$f":"F85*'Flow sohold'!$D$5","v":0},0,{"$f":"I85*'Flow sohold'!$D$5","v":0},0,0,0,0,0,0,0,0,0,0,0,0,0,0]
[null,{"$f":"'input-data'!$B$98","v":" Drægtige søer"},{"$f":"'input-data'!$B$143","v":"  Grovfoder:"},{"$f":"'Flow sohold'!$C$45","v":"Tildelt grovfoder"},{"$f":"'input-data'!E150:H150","v":0},{"$f":"'Flow sohold'!$D$45*'input-data'!I150/100","v":0},0,{"$f":"F86*'Flow sohold'!$D$5","v":0},0,{"$f":"I86*'Flow sohold'!$D$5","v":0},0,0,0,0,0,0,0,0,0,0,0,0,0,0]
[null,{"$f":"'input-data'!$B$98","v":" Drægtige søer"},{"$f":"'input-data'!$B$143","v":"  Grovfoder:"},{"$f":"'Flow sohold'!$C$45","v":"Tildelt grovfoder"},{"$f":"'input-data'!E151:H151","v":0},{"$f":"'Flow sohold'!$D$45*'input-data'!I151/100","v":0},0,{"$f":"F87*'Flow sohold'!$D$5","v":0},0,{"$f":"I87*'Flow sohold'!$D$5","v":0},0,0,0,0,0,0,0,0,0,0,0,0,0,0]
[null,{"$f":"'input-data'!$B$98","v":" Drægtige søer"},{"$f":"'input-data'!$B$143","v":"  Grovfoder:"},{"$f":"'Flow sohold'!$C$44","v":"Afgræsning (april-september)"},{"$f":"Fodertabel!D690","v":"kløvergræs "},{"$f":"'Flow sohold'!D44","v":0},0,{"$f":"F88*'Flow sohold'!$D$5","v":0},{"$f":"IFERROR(F88*VLOOKUP(E88, Fodertabel, 9, FALSE)/100,0)","v":0},{"$f":"I88*'Flow sohold'!$D$5","v":0},0,0,"folde",0,0,0,{"$f":"$J88*'Mark-Fields'!$D$140","v":0},{"$f":"$J88*'Mark-Fields'!$D$143","v":0},{"$f":"$J88*'Mark-Fields'!$D$146","v":0},{"$f":"$J88*'Mark-Fields'!$D$166","v":0},{"$f":"$J88*'Mark-Fields'!$D$200","v":0},{"$f":"$J88*'Mark-Fields'!$D$184","v":0},{"$f":"$J88*'Mark-Fields'!$D$208","v":0},"kløvergræs"]
[null,{"$f":"'input-data'!$B$154","v":" Smågrise"},{"$f":"'input-data'!$B$155","v":"  Kraftfoder:"},{"$f":"'input-data'!$B$157","v":"    blanding 1, for vægtinterval, kg:"},{"$f":"'input-data'!E159","v":0},{"$f":"IFERROR('Flow smågrise'!$D$31*100/'Flow smågrise'!D$49*'input-data'!I159/100,0)","v":0},{"$f":"IFERROR(F89*VLOOKUP(E89, Fodertabel, 3, FALSE), 0)","v":0},{"$f":"F89*'Flow smågrise'!$D$9","v":0},{"$f":"IFERROR(F89*VLOOKUP(E89, Fodertabel, 9, FALSE)/100, 0)","v":0},{"$f":"I89*'Flow smågrise'!$D$9","v":0},0,0,0,0,0,0,{"$f":"IFERROR(VLOOKUP($E89, Fodertabel, 218, FALSE)*$J89, 0)","v":0},{"$f":"IFERROR(VLOOKUP($E89, Fodertabel, 219, FALSE)*$J89, 0)","v":0},{"$f":"IFERROR(VLOOKUP($E89, Fodertabel, 220, FALSE)*$J89, 0)","v":0},{"$f":"IFERROR(VLOOKUP($E89, Fodertabel, 221, FALSE)*$J89, 0)","v":0},{"$f":"IFERROR(VLOOKUP($E89, Fodertabel, 222, FALSE)*$J89, 0)","v":0},{"$f":"IFERROR(VLOOKUP($E89, Fodertabel, 223, FALSE)*$J89, 0)","v":0},{"$f":"IFERROR(VLOOKUP($E89, Fodertabel, 224, FALSE)*$J89, 0)","v":0},0]
[null,{"$f":"'input-data'!$B$154","v":" Smågrise"},{"$f":"'input-data'!$B$155","v":"  Kraftfoder:"},{"$f":"'input-data'!$B$157","v":"    blanding 1, for vægtinterval, kg:"},{"$f":"'input-data'!E160","v":0},{"$f":"IFERROR('Flow smågrise'!$D$31*100/'Flow smågrise'!D$49*'input-data'!I160/100,0)","v":0},0,{"$f":"F90*'Flow smågrise'!$D$9","v":0},0,{"$f":"I90*'Flow smågrise'!$D$9","v":0},0,0,0,0,0,0,0,0,0,0,0,0,0,0]
[null,{"$f":"'input-data'!$B$154","v":" Smågrise"},{"$f":"'input-data'!$B$155","v":"  Kraftfoder:"},{"$f":"'input-data'!$B$157","v":"    blanding 1, for vægtinterval, kg:"},{"$f":"'input-data'!E161","v":0},{"$f":"IFERROR('Flow smågrise'!$D$31*100/'Flow smågrise'!D$49*'input-data'!I161/100,0)","v":0},0,{"$f":"F91*'Flow smågrise'!$D$9","v":0},0,{"$f":"I91*'Flow smågrise'!$D$9","v":0},0,0,0,0,0,0,0,0,0,0,0,0,0,0]
[null,{"$f":"'input-data'!$B$154","v":" Smågrise"},{"$f":"'input-data'!$B$155","v":"  Kraftfoder:"},{"$f":"'input-data'!$B$157","v":"    blanding 1, for vægtinterval, kg:"},{"$f":"'input-data'!E162","v":0},{"$f":"IFERROR('Flow smågrise'!$D$31*100/'Flow smågrise'!D$49*'input-data'!I162/100,0)","v":0},0,{"$f":"F92*'Flow smågrise'!$D$9","v":0},0,{"$f":"I92*'Flow smågrise'!$D$9","v":0},0,0,0,0,0,0,0,0,0,0,0,0,0,0]
[null,{"$f":"'input-data'!$B$154","v":" Smågrise"},{"$f":"'input-data'!$B$155","v":"  Kraftfoder:"},{"$f":"'input-data'!$B$157","v":"    blanding 1, for vægtinterval, kg:"},{"$f":"'input-data'!E163","v":0},{"$f":"IFERROR('Flow smågrise'!$D$31*100/'Flow smågrise'!D$49*'input-data'!I163/100,0)","v":0},0,{"$f":"F93*'Flow smågrise'!$D$9","v":0},0,{"$f":"I93*'Flow smågrise'!$D$9","v":0},0,0,0,0,0,0,0,0,0,0,0,0,0,0]
[null,{"$f":"'input-data'!$B$154","v":" Smågrise"},{"$f":"'input-data'!$B$155","v":"  Kraftfoder:"},{"$f":"'input-data'!$B$157","v":"    blanding 1, for vægtinterval, kg:"},{"$f":"'input-data'!E164","v":0},{"$f":"IFERROR('Flow smågrise'!$D$31*100/'Flow smågrise'!D$49*'input-data'!I164/100,0)","v":0},0,{"$f":"F94*'Flow smågrise'!$D$9","v":0},0,{"$f":"I94*'Flow smågrise'!$D$9","v":0},0,0,0,0,0,0,0,0,0,0,0,0,0,0]
[null,{"$f":"'input-data'!$B$154","v":" Smågrise"},{"$f":"'input-data'!$B$155","v":"  Kraftfoder:"},{"$f":"'input-data'!$B$157","v":"    blanding 1, for vægtinterval, kg:"},{"$f":"'input-data'!E165","v":0},{"$f":"IFERROR('Flow smågrise'!$D$31*100/'Flow smågrise'!D$49*'input-data'!I165/100,0)","v":0},0,{"$f":"F95*'Flow smågrise'!$D$9","v":0},0,{"$f":"I95*'Flow smågrise'!$D$9","v":0},0,0,0,0,0,0,0,0,0,0,0,0,0,0]
[null,{"$f":"'input-data'!$B$154","v":" Smågrise"},{"$f":"'input-data'!$B$155","v":"  Kraftfoder:"},{"$f":"'input-data'!$B$157","v":"    blanding 1, for vægtinterval, kg:"},{"$f":"'input-data'!E166","v":0},{"$f":"IFERROR('Flow smågrise'!$D$31*100/'Flow smågrise'!D$49*'input-data'!I166/100,0)","v":0},0,{"$f":"F96*'Flow smågrise'!$D$9","v":0},0,{"$f":"I96*'Flow smågrise'!$D$9","v":0},0,0,0,0,0,0,0,0,0,0,0,0,0,0]
[null,{"$f":"'input-data'!$B$154","v":" Smågrise"},{"$f":"'input-data'!$B$155","v":"  Kraftfoder:"},{"$f":"'input-data'!$B$157","v":"    blanding 1, for vægtinterval, kg:"},{"$f":"'input-data'!E167","v":0},{"$f":"IFERROR('Flow smågrise'!$D$31*100/'Flow smågrise'!D$49*'input-data'!I167/100,0)","v":0},0,{"$f":"F97*'Flow smågrise'!$D$9","v":0},0,{"$f":"I97*'Flow smågrise'!$D$9","v":0},0,0,0,0,0,0,0,0,0,0,0,0,0,0]
[null,{"$f":"'input-data'!$B$154","v":" Smågrise"},{"$f":"'input-data'!$B$155","v":"  Kraftfoder:"},{"$f":"'input-data'!$B$157","v":"    blanding 1, for vægtinterval, kg:"},{"$f":"'input-data'!E168","v":0},{"$f":"IFERROR('Flow smågrise'!$D$31*100/'Flow smågrise'!D$49*'input-data'!I168/100,0)","v":0},0,{"$f":"F98*'Flow smågrise'!$D$9","v":0},0,{"$f":"I98*'Flow smågrise'!$D$9","v":0},0,0,0,0,0,0,0,0,0,0,0,0,0,0]
[null,{"$f":"'input-data'!$B$154","v":" Smågrise"},{"$f":"'input-data'!$B$155","v":"  Kraftfoder:"},{"$f":"'input-data'!$B$157","v":"    blanding 1, for vægtinterval, kg:"},{"$f":"'input-data'!E169","v":0},{"$f":"IFERROR('Flow smågrise'!$D$31*100/'Flow smågrise'!D$49*'input-data'!I169/100,0)","v":0},0,{"$f":"F99*'Flow smågrise'!$D$9","v":0},0,{"$f":"I99*'Flow smågrise'!$D$9","v":0},0,0,0,0,0,0,0,0,0,0,0,0,0,0]
[null,{"$f":"'input-data'!$B$154","v":" Smågrise"},{"$f":"'input-data'!$B$155","v":"  Kraftfoder:"},{"$f":"'input-data'!$B$157","v":"    blanding 1, for vægtinterval, kg:"},{"$f":"'input-data'!E170","v":0},{"$f":"IFERROR('Flow smågrise'!$D$31*100/'Flow smågrise'!D$49*'input-data'!I170/100,0)","v":0},0,{"$f":"F100*'Flow smågrise'!$D$9","v":0},0,{"$f":"I100*'Flow smågrise'!$D$9","v":0},0,0,0,0,0,0,0,0,0,0,0,0,0,0]
[null,{"$f":"'input-data'!$B$154","v":" Smågrise"},{"$f":"'input-data'!$B$155","v":"  Kraftfoder:"},{"$f":"'input-data'!$B$157","v":"    blanding 1, for vægtinterval, kg:"},{"$f":"'input-data'!E171","v":0},{"$f":"IFERROR('Flow smågrise'!$D$31*100/'Flow smågrise'!D$49*'input-data'!I171/100,0)","v":0},0,{"$f":"F101*'Flow smågrise'!$D$9","v":0},0,{"$f":"I101*'Flow smågrise'!$D$9","v":0},0,0,0,0,0,0,0,0,0,0,0,0,0,0]
[null,{"$f":"'input-data'!$B$154","v":" Smågrise"},{"$f":"'input-data'!$B$155","v":"  Kraftfoder:"},{"$f":"'input-data'!$B$157","v":"    blanding 1, for vægtinterval, kg:"},{"$f":"'input-data'!E172","v":0},{"$f":"IFERROR('Flow smågrise'!$D$31*100/'Flow smågrise'!D$49*'input-data'!I172/100,0)","v":0},0,{"$f":"F102*'Flow smågrise'!$D$9","v":0},0,{"$f":"I102*'Flow smågrise'!$D$9","v":0},0,0,0,0,0,0,0,0,0,0,0,0,0,0]
[null,{"$f":"'input-data'!$B$154","v":" Smågrise"},{"$f":"'input-data'!$B$155","v":"  Kraftfoder:"},{"$f":"'input-data'!$B$157","v":"    blanding 1, for vægtinterval, kg:"},{"$f":"'input-data'!E173","v":0},{"$f":"IFERROR('Flow smågrise'!$D$31*100/'Flow smågrise'!D$49*'input-data'!I173/100,0)","v":0},0,{"$f":"F103*'Flow smågrise'!$D$9","v":0},0,{"$f":"I103*'Flow smågrise'!$D$9","v":0},0,0,0,0,0,0,0,0,0,0,0,0,0,0]
[null,{"$f":"'input-data'!$B$154","v":" Smågrise"},{"$f":"'input-data'!$B$155","v":"  Kraftfoder:"},{"$f":"'input-data'!$B$176","v":"    blanding 2, for vægtinterval, kg:"},{"$f":"'input-data'!E178","v":0},{"$f":"IFERROR('Flow smågrise'!$D$32*100/'Flow smågrise'!D$54*'input-data'!I178/100, 0)","v":0},0,{"$f":"F104*'Flow smågrise'!$D$9","v":0},0,{"$f":"I104*'Flow smågrise'!$D$9","v":0},0,0,0,0,0,0,0,0,0,0,0,0,0,0]
[null,{"$f":"'input-data'!$B$154","v":" Smågrise"},{"$f":"'input-data'!$B$155","v":"  Kraftfoder:"},{"$f":"'input-data'!$B$176","v":"    blanding 2, for vægtinterval, kg:"},{"$f":"'input-data'!E179","v":0},{"$f":"IFERROR('Flow smågrise'!$D$32*100/'Flow smågrise'!D$54*'input-data'!I179/100, 0)","v":0},0,{"$f":"F105*'Flow smågrise'!$D$9","v":0},0,{"$f":"I105*'Flow smågrise'!$D$9","v":0},0,0,0,0,0,0,0,0,0,0,0,0,0,0]
[null,{"$f":"'input-data'!$B$154","v":" Smågrise"},{"$f":"'input-data'!$B$155","v":"  Kraftfoder:"},{"$f":"'input-data'!$B$176","v":"    blanding 2, for vægtinterval, kg:"},{"$f":"'input-data'!E180","v":0},{"$f":"IFERROR('Flow smågrise'!$D$32*100/'Flow smågrise'!D$54*'input-data'!I180/100, 0)","v":0},0,{"$f":"F106*'Flow smågrise'!$D$9","v":0},0,{"$f":"I106*'Flow smågrise'!$D$9","v":0},0,0,0,0,0,0,0,0,0,0,0,0,0,0]
[null,{"$f":"'input-data'!$B$154","v":" Smågrise"},{"$f":"'input-data'!$B$155","v":"  Kraftfoder:"},{"$f":"'input-data'!$B$176","v":"    blanding 2, for vægtinterval, kg:"},{"$f":"'input-data'!E181","v":0},{"$f":"IFERROR('Flow smågrise'!$D$32*100/'Flow smågrise'!D$54*'input-data'!I181/100, 0)","v":0},0,{"$f":"F107*'Flow smågrise'!$D$9","v":0},0,{"$f":"I107*'Flow smågrise'!$D$9","v":0},0,0,0,0,0,0,0,0,0,0,0,0,0,0]
[null,{"$f":"'input-data'!$B$154","v":" Smågrise"},{"$f":"'input-data'!$B$155","v":"  Kraftfoder:"},{"$f":"'input-data'!$B$176","v":"    blanding 2, for vægtinterval, kg:"},{"$f":"'input-data'!E182","v":0},{"$f":"IFERROR('Flow smågrise'!$D$32*100/'Flow smågrise'!D$54*'input-data'!I182/100, 0)","v":0},0,{"$f":"F108*'Flow smågrise'!$D$9","v":0},0,{"$f":"I108*'Flow smågrise'!$D$9","v":0},0,0,0,0,0,0,0,0,0,0,0,0,0,0]
[null,{"$f":"'input-data'!$B$154","v":" Smågrise"},{"$f":"'input-data'!$B$155","v":"  Kraftfoder:"},{"$f":"'input-data'!$B$176","v":"    blanding 2, for vægtinterval, kg:"},{"$f":"'input-data'!E183","v":0},{"$f":"IFERROR('Flow smågrise'!$D$32*100/'Flow smågrise'!D$54*'input-data'!I183/100, 0)","v":0},0,{"$f":"F109*'Flow smågrise'!$D$9","v":0},0,{"$f":"I109*'Flow smågrise'!$D$9","v":0},0,0,0,0,0,0,0,0,0,0,0,0,0,0]
[null,{"$f":"'input-data'!$B$154","v":" Smågrise"},{"$f":"'input-data'!$B$155","v":"  Kraftfoder:"},{"$f":"'input-data'!$B$176","v":"    blanding 2, for vægtinterval, kg:"},{"$f":"'input-data'!E184","v":0},{"$f":"IFERROR('Flow smågrise'!$D$32*100/'Flow smågrise'!D$54*'input-data'!I184/100, 0)","v":0},0,{"$f":"F110*'Flow smågrise'!$D$9","v":0},0,{"$f":"I110*'Flow smågrise'!$D$9","v":0},0,0,0,0,0,0,0,0,0,0,0,0,0,0]
[null,{"$f":"'input-data'!$B$154","v":" Smågrise"},{"$f":"'input-data'!$B$155","v":"  Kraftfoder:"},{"$f":"'input-data'!$B$176","v":"    blanding 2, for vægtinterval, kg:"},{"$f":"'input-data'!E185","v":0},{"$f":"IFERROR('Flow smågrise'!$D$32*100/'Flow smågrise'!D$54*'input-data'!I185/100, 0)","v":0},0,{"$f":"F111*'Flow smågrise'!$D$9","v":0},0,{"$f":"I111*'Flow smågrise'!$D$9","v":0},0,0,0,0,0,0,0,0,0,0,0,0,0,0]
[null,{"$f":"'input-data'!$B$154","v":" Smågrise"},{"$f":"'input-data'!$B$155","v":"  Kraftfoder:"},{"$f":"'input-data'!$B$176","v":"    blanding 2, for vægtinterval, kg:"},{"$f":"'input-data'!E186","v":0},{"$f":"IFERROR('Flow smågrise'!$D$32*100/'Flow smågrise'!D$54*'input-data'!I186/100, 0)","v":0},0,{"$f":"F112*'Flow smågrise'!$D$9","v":0},0,{"$f":"I112*'Flow smågrise'!$D$9","v":0},0,0,0,0,0,0,0,0,0,0,0,0,0,0]
[null,{"$f":"'input-data'!$B$154","v":" Smågrise"},{"$f":"'input-data'!$B$155","v":"  Kraftfoder:"},{"$f":"'input-data'!$B$176","v":"    blanding 2, for vægtinterval, kg:"},{"$f":"'input-data'!E187","v":0},{"$f":"IFERROR('Flow smågrise'!$D$32*100/'Flow smågrise'!D$54*'input-data'!I187/100, 0)","v":0},0,{"$f":"F113*'Flow smågrise'!$D$9","v":0},0,{"$f":"I113*'Flow smågrise'!$D$9","v":0},{"$f":"IFERROR(J113*VLOOKUP(E113, Fodertabel, 60, FALSE)/100/6.25, 0)","v":0},{"$f":"IFERROR(J113*VLOOKUP(E113, Fodertabel, 23, FALSE)/1000, 0)","v":0},{"$f":"IFERROR(VLOOKUP(E113, Fodertabel, 226, FALSE), 0)","v":0},{"$f":"IF(OR(M113=\"onfarm\", M113=\"folde\", M113=\"paddock\"), J113, 0)","v":0},{"$f":"IFERROR(J113/N113*K113, 0)","v":0},{"$f":"IFERROR(N113/J113*L113, 0)","v":0},0,0,0,0,0,0,0,{"$f":"IFERROR(VLOOKUP(E113, Fodertabel, 227, FALSE), 0)","v":0}]
[null,{"$f":"'input-data'!$B$154","v":" Smågrise"},{"$f":"'input-data'!$B$155","v":"  Kraftfoder:"},{"$f":"'input-data'!$B$176","v":"    blanding 2, for vægtinterval, kg:"},{"$f":"'input-data'!E188","v":0},{"$f":"IFERROR('Flow smågrise'!$D$32*100/'Flow smågrise'!D$54*'input-data'!I188/100, 0)","v":0},0,{"$f":"F114*'Flow smågrise'!$D$9","v":0},0,{"$f":"I114*'Flow smågrise'!$D$9","v":0},0,0,0,0,0,0,0,0,0,0,0,0,0,0]
[null,{"$f":"'input-data'!$B$154","v":" Smågrise"},{"$f":"'input-data'!$B$155","v":"  Kraftfoder:"},{"$f":"'input-data'!$B$176","v":"    blanding 2, for vægtinterval, kg:"},{"$f":"'input-data'!E189","v":0},{"$f":"IFERROR('Flow smågrise'!$D$32*100/'Flow smågrise'!D$54*'input-data'!I189/100, 0)","v":0},0,{"$f":"F115*'Flow smågrise'!$D$9","v":0},0,{"$f":"I115*'Flow smågrise'!$D$9","v":0},0,0,0,0,0,0,0,0,0,0,0,0,0,0]
[null,{"$f":"'input-data'!$B$154","v":" Smågrise"},{"$f":"'input-data'!$B$155","v":"  Kraftfoder:"},{"$f":"'input-data'!$B$176","v":"    blanding 2, for vægtinterval, kg:"},{"$f":"'input-data'!E190","v":0},{"$f":"IFERROR('Flow smågrise'!$D$32*100/'Flow smågrise'!D$54*'input-data'!I190/100, 0)","v":0},0,{"$f":"F116*'Flow smågrise'!$D$9","v":0},0,{"$f":"I116*'Flow smågrise'!$D$9","v":0},0,0,0,0,0,0,0,0,0,0,0,0,0,0]
[null,{"$f":"'input-data'!$B$154","v":" Smågrise"},{"$f":"'input-data'!$B$155","v":"  Kraftfoder:"},{"$f":"'input-data'!$B$176","v":"    blanding 2, for vægtinterval, kg:"},{"$f":"'input-data'!E191","v":0},{"$f":"IFERROR('Flow smågrise'!$D$32*100/'Flow smågrise'!D$54*'input-data'!I191/100, 0)","v":0},0,{"$f":"F117*'Flow smågrise'!$D$9","v":0},0,{"$f":"I117*'Flow smågrise'!$D$9","v":0},0,0,0,0,0,0,0,0,0,0,0,0,0,0]
[null,{"$f":"'input-data'!$B$154","v":" Smågrise"},{"$f":"'input-data'!$B$155","v":"  Kraftfoder:"},{"$f":"'input-data'!$B$176","v":"    blanding 2, for vægtinterval, kg:"},{"$f":"'input-data'!E192","v":0},{"$f":"IFERROR('Flow smågrise'!$D$32*100/'Flow smågrise'!D$54*'input-data'!I192/100, 0)","v":0},0,{"$f":"F118*'Flow smågrise'!$D$9","v":0},0,{"$f":"I118*'Flow smågrise'!$D$9","v":0},0,0,0,0,0,0,0,0,0,0,0,0,0,0]
[null,{"$f":"'input-data'!$B$154","v":" Smågrise"},{"$f":"'input-data'!$B$155","v":"  Kraftfoder:"},{"$f":"'input-data'!$B$195","v":"    blanding 3, for vægtinterval, kg:"},{"$f":"'input-data'!E197","v":0},{"$f":"IFERROR('Flow smågrise'!$D$32*100/'Flow smågrise'!D$54*'input-data'!I193/100, 0)","v":0},0,{"$f":"F119*'Flow smågrise'!$D$9","v":0},0,{"$f":"I119*'Flow smågrise'!$D$9","v":0},0,0,0,0,0,0,0,0,0,0,0,0,0,0]
[null,{"$f":"'input-data'!$B$154","v":" Smågrise"},{"$f":"'input-data'!$B$155","v":"  Kraftfoder:"},{"$f":"'input-data'!$B$195","v":"    blanding 3, for vægtinterval, kg:"},{"$f":"'input-data'!E198","v":0},{"$f":"IFERROR('Flow smågrise'!$D$32*100/'Flow smågrise'!D$54*'input-data'!I194/100, 0)","v":0},0,{"$f":"F120*'Flow smågrise'!$D$9","v":0},0,{"$f":"I120*'Flow smågrise'!$D$9","v":0},0,0,0,0,0,0,0,0,0,0,0,0,0,0]
[null,{"$f":"'input-data'!$B$154","v":" Smågrise"},{"$f":"'input-data'!$B$155","v":"  Kraftfoder:"},{"$f":"'input-data'!$B$195","v":"    blanding 3, for vægtinterval, kg:"},{"$f":"'input-data'!E199","v":0},{"$f":"IFERROR('Flow smågrise'!$D$32*100/'Flow smågrise'!D$54*'input-data'!I195/100, 0)","v":0},{"$f":"IFERROR(F121*VLOOKUP(E121, Fodertabel, 3, FALSE), 0)","v":0},{"$f":"F121*'Flow smågrise'!$D$9","v":0},{"$f":"IFERROR(F121*VLOOKUP(E121, Fodertabel, 9, FALSE)/100, 0)","v":0},{"$f":"I121*'Flow smågrise'!$D$9","v":0},0,0,0,0,0,0,{"$f":"IFERROR(VLOOKUP($E121, Fodertabel, 218, FALSE)*$J121, 0)","v":0},{"$f":"IFERROR(VLOOKUP($E121, Fodertabel, 219, FALSE)*$J121, 0)","v":0},{"$f":"IFERROR(VLOOKUP($E121, Fodertabel, 220, FALSE)*$J121, 0)","v":0},{"$f":"IFERROR(VLOOKUP($E121, Fodertabel, 221, FALSE)*$J121, 0)","v":0},{"$f":"IFERROR(VLOOKUP($E121, Fodertabel, 222, FALSE)*$J121, 0)","v":0},{"$f":"IFERROR(VLOOKUP($E121, Fodertabel, 223, FALSE)*$J121, 0)","v":0},{"$f":"IFERROR(VLOOKUP($E121, Fodertabel, 224, FALSE)*$J121, 0)","v":0},0]
[null,{"$f":"'input-data'!$B$154","v":" Smågrise"},{"$f":"'input-data'!$B$155","v":"  Kraftfoder:"},{"$f":"'input-data'!$B$195","v":"    blanding 3, for vægtinterval, kg:"},{"$f":"'input-data'!E200","v":0},{"$f":"IFERROR('Flow smågrise'!$D$32*100/'Flow smågrise'!D$54*'input-data'!I196/100, 0)","v":0},0,{"$f":"F122*'Flow smågrise'!$D$9","v":0},0,{"$f":"I122*'Flow smågrise'!$D$9","v":0},0,0,0,0,0,0,0,0,0,0,0,0,0,0]
[null,{"$f":"'input-data'!$B$154","v":" Smågrise"},{"$f":"'input-data'!$B$155","v":"  Kraftfoder:"},{"$f":"'input-data'!$B$195","v":"    blanding 3, for vægtinterval, kg:"},{"$f":"'input-data'!E201","v":0},{"$f":"IFERROR('Flow smågrise'!$D$32*100/'Flow smågrise'!D$54*'input-data'!I197/100, 0)","v":0},0,{"$f":"F123*'Flow smågrise'!$D$9","v":0},0,{"$f":"I123*'Flow smågrise'!$D$9","v":0},0,0,0,0,0,0,0,0,0,0,0,0,0,0]
[null,{"$f":"'input-data'!$B$154","v":" Smågrise"},{"$f":"'input-data'!$B$155","v":"  Kraftfoder:"},{"$f":"'input-data'!$B$195","v":"    blanding 3, for vægtinterval, kg:"},{"$f":"'input-data'!E202","v":0},{"$f":"IFERROR('Flow smågrise'!$D$32*100/'Flow smågrise'!D$54*'input-data'!I198/100, 0)","v":0},0,{"$f":"F124*'Flow smågrise'!$D$9","v":0},0,{"$f":"I124*'Flow smågrise'!$D$9","v":0},0,0,0,0,0,0,0,0,0,0,0,0,0,0]
[null,{"$f":"'input-data'!$B$154","v":" Smågrise"},{"$f":"'input-data'!$B$155","v":"  Kraftfoder:"},{"$f":"'input-data'!$B$195","v":"    blanding 3, for vægtinterval, kg:"},{"$f":"'input-data'!E203","v":0},{"$f":"IFERROR('Flow smågrise'!$D$32*100/'Flow smågrise'!D$54*'input-data'!I199/100, 0)","v":0},0,{"$f":"F125*'Flow smågrise'!$D$9","v":0},0,{"$f":"I125*'Flow smågrise'!$D$9","v":0},0,0,0,0,0,0,0,0,0,0,0,0,0,0]
[null,{"$f":"'input-data'!$B$154","v":" Smågrise"},{"$f":"'input-data'!$B$155","v":"  Kraftfoder:"},{"$f":"'input-data'!$B$195","v":"    blanding 3, for vægtinterval, kg:"},{"$f":"'input-data'!E204","v":0},{"$f":"IFERROR('Flow smågrise'!$D$32*100/'Flow smågrise'!D$54*'input-data'!I200/100, 0)","v":0},0,{"$f":"F126*'Flow smågrise'!$D$9","v":0},0,{"$f":"I126*'Flow smågrise'!$D$9","v":0},0,0,0,0,0,0,0,0,0,0,0,0,0,0]
[null,{"$f":"'input-data'!$B$154","v":" Smågrise"},{"$f":"'input-data'!$B$155","v":"  Kraftfoder:"},{"$f":"'input-data'!$B$195","v":"    blanding 3, for vægtinterval, kg:"},{"$f":"'input-data'!E205","v":0},{"$f":"IFERROR('Flow smågrise'!$D$32*100/'Flow smågrise'!D$54*'input-data'!I201/100, 0)","v":0},0,{"$f":"F127*'Flow smågrise'!$D$9","v":0},0,{"$f":"I127*'Flow smågrise'!$D$9","v":0},0,0,0,0,0,0,0,0,0,0,0,0,0,0]
[null,{"$f":"'input-data'!$B$154","v":" Smågrise"},{"$f":"'input-data'!$B$155","v":"  Kraftfoder:"},{"$f":"'input-data'!$B$195","v":"    blanding 3, for vægtinterval, kg:"},{"$f":"'input-data'!E206","v":0},{"$f":"IFERROR('Flow smågrise'!$D$32*100/'Flow smågrise'!D$54*'input-data'!I202/100, 0)","v":0},0,{"$f":"F128*'Flow smågrise'!$D$9","v":0},0,{"$f":"I128*'Flow smågrise'!$D$9","v":0},0,0,0,0,0,0,0,0,0,0,0,0,0,0]
[null,{"$f":"'input-data'!$B$154","v":" Smågrise"},{"$f":"'input-data'!$B$155","v":"  Kraftfoder:"},{"$f":"'input-data'!$B$195","v":"    blanding 3, for vægtinterval, kg:"},{"$f":"'input-data'!E207","v":0},{"$f":"IFERROR('Flow smågrise'!$D$32*100/'Flow smågrise'!D$54*'input-data'!I203/100, 0)","v":0},0,{"$f":"F129*'Flow smågrise'!$D$9","v":0},0,{"$f":"I129*'Flow smågrise'!$D$9","v":0},0,0,0,0,0,0,0,0,0,0,0,0,0,0]
[null,{"$f":"'input-data'!$B$154","v":" Smågrise"},{"$f":"'input-data'!$B$155","v":"  Kraftfoder:"},{"$f":"'input-data'!$B$195","v":"    blanding 3, for vægtinterval, kg:"},{"$f":"'input-data'!E208","v":0},{"$f":"IFERROR('Flow smågrise'!$D$32*100/'Flow smågrise'!D$54*'input-data'!I204/100, 0)","v":0},0,{"$f":"F130*'Flow smågrise'!$D$9","v":0},0,{"$f":"I130*'Flow smågrise'!$D$9","v":0},0,0,0,0,0,0,0,0,0,0,0,0,0,0]
[null,{"$f":"'input-data'!$B$154","v":" Smågrise"},{"$f":"'input-data'!$B$155","v":"  Kraftfoder:"},{"$f":"'input-data'!$B$195","v":"    blanding 3, for vægtinterval, kg:"},{"$f":"'input-data'!E209","v":0},{"$f":"IFERROR('Flow smågrise'!$D$32*100/'Flow smågrise'!D$54*'input-data'!I205/100, 0)","v":0},0,{"$f":"F131*'Flow smågrise'!$D$9","v":0},0,{"$f":"I131*'Flow smågrise'!$D$9","v":0},0,0,0,0,0,0,0,0,0,0,0,0,0,0]
[null,{"$f":"'input-data'!$B$154","v":" Smågrise"},{"$f":"'input-data'!$B$155","v":"  Kraftfoder:"},{"$f":"'input-data'!$B$195","v":"    blanding 3, for vægtinterval, kg:"},{"$f":"'input-data'!E210","v":0},{"$f":"IFERROR('Flow smågrise'!$D$32*100/'Flow smågrise'!D$54*'input-data'!I206/100, 0)","v":0},0,{"$f":"F132*'Flow smågrise'!$D$9","v":0},0,{"$f":"I132*'Flow smågrise'!$D$9","v":0},0,0,0,0,0,0,0,0,0,0,0,0,0,0]
[null,{"$f":"'input-data'!$B$154","v":" Smågrise"},{"$f":"'input-data'!$B$155","v":"  Kraftfoder:"},{"$f":"'input-data'!$B$195","v":"    blanding 3, for vægtinterval, kg:"},{"$f":"'input-data'!E211","v":0},{"$f":"IFERROR('Flow smågrise'!$D$32*100/'Flow smågrise'!D$54*'input-data'!I207/100, 0)","v":0},0,{"$f":"F133*'Flow smågrise'!$D$9","v":0},0,{"$f":"I133*'Flow smågrise'!$D$9","v":0},0,0,0,0,0,0,0,0,0,0,0,0,0,0]
[null,{"$f":"'input-data'!$B$154","v":" Smågrise"},{"$f":"'input-data'!$B$214","v":"  Grovfoder:"},{"$f":"'Flow smågrise'!$C$38","v":"Tildelt grovfoder"},{"$f":"'input-data'!E218","v":0},{"$f":"'Flow smågrise'!$D$38*'input-data'!I218/100","v":0},0,{"$f":"F134*'Flow smågrise'!$D$9","v":0},0,{"$f":"I134*'Flow smågrise'!$D$9","v":0},0,0,0,0,0,0,0,0,0,0,0,0,0,0]
[null,{"$f":"'input-data'!$B$154","v":" Smågrise"},{"$f":"'input-data'!$B$214","v":"  Grovfoder:"},{"$f":"'Flow smågrise'!$C$38","v":"Tildelt grovfoder"},{"$f":"'input-data'!E219","v":0},{"$f":"'Flow smågrise'!$D$38*'input-data'!I219/100","v":0},0,{"$f":"F135*'Flow smågrise'!$D$9","v":0},0,{"$f":"I135*'Flow smågrise'!$D$9","v":0},0,0,0,0,0,0,0,0,0,0,0,0,0,0]
[null,{"$f":"'input-data'!$B$154","v":" Smågrise"},{"$f":"'input-data'!$B$214","v":"  Grovfoder:"},{"$f":"'Flow smågrise'!$C$38","v":"Tildelt grovfoder"},{"$f":"'input-data'!E220","v":0},{"$f":"'Flow smågrise'!$D$38*'input-data'!I220/100","v":0},0,{"$f":"F136*'Flow smågrise'!$D$9","v":0},0,{"$f":"I136*'Flow smågrise'!$D$9","v":0},0,0,0,0,0,0,0,0,0,0,0,0,0,0]
[null,{"$f":"'input-data'!$B$154","v":" Smågrise"},{"$f":"'input-data'!$B$214","v":"  Grovfoder:"},{"$f":"'Flow smågrise'!$C$38","v":"Tildelt grovfoder"},{"$f":"'input-data'!E221","v":0},{"$f":"'Flow smågrise'!$D$38*'input-data'!I221/100","v":0},0,{"$f":"F137*'Flow smågrise'!$D$9","v":0},0,{"$f":"I137*'Flow smågrise'!$D$9","v":0},0,0,0,0,0,0,0,0,0,0,0,0,0,0]
[null,{"$f":"'input-data'!$B$154","v":" Smågrise"},{"$f":"'input-data'!$B$214","v":"  Grovfoder:"},{"$f":"'Flow smågrise'!$C$38","v":"Tildelt grovfoder"},{"$f":"'input-data'!E222","v":0},{"$f":"'Flow smågrise'!$D$38*'input-data'!I222/100","v":0},0,{"$f":"F138*'Flow smågrise'!$D$9","v":0},0,{"$f":"I138*'Flow smågrise'!$D$9","v":0},0,0,0,0,0,0,0,0,0,0,0,0,0,0]
[null,{"$f":"'input-data'!$B$154","v":" Smågrise"},{"$f":"'input-data'!$B$214","v":"  Grovfoder:"},{"$f":"'Flow smågrise'!C37","v":"Afgræsning (april-september)"},{"$f":"Fodertabel!D691","v":"kløvergræs "},{"$f":"'Flow smågrise'!D37","v":0},0,{"$f":"F139*'Flow smågrise'!$D$9","v":0},0,{"$f":"I139*'Flow smågrise'!$D$9","v":0},0,0,"folde",0,0,0,{"$f":"$J139*'Mark-Fields'!$E$140","v":0},{"$f":"$J139*'Mark-Fields'!$E$143","v":0},{"$f":"$J139*'Mark-Fields'!$E$146","v":0},{"$f":"$J139*'Mark-Fields'!$E$166","v":0},{"$f":"$J139*'Mark-Fields'!$E$200","v":0},{"$f":"$J139*'Mark-Fields'!$E$184","v":0},{"$f":"$J139*'Mark-Fields'!$E$208","v":0},"kløvergræs"]
[null,{"$f":"'input-data'!$B$225","v":" Slagtesvin"},{"$f":"'input-data'!$B$226","v":"  Kraftfoder:"},{"$f":"'input-data'!$B$228","v":"    blanding 1, for vægtinterval, kg:"},{"$f":"'input-data'!E230","v":0},{"$f":"IFERROR('Flow slagtesvin'!$D$30*100/'Flow slagtesvin'!$D$49*'input-data'!I230/100,0)","v":0},0,{"$f":"F140*'Flow slagtesvin'!$D$8","v":0},0,{"$f":"I140*'Flow slagtesvin'!$D$8","v":0},0,0,0,0,0,0,{"$f":"IFERROR(VLOOKUP($E140, Fodertabel, 218, FALSE)*$J140, 0)","v":0},{"$f":"IFERROR(VLOOKUP($E140, Fodertabel, 219, FALSE)*$J140, 0)","v":0},{"$f":"IFERROR(VLOOKUP($E140, Fodertabel, 220, FALSE)*$J140, 0)","v":0},{"$f":"IFERROR(VLOOKUP($E140, Fodertabel, 221, FALSE)*$J140, 0)","v":0},{"$f":"IFERROR(VLOOKUP($E140, Fodertabel, 222, FALSE)*$J140, 0)","v":0},{"$f":"IFERROR(VLOOKUP($E140, Fodertabel, 223, FALSE)*$J140, 0)","v":0},{"$f":"IFERROR(VLOOKUP($E140, Fodertabel, 224, FALSE)*$J140, 0)","v":0},0]
[null,{"$f":"'input-data'!$B$225","v":" Slagtesvin"},{"$f":"'input-data'!$B$226","v":"  Kraftfoder:"},{"$f":"'input-data'!$B$228","v":"    blanding 1, for vægtinterval, kg:"},{"$f":"'input-data'!E231","v":0},{"$f":"IFERROR('Flow slagtesvin'!$D$30*100/'Flow slagtesvin'!$D$49*'input-data'!I231/100,0)","v":0},0,{"$f":"F141*'Flow slagtesvin'!$D$8","v":0},0,{"$f":"I141*'Flow slagtesvin'!$D$8","v":0},0,0,0,0,0,0,0,0,0,0,0,0,0,0]
[null,{"$f":"'input-data'!$B$225","v":" Slagtesvin"},{"$f":"'input-data'!$B$226","v":"  Kraftfoder:"},{"$f":"'input-data'!$B$228","v":"    blanding 1, for vægtinterval, kg:"},{"$f":"'input-data'!E232","v":0},{"$f":"IFERROR('Flow slagtesvin'!$D$30*100/'Flow slagtesvin'!$D$49*'input-data'!I232/100,0)","v":0},0,{"$f":"F142*'Flow slagtesvin'!$D$8","v":0},0,{"$f":"I142*'Flow slagtesvin'!$D$8","v":0},0,0,0,0,0,0,0,0,0,0,0,0,0,0]
[null,{"$f":"'input-data'!$B$225","v":" Slagtesvin"},{"$f":"'input-data'!$B$226","v":"  Kraftfoder:"},{"$f":"'input-data'!$B$228","v":"    blanding 1, for vægtinterval, kg:"},{"$f":"'input-data'!E233","v":0},{"$f":"IFERROR('Flow slagtesvin'!$D$30*100/'Flow slagtesvin'!$D$49*'input-data'!I233/100,0)","v":0},0,{"$f":"F143*'Flow slagtesvin'!$D$8","v":0},0,{"$f":"I143*'Flow slagtesvin'!$D$8","v":0},0,0,0,0,0,0,0,0,0,0,0,0,0,0]
[null,{"$f":"'input-data'!$B$225","v":" Slagtesvin"},{"$f":"'input-data'!$B$226","v":"  Kraftfoder:"},{"$f":"'input-data'!$B$228","v":"    blanding 1, for vægtinterval, kg:"},{"$f":"'input-data'!E234","v":0},{"$f":"IFERROR('Flow slagtesvin'!$D$30*100/'Flow slagtesvin'!$D$49*'input-data'!I234/100,0)","v":0},0,{"$f":"F144*'Flow slagtesvin'!$D$8","v":0},0,{"$f":"I144*'Flow slagtesvin'!$D$8","v":0},0,0,0,0,0,0,0,0,0,0,0,0,0,0]
[null,{"$f":"'input-data'!$B$225","v":" Slagtesvin"},{"$f":"'input-data'!$B$226","v":"  Kraftfoder:"},{"$f":"'input-data'!$B$228","v":"    blanding 1, for vægtinterval, kg:"},{"$f":"'input-data'!E235","v":0},{"$f":"IFERROR('Flow slagtesvin'!$D$30*100/'Flow slagtesvin'!$D$49*'input-data'!I235/100,0)","v":0},0,{"$f":"F145*'Flow slagtesvin'!$D$8","v":0},0,{"$f":"I145*'Flow slagtesvin'!$D$8","v":0},{"$f":"IFERROR(J145*VLOOKUP(E145, Fodertabel, 60, FALSE)/100/6.25, 0)","v":0},{"$f":"IFERROR(J145*VLOOKUP(E145, Fodertabel, 23, FALSE)/1000, 0)","v":0},{"$f":"IFERROR(VLOOKUP(E145, Fodertabel, 226, FALSE), 0)","v":0},{"$f":"IF(OR(M145=\"onfarm\", M145=\"folde\", M145=\"paddock\"), J145, 0)","v":0},{"$f":"IFERROR(J145/N145*K145, 0)","v":0},{"$f":"IFERROR(N145/J145*L145, 0)","v":0},0,0,0,0,0,0,0,{"$f":"IFERROR(VLOOKUP(E145, Fodertabel, 227, FALSE), 0)","v":0}]
[null,{"$f":"'input-data'!$B$225","v":" Slagtesvin"},{"$f":"'input-data'!$B$226","v":"  Kraftfoder:"},{"$f":"'input-data'!$B$228","v":"    blanding 1, for vægtinterval, kg:"},{"$f":"'input-data'!E236","v":0},{"$f":"IFERROR('Flow slagtesvin'!$D$30*100/'Flow slagtesvin'!$D$49*'input-data'!I236/100,0)","v":0},0,{"$f":"F146*'Flow slagtesvin'!$D$8","v":0},0,{"$f":"I146*'Flow slagtesvin'!$D$8","v":0},0,0,0,0,0,0,0,0,0,0,0,0,0,0]
[null,{"$f":"'input-data'!$B$225","v":" Slagtesvin"},{"$f":"'input-data'!$B$226","v":"  Kraftfoder:"},{"$f":"'input-data'!$B$228","v":"    blanding 1, for vægtinterval, kg:"},{"$f":"'input-data'!E237","v":0},{"$f":"IFERROR('Flow slagtesvin'!$D$30*100/'Flow slagtesvin'!$D$49*'input-data'!I237/100,0)","v":0},0,{"$f":"F147*'Flow slagtesvin'!$D$8","v":0},0,{"$f":"I147*'Flow slagtesvin'!$D$8","v":0},0,0,0,0,0,0,0,0,0,0,0,0,0,0]
[null,{"$f":"'input-data'!$B$225","v":" Slagtesvin"},{"$f":"'input-data'!$B$226","v":"  Kraftfoder:"},{"$f":"'input-data'!$B$228","v":"    blanding 1, for vægtinterval, kg:"},{"$f":"'input-data'!E238","v":0},{"$f":"IFERROR('Flow slagtesvin'!$D$30*100/'Flow slagtesvin'!$D$49*'input-data'!I238/100,0)","v":0},0,{"$f":"F148*'Flow slagtesvin'!$D$8","v":0},0,{"$f":"I148*'Flow slagtesvin'!$D$8","v":0},0,0,0,0,0,0,0,0,0,0,0,0,0,0]
[null,{"$f":"'input-data'!$B$225","v":" Slagtesvin"},{"$f":"'input-data'!$B$226","v":"  Kraftfoder:"},{"$f":"'input-data'!$B$228","v":"    blanding 1, for vægtinterval, kg:"},{"$f":"'input-data'!E239","v":0},{"$f":"IFERROR('Flow slagtesvin'!$D$30*100/'Flow slagtesvin'!$D$49*'input-data'!I239/100,0)","v":0},0,{"$f":"F149*'Flow slagtesvin'!$D$8","v":0},0,{"$f":"I149*'Flow slagtesvin'!$D$8","v":0},0,0,0,0,0,0,0,0,0,0,0,0,0,0]
[null,{"$f":"'input-data'!$B$225","v":" Slagtesvin"},{"$f":"'input-data'!$B$226","v":"  Kraftfoder:"},{"$f":"'input-data'!$B$228","v":"    blanding 1, for vægtinterval, kg:"},{"$f":"'input-data'!E240","v":0},{"$f":"IFERROR('Flow slagtesvin'!$D$30*100/'Flow slagtesvin'!$D$49*'input-data'!I240/100,0)","v":0},0,{"$f":"F150*'Flow slagtesvin'!$D$8","v":0},0,{"$f":"I150*'Flow slagtesvin'!$D$8","v":0},0,0,0,0,0,0,0,0,0,0,0,0,0,0]
[null,{"$f":"'input-data'!$B$225","v":" Slagtesvin"},{"$f":"'input-data'!$B$226","v":"  Kraftfoder:"},{"$f":"'input-data'!$B$228","v":"    blanding 1, for vægtinterval, kg:"},{"$f":"'input-data'!E241","v":0},{"$f":"IFERROR('Flow slagtesvin'!$D$30*100/'Flow slagtesvin'!$D$49*'input-data'!I241/100,0)","v":0},0,{"$f":"F151*'Flow slagtesvin'!$D$8","v":0},0,{"$f":"I151*'Flow slagtesvin'!$D$8","v":0},0,0,0,0,0,0,0,0,0,0,0,0,0,0]
[null,{"$f":"'input-data'!$B$225","v":" Slagtesvin"},{"$f":"'input-data'!$B$226","v":"  Kraftfoder:"},{"$f":"'input-data'!$B$228","v":"    blanding 1, for vægtinterval, kg:"},{"$f":"'input-data'!E242","v":0},{"$f":"IFERROR('Flow slagtesvin'!$D$30*100/'Flow slagtesvin'!$D$49*'input-data'!I242/100,0)","v":0},0,{"$f":"F152*'Flow slagtesvin'!$D$8","v":0},0,{"$f":"I152*'Flow slagtesvin'!$D$8","v":0},0,0,0,0,0,0,0,0,0,0,0,0,0,0]
[null,{"$f":"'input-data'!$B$225","v":" Slagtesvin"},{"$f":"'input-data'!$B$226","v":"  Kraftfoder:"},{"$f":"'input-data'!$B$228","v":"    blanding 1, for vægtinterval, kg:"},{"$f":"'input-data'!E243","v":0},{"$f":"IFERROR('Flow slagtesvin'!$D$30*100/'Flow slagtesvin'!$D$49*'input-data'!I243/100,0)","v":0},{"$f":"IFERROR(F153*VLOOKUP(E153, Fodertabel, 3, FALSE), 0)","v":0},{"$f":"F153*'Flow slagtesvin'!$D$8","v":0},{"$f":"IFERROR(F153*VLOOKUP(E153, Fodertabel, 9, FALSE)/100, 0)","v":0},{"$f":"I153*'Flow slagtesvin'!$D$8","v":0},0,0,0,0,0,0,0,0,0,0,0,0,0,0]
[null,{"$f":"'input-data'!$B$225","v":" Slagtesvin"},{"$f":"'input-data'!$B$226","v":"  Kraftfoder:"},{"$f":"'input-data'!$B$228","v":"    blanding 1, for vægtinterval, kg:"},{"$f":"'input-data'!E244","v":0},{"$f":"IFERROR('Flow slagtesvin'!$D$30*100/'Flow slagtesvin'!$D$49*'input-data'!I244/100,0)","v":0},0,{"$f":"F154*'Flow slagtesvin'!$D$8","v":0},0,{"$f":"I154*'Flow slagtesvin'!$D$8","v":0},0,0,0,0,0,0,0,0,0,0,0,0,0,0]
[null,{"$f":"'input-data'!$B$225","v":" Slagtesvin"},{"$f":"'input-data'!$B$226","v":"  Kraftfoder:"},{"$f":"'input-data'!$B$247","v":"    blanding 2, for vægtinterval, kg:"},{"$f":"'input-data'!E249","v":0},{"$f":"IFERROR('Flow slagtesvin'!$D$31*100/'Flow slagtesvin'!$D$54*'input-data'!I249/100, 0)","v":0},0,{"$f":"F155*'Flow slagtesvin'!$D$8","v":0},0,{"$f":"I155*'Flow slagtesvin'!$D$8","v":0},0,0,0,0,0,0,0,0,0,0,0,0,0,0]
[null,{"$f":"'input-data'!$B$225","v":" Slagtesvin"},{"$f":"'input-data'!$B$226","v":"  Kraftfoder:"},{"$f":"'input-data'!$B$247","v":"    blanding 2, for vægtinterval, kg:"},{"$f":"'input-data'!E250","v":0},{"$f":"IFERROR('Flow slagtesvin'!$D$31*100/'Flow slagtesvin'!$D$54*'input-data'!I250/100, 0)","v":0},0,{"$f":"F156*'Flow slagtesvin'!$D$8","v":0},0,{"$f":"I156*'Flow slagtesvin'!$D$8","v":0},0,0,0,0,0,0,0,0,0,0,0,0,0,0]
[null,{"$f":"'input-data'!$B$225","v":" Slagtesvin"},{"$f":"'input-data'!$B$226","v":"  Kraftfoder:"},{"$f":"'input-data'!$B$247","v":"    blanding 2, for vægtinterval, kg:"},{"$f":"'input-data'!E251","v":0},{"$f":"IFERROR('Flow slagtesvin'!$D$31*100/'Flow slagtesvin'!$D$54*'input-data'!I251/100, 0)","v":0},0,{"$f":"F157*'Flow slagtesvin'!$D$8","v":0},0,{"$f":"I157*'Flow slagtesvin'!$D$8","v":0},0,0,0,0,0,0,0,0,0,0,0,0,0,0]
[null,{"$f":"'input-data'!$B$225","v":" Slagtesvin"},{"$f":"'input-data'!$B$226","v":"  Kraftfoder:"},{"$f":"'input-data'!$B$247","v":"    blanding 2, for vægtinterval, kg:"},{"$f":"'input-data'!E252","v":0},{"$f":"IFERROR('Flow slagtesvin'!$D$31*100/'Flow slagtesvin'!$D$54*'input-data'!I252/100, 0)","v":0},0,{"$f":"F158*'Flow slagtesvin'!$D$8","v":0},0,{"$f":"I158*'Flow slagtesvin'!$D$8","v":0},0,0,0,0,0,0,0,0,0,0,0,0,0,0]
[null,{"$f":"'input-data'!$B$225","v":" Slagtesvin"},{"$f":"'input-data'!$B$226","v":"  Kraftfoder:"},{"$f":"'input-data'!$B$247","v":"    blanding 2, for vægtinterval, kg:"},{"$f":"'input-data'!E253","v":0},{"$f":"IFERROR('Flow slagtesvin'!$D$31*100/'Flow slagtesvin'!$D$54*'input-data'!I253/100, 0)","v":0},0,{"$f":"F159*'Flow slagtesvin'!$D$8","v":0},0,{"$f":"I159*'Flow slagtesvin'!$D$8","v":0},0,0,0,0,0,0,0,0,0,0,0,0,0,0]
[null,{"$f":"'input-data'!$B$225","v":" Slagtesvin"},{"$f":"'input-data'!$B$226","v":"  Kraftfoder:"},{"$f":"'input-data'!$B$247","v":"    blanding 2, for vægtinterval, kg:"},{"$f":"'input-data'!E254","v":0},{"$f":"IFERROR('Flow slagtesvin'!$D$31*100/'Flow slagtesvin'!$D$54*'input-data'!I254/100, 0)","v":0},0,{"$f":"F160*'Flow slagtesvin'!$D$8","v":0},0,{"$f":"I160*'Flow slagtesvin'!$D$8","v":0},0,0,0,0,0,0,0,0,0,0,0,0,0,0]
[null,{"$f":"'input-data'!$B$225","v":" Slagtesvin"},{"$f":"'input-data'!$B$226","v":"  Kraftfoder:"},{"$f":"'input-data'!$B$247","v":"    blanding 2, for vægtinterval, kg:"},{"$f":"'input-data'!E255","v":0},{"$f":"IFERROR('Flow slagtesvin'!$D$31*100/'Flow slagtesvin'!$D$54*'input-data'!I255/100, 0)","v":0},0,{"$f":"F161*'Flow slagtesvin'!$D$8","v":0},0,{"$f":"I161*'Flow slagtesvin'!$D$8","v":0},0,0,0,0,0,0,0,0,0,0,0,0,0,0]
[null,{"$f":"'input-data'!$B$225","v":" Slagtesvin"},{"$f":"'input-data'!$B$226","v":"  Kraftfoder:"},{"$f":"'input-data'!$B$247","v":"    blanding 2, for vægtinterval, kg:"},{"$f":"'input-data'!E256","v":0},{"$f":"IFERROR('Flow slagtesvin'!$D$31*100/'Flow slagtesvin'!$D$54*'input-data'!I256/100, 0)","v":0},0,{"$f":"F162*'Flow slagtesvin'!$D$8","v":0},0,{"$f":"I162*'Flow slagtesvin'!$D$8","v":0},0,0,0,0,0,0,0,0,0,0,0,0,0,0]
[null,{"$f":"'input-data'!$B$225","v":" Slagtesvin"},{"$f":"'input-data'!$B$226","v":"  Kraftfoder:"},{"$f":"'input-data'!$B$247","v":"    blanding 2, for vægtinterval, kg:"},{"$f":"'input-data'!E257","v":0},{"$f":"IFERROR('Flow slagtesvin'!$D$31*100/'Flow slagtesvin'!$D$54*'input-data'!I257/100, 0)","v":0},0,{"$f":"F163*'Flow slagtesvin'!$D$8","v":0},0,{"$f":"I163*'Flow slagtesvin'!$D$8","v":0},0,0,0,0,0,0,0,0,0,0,0,0,0,0]
[null,{"$f":"'input-data'!$B$225","v":" Slagtesvin"},{"$f":"'input-data'!$B$226","v":"  Kraftfoder:"},{"$f":"'input-data'!$B$247","v":"    blanding 2, for vægtinterval, kg:"},{"$f":"'input-data'!E258","v":0},{"$f":"IFERROR('Flow slagtesvin'!$D$31*100/'Flow slagtesvin'!$D$54*'input-data'!I258/100, 0)","v":0},0,{"$f":"F164*'Flow slagtesvin'!$D$8","v":0},0,{"$f":"I164*'Flow slagtesvin'!$D$8","v":0},0,0,0,0,0,0,0,0,0,0,0,0,0,0]
[null,{"$f":"'input-data'!$B$225","v":" Slagtesvin"},{"$f":"'input-data'!$B$226","v":"  Kraftfoder:"},{"$f":"'input-data'!$B$247","v":"    blanding 2, for vægtinterval, kg:"},{"$f":"'input-data'!E259","v":0},{"$f":"IFERROR('Flow slagtesvin'!$D$31*100/'Flow slagtesvin'!$D$54*'input-data'!I259/100, 0)","v":0},0,{"$f":"F165*'Flow slagtesvin'!$D$8","v":0},0,{"$f":"I165*'Flow slagtesvin'!$D$8","v":0},0,0,0,0,0,0,0,0,0,0,0,0,0,0]
[null,{"$f":"'input-data'!$B$225","v":" Slagtesvin"},{"$f":"'input-data'!$B$226","v":"  Kraftfoder:"},{"$f":"'input-data'!$B$247","v":"    blanding 2, for vægtinterval, kg:"},{"$f":"'input-data'!E260","v":0},{"$f":"IFERROR('Flow slagtesvin'!$D$31*100/'Flow slagtesvin'!$D$54*'input-data'!I260/100, 0)","v":0},0,{"$f":"F166*'Flow slagtesvin'!$D$8","v":0},0,{"$f":"I166*'Flow slagtesvin'!$D$8","v":0},0,0,0,0,0,0,0,0,0,0,0,0,0,0]
[null,{"$f":"'input-data'!$B$225","v":" Slagtesvin"},{"$f":"'input-data'!$B$226","v":"  Kraftfoder:"},{"$f":"'input-data'!$B$247","v":"    blanding 2, for vægtinterval, kg:"},{"$f":"'input-data'!E261","v":0},{"$f":"IFERROR('Flow slagtesvin'!$D$31*100/'Flow slagtesvin'!$D$54*'input-data'!I261/100, 0)","v":0},0,{"$f":"F167*'Flow slagtesvin'!$D$8","v":0},0,{"$f":"I167*'Flow slagtesvin'!$D$8","v":0},0,0,0,0,0,0,0,0,0,0,0,0,0,0]
[null,{"$f":"'input-data'!$B$225","v":" Slagtesvin"},{"$f":"'input-data'!$B$226","v":"  Kraftfoder:"},{"$f":"'input-data'!$B$247","v":"    blanding 2, for vægtinterval, kg:"},{"$f":"'input-data'!E262","v":0},{"$f":"IFERROR('Flow slagtesvin'!$D$31*100/'Flow slagtesvin'!$D$54*'input-data'!I262/100, 0)","v":0},0,{"$f":"F168*'Flow slagtesvin'!$D$8","v":0},0,{"$f":"I168*'Flow slagtesvin'!$D$8","v":0},0,0,0,0,0,0,0,0,0,0,0,0,0,0]
[null,{"$f":"'input-data'!$B$225","v":" Slagtesvin"},{"$f":"'input-data'!$B$226","v":"  Kraftfoder:"},{"$f":"'input-data'!$B$247","v":"    blanding 2, for vægtinterval, kg:"},{"$f":"'input-data'!E263","v":0},{"$f":"IFERROR('Flow slagtesvin'!$D$31*100/'Flow slagtesvin'!$D$54*'input-data'!I263/100, 0)","v":0},0,{"$f":"F169*'Flow slagtesvin'!$D$8","v":0},0,{"$f":"I169*'Flow slagtesvin'!$D$8","v":0},0,0,0,0,0,0,0,0,0,0,0,0,0,0]
[null,{"$f":"'input-data'!$B$225","v":" Slagtesvin"},{"$f":"'input-data'!$B$226","v":"  Kraftfoder:"},{"$f":"'input-data'!$B$266","v":"    blanding 3, for vægtinterval, kg:"},{"$f":"'input-data'!E268","v":0},{"$f":"IFERROR('Flow slagtesvin'!$D$31*100/'Flow slagtesvin'!$D$54*'input-data'!I264/100, 0)","v":0},0,{"$f":"F170*'Flow slagtesvin'!$D$8","v":0},0,{"$f":"I170*'Flow slagtesvin'!$D$8","v":0},0,0,0,0,0,0,0,0,0,0,0,0,0,0]
[null,{"$f":"'input-data'!$B$225","v":" Slagtesvin"},{"$f":"'input-data'!$B$226","v":"  Kraftfoder:"},{"$f":"'input-data'!$B$266","v":"    blanding 3, for vægtinterval, kg:"},{"$f":"'input-data'!E269","v":0},{"$f":"IFERROR('Flow slagtesvin'!$D$31*100/'Flow slagtesvin'!$D$54*'input-data'!I265/100, 0)","v":0},0,{"$f":"F171*'Flow slagtesvin'!$D$8","v":0},0,{"$f":"I171*'Flow slagtesvin'!$D$8","v":0},0,0,0,0,0,0,0,0,0,0,0,0,0,0]
[null,{"$f":"'input-data'!$B$225","v":" Slagtesvin"},{"$f":"'input-data'!$B$226","v":"  Kraftfoder:"},{"$f":"'input-data'!$B$266","v":"    blanding 3, for vægtinterval, kg:"},{"$f":"'input-data'!E270","v":0},{"$f":"IFERROR('Flow slagtesvin'!$D$31*100/'Flow slagtesvin'!$D$54*'input-data'!I266/100, 0)","v":0},0,{"$f":"F172*'Flow slagtesvin'!$D$8","v":0},0,{"$f":"I172*'Flow slagtesvin'!$D$8","v":0},0,0,0,0,0,0,{"$f":"IFERROR(VLOOKUP($E172, Fodertabel, 218, FALSE)*$J172, 0)","v":0},{"$f":"IFERROR(VLOOKUP($E172, Fodertabel, 219, FALSE)*$J172, 0)","v":0},{"$f":"IFERROR(VLOOKUP($E172, Fodertabel, 220, FALSE)*$J172, 0)","v":0},{"$f":"IFERROR(VLOOKUP($E172, Fodertabel, 221, FALSE)*$J172, 0)","v":0},{"$f":"IFERROR(VLOOKUP($E172, Fodertabel, 222, FALSE)*$J172, 0)","v":0},{"$f":"IFERROR(VLOOKUP($E172, Fodertabel, 223, FALSE)*$J172, 0)","v":0},{"$f":"IFERROR(VLOOKUP($E172, Fodertabel, 224, FALSE)*$J172, 0)","v":0},0]
[null,{"$f":"'input-data'!$B$225","v":" Slagtesvin"},{"$f":"'input-data'!$B$226","v":"  Kraftfoder:"},{"$f":"'input-data'!$B$266","v":"    blanding 3, for vægtinterval, kg:"},{"$f":"'input-data'!E271","v":0},{"$f":"IFERROR('Flow slagtesvin'!$D$31*100/'Flow slagtesvin'!$D$54*'input-data'!I267/100, 0)","v":0},0,{"$f":"F173*'Flow slagtesvin'!$D$8","v":0},0,{"$f":"I173*'Flow slagtesvin'!$D$8","v":0},0,0,0,0,0,0,0,0,0,0,0,0,0,0]
[null,{"$f":"'input-data'!$B$225","v":" Slagtesvin"},{"$f":"'input-data'!$B$226","v":"  Kraftfoder:"},{"$f":"'input-data'!$B$266","v":"    blanding 3, for vægtinterval, kg:"},{"$f":"'input-data'!E272","v":0},{"$f":"IFERROR('Flow slagtesvin'!$D$31*100/'Flow slagtesvin'!$D$54*'input-data'!I268/100, 0)","v":0},0,{"$f":"F174*'Flow slagtesvin'!$D$8","v":0},0,{"$f":"I174*'Flow slagtesvin'!$D$8","v":0},0,0,0,0,0,0,0,0,0,0,0,0,0,0]
[null,{"$f":"'input-data'!$B$225","v":" Slagtesvin"},{"$f":"'input-data'!$B$226","v":"  Kraftfoder:"},{"$f":"'input-data'!$B$266","v":"    blanding 3, for vægtinterval, kg:"},{"$f":"'input-data'!E273","v":0},{"$f":"IFERROR('Flow slagtesvin'!$D$31*100/'Flow slagtesvin'!$D$54*'input-data'!I269/100, 0)","v":0},0,{"$f":"F175*'Flow slagtesvin'!$D$8","v":0},0,{"$f":"I175*'Flow slagtesvin'!$D$8","v":0},0,0,0,0,0,0,0,0,0,0,0,0,0,0]
[null,{"$f":"'input-data'!$B$225","v":" Slagtesvin"},{"$f":"'input-data'!$B$226","v":"  Kraftfoder:"},{"$f":"'input-data'!$B$266","v":"    blanding 3, for vægtinterval, kg:"},{"$f":"'input-data'!E274","v":0},{"$f":"IFERROR('Flow slagtesvin'!$D$31*100/'Flow slagtesvin'!$D$54*'input-data'!I270/100, 0)","v":0},0,{"$f":"F176*'Flow slagtesvin'!$D$8","v":0},0,{"$f":"I176*'Flow slagtesvin'!$D$8","v":0},0,0,0,0,0,0,0,0,0,0,0,0,0,0]
[null,{"$f":"'input-data'!$B$225","v":" Slagtesvin"},{"$f":"'input-data'!$B$226","v":"  Kraftfoder:"},{"$f":"'input-data'!$B$266","v":"    blanding 3, for vægtinterval, kg:"},{"$f":"'input-data'!E275","v":0},{"$f":"IFERROR('Flow slagtesvin'!$D$31*100/'Flow slagtesvin'!$D$54*'input-data'!I271/100, 0)","v":0},0,{"$f":"F177*'Flow slagtesvin'!$D$8","v":0},0,{"$f":"I177*'Flow slagtesvin'!$D$8","v":0},{"$f":"IFERROR(J177*VLOOKUP(E177, Fodertabel, 60, FALSE)/100/6.25, 0)","v":0},{"$f":"IFERROR(J177*VLOOKUP(E177, Fodertabel, 23, FALSE)/1000, 0)","v":0},{"$f":"IFERROR(VLOOKUP(E177, Fodertabel, 226, FALSE), 0)","v":0},{"$f":"IF(OR(M177=\"onfarm\", M177=\"folde\", M177=\"paddock\"), J177, 0)","v":0},{"$f":"IFERROR(J177/N177*K177, 0)","v":0},{"$f":"IFERROR(N177/J177*L177, 0)","v":0},0,0,0,0,0,0,0,{"$f":"IFERROR(VLOOKUP(E177, Fodertabel, 227, FALSE), 0)","v":0}]
[null,{"$f":"'input-data'!$B$225","v":" Slagtesvin"},{"$f":"'input-data'!$B$226","v":"  Kraftfoder:"},{"$f":"'input-data'!$B$266","v":"    blanding 3, for vægtinterval, kg:"},{"$f":"'input-data'!E276","v":0},{"$f":"IFERROR('Flow slagtesvin'!$D$31*100/'Flow slagtesvin'!$D$54*'input-data'!I272/100, 0)","v":0},0,{"$f":"F178*'Flow slagtesvin'!$D$8","v":0},0,{"$f":"I178*'Flow slagtesvin'!$D$8","v":0},0,0,0,0,0,0,0,0,0,0,0,0,0,0]
[null,{"$f":"'input-data'!$B$225","v":" Slagtesvin"},{"$f":"'input-data'!$B$226","v":"  Kraftfoder:"},{"$f":"'input-data'!$B$266","v":"    blanding 3, for vægtinterval, kg:"},{"$f":"'input-data'!E277","v":0},{"$f":"IFERROR('Flow slagtesvin'!$D$31*100/'Flow slagtesvin'!$D$54*'input-data'!I273/100, 0)","v":0},0,{"$f":"F179*'Flow slagtesvin'!$D$8","v":0},0,{"$f":"I179*'Flow slagtesvin'!$D$8","v":0},0,0,0,0,0,0,0,0,0,0,0,0,0,0]
[null,{"$f":"'input-data'!$B$225","v":" Slagtesvin"},{"$f":"'input-data'!$B$226","v":"  Kraftfoder:"},{"$f":"'input-data'!$B$266","v":"    blanding 3, for vægtinterval, kg:"},{"$f":"'input-data'!E278","v":0},{"$f":"IFERROR('Flow slagtesvin'!$D$31*100/'Flow slagtesvin'!$D$54*'input-data'!I274/100, 0)","v":0},0,{"$f":"F180*'Flow slagtesvin'!$D$8","v":0},0,{"$f":"I180*'Flow slagtesvin'!$D$8","v":0},0,0,0,0,0,0,0,0,0,0,0,0,0,0]
[null,{"$f":"'input-data'!$B$225","v":" Slagtesvin"},{"$f":"'input-data'!$B$226","v":"  Kraftfoder:"},{"$f":"'input-data'!$B$266","v":"    blanding 3, for vægtinterval, kg:"},{"$f":"'input-data'!E279","v":0},{"$f":"IFERROR('Flow slagtesvin'!$D$31*100/'Flow slagtesvin'!$D$54*'input-data'!I275/100, 0)","v":0},0,{"$f":"F181*'Flow slagtesvin'!$D$8","v":0},0,{"$f":"I181*'Flow slagtesvin'!$D$8","v":0},0,0,0,0,0,0,0,0,0,0,0,0,0,0]
[null,{"$f":"'input-data'!$B$225","v":" Slagtesvin"},{"$f":"'input-data'!$B$226","v":"  Kraftfoder:"},{"$f":"'input-data'!$B$266","v":"    blanding 3, for vægtinterval, kg:"},{"$f":"'input-data'!E280","v":0},{"$f":"IFERROR('Flow slagtesvin'!$D$31*100/'Flow slagtesvin'!$D$54*'input-data'!I276/100, 0)","v":0},0,{"$f":"F182*'Flow slagtesvin'!$D$8","v":0},0,{"$f":"I182*'Flow slagtesvin'!$D$8","v":0},0,0,0,0,0,0,0,0,0,0,0,0,0,0]
[null,{"$f":"'input-data'!$B$225","v":" Slagtesvin"},{"$f":"'input-data'!$B$226","v":"  Kraftfoder:"},{"$f":"'input-data'!$B$266","v":"    blanding 3, for vægtinterval, kg:"},{"$f":"'input-data'!E281","v":0},{"$f":"IFERROR('Flow slagtesvin'!$D$31*100/'Flow slagtesvin'!$D$54*'input-data'!I277/100, 0)","v":0},0,{"$f":"F183*'Flow slagtesvin'!$D$8","v":0},0,{"$f":"I183*'Flow slagtesvin'!$D$8","v":0},0,0,0,0,0,0,0,0,0,0,0,0,0,0]
[null,{"$f":"'input-data'!$B$225","v":" Slagtesvin"},{"$f":"'input-data'!$B$226","v":"  Kraftfoder:"},{"$f":"'input-data'!$B$266","v":"    blanding 3, for vægtinterval, kg:"},{"$f":"'input-data'!E282","v":0},{"$f":"IFERROR('Flow slagtesvin'!$D$31*100/'Flow slagtesvin'!$D$54*'input-data'!I278/100, 0)","v":0},0,{"$f":"F184*'Flow slagtesvin'!$D$8","v":0},0,{"$f":"I184*'Flow slagtesvin'!$D$8","v":0},0,0,0,0,0,0,0,0,0,0,0,0,0,0]
[null,{"$f":"'input-data'!$B$225","v":" Slagtesvin"},{"$f":"'input-data'!$B$285","v":"  Grovfoder:"},{"$f":"'Flow slagtesvin'!$C$37","v":"Tildelt grovfoder"},{"$f":"'input-data'!E289","v":0},{"$f":"'Flow slagtesvin'!$D$37*'input-data'!I289/100","v":0},{"$f":"IFERROR(F185*VLOOKUP(E185, Fodertabel, 3, FALSE), 0)","v":0},{"$f":"F185*'Flow slagtesvin'!$D$8","v":0},{"$f":"IFERROR(F185*VLOOKUP(E185, Fodertabel, 9, FALSE)/100, 0)","v":0},{"$f":"I185*'Flow slagtesvin'!$D$8","v":0},0,0,0,0,0,0,0,0,0,0,0,0,0,0]
[null,{"$f":"'input-data'!$B$225","v":" Slagtesvin"},{"$f":"'input-data'!$B$285","v":"  Grovfoder:"},{"$f":"'Flow slagtesvin'!$C$37","v":"Tildelt grovfoder"},{"$f":"'input-data'!E290","v":0},{"$f":"'Flow slagtesvin'!$D$37*'input-data'!I290/100","v":0},0,{"$f":"F186*'Flow slagtesvin'!$D$8","v":0},0,{"$f":"I186*'Flow slagtesvin'!$D$8","v":0},0,0,0,0,0,0,0,0,0,0,0,0,0,0]
[null,{"$f":"'input-data'!$B$225","v":" Slagtesvin"},{"$f":"'input-data'!$B$285","v":"  Grovfoder:"},{"$f":"'Flow slagtesvin'!$C$37","v":"Tildelt grovfoder"},{"$f":"'input-data'!E291","v":0},{"$f":"'Flow slagtesvin'!$D$37*'input-data'!I291/100","v":0},0,{"$f":"F187*'Flow slagtesvin'!$D$8","v":0},0,{"$f":"I187*'Flow slagtesvin'!$D$8","v":0},0,0,0,0,0,0,0,0,0,0,0,0,0,0]
[null,{"$f":"'input-data'!$B$225","v":" Slagtesvin"},{"$f":"'input-data'!$B$285","v":"  Grovfoder:"},{"$f":"'Flow slagtesvin'!$C$37","v":"Tildelt grovfoder"},{"$f":"'input-data'!E292","v":0},{"$f":"'Flow slagtesvin'!$D$37*'input-data'!I292/100","v":0},0,{"$f":"F188*'Flow slagtesvin'!$D$8","v":0},0,{"$f":"I188*'Flow slagtesvin'!$D$8","v":0},0,0,0,0,0,0,0,0,0,0,0,0,0,0]
[null,{"$f":"'input-data'!$B$225","v":" Slagtesvin"},{"$f":"'input-data'!$B$285","v":"  Grovfoder:"},{"$f":"'Flow slagtesvin'!$C$37","v":"Tildelt grovfoder"},{"$f":"'input-data'!E293","v":0},{"$f":"'Flow slagtesvin'!$D$37*'input-data'!I293/100","v":0},0,{"$f":"F189*'Flow slagtesvin'!$D$8","v":0},0,{"$f":"I189*'Flow slagtesvin'!$D$8","v":0},0,0,0,0,0,0,0,0,0,0,0,0,0,0]
[null,{"$f":"'input-data'!$B$225","v":" Slagtesvin"},{"$f":"'input-data'!$B$285","v":"  Grovfoder:"},{"$f":"'Flow slagtesvin'!$C$36","v":"Afgræsning (april-september)"},{"$f":"Fodertabel!D692","v":"Vælg…………………………….."},{"$f":"'Flow slagtesvin'!$D$36*'input-data'!I294/100","v":0},0,{"$f":"F190*'Flow slagtesvin'!$D$8","v":0},0,{"$f":"I190*'Flow slagtesvin'!$D$8","v":0},0,0,"folde",0,0,0,{"$f":"$J190*'Mark-Fields'!$F$140","v":0},{"$f":"$J190*'Mark-Fields'!$F$143","v":0},{"$f":"$J190*'Mark-Fields'!$F$146","v":0},{"$f":"$J190*'Mark-Fields'!$F$166","v":0},{"$f":"$J190*'Mark-Fields'!$F$200","v":0},{"$f":"$J190*'Mark-Fields'!$F$184","v":0},{"$f":"$J190*'Mark-Fields'!$F$208","v":0},"kløvergræs"]
[null,"Total ",null,null,null,{"$f":"SUM(F17:F190)","v":0},{"$f":"SUM(G17:G190)","v":0},0,0,0,{"$f":"SUM(K17:K190)","v":0},{"$f":"SUM(L17:L190)","v":0},null,null,{"$f":"SUM(O17:O190)","v":0}]

{"sheet":"Feed use at farm","index":9,"n_rows":30,"n_cols":7,"rows_kept":30,"cut":false,"hidden":false,"merged":[]}
[]
[null,null,{"$f":"'Feed - overview'!C16","v":"Foder type"},{"$f":"'Feed - overview'!H16","v":"kg per gård"},{"$f":"'Feed - overview'!J16","v":"kg TS per gård"},{"$f":"'Feed - overview'!K16","v":"kg N per gård"},{"$f":"'Feed - overview'!L16","v":"kg P per gård"}]
[]
[null,{"$f":"IF('input-data'!$B$3=\"Dansk\", \"Tildelt kraftfoder\", \"Concentrated feed\")","v":"Tildelt kraftfoder"},{"$f":"IF('input-data'!$B$3=\"Dansk\",\"byg\", \"barley\")","v":"byg"},{"$f":"SUMIF('Feed - overview'!$X$17:$X$190,$C$4, 'Feed - overview'!$H$17:$H$190)","v":0},{"$f":"SUMIF('Feed - overview'!$X$17:$X$190,$C$4, 'Feed - overview'!$J$17:$J$190)","v":0},{"$f":"SUMIF('Feed - overview'!$X$17:$X$190,$C$4, 'Feed - overview'!$K$17:$K$190)","v":0},{"$f":"SUMIF('Feed - overview'!$X$17:$X$190,$C$4, 'Feed - overview'!$L$17:$L$190)","v":0}]
[null,null,{"$f":"IF('input-data'!B3=\"Dansk\", topdowntables!R5, topdowntables!R17)","v":"byg - fra gaard"},{"$f":"VLOOKUP(C5, feedavailability, 5, FALSE)","v":0},{"$f":"VLOOKUP(C5, feedavailability, 4, FALSE)","v":0},{"$f":"VLOOKUP(C5, feedavailability, 6, FALSE)","v":0},{"$f":"VLOOKUP(C5, feedavailability, 7, FALSE)","v":0}]
[null,null,{"$f":"IF('input-data'!$B$3=\"Dansk\",\"hvede\", \"wheat\")","v":"hvede"},{"$f":"SUMIF('Feed - overview'!$X$17:$X$190,$C$6, 'Feed - overview'!$H$17:$H$190)","v":0},{"$f":"SUMIF('Feed - overview'!$X$17:$X$190,$C$6, 'Feed - overview'!$J$17:$J$190)","v":0},{"$f":"SUMIF('Feed - overview'!$X$17:$X$190,$C$6, 'Feed - overview'!$K$17:$K$190)","v":0},{"$f":"SUMIF('Feed - overview'!$X$17:$X$190,$C$6, 'Feed - overview'!$L$17:$L$190)","v":0}]
[null,null,{"$f":"IF('input-data'!$B$3=\"Dansk\", topdowntables!R6, topdowntables!R18)","v":"hvede - fra gaard"},{"$f":"VLOOKUP(C7, feedavailability, 5, FALSE)","v":0},{"$f":"VLOOKUP(C7, feedavailability, 4, FALSE)","v":0},{"$f":"VLOOKUP(C7, feedavailability, 6, FALSE)","v":0},{"$f":"VLOOKUP(C7, feedavailability, 7, FALSE)","v":0}]
[null,null,{"$f":"IF('input-data'!$B$3=\"Dansk\",\"rug\", \"rey\")","v":"rug"},{"$f":"SUMIF('Feed - overview'!$X$17:$X$190,$C$8, 'Feed - overview'!$H$17:$H$190)","v":0},{"$f":"SUMIF('Feed - overview'!$X$17:$X$190,$C$8, 'Feed - overview'!$J$17:$J$190)","v":0},{"$f":"SUMIF('Feed - overview'!$X$17:$X$190,$C$8, 'Feed - overview'!$K$17:$K$190)","v":0},{"$f":"SUMIF('Feed - overview'!$X$17:$X$190,$C$8, 'Feed - overview'!$L$17:$L$190)","v":0}]
[null,null,{"$f":"IF('input-data'!$B$3=\"Dansk\", topdowntables!R8, topdowntables!R20)","v":"rug - fra gaard"},{"$f":"VLOOKUP(C9, feedavailability, 5, FALSE)","v":0},{"$f":"VLOOKUP(C9, feedavailability, 4, FALSE)","v":0},{"$f":"VLOOKUP(C9, feedavailability, 6, FALSE)","v":0},{"$f":"VLOOKUP(C9, feedavailability, 7, FALSE)","v":0}]
[null,null,{"$f":"IF('input-data'!$B$3=\"Dansk\",\"havre\", \"oats\")","v":"havre"},{"$f":"SUMIF('Feed - overview'!$X$17:$X$190,$C$10, 'Feed - overview'!$H$17:$H$190)","v":0},{"$f":"SUMIF('Feed - overview'!$X$17:$X$190,$C$10, 'Feed - overview'!$J$17:$J$190)","v":0},{"$f":"SUMIF('Feed - overview'!$X$17:$X$190,$C$10, 'Feed - overview'!$K$17:$K$190)","v":0},{"$f":"SUMIF('Feed - overview'!$X$17:$X$190,$C$10, 'Feed - overview'!$L$17:$L$190)","v":0}]
[null,null,{"$f":"IF('input-data'!$B$3=\"Dansk\", topdowntables!R7, topdowntables!R19)","v":"havre - fra gaard"},{"$f":"VLOOKUP(C11, feedavailability, 5, FALSE)","v":0},{"$f":"VLOOKUP(C11, feedavailability, 4, FALSE)","v":0},{"$f":"VLOOKUP(C11, feedavailability, 6, FALSE)","v":0},{"$f":"VLOOKUP(C11, feedavailability, 7, FALSE)","v":0}]
[null,null,{"$f":"IF('input-data'!$B$3=\"Dansk\",\"triticale\", \"triticale\")","v":"triticale"},{"$f":"SUMIF('Feed - overview'!$X$17:$X$190,$C$12, 'Feed - overview'!$H$17:$H$190)","v":0},{"$f":"SUMIF('Feed - overview'!$X$17:$X$190,$C$12, 'Feed - overview'!$J$17:$J$190)","v":0},{"$f":"SUMIF('Feed - overview'!$X$17:$X$190,$C$12, 'Feed - overview'!$K$17:$K$190)","v":0},{"$f":"SUMIF('Feed - overview'!$X$17:$X$190,$C$12, 'Feed - overview'!$L$17:$L$190)","v":0}]
[null,null,{"$f":"IF('input-data'!$B$3=\"Dansk\", topdowntables!R9, topdowntables!R21)","v":"triticale - fra gaard"},{"$f":"VLOOKUP(C13, feedavailability, 5, FALSE)","v":0},{"$f":"VLOOKUP(C13, feedavailability, 4, FALSE)","v":0},{"$f":"VLOOKUP(C13, feedavailability, 6, FALSE)","v":0},{"$f":"VLOOKUP(C13, feedavailability, 7, FALSE)","v":0}]
[null,null,{"$f":"IF('input-data'!$B$3=\"Dansk\",\"sojakage\", \"soybeans cake\")","v":"sojakage"},{"$f":"SUMIF('Feed - overview'!$X$17:$X$190,$C$14, 'Feed - overview'!$H$17:$H$190)","v":0},{"$f":"SUMIF('Feed - overview'!$X$17:$X$190,$C$14, 'Feed - overview'!$J$17:$J$190)","v":0},{"$f":"SUMIF('Feed - overview'!$X$17:$X$190,$C$14, 'Feed - overview'!$K$17:$K$190)","v":0},{"$f":"SUMIF('Feed - overview'!$X$17:$X$190,$C$14, 'Feed - overview'!$L$17:$L$190)","v":0}]
[null,null,{"$f":"IF('input-data'!$B$3=\"Dansk\",\"fiskemel\", \"fish meal\")","v":"fiskemel"},{"$f":"SUMIF('Feed - overview'!$X$17:$X$190,$C$15, 'Feed - overview'!$H$17:$H$190)","v":0},{"$f":"SUMIF('Feed - overview'!$X$17:$X$190,$C$15, 'Feed - overview'!$J$17:$J$190)","v":0},{"$f":"SUMIF('Feed - overview'!$X$17:$X$190,$C$15, 'Feed - overview'!$K$17:$K$190)","v":0},{"$f":"SUMIF('Feed - overview'!$X$17:$X$190,$C$15, 'Feed - overview'!$L$17:$L$190)","v":0}]
[null,null,{"$f":"IF('input-data'!$B$3=\"Dansk\",\"hestebønner\", \"faba beans\")","v":"hestebønner"},{"$f":"SUMIF('Feed - overview'!$X$17:$X$190,$C$16, 'Feed - overview'!$H$17:$H$190)","v":0},{"$f":"SUMIF('Feed - overview'!$X$17:$X$190,$C$16, 'Feed - overview'!$J$17:$J$190)","v":0},{"$f":"SUMIF('Feed - overview'!$X$17:$X$190,$C$16, 'Feed - overview'!$K$17:$K$190)","v":0},{"$f":"SUMIF('Feed - overview'!$X$17:$X$190,$C$16, 'Feed - overview'!$L$17:$L$190)","v":0}]
[null,null,{"$f":"IF('input-data'!$B$3=\"Dansk\", topdowntables!R13, topdowntables!R25)","v":"hestebønner - fra gaard"},{"$f":"VLOOKUP(C17, feedavailability, 5, FALSE)","v":0},{"$f":"VLOOKUP(C17, feedavailability, 4, FALSE)","v":0},{"$f":"VLOOKUP(C17, feedavailability, 6, FALSE)","v":0},{"$f":"VLOOKUP(C17, feedavailability, 7, FALSE)","v":0}]
[null,null,{"$f":"IF('input-data'!$B$3=\"Dansk\",\"ærter\", \"peas\")","v":"ærter"},{"$f":"SUMIF('Feed - overview'!$X$17:$X$190,$C$18, 'Feed - overview'!$H$17:$H$190)","v":0},{"$f":"SUMIF('Feed - overview'!$X$17:$X$190,$C$18, 'Feed - overview'!$J$17:$J$190)","v":0},{"$f":"SUMIF('Feed - overview'!$X$17:$X$190,$C$18, 'Feed - overview'!$K$17:$K$190)","v":0},{"$f":"SUMIF('Feed - overview'!$X$17:$X$190,$C$18, 'Feed - overview'!$L$17:$L$190)","v":0}]
[null,null,{"$f":"IF('input-data'!$B$3=\"Dansk\", topdowntables!R10, topdowntables!R22)","v":"ærter - fra gaard"},{"$f":"VLOOKUP(C19, feedavailability, 5, FALSE)","v":0},{"$f":"VLOOKUP(C19, feedavailability, 4, FALSE)","v":0},{"$f":"VLOOKUP(C19, feedavailability, 6, FALSE)","v":0},{"$f":"VLOOKUP(C19, feedavailability, 7, FALSE)","v":0}]
[null,null,{"$f":"IF('input-data'!$B$3=\"Dansk\",\"kartoffelprotein\", \"potatoes protein\")","v":"kartoffelprotein"},{"$f":"SUMIF('Feed - overview'!$X$17:$X$190,$C$20, 'Feed - overview'!$H$17:$H$190)","v":0},{"$f":"SUMIF('Feed - overview'!$X$17:$X$190,$C$20, 'Feed - overview'!$J$17:$J$190)","v":0},{"$f":"SUMIF('Feed - overview'!$X$17:$X$190,$C$20, 'Feed - overview'!$K$17:$K$190)","v":0},{"$f":"SUMIF('Feed - overview'!$X$17:$X$190,$C$20, 'Feed - overview'!$L$17:$L$190)","v":0}]
[null,null,{"$f":"IF('input-data'!$B$3=\"Dansk\",\"vitaminer og mineraler\", \"vitamins and minerals\")","v":"vitaminer og mineraler"},{"$f":"SUMIF('Feed - overview'!$X$17:$X$190,$C$21, 'Feed - overview'!$H$17:$H$190)","v":0},{"$f":"SUMIF('Feed - overview'!$X$17:$X$190,$C$21, 'Feed - overview'!$J$17:$J$190)","v":0},{"$f":"SUMIF('Feed - overview'!$X$17:$X$190,$C$21, 'Feed - overview'!$K$17:$K$190)","v":0},{"$f":"SUMIF('Feed - overview'!$X$17:$X$190,$C$21, 'Feed - overview'!$L$17:$L$190)","v":0}]
[null,null,{"$f":"IF('input-data'!B3=\"Dansk\", Fodertabel!HV184, Fodertabel!HV555)","v":"rapskagefoder"},{"$f":"SUMIF('Feed - overview'!$X$17:$X$190,$C$22, 'Feed - overview'!$H$17:$H$190)","v":0},{"$f":"SUMIF('Feed - overview'!$X$17:$X$190,$C$22, 'Feed - overview'!$J$17:$J$190)","v":0},{"$f":"SUMIF('Feed - overview'!$X$17:$X$190,$C$22, 'Feed - overview'!$K$17:$K$190)","v":0},{"$f":"SUMIF('Feed - overview'!$X$17:$X$190,$C$22, 'Feed - overview'!$L$17:$L$190)","v":0}]
[null,null,{"$f":"IF('input-data'!$B$3=\"Dansk\",\"øvrige\", \"others\")","v":"øvrige"},{"$f":"'Feed - overview'!H191-D4-D6-D8-D10-D12-D14-D15-D16-D20-D18-D24-D26-D28-D21","v":0},{"$f":"'Feed - overview'!J191-E4-E6-E8-E10-E12-E14-E15-E16-E20-E18-E24-E26-E28-E21","v":0},{"$f":"'Feed - overview'!K191-F4-F6-F8-F10-F12-F14-F15-F16-F20-F18-F24-F26-F28-F21","v":0},{"$f":"'Feed - overview'!L191-G4-G6-G8-G10-G12-G14-G15-G16-G20-G18-G24-G26-G28-G21","v":0}]
[null,"Tildelt grovfoder",{"$f":"IF('input-data'!$B$3=\"Dansk\",\"kløvergræs ensilage\", \"grass silage\")","v":"kløvergræs ensilage"},{"$f":"SUMIF('Feed - overview'!$X$17:$X$190,$C$24, 'Feed - overview'!$H$17:$H$190)","v":0},{"$f":"SUMIF('Feed - overview'!$X$17:$X$190,$C$24, 'Feed - overview'!$J$17:$J$190)","v":0},{"$f":"SUMIF('Feed - overview'!$X$17:$X$190,$C$24, 'Feed - overview'!$K$17:$K$190)","v":0},{"$f":"SUMIF('Feed - overview'!$X$17:$X$190,$C$24, 'Feed - overview'!$L$17:$L$190)","v":0}]
[null,null,{"$f":"IF('input-data'!$B$3=\"Dansk\", topdowntables!R11, topdowntables!R23)","v":"kløvergræs ensilage - fra gaard"},{"$f":"VLOOKUP(C25, feedavailability, 5, FALSE)","v":0},{"$f":"VLOOKUP(C25, feedavailability, 4, FALSE)","v":0},{"$f":"VLOOKUP(C25, feedavailability, 6, FALSE)","v":0},{"$f":"VLOOKUP(C25, feedavailability, 7, FALSE)","v":0}]
[null,null,{"$f":"IF('input-data'!$B$3=\"Dansk\",\"græsensilage\", \"grass-clover silage\")","v":"græsensilage"},{"$f":"SUMIF('Feed - overview'!$X$17:$X$190,$C$26, 'Feed - overview'!$H$17:$H$190)","v":0},{"$f":"SUMIF('Feed - overview'!$X$17:$X$190,$C$26, 'Feed - overview'!$J$17:$J$190)","v":0},{"$f":"SUMIF('Feed - overview'!$X$17:$X$190,$C$26, 'Feed - overview'!$K$17:$K$190)","v":0},{"$f":"SUMIF('Feed - overview'!$X$17:$X$190,$C$26, 'Feed - overview'!$L$17:$L$190)","v":0}]
[null,null,{"$f":"IF('input-data'!$B$3=\"Dansk\", topdowntables!R12, topdowntables!R24)","v":"græs ensilage - fra gaard"},{"$f":"VLOOKUP(C27, feedavailability, 5, FALSE)","v":0},{"$f":"VLOOKUP(C27, feedavailability, 4, FALSE)","v":0},{"$f":"VLOOKUP(C27, feedavailability, 6, FALSE)","v":0},{"$f":"VLOOKUP(C27, feedavailability, 7, FALSE)","v":0}]
[null,{"$f":"IF('input-data'!$B$3=\"Dansk\", \"Afgræsset foder\", \"Grazed \")","v":"Afgræsset foder"},{"$f":"'Feed - overview'!X37","v":"kløvergræs"},{"$f":"SUMIF('Feed - overview'!$X$17:$X$190, C28, 'Feed - overview'!$H$17:$H$190)","v":0},{"$f":"SUMIF('Feed - overview'!$X$17:$X$190, C28, 'Feed - overview'!J17:J190)","v":0},{"$f":"SUMIF('Feed - overview'!$X$17:$X$190, C28, 'Feed - overview'!K17:K190)","v":0},{"$f":"SUMIF('Feed - overview'!$X$17:$X$190, C28, 'Feed - overview'!L17:L190)","v":0}]
[null,"TOTAL",null,{"$f":"D4+D6+D8+D10+D12+D14+D15+D16+D18+D20+D21+D22+D24+D26+D23","v":0},{"$f":"E4+E6+E8+E10+E12+E14+E15+E16+E18+E20+E21+E22+E24+E26+E23","v":0},0,0]
[null,{"$f":"IF('input-data'!$B$3=\"Dansk\", \"heraf hjemmeproduceret\", \"hereof home-grown\")","v":"heraf hjemmeproduceret"},null,{"$f":"D5+D7+D9+D11+D13+D17+D19+D25+D27+D28","v":0},{"$f":"E5+E7+E9+E11+E13+E17+E19+E25+E27+E28","v":0},0,0]

{"sheet":"Flow sohold","index":10,"n_rows":148,"n_cols":6,"rows_kept":148,"cut":false,"hidden":false,"merged":[]}
[null,{"$f":"IF('input-data'!$B$3=\"Dansk\", \"SOHOLDET\", \"SOWS (HERD)\")","v":"SOHOLDET"},null,"STANDARD",null,"Kilder til standardtal / bemærkninger"]
[]
[null,{"$f":"IF('input-data'!B3=\"Dansk\", \"Dyre, flow:\", \"Animals' flow\")","v":"Dyre, flow:"}]
[null,{"$f":"IF('input-data'!B3=\"Dansk\", \"Søerne:\", \"Sows:\")","v":"Søerne:"}]
[null,null,{"$f":"IF(topdowntables!N4=1, \"Antal årssøer\", \"Total number of year sows\")","v":"Antal årssøer"},{"$f":"'input-data'!E14","v":0}]
[null,null,{"$f":"IF(topdowntables!N4=1, \"Udskiftningsprocent, %\", \"Replacement rate, %\")","v":"Udskiftningsprocent, %"},{"$f":"'input-data'!E23*'input-data'!E15","v":0},null,"Andel 1. lægs x kuld per årso"]
[null,null,{"$f":"IF(topdowntables!N4=1, \"Døde/aflivet, stk\", \"Dead animals, p.\")","v":"Døde/aflivet, stk"},{"$f":"'input-data'!E24/100*'input-data'!E14","v":0},null,"Sodødelighed/100*Antal årssøer"]
[null,null,{"$f":"IF(topdowntables!N4=1, \"Solgte, stk\", \"Sold, p.\")","v":"Solgte, stk"},{"$f":"D6/100*'input-data'!E14-D7","v":0},null,"(Udskiftningsprocent/100*antal årssøer) - døde"]
[null,null,{"$f":"IF(topdowntables!N4=1, \"Vægt ved udsætning, kg\", \"Weight at culling, kg\")","v":"Vægt ved udsætning, kg"},{"$f":"'input-data'!E25","v":0}]
[]
[null,null,{"$f":"IF(topdowntables!N4=1, \"Indkøbte/overførte polte, stk\", \"Bought-in/Transfered gilts, p.\")","v":"Indkøbte/overførte polte, stk"},{"$f":"D8+D7","v":0},null,"Døde+solgte søer (ikke taget højde for polte der ikke bliver løbet)"]
[null,null,{"$f":"IF(topdowntables!N4=1, \"Vægt ved indsættelse, kg\", \"Weight at insertion, kg\")","v":"Vægt ved indsættelse, kg"},{"$f":"'NPK tal'!B22","v":105},null,"Antages taget fra slagtesvineholdet, derfor sat til slagtevægten"]
[null,null,{"$f":"IF(topdowntables!N4=1, \"Vægt ved 1. løbning, kg\", \"Weight at 1st mating, kg\")","v":"Vægt ved 1. løbning, kg"},{"$f":"'NPK tal'!B23","v":135},null,"vsp: H22 - Løbestrategi, polte"]
[]
[null,{"$f":"IF(topdowntables!N4=1, \"Pattegrisene:\", \"Piglets\")","v":"Pattegrisene:"}]
[null,null,{"$f":"IF(topdowntables!N4=1, \"Levendefødte grise per årsso, stk.\", \"Live born piglets per yearsow, p.\")","v":"Levendefødte grise per årsso, stk."},{"$f":"'input-data'!E15*'input-data'!E16","v":0},null,"Levendefødt x Kuld per årsso"]
[null,null,{"$f":"IF(topdowntables!N4=1, \"Fravænnede grise per årsso, stk.\", \"Weaned piglets per yearsow, p.\")","v":"Fravænnede grise per årsso, stk."},{"$f":"'input-data'!E15*'input-data'!E18","v":0},null,"Fravænnet per kuld*Antal årssøer"]
[null,null,{"$f":"IF(topdowntables!N4=1, \"Produceret per år, stk.\", \"Produced per year, p.\")","v":"Produceret per år, stk."},{"$f":"D17*D5","v":0},null,"Fravænnet per årsso*Antal årssøer"]
[null,null,{"$f":"IF(topdowntables!N4=1, \"Solgt ved fravænning, stk\", \"Sold as weaners, p.\")","v":"Solgt ved fravænning, stk"},{"$f":"'input-data'!E22","v":0},null,"Overført værdi"]
[null,null,{"$f":"IF(topdowntables!N4=1, \"Overførte, stk\", \"Transferred, p.\")","v":"Overførte, stk"},{"$f":"D18-D19","v":0},null,"Produceret - Solgte ved fravænning"]
[null,null,{"$f":"IF(topdowntables!N4=1, \"Vægt ved fravæning, kg\", \"Weight at weaning, kg\")","v":"Vægt ved fravæning, kg"},{"$f":"'input-data'!E21","v":0},null,"Overført værdi"]
[null,null,{"$f":"IF(topdowntables!N4=1, \"Døde, stk\", \"Dead piglets, p.\")","v":"Døde, stk"},{"$f":"'input-data'!E19/100*('input-data'!E14*'input-data'!E15*'input-data'!E16)","v":0},null,"Dødlighedsprocenten*Levendefødte per kuld*Kuld per årsso*Antal Årsøer"]
[]
[null,{"$f":"IF(topdowntables!N4=1, \"Foder og strøelse, flow:\", \"Feed and straw, flow:\")","v":"Foder og strøelse, flow:"}]
[null,{"$f":"IF(topdowntables!N4=1, \"Foderdage per årsso:\", \"Feeding days per yearsow:\")","v":"Foderdage per årsso:"}]
[null,null,{"$f":"IF(topdowntables!N4=1, \"Diegivningsdage\", \"Lactation period, days\")","v":"Diegivningsdage"},{"$f":"'input-data'!E20*'input-data'!E15","v":0},null,"Diegivningsdage*Kuld per årsso"]
[null,null,{"$f":"IF(topdowntables!N4=1, \"Drægtighedsdage\", \"Gestation period, days\")","v":"Drægtighedsdage"},{"$f":"'input-data'!E15*116","v":0},null,"Kuld per årso *116 (Drægtighedsperiode sat til 116 dage)"]
[null,null,{"$f":"IF(topdowntables!N4=1, \"Golddage\", \"Gold period, days\")","v":"Golddage"},{"$f":"365-(D26+D27)","v":365},null,"365-(Diegivningsdage+Drægtighedsdage per årsso)"]
[]
[null,{"$f":"IF(topdowntables!N4=1, \"Kraffoder per årsso, FE:\", \"Concentrated feed, FU per yearsow\")","v":"Kraffoder per årsso, FE:"}]
[null,null,{"$f":"IF(topdowntables!N4=1, \"Diegivningsfoder\", \"per lactation period\")","v":"Diegivningsfoder"},{"$f":"('input-data'!$E$47*D26)+('input-data'!E46*'input-data'!F48*'input-data'!$E$15)","v":0},null," (Fe per dag efter faring*diegivningsdage)+(FE per dyr per dag før faring*dage ind før faring*antal kuld per år) (incl dage før faring i folden)"]
[null,null,{"$f":"IF(topdowntables!N4=1, \"Drægtighedsfoder\", \"per gestation period\")","v":"Drægtighedsfoder"},{"$f":"('input-data'!$E$101*D82)+('input-data'!E122*D89)","v":0},null,"(FE /dyr/dag bl. 1* foderdage per årsso bl. 1) + FE / dyr /dag bl. 2* foderdage per årsso bl. 2"]
[null,null,{"$f":"IF(topdowntables!N4=1, \"Poltefoder\", \"per gilts\")","v":"Poltefoder"},{"$f":"'NPK tal'!C24*(D13-D12)","v":87},null,"Fe per kg tilvækst * (vægt ved 1. løbning-vægt ved indsættelse)  (FE per kg tilvækst sat til 2,9, jf. nøgletal økologi 2013)"]
[null,null,{"$f":"IF(topdowntables!N4=1, \"Pattegrisefoder\", \"per piglet\")","v":"Pattegrisefoder"},{"$f":"'input-data'!F79*'Flow sohold'!D17*('input-data'!E20-'input-data'!H79)","v":0},null,"Fe per fravænnet gris*fravænnet grise per årsso*(fravæningsalder-dag start tildeling)"]
[null,null,{"$f":"IF(topdowntables!N4=1, \"Foderforbrug per årsso eksklusiv polte\", \"Concentrated feed use per yearsow excluding gilts\")","v":"Foderforbrug per årsso eksklusiv polte"},{"$f":"D32+D31+D34","v":0}]
[null,null,{"$f":"IF(topdowntables!N4=1, \"Foderforbrug per årsso inklusiv polte\", \"Concentrated feed intake per yearsow including gilts\")","v":"Foderforbrug per årsso inklusiv polte"},{"$f":"D35+D33","v":87},null,"Nøgletal økologi 2013: foderforbrug per årsso inklusiv polte = 1929 FE"]
[]
[null,{"$f":"IF(topdowntables!N4=1, \"Grovfoder per årsso, kg:\", \"Roughage per yearsow, kg\")","v":"Grovfoder per årsso, kg:"},null,null,null,"Grovfoder polte ikke medtaget"]
[null,null,{"$f":"IF(topdowntables!N4=1, \"Diegivende søer\", \"Lactating sows\")","v":"Diegivende søer"}]
[null,null,{"$f":"IF(topdowntables!N4=1, \"Afgræsning (april-september)\", \" intake during grazing (April-September)\")","v":"Afgræsning (april-september)"},{"$f":"IF(OR('input-data'!E302=topdowntables!$C$5,'input-data'!E302=topdowntables!$C$10),0,\nIF(AND('input-data'!E302=topdowntables!$C$6, 'input-data'!F303<'NPK tal'!$C$32),('input-data'!F303/365)*(D26)*'NPK tal'!$B$32,\nIF(AND('input-data'!E302=topdowntables!$C$11, 'input-data'!F303<'NPK tal'!$C$32),('input-data'!F303/365)*(D26)*'NPK tal'!$B$32,\n('NPK tal'!$C$32/365)*(D26)*'NPK tal'!$B$32)))","v":0},null,"Hvis dyrene er opstaldet udendørs antages det at de optage 1 kg græs per dag ude, dog maks 180 dage om året (Se NPK tal)"]
[null,null,{"$f":"IF(topdowntables!N4=1, \"Tildelt grovfoder\", \"roughage, added to feed rations\")","v":"Tildelt grovfoder"},{"$f":"('input-data'!E67*'input-data'!E68)/365*D26","v":0}]
[]
[null,null,{"$f":"IF(topdowntables!N4=1, \"Golde og drægtige søer\", \"Gold and gestating sows\")","v":"Golde og drægtige søer"}]
[null,null,{"$f":"IF(topdowntables!N4=1, \"Afgræsning (april-september)\", \"intake during grazing (April-September)\")","v":"Afgræsning (april-september)"},{"$f":"IF(D5=0, 0, IF(OR('input-data'!E324=topdowntables!$C$5,'input-data'!E324=topdowntables!$C$10),0,\nIF(AND('input-data'!E324=topdowntables!$C$6, 'input-data'!F325<'NPK tal'!$C$32),('input-data'!F325/365)*(D27+D28)*'NPK tal'!$B$32,\nIF(AND('input-data'!E324=topdowntables!$C$11, 'input-data'!F325<'NPK tal'!$C$32),('input-data'!F325/365)*(D27+D28)*'NPK tal'!$B$32,\n('NPK tal'!$C$32/365)*(D27+D28)*'NPK tal'!$B$32))))","v":0}]
[null,null,{"$f":"IF(topdowntables!N4=1, \"Tildelt grovfoder\", \"roughage, added to feed rations\")","v":"Tildelt grovfoder"},{"$f":"(('input-data'!E144*'input-data'!E145)/365)*(D27+D28)","v":0},null,"https://www.landbrugsinfo.dk/oekologi/svin/foder/sider/fodring_af_de_enkelte_oekologisk_dyregru.aspx"]
[]
[null,null,{"$f":"IF(topdowntables!N4=1, \"Grovfoderforbrug per årsso, i alt\", \"Total roughage intake per yearsow\")","v":"Grovfoderforbrug per årsso, i alt"},{"$f":"D40+D41+D44+D45","v":0}]
[null,{"$f":"IF(topdowntables!N4=1, \"Strøelseforbrug per årsso, kg:\", \"Straw use, kg per yearsow:\")","v":"Strøelseforbrug per årsso, kg:"},null,null,null,"220 kg iflg. Grundlag for den beregnede notering for økologiske smågrise - december 2013, notat nr. 1343"]
[null,null,{"$f":"IF(topdowntables!N4=1, \"Diegivningsperioden\", \"during lactation period\")","v":"Diegivningsperioden"},{"$f":"IF(OR('input-data'!$E$302=topdowntables!$C$4,'input-data'!$E$302=topdowntables!$C$9),('input-data'!E309*'input-data'!E15),\nIF(OR('input-data'!$E$302=topdowntables!$C$5,'input-data'!$E$302=topdowntables!$C$10),('input-data'!E316*'input-data'!E15),\nIF(OR('input-data'!$E$302=topdowntables!$C$6,'input-data'!$E$302=topdowntables!$C$11),('input-data'!$E$309*'input-data'!$E$15*('input-data'!$F$303/365))+(('input-data'!$E$316*'input-data'!$E$15)*((365-'input-data'!$F$303)/365)),0)))","v":0},null,"halmforbrug per dyr inde*(365-dage ude/365)+halmforbrug per dyr ude*(dage ude/365)"]
[null,null,{"$f":"IF(topdowntables!N4=1, \"Drægtighedsperioden\", \"during gestating period\")","v":"Drægtighedsperioden"},{"$f":"IF(OR('input-data'!$E$324=topdowntables!$C$4,'input-data'!$E$302=topdowntables!$C$9),('Flow sohold'!D27+'Flow sohold'!D28)*'input-data'!E331,\nIF(OR('input-data'!$E$324=topdowntables!$C$5,'input-data'!$E$302=topdowntables!$C$10), ('Flow sohold'!D27+'Flow sohold'!D28)*'input-data'!E338,\nIF(OR('input-data'!$E$324=topdowntables!$C$6,'input-data'!$E$302=topdowntables!$C$11),(('Flow sohold'!$D$27+'Flow sohold'!$D$28)*'input-data'!$E$331*('input-data'!$F$325/365))+((('Flow sohold'!$D$27+'Flow sohold'!$D$28)*'input-data'!$E$338)*((365-'input-data'!$F$325)/365)),0)))","v":36.5}]
[]
[]
[null,{"$f":"IF(topdowntables!N4=1, \"Foder og halm, N og P bidrag:\", \"Feed and straw, N and  P flow:\")","v":"Foder og halm, N og P bidrag:"}]
[null,{"$f":"IF(topdowntables!N4=1, \"Diegivningsfoder:\", \"Feed corresponding to lactating period:\")","v":"Diegivningsfoder:"}]
[null,null,{"$f":"IF(topdowntables!N4=1, \"FEso/100 kg\", \"FUsow/100 kg\")","v":"FEso/100 kg"},{"$f":"SUM((IFERROR(VLOOKUP('input-data'!$E$50,Fodertabel,4,FALSE),0)*'input-data'!I50/100)\n+(IFERROR(VLOOKUP('input-data'!$E$51,Fodertabel,4,FALSE),0)*'input-data'!I51/100)\n+(IFERROR(VLOOKUP('input-data'!$E$52,Fodertabel,4,FALSE),0)*'input-data'!I52/100)\n+(IFERROR(VLOOKUP('input-data'!$E$53,Fodertabel,4,FALSE),0)*'input-data'!I53/100)\n+(IFERROR(VLOOKUP('input-data'!$E$54,Fodertabel,4,FALSE),0)*'input-data'!I54/100)\n+(IFERROR(VLOOKUP('input-data'!$E$55,Fodertabel,4,FALSE),0)*'input-data'!I55/100)\n+(IFERROR(VLOOKUP('input-data'!$E$56,Fodertabel,4,FALSE),0)*'input-data'!I56/100)\n+(IFERROR(VLOOKUP('input-data'!$E$57,Fodertabel,4,FALSE),0)*'input-data'!I57/100)\n+(IFERROR(VLOOKUP('input-data'!$E$58,Fodertabel,4,FALSE),0)*'input-data'!I58/100)\n+(IFERROR(VLOOKUP('input-data'!$E$59,Fodertabel,4,FALSE),0)*'input-data'!I59/100)\n+(IFERROR(VLOOKUP('input-data'!$E$60,Fodertabel,4,FALSE),0)*'input-data'!I60/100)\n+(IFERROR(VLOOKUP('input-data'!$E$61,Fodertabel,4,FALSE),0)*'input-data'!I61/100)\n+(IFERROR(VLOOKUP('input-data'!$E$62,Fodertabel,4,FALSE),0)*'input-data'!I62/100)\n+(IFERROR(VLOOKUP('input-data'!$E$63,Fodertabel,4,FALSE),0)*'input-data'!I63/100)\n+(IFERROR(VLOOKUP('input-data'!$E$64,Fodertabel,4,FALSE),0)*'input-data'!I64/100))*100","v":0}]
[null,null,{"$f":"IF(topdowntables!N4=1, \"Tørstof, %\", \"Dry matter, %\")","v":"Tørstof, %"},{"$f":"SUM((IFERROR(VLOOKUP('input-data'!$E$50,Fodertabel,9,FALSE),0)*'input-data'!I50/100)\n+(IFERROR(VLOOKUP('input-data'!$E$51,Fodertabel,9,FALSE),0)*'input-data'!I51/100)\n+(IFERROR(VLOOKUP('input-data'!$E$52,Fodertabel,9,FALSE),0)*'input-data'!I52/100)\n+(IFERROR(VLOOKUP('input-data'!$E$53,Fodertabel,9,FALSE),0)*'input-data'!I53/100)\n+(IFERROR(VLOOKUP('input-data'!$E$54,Fodertabel,9,FALSE),0)*'input-data'!I54/100)\n+(IFERROR(VLOOKUP('input-data'!$E$55,Fodertabel,9,FALSE),0)*'input-data'!I55/100)\n+(IFERROR(VLOOKUP('input-data'!$E$56,Fodertabel,9,FALSE),0)*'input-data'!I56/100)\n+(IFERROR(VLOOKUP('input-data'!$E$57,Fodertabel,9,FALSE),0)*'input-data'!I57/100)\n+(IFERROR(VLOOKUP('input-data'!$E$58,Fodertabel,9,FALSE),0)*'input-data'!I58/100)\n+(IFERROR(VLOOKUP('input-data'!$E$59,Fodertabel,9,FALSE),0)*'input-data'!I59/100)\n+(IFERROR(VLOOKUP('input-data'!$E$60,Fodertabel,9,FALSE),0)*'input-data'!I60/100)\n+(IFERROR(VLOOKUP('input-data'!$E$61,Fodertabel,9,FALSE),0)*'input-data'!I61/100)\n+(IFERROR(VLOOKUP('input-data'!$E$62,Fodertabel,9,FALSE),0)*'input-data'!I62/100)\n+(IFERROR(VLOOKUP('input-data'!$E$63,Fodertabel,9,FALSE),0)*'input-data'!I63/100)\n+(IFERROR(VLOOKUP('input-data'!$E$64,Fodertabel,9,FALSE),0)*'input-data'!I64/100))","v":0}]
[null,null,{"$f":"IF(topdowntables!N4=1, \"Råprotein, g per kg foder\", \"Crude protein, g per kg feed\")","v":"Råprotein, g per kg foder"},{"$f":"SUM((IFERROR(VLOOKUP('input-data'!$E$50,Fodertabel,10,FALSE),0)*'input-data'!I50/100)\n+(IFERROR(VLOOKUP('input-data'!$E$51,Fodertabel,10,FALSE),0)*'input-data'!I51/100)\n+(IFERROR(VLOOKUP('input-data'!$E$52,Fodertabel,10,FALSE),0)*'input-data'!I52/100)\n+(IFERROR(VLOOKUP('input-data'!$E$53,Fodertabel,10,FALSE),0)*'input-data'!I53/100)\n+(IFERROR(VLOOKUP('input-data'!$E$54,Fodertabel,10,FALSE),0)*'input-data'!I54/100)\n+(IFERROR(VLOOKUP('input-data'!$E$55,Fodertabel,10,FALSE),0)*'input-data'!I55/100)\n+(IFERROR(VLOOKUP('input-data'!$E$56,Fodertabel,10,FALSE),0)*'input-data'!I56/100)\n+(IFERROR(VLOOKUP('input-data'!$E$57,Fodertabel,10,FALSE),0)*'input-data'!I57/100)\n+(IFERROR(VLOOKUP('input-data'!$E$58,Fodertabel,10,FALSE),0)*'input-data'!I58/100)\n+(IFERROR(VLOOKUP('input-data'!$E$59,Fodertabel,10,FALSE),0)*'input-data'!I59/100)\n+(IFERROR(VLOOKUP('input-data'!$E$60,Fodertabel,10,FALSE),0)*'input-data'!I60/100)\n+(IFERROR(VLOOKUP('input-data'!$E$61,Fodertabel,10,FALSE),0)*'input-data'!I61/100)\n+(IFERROR(VLOOKUP('input-data'!$E$62,Fodertabel,10,FALSE),0)*'input-data'!I62/100)\n+(IFERROR(VLOOKUP('input-data'!$E$63,Fodertabel,10,FALSE),0)*'input-data'!I63/100)\n+(IFERROR(VLOOKUP('input-data'!$E$64,Fodertabel,10,FALSE),0)*'input-data'!I64/100))*10","v":0}]
[null,null,{"$f":"IF(topdowntables!N4=1, \"Fosfor, g per kg foder\", \"Phosphorus, g per kg feed\")","v":"Fosfor, g per kg foder"},{"$f":"SUM((IFERROR(VLOOKUP('input-data'!$E$50,Fodertabel,79,FALSE),0)*'input-data'!I50/100)\n+(IFERROR(VLOOKUP('input-data'!$E$51,Fodertabel,79,FALSE),0)*'input-data'!I51/100)\n+(IFERROR(VLOOKUP('input-data'!$E$52,Fodertabel,79,FALSE),0)*'input-data'!I52/100)\n+(IFERROR(VLOOKUP('input-data'!$E$53,Fodertabel,79,FALSE),0)*'input-data'!I53/100)\n+(IFERROR(VLOOKUP('input-data'!$E$54,Fodertabel,79,FALSE),0)*'input-data'!I54/100)\n+(IFERROR(VLOOKUP('input-data'!$E$55,Fodertabel,79,FALSE),0)*'input-data'!I55/100)\n+(IFERROR(VLOOKUP('input-data'!$E$56,Fodertabel,79,FALSE),0)*'input-data'!I56/100)\n+(IFERROR(VLOOKUP('input-data'!$E$57,Fodertabel,79,FALSE),0)*'input-data'!I57/100)\n+(IFERROR(VLOOKUP('input-data'!$E$58,Fodertabel,79,FALSE),0)*'input-data'!I58/100)\n+(IFERROR(VLOOKUP('input-data'!$E$59,Fodertabel,79,FALSE),0)*'input-data'!I59/100)\n+(IFERROR(VLOOKUP('input-data'!$E$60,Fodertabel,79,FALSE),0)*'input-data'!I60/100)\n+(IFERROR(VLOOKUP('input-data'!$E$61,Fodertabel,79,FALSE),0)*'input-data'!I61/100)\n+(IFERROR(VLOOKUP('input-data'!$E$62,Fodertabel,79,FALSE),0)*'input-data'!I62/100)\n+(IFERROR(VLOOKUP('input-data'!$E$63,Fodertabel,79,FALSE),0)*'input-data'!I63/100)\n+(IFERROR(VLOOKUP('input-data'!$E$64,Fodertabel,79,FALSE),0)*'input-data'!I64/100))","v":0}]
[]
[null,null,{"$f":"IF(topdowntables!N4=1, \"N og P bidrag fra diegivningsfoder\", \"N and P content in feed used during lactation period\")","v":"N og P bidrag fra diegivningsfoder"}]
[null,null,{"$f":"IF(topdowntables!N4=1, \"Råprotein per årsso, kg\", \"Crude protein, kg per yearsow\")","v":"Råprotein per årsso, kg"},{"$f":"($D$57*($D$55/100)*D31/1000)","v":0},null,"(råprotein g/kg*Fe per kg*((FE per dyr per dag (før faring)*dage) +(FE per dag (efter faring)*dage))*kuld per år )"]
[null,null,{"$f":"IF(topdowntables!N4=1, \"N per årsso, kg\", \"N, kg per yearsow\")","v":"N per årsso, kg"},{"$f":"D61/6.25","v":0},null,"Råprotein/6,25"]
[null,null,{"$f":"IF(topdowntables!N4=1, \"P per årsso, kg\", \"P, kg per yearsow\")","v":"P per årsso, kg"},{"$f":"((D58*($D$55/100))*D31)/1000","v":0},null,"(Fosfor g/kg*Fe per  kg*(råprotein g/kg*Fe per kg*((FE per dyr per dag (før faring)*dage) +(FE per dag (efter faring)*dage))*kuld per år )"]
[]
[null,{"$f":"IF(topdowntables!N4=1, \"Foder, pattegrise ved soen:\", \"Feed for the piglets before weaning:\")","v":"Foder, pattegrise ved soen:"}]
[null,null,{"$f":"IF(topdowntables!N4=1, \"FEsv/100 kg\", \"FUsv/100 kg\")","v":"FEsv/100 kg"},{"$f":"SUM((IFERROR(VLOOKUP('input-data'!$E$81,Fodertabel,3,FALSE),0)*'input-data'!I81/100)\n+(IFERROR(VLOOKUP('input-data'!$E$82,Fodertabel,3,FALSE),0)*'input-data'!I82/100)\n+(IFERROR(VLOOKUP('input-data'!$E$83,Fodertabel,3,FALSE),0)*'input-data'!I83/100)\n+(IFERROR(VLOOKUP('input-data'!$E$84,Fodertabel,3,FALSE),0)*'input-data'!I84/100)\n+(IFERROR(VLOOKUP('input-data'!$E$85,Fodertabel,3,FALSE),0)*'input-data'!I85/100)\n+(IFERROR(VLOOKUP('input-data'!$E$86,Fodertabel,3,FALSE),0)*'input-data'!I86/100)\n+(IFERROR(VLOOKUP('input-data'!$E$87,Fodertabel,3,FALSE),0)*'input-data'!I87/100)\n+(IFERROR(VLOOKUP('input-data'!$E$88,Fodertabel,3,FALSE),0)*'input-data'!I88/100)\n+(IFERROR(VLOOKUP('input-data'!$E$89,Fodertabel,3,FALSE),0)*'input-data'!I89/100)\n+(IFERROR(VLOOKUP('input-data'!$E$90,Fodertabel,3,FALSE),0)*'input-data'!I90/100)\n+(IFERROR(VLOOKUP('input-data'!$E$91,Fodertabel,3,FALSE),0)*'input-data'!I91/100)\n+(IFERROR(VLOOKUP('input-data'!$E$92,Fodertabel,3,FALSE),0)*'input-data'!I92/100)\n+(IFERROR(VLOOKUP('input-data'!$E$93,Fodertabel,3,FALSE),0)*'input-data'!I93/100)\n+(IFERROR(VLOOKUP('input-data'!$E$94,Fodertabel,3,FALSE),0)*'input-data'!I94/100)\n+(IFERROR(VLOOKUP('input-data'!$E$95,Fodertabel,3,FALSE),0)*'input-data'!I95/100))*100","v":0}]
[null,null,{"$f":"IF(topdowntables!N4=1, \"Tørstof, %\", \"Dry matter, %\")","v":"Tørstof, %"},{"$f":"SUM((IFERROR(VLOOKUP('input-data'!$E$81,Fodertabel,9,FALSE),0)*'input-data'!I81/100)\n+(IFERROR(VLOOKUP('input-data'!$E$82,Fodertabel,9,FALSE),0)*'input-data'!I82/100)\n+(IFERROR(VLOOKUP('input-data'!$E$83,Fodertabel,9,FALSE),0)*'input-data'!I83/100)\n+(IFERROR(VLOOKUP('input-data'!$E$84,Fodertabel,9,FALSE),0)*'input-data'!I84/100)\n+(IFERROR(VLOOKUP('input-data'!$E$85,Fodertabel,9,FALSE),0)*'input-data'!I85/100)\n+(IFERROR(VLOOKUP('input-data'!$E$86,Fodertabel,9,FALSE),0)*'input-data'!I86/100)\n+(IFERROR(VLOOKUP('input-data'!$E$87,Fodertabel,9,FALSE),0)*'input-data'!I87/100)\n+(IFERROR(VLOOKUP('input-data'!$E$88,Fodertabel,9,FALSE),0)*'input-data'!I88/100)\n+(IFERROR(VLOOKUP('input-data'!$E$89,Fodertabel,9,FALSE),0)*'input-data'!I89/100)\n+(IFERROR(VLOOKUP('input-data'!$E$90,Fodertabel,9,FALSE),0)*'input-data'!I90/100)\n+(IFERROR(VLOOKUP('input-data'!$E$91,Fodertabel,9,FALSE),0)*'input-data'!I91/100)\n+(IFERROR(VLOOKUP('input-data'!$E$92,Fodertabel,9,FALSE),0)*'input-data'!I92/100)\n+(IFERROR(VLOOKUP('input-data'!$E$93,Fodertabel,9,FALSE),0)*'input-data'!I93/100)\n+(IFERROR(VLOOKUP('input-data'!$E$94,Fodertabel,9,FALSE),0)*'input-data'!I94/100)\n+(IFERROR(VLOOKUP('input-data'!$E$95,Fodertabel,9,FALSE),0)*'input-data'!I95/100))","v":0}]
[null,null,{"$f":"IF(topdowntables!N4=1, \"Råprotein, g per kg foder\", \"Crude protein, g per kg feed\")","v":"Råprotein, g per kg foder"},{"$f":"SUM((IFERROR(VLOOKUP('input-data'!$E$81,Fodertabel,10,FALSE),0)*'input-data'!I81/100)\n+(IFERROR(VLOOKUP('input-data'!$E$82,Fodertabel,10,FALSE),0)*'input-data'!I82/100)\n+(IFERROR(VLOOKUP('input-data'!$E$83,Fodertabel,10,FALSE),0)*'input-data'!I83/100)\n+(IFERROR(VLOOKUP('input-data'!$E$84,Fodertabel,10,FALSE),0)*'input-data'!I84/100)\n+(IFERROR(VLOOKUP('input-data'!$E$85,Fodertabel,10,FALSE),0)*'input-data'!I85/100)\n+(IFERROR(VLOOKUP('input-data'!$E$86,Fodertabel,10,FALSE),0)*'input-data'!I86/100)\n+(IFERROR(VLOOKUP('input-data'!$E$87,Fodertabel,10,FALSE),0)*'input-data'!I87/100)\n+(IFERROR(VLOOKUP('input-data'!$E$88,Fodertabel,10,FALSE),0)*'input-data'!I88/100)\n+(IFERROR(VLOOKUP('input-data'!$E$89,Fodertabel,10,FALSE),0)*'input-data'!I89/100)\n+(IFERROR(VLOOKUP('input-data'!$E$90,Fodertabel,10,FALSE),0)*'input-data'!I90/100)\n+(IFERROR(VLOOKUP('input-data'!$E$91,Fodertabel,10,FALSE),0)*'input-data'!I91/100)\n+(IFERROR(VLOOKUP('input-data'!$E$92,Fodertabel,10,FALSE),0)*'input-data'!I92/100)\n+(IFERROR(VLOOKUP('input-data'!$E$93,Fodertabel,10,FALSE),0)*'input-data'!I93/100)\n+(IFERROR(VLOOKUP('input-data'!$E$94,Fodertabel,10,FALSE),0)*'input-data'!I94/100)\n+(IFERROR(VLOOKUP('input-data'!$E$95,Fodertabel,10,FALSE),0)*'input-data'!I95/100))*10","v":0}]
[null,null,{"$f":"IF(topdowntables!N4=1, \"Fosfor, g per kg foder\", \"Phosphorus, g per kg feed\")","v":"Fosfor, g per kg foder"},{"$f":"SUM((IFERROR(VLOOKUP('input-data'!$E$81,Fodertabel,79,FALSE),0)*'input-data'!I81/100)\n+(IFERROR(VLOOKUP('input-data'!$E$82,Fodertabel,79,FALSE),0)*'input-data'!I82/100)\n+(IFERROR(VLOOKUP('input-data'!$E$83,Fodertabel,79,FALSE),0)*'input-data'!I83/100)\n+(IFERROR(VLOOKUP('input-data'!$E$84,Fodertabel,79,FALSE),0)*'input-data'!I84/100)\n+(IFERROR(VLOOKUP('input-data'!$E$85,Fodertabel,79,FALSE),0)*'input-data'!I85/100)\n+(IFERROR(VLOOKUP('input-data'!$E$86,Fodertabel,79,FALSE),0)*'input-data'!I86/100)\n+(IFERROR(VLOOKUP('input-data'!$E$87,Fodertabel,79,FALSE),0)*'input-data'!I87/100)\n+(IFERROR(VLOOKUP('input-data'!$E$88,Fodertabel,79,FALSE),0)*'input-data'!I88/100)\n+(IFERROR(VLOOKUP('input-data'!$E$89,Fodertabel,79,FALSE),0)*'input-data'!I89/100)\n+(IFERROR(VLOOKUP('input-data'!$E$90,Fodertabel,79,FALSE),0)*'input-data'!I90/100)\n+(IFERROR(VLOOKUP('input-data'!$E$91,Fodertabel,79,FALSE),0)*'input-data'!I91/100)\n+(IFERROR(VLOOKUP('input-data'!$E$92,Fodertabel,79,FALSE),0)*'input-data'!I92/100)\n+(IFERROR(VLOOKUP('input-data'!$E$93,Fodertabel,79,FALSE),0)*'input-data'!I93/100)\n+(IFERROR(VLOOKUP('input-data'!$E$94,Fodertabel,79,FALSE),0)*'input-data'!I94/100)\n+(IFERROR(VLOOKUP('input-data'!$E$95,Fodertabel,79,FALSE),0)*'input-data'!I95/100))","v":0}]
[]
[null,null,{"$f":"IF(topdowntables!N4=1, \"N og P bidrag fra foder pattegrise\", \"N and P content in feed for the piglets\")","v":"N og P bidrag fra foder pattegrise"}]
[null,null,{"$f":"IF(topdowntables!N4=1, \"Råprotein per årsso, kg\", \"Crude protein, kg per year sow\")","v":"Råprotein per årsso, kg"},{"$f":"($D$68*($D$66/100)*D34/1000)","v":0}]
[null,null,{"$f":"IF(topdowntables!N4=1, \"N per årsso, kg\", \"N, kg per year sow\")","v":"N per årsso, kg"},{"$f":"D72/6.25","v":0}]
[null,null,{"$f":"IF(topdowntables!N4=1, \"P per årsso, kg\", \"P, kg per year sow\")","v":"P per årsso, kg"},{"$f":"((D69*($D$66/100))*D34)/1000","v":0}]
[]
[null,{"$f":"IF(topdowntables!N4=1, \"Drægtighedsfoder:\", \"Feed corresponding to gestating period:\")","v":"Drægtighedsfoder:"}]
[null,null,{"$f":"IF(topdowntables!N4=1, \"Blanding 1:\", \"Feed mixture 1:\")","v":"Blanding 1:"}]
[null,null,{"$f":"IF(topdowntables!N4=1, \"FEso/100 kg\", \"FUsow/100 kg\")","v":"FEso/100 kg"},{"$f":"SUM((IFERROR(VLOOKUP('input-data'!$E$104,Fodertabel,4,FALSE),0)*'input-data'!I104/100)\n+(IFERROR(VLOOKUP('input-data'!$E$105,Fodertabel,4,FALSE),0)*'input-data'!I105/100)\n+(IFERROR(VLOOKUP('input-data'!$E$106,Fodertabel,4,FALSE),0)*'input-data'!I106/100)\n+(IFERROR(VLOOKUP('input-data'!$E$107,Fodertabel,4,FALSE),0)*'input-data'!I107/100)\n+(IFERROR(VLOOKUP('input-data'!$E$108,Fodertabel,4,FALSE),0)*'input-data'!I108/100)\n+(IFERROR(VLOOKUP('input-data'!$E$109,Fodertabel,4,FALSE),0)*'input-data'!I109/100)\n+(IFERROR(VLOOKUP('input-data'!$E$110,Fodertabel,4,FALSE),0)*'input-data'!I110/100)\n+(IFERROR(VLOOKUP('input-data'!$E$111,Fodertabel,4,FALSE),0)*'input-data'!I111/100)\n+(IFERROR(VLOOKUP('input-data'!$E$112,Fodertabel,4,FALSE),0)*'input-data'!I112/100)\n+(IFERROR(VLOOKUP('input-data'!$E$113,Fodertabel,4,FALSE),0)*'input-data'!I113/100)\n+(IFERROR(VLOOKUP('input-data'!$E$114,Fodertabel,4,FALSE),0)*'input-data'!I114/100)\n+(IFERROR(VLOOKUP('input-data'!$E$115,Fodertabel,4,FALSE),0)*'input-data'!I115/100)\n+(IFERROR(VLOOKUP('input-data'!$E$116,Fodertabel,4,FALSE),0)*'input-data'!I116/100)\n+(IFERROR(VLOOKUP('input-data'!$E$117,Fodertabel,4,FALSE),0)*'input-data'!I117/100)\n+(IFERROR(VLOOKUP('input-data'!$E$118,Fodertabel,4,FALSE),0)*'input-data'!I118/100))*100","v":0}]
[null,null,{"$f":"IF(topdowntables!N4=1, \"Tørstof, %\", \"Dry matter, %\")","v":"Tørstof, %"},{"$f":"SUM((IFERROR(VLOOKUP('input-data'!$E$104,Fodertabel,9,FALSE),0)*'input-data'!I104/100)\n+(IFERROR(VLOOKUP('input-data'!$E$105,Fodertabel,9,FALSE),0)*'input-data'!I105/100)\n+(IFERROR(VLOOKUP('input-data'!$E$106,Fodertabel,9,FALSE),0)*'input-data'!I106/100)\n+(IFERROR(VLOOKUP('input-data'!$E$107,Fodertabel,9,FALSE),0)*'input-data'!I107/100)\n+(IFERROR(VLOOKUP('input-data'!$E$108,Fodertabel,9,FALSE),0)*'input-data'!I108/100)\n+(IFERROR(VLOOKUP('input-data'!$E$109,Fodertabel,9,FALSE),0)*'input-data'!I109/100)\n+(IFERROR(VLOOKUP('input-data'!$E$110,Fodertabel,9,FALSE),0)*'input-data'!I110/100)\n+(IFERROR(VLOOKUP('input-data'!$E$111,Fodertabel,9,FALSE),0)*'input-data'!I111/100)\n+(IFERROR(VLOOKUP('input-data'!$E$112,Fodertabel,9,FALSE),0)*'input-data'!I112/100)\n+(IFERROR(VLOOKUP('input-data'!$E$113,Fodertabel,9,FALSE),0)*'input-data'!I113/100)\n+(IFERROR(VLOOKUP('input-data'!$E$114,Fodertabel,9,FALSE),0)*'input-data'!I114/100)\n+(IFERROR(VLOOKUP('input-data'!$E$115,Fodertabel,9,FALSE),0)*'input-data'!I115/100)\n+(IFERROR(VLOOKUP('input-data'!$E$116,Fodertabel,9,FALSE),0)*'input-data'!I116/100)\n+(IFERROR(VLOOKUP('input-data'!$E$117,Fodertabel,9,FALSE),0)*'input-data'!I117/100)\n+(IFERROR(VLOOKUP('input-data'!$E$118,Fodertabel,9,FALSE),0)*'input-data'!I118/100))","v":0}]
[null,null,{"$f":"IF(topdowntables!N4=1, \"Råprotein, g per kg foder\", \"Crude protein, g per kg feed\")","v":"Råprotein, g per kg foder"},{"$f":"SUM((IFERROR(VLOOKUP('input-data'!$E$104,Fodertabel,10,FALSE),0)*'input-data'!I104/100)\n+(IFERROR(VLOOKUP('input-data'!$E$105,Fodertabel,10,FALSE),0)*'input-data'!I105/100)\n+(IFERROR(VLOOKUP('input-data'!$E$106,Fodertabel,10,FALSE),0)*'input-data'!I106/100)\n+(IFERROR(VLOOKUP('input-data'!$E$107,Fodertabel,10,FALSE),0)*'input-data'!I107/100)\n+(IFERROR(VLOOKUP('input-data'!$E$108,Fodertabel,10,FALSE),0)*'input-data'!I108/100)\n+(IFERROR(VLOOKUP('input-data'!$E$109,Fodertabel,10,FALSE),0)*'input-data'!I109/100)\n+(IFERROR(VLOOKUP('input-data'!$E$110,Fodertabel,10,FALSE),0)*'input-data'!I110/100)\n+(IFERROR(VLOOKUP('input-data'!$E$111,Fodertabel,10,FALSE),0)*'input-data'!I111/100)\n+(IFERROR(VLOOKUP('input-data'!$E$112,Fodertabel,10,FALSE),0)*'input-data'!I112/100)\n+(IFERROR(VLOOKUP('input-data'!$E$113,Fodertabel,10,FALSE),0)*'input-data'!I113/100)\n+(IFERROR(VLOOKUP('input-data'!$E$114,Fodertabel,10,FALSE),0)*'input-data'!I114/100)\n+(IFERROR(VLOOKUP('input-data'!$E$115,Fodertabel,10,FALSE),0)*'input-data'!I115/100)\n+(IFERROR(VLOOKUP('input-data'!$E$116,Fodertabel,10,FALSE),0)*'input-data'!I116/100)\n+(IFERROR(VLOOKUP('input-data'!$E$117,Fodertabel,10,FALSE),0)*'input-data'!I117/100)\n+(IFERROR(VLOOKUP('input-data'!$E$118,Fodertabel,10,FALSE),0)*'input-data'!I118/100))*10","v":0}]
[null,null,{"$f":"IF(topdowntables!N4=1, \"Fosfor, g per kg foder\", \"Phosphorus, g per kg feed\")","v":"Fosfor, g per kg foder"},{"$f":"SUM((IFERROR(VLOOKUP('input-data'!$E$104,Fodertabel,79,FALSE),0)*'input-data'!I104/100)\n+(IFERROR(VLOOKUP('input-data'!$E$105,Fodertabel,79,FALSE),0)*'input-data'!I105/100)\n+(IFERROR(VLOOKUP('input-data'!$E$106,Fodertabel,79,FALSE),0)*'input-data'!I106/100)\n+(IFERROR(VLOOKUP('input-data'!$E$107,Fodertabel,79,FALSE),0)*'input-data'!I107/100)\n+(IFERROR(VLOOKUP('input-data'!$E$108,Fodertabel,79,FALSE),0)*'input-data'!I108/100)\n+(IFERROR(VLOOKUP('input-data'!$E$109,Fodertabel,79,FALSE),0)*'input-data'!I109/100)\n+(IFERROR(VLOOKUP('input-data'!$E$110,Fodertabel,79,FALSE),0)*'input-data'!I110/100)\n+(IFERROR(VLOOKUP('input-data'!$E$111,Fodertabel,79,FALSE),0)*'input-data'!I111/100)\n+(IFERROR(VLOOKUP('input-data'!$E$112,Fodertabel,79,FALSE),0)*'input-data'!I112/100)\n+(IFERROR(VLOOKUP('input-data'!$E$113,Fodertabel,79,FALSE),0)*'input-data'!I113/100)\n+(IFERROR(VLOOKUP('input-data'!$E$114,Fodertabel,79,FALSE),0)*'input-data'!I114/100)\n+(IFERROR(VLOOKUP('input-data'!$E$115,Fodertabel,79,FALSE),0)*'input-data'!I115/100)\n+(IFERROR(VLOOKUP('input-data'!$E$116,Fodertabel,79,FALSE),0)*'input-data'!I116/100)\n+(IFERROR(VLOOKUP('input-data'!$E$117,Fodertabel,79,FALSE),0)*'input-data'!I117/100)\n+(IFERROR(VLOOKUP('input-data'!$E$118,Fodertabel,79,FALSE),0)*'input-data'!I118/100))","v":0}]
[null,null,{"$f":"IF(topdowntables!N4=1, \"Blanding 1, foderdage per årsso\", \"Mixture 1, feeding days per yearsow\")","v":"Blanding 1, foderdage per årsso"},{"$f":"('input-data'!H102*'input-data'!E15)+(D28)-IF('input-data'!H102>100,'input-data'!F48*'input-data'!E15,0)","v":365},null,"(dage bl. 1*kuld per år)+(golddage)"]
[]
[null,null,{"$f":"IF(topdowntables!N4=1, \"Blanding 2:\", \"Feed mixture 2:\")","v":"Blanding 2:"}]
[null,null,{"$f":"IF(topdowntables!N4=1, \"FEso/100 kg\", \"FUsow/100 kg\")","v":"FEso/100 kg"},{"$f":"SUM((IFERROR(VLOOKUP('input-data'!$E$125,Fodertabel,4,FALSE),0)*'input-data'!I125/100)\n+(IFERROR(VLOOKUP('input-data'!$E$126,Fodertabel,4,FALSE),0)*'input-data'!I126/100)\n+(IFERROR(VLOOKUP('input-data'!$E$127,Fodertabel,4,FALSE),0)*'input-data'!I127/100)\n+(IFERROR(VLOOKUP('input-data'!$E$128,Fodertabel,4,FALSE),0)*'input-data'!I128/100)\n+(IFERROR(VLOOKUP('input-data'!$E$129,Fodertabel,4,FALSE),0)*'input-data'!I129/100)\n+(IFERROR(VLOOKUP('input-data'!$E$130,Fodertabel,4,FALSE),0)*'input-data'!I130/100)\n+(IFERROR(VLOOKUP('input-data'!$E$131,Fodertabel,4,FALSE),0)*'input-data'!I131/100)\n+(IFERROR(VLOOKUP('input-data'!$E$132,Fodertabel,4,FALSE),0)*'input-data'!I132/100)\n+(IFERROR(VLOOKUP('input-data'!$E$133,Fodertabel,4,FALSE),0)*'input-data'!I133/100)\n+(IFERROR(VLOOKUP('input-data'!$E$134,Fodertabel,4,FALSE),0)*'input-data'!I134/100)\n+(IFERROR(VLOOKUP('input-data'!$E$135,Fodertabel,4,FALSE),0)*'input-data'!I135/100)\n+(IFERROR(VLOOKUP('input-data'!$E$136,Fodertabel,4,FALSE),0)*'input-data'!I136/100)\n+(IFERROR(VLOOKUP('input-data'!$E$137,Fodertabel,4,FALSE),0)*'input-data'!I137/100)\n+(IFERROR(VLOOKUP('input-data'!$E$138,Fodertabel,4,FALSE),0)*'input-data'!I138/100)\n+(IFERROR(VLOOKUP('input-data'!$E$139,Fodertabel,4,FALSE),0)*'input-data'!I139/100))\n*100","v":0}]
[null,null,{"$f":"IF(topdowntables!N4=1, \"Tørstof, %\", \"Dry matter, %\")","v":"Tørstof, %"},{"$f":"SUM((IFERROR(VLOOKUP('input-data'!$E$125,Fodertabel,9,FALSE),0)*'input-data'!I125/100)\n+(IFERROR(VLOOKUP('input-data'!$E$126,Fodertabel,9,FALSE),0)*'input-data'!I126/100)\n+(IFERROR(VLOOKUP('input-data'!$E$127,Fodertabel,9,FALSE),0)*'input-data'!I127/100)\n+(IFERROR(VLOOKUP('input-data'!$E$128,Fodertabel,9,FALSE),0)*'input-data'!I128/100)\n+(IFERROR(VLOOKUP('input-data'!$E$129,Fodertabel,9,FALSE),0)*'input-data'!I129/100)\n+(IFERROR(VLOOKUP('input-data'!$E$130,Fodertabel,9,FALSE),0)*'input-data'!I130/100)\n+(IFERROR(VLOOKUP('input-data'!$E$131,Fodertabel,9,FALSE),0)*'input-data'!I131/100)\n+(IFERROR(VLOOKUP('input-data'!$E$132,Fodertabel,9,FALSE),0)*'input-data'!I132/100)\n+(IFERROR(VLOOKUP('input-data'!$E$133,Fodertabel,9,FALSE),0)*'input-data'!I133/100)\n+(IFERROR(VLOOKUP('input-data'!$E$134,Fodertabel,9,FALSE),0)*'input-data'!I134/100)\n+(IFERROR(VLOOKUP('input-data'!$E$135,Fodertabel,9,FALSE),0)*'input-data'!I135/100)\n+(IFERROR(VLOOKUP('input-data'!$E$136,Fodertabel,9,FALSE),0)*'input-data'!I136/100)\n+(IFERROR(VLOOKUP('input-data'!$E$137,Fodertabel,9,FALSE),0)*'input-data'!I137/100)\n+(IFERROR(VLOOKUP('input-data'!$E$138,Fodertabel,9,FALSE),0)*'input-data'!I138/100)\n+(IFERROR(VLOOKUP('input-data'!$E$139,Fodertabel,9,FALSE),0)*'input-data'!I139/100))","v":0}]
[null,null,{"$f":"IF(topdowntables!N4=1, \"Råprotein, g per kg foder\", \"Crude protein, g per kg feed\")","v":"Råprotein, g per kg foder"},{"$f":"SUM((IFERROR(VLOOKUP('input-data'!$E$125,Fodertabel,10,FALSE),0)*'input-data'!I125/100)\n+(IFERROR(VLOOKUP('input-data'!$E$126,Fodertabel,10,FALSE),0)*'input-data'!I126/100)\n+(IFERROR(VLOOKUP('input-data'!$E$127,Fodertabel,10,FALSE),0)*'input-data'!I127/100)\n+(IFERROR(VLOOKUP('input-data'!$E$128,Fodertabel,10,FALSE),0)*'input-data'!I128/100)\n+(IFERROR(VLOOKUP('input-data'!$E$129,Fodertabel,10,FALSE),0)*'input-data'!I129/100)\n+(IFERROR(VLOOKUP('input-data'!$E$130,Fodertabel,10,FALSE),0)*'input-data'!I130/100)\n+(IFERROR(VLOOKUP('input-data'!$E$131,Fodertabel,10,FALSE),0)*'input-data'!I131/100)\n+(IFERROR(VLOOKUP('input-data'!$E$132,Fodertabel,10,FALSE),0)*'input-data'!I132/100)\n+(IFERROR(VLOOKUP('input-data'!$E$133,Fodertabel,10,FALSE),0)*'input-data'!I133/100)\n+(IFERROR(VLOOKUP('input-data'!$E$134,Fodertabel,10,FALSE),0)*'input-data'!I134/100)\n+(IFERROR(VLOOKUP('input-data'!$E$135,Fodertabel,10,FALSE),0)*'input-data'!I135/100)\n+(IFERROR(VLOOKUP('input-data'!$E$136,Fodertabel,10,FALSE),0)*'input-data'!I136/100)\n+(IFERROR(VLOOKUP('input-data'!$E$137,Fodertabel,10,FALSE),0)*'input-data'!I137/100)\n+(IFERROR(VLOOKUP('input-data'!$E$138,Fodertabel,10,FALSE),0)*'input-data'!I138/100)\n+(IFERROR(VLOOKUP('input-data'!$E$139,Fodertabel,10,FALSE),0)*'input-data'!I139/100))*10","v":0}]
[null,null,{"$f":"IF(topdowntables!N4=1, \"Fosfor, g per kg foder\", \"Phosphorus, g per kg feed\")","v":"Fosfor, g per kg foder"},{"$f":"SUM((IFERROR(VLOOKUP('input-data'!$E$125,Fodertabel,79,FALSE),0)*'input-data'!I125/100)\n+(IFERROR(VLOOKUP('input-data'!$E$126,Fodertabel,79,FALSE),0)*'input-data'!I126/100)\n+(IFERROR(VLOOKUP('input-data'!$E$127,Fodertabel,79,FALSE),0)*'input-data'!I127/100)\n+(IFERROR(VLOOKUP('input-data'!$E$128,Fodertabel,79,FALSE),0)*'input-data'!I128/100)\n+(IFERROR(VLOOKUP('input-data'!$E$129,Fodertabel,79,FALSE),0)*'input-data'!I129/100)\n+(IFERROR(VLOOKUP('input-data'!$E$130,Fodertabel,79,FALSE),0)*'input-data'!I130/100)\n+(IFERROR(VLOOKUP('input-data'!$E$131,Fodertabel,79,FALSE),0)*'input-data'!I131/100)\n+(IFERROR(VLOOKUP('input-data'!$E$132,Fodertabel,79,FALSE),0)*'input-data'!I132/100)\n+(IFERROR(VLOOKUP('input-data'!$E$133,Fodertabel,79,FALSE),0)*'input-data'!I133/100)\n+(IFERROR(VLOOKUP('input-data'!$E$134,Fodertabel,79,FALSE),0)*'input-data'!I134/100)\n+(IFERROR(VLOOKUP('input-data'!$E$135,Fodertabel,79,FALSE),0)*'input-data'!I135/100)\n+(IFERROR(VLOOKUP('input-data'!$E$136,Fodertabel,79,FALSE),0)*'input-data'!I136/100)\n+(IFERROR(VLOOKUP('input-data'!$E$137,Fodertabel,79,FALSE),0)*'input-data'!I137/100)\n+(IFERROR(VLOOKUP('input-data'!$E$138,Fodertabel,79,FALSE),0)*'input-data'!I138/100)\n+(IFERROR(VLOOKUP('input-data'!$E$139,Fodertabel,79,FALSE),0)*'input-data'!I139/100))","v":0}]
[null,null,{"$f":"IF(topdowntables!N4=1, \"Blanding 2, foderdage per årsso\", \"Mixture 2, feeding days per yearsow\")","v":"Blanding 2, foderdage per årsso"},{"$f":"(D27+D28-D82-('input-data'!F48*'input-data'!E15))","v":0},null,"(dr.dage+golddage-(foderdage bl. 1)-(dage i farefold før faring*kuld per år)"]
[]
[null,null,{"$f":"IF(topdowntables!N4=1, \"N og P bidrag fra drægtighedsfoderet, totalt\", \"Total N and P content in feed used during gestation period\")","v":"N og P bidrag fra drægtighedsfoderet, totalt"}]
[null,null,{"$f":"IF(topdowntables!N4=1, \"Råprotein per årsso, kg\", \"Crude protein, kg per yearsow\")","v":"Råprotein per årsso, kg"},{"$f":"((D80*(D78/100)*'input-data'!E101*'Flow sohold'!D82)+('Flow sohold'!D87*'Flow sohold'!D85/100*'input-data'!E122*'Flow sohold'!D89))/1000","v":0},null,"(råprotein g/kg*Fe per 100 kg*FE per dyr per dag (blanding 1)*foderdage blanding 1 )+ (råprotein g/kg*Fe per 100 kg*FE per dyr per dag (blanding 2)*Dage blanding 2)"]
[null,null,{"$f":"IF(topdowntables!N4=1, \"N per årsso, kg\", \"N, kg per yearsow\")","v":"N per årsso, kg"},{"$f":"D92/6.25","v":0},null,"Råprotein/6,25"]
[null,null,{"$f":"IF(topdowntables!N4=1, \"P per årsso, kg\", \"P, kg per yearsow\")","v":"P per årsso, kg"},{"$f":"(('Flow sohold'!D81*'Flow sohold'!D78/100*'input-data'!E101*D82)+(D88*D85/100*'input-data'!E122*'Flow sohold'!D89))/1000","v":0},null,"(Fosfor g/kg*Fe per 100 kg*FE per dyr per dag (bl. 1)*foderdage per årsso bl. 1 + (fosfor g/kg*Fe per 100 kg*FE per dyr per dag (bl. 2)*Foderdage per årsso bl. 2)"]
[]
[null,{"$f":"IF(topdowntables!$N$4=1, \"Grovfoder inkl. græs:\", \"Roughage incl. grazing:\")","v":"Grovfoder inkl. græs:"}]
[null,null,{"$f":"IF(topdowntables!N4=1, \"Grovfoder, diegivende:\", \"Roughage, lactation period:\")","v":"Grovfoder, diegivende:"}]
[null,null,{"$f":"IF(topdowntables!$N$4=1, \"FEso/100 kg\", \"FUsow/100 kg\")","v":"FEso/100 kg"},{"$f":" SUM((IFERROR(VLOOKUP('input-data'!$E$70,Fodertabel,4,FALSE),0)*'input-data'!I70/100)\n+(IFERROR(VLOOKUP('input-data'!$E$71,Fodertabel,4,FALSE),0)*'input-data'!I71/100)\n+(IFERROR(VLOOKUP('input-data'!$E$72,Fodertabel,4,FALSE),0)*'input-data'!I72/100)\n+(IFERROR(VLOOKUP('input-data'!$E$73,Fodertabel,4,FALSE),0)*'input-data'!I73/100)\n+(IFERROR(VLOOKUP('input-data'!$E$74,Fodertabel,4,FALSE),0)*'input-data'!I74/100))*100","v":0}]
[null,null,{"$f":"IF(topdowntables!N4=1, \"Tørstof, %\", \"Dry matter, %\")","v":"Tørstof, %"},{"$f":"SUM((IFERROR(VLOOKUP('input-data'!$E$70,Fodertabel,9,FALSE),0)*'input-data'!I70/100)+(IFERROR(VLOOKUP('input-data'!$E$71,Fodertabel,9,FALSE),0)*'input-data'!I71/100)\n+(IFERROR(VLOOKUP('input-data'!$E$72,Fodertabel,9,FALSE),0)*'input-data'!I72/100)\n+(IFERROR(VLOOKUP('input-data'!$E$73,Fodertabel,9,FALSE),0)*'input-data'!I73/100)\n+(IFERROR(VLOOKUP('input-data'!$E$74,Fodertabel,9,FALSE),0)*'input-data'!I74/100))","v":0}]
[null,null,{"$f":"IF(topdowntables!N4=1, \"Råprotein, g per kg foder\", \"Crude protein, g per kg feed\")","v":"Råprotein, g per kg foder"},{"$f":" SUM((IFERROR(VLOOKUP('input-data'!$E$70,Fodertabel,10,FALSE),0)*'input-data'!I70/100)\n+(IFERROR(VLOOKUP('input-data'!$E$71,Fodertabel,10,FALSE),0)*'input-data'!I71/100)\n+(IFERROR(VLOOKUP('input-data'!$E$72,Fodertabel,10,FALSE),0)*'input-data'!I72/100)\n+(IFERROR(VLOOKUP('input-data'!$E$73,Fodertabel,10,FALSE),0)*'input-data'!I73/100)\n+(IFERROR(VLOOKUP('input-data'!$E$74,Fodertabel,10,FALSE),0)*'input-data'!I74/100))*10","v":0}]
[null,null,{"$f":"IF(topdowntables!N4=1, \"Fosfor, g per kg foder\", \"Phosphorus, g per kg feed\")","v":"Fosfor, g per kg foder"},{"$f":" SUM((IFERROR(VLOOKUP('input-data'!$E$70,Fodertabel,79,FALSE),0)*'input-data'!I70/100)\n+(IFERROR(VLOOKUP('input-data'!$E$71,Fodertabel,79,FALSE),0)*'input-data'!I71/100)\n+(IFERROR(VLOOKUP('input-data'!$E$72,Fodertabel,79,FALSE),0)*'input-data'!I72/100)\n+(IFERROR(VLOOKUP('input-data'!$E$73,Fodertabel,79,FALSE),0)*'input-data'!I73/100)\n+(IFERROR(VLOOKUP('input-data'!$E$74,Fodertabel,79,FALSE),0)*'input-data'!I74/100))","v":0}]
[]
[null,null,{"$f":"IF(topdowntables!$N$4=1, \"Græs, diegivende:\", \"Grass, lactation period:\")","v":"Græs, diegivende:"}]
[null,null,{"$f":"IF(topdowntables!$N$4=1, \"FEsv/100 kg\", \"FUpiglet/100 kg\")","v":"FEsv/100 kg"},{"$f":"SUM((IFERROR(VLOOKUP('input-data'!$E$306,Fodertabel!$D$353:$HU$356,4,FALSE),0)))*100","v":11.899999999999999}]
[null,null,{"$f":"IF(topdowntables!$N$4=1, \"Tørstof, %\", \"Dry matter, %\")","v":"Tørstof, %"},{"$f":"SUM((IFERROR(VLOOKUP('input-data'!$E$306,Fodertabel!$D$353:$HU$356,9,FALSE),0)))","v":17}]
[null,null,{"$f":"IF(topdowntables!$N$4=1, \"Råprotein, g per kg foder\", \"Crude protein, g per kg feed\")","v":"Råprotein, g per kg foder"},{"$f":"SUM((IFERROR(VLOOKUP('input-data'!$E$306,Fodertabel!$D$353:$HU$356,10,FALSE),0)))*10","v":30.299999999999997}]
[null,null,{"$f":"IF(topdowntables!$N$4=1, \"Fosfor, g per kg foder\", \"Phosphorus, g per kg feed\")","v":"Fosfor, g per kg foder"},{"$f":"SUM((IFERROR(VLOOKUP('input-data'!$E$306,Fodertabel!$D$353:$HU$356,79,FALSE),0)))*10","v":0}]
[]
[null,null,{"$f":"IF(topdowntables!N4=1, \"N og P bidrag fra Grovfoder, diegivende\", \"N an P content in roughage, lactation period\")","v":"N og P bidrag fra Grovfoder, diegivende"}]
[null,null,{"$f":"IF(topdowntables!N4=1, \"Råprotein per årsso, kg\", \"Crude protein, kg per yearsow\")","v":"Råprotein per årsso, kg"},{"$f":"((D100*D41)+(D106*D40))/1000","v":0},null,"(råprotein g/kg*kg tildelt) +(råprotein g/kg *forventet græsoptag,kg )"]
[null,null,{"$f":"IF(topdowntables!N4=1, \"N per årsso, kg\", \"N, kg per yearsow\")","v":"N per årsso, kg"},{"$f":"D110/6.25","v":0}]
[null,null,{"$f":"IF(topdowntables!N4=1, \"P per årsso, kg\", \"P, kg per yearsow\")","v":"P per årsso, kg"},{"$f":"((D101*D41)+(D107*D40))/1000","v":0}]
[]
[null,null,{"$f":"IF(topdowntables!$N$4=1, \"Grovfoder, drægtige\", \"Roughage, gestation period\")","v":"Grovfoder, drægtige"}]
[null,null,{"$f":"IF(topdowntables!$N$4=1, \"FEso/100 kg\", \"FUsow/100 kg\")","v":"FEso/100 kg"},{"$f":" SUM((IFERROR(VLOOKUP('input-data'!$E$147,Fodertabel,4,FALSE),0)*'input-data'!I147/100)\n+(IFERROR(VLOOKUP('input-data'!$E$148,Fodertabel,4,FALSE),0)*'input-data'!I148/100)\n+(IFERROR(VLOOKUP('input-data'!$E$149,Fodertabel,4,FALSE),0)*'input-data'!I149/100)\n+(IFERROR(VLOOKUP('input-data'!$E$150,Fodertabel,4,FALSE),0)*'input-data'!I150/100)\n+(IFERROR(VLOOKUP('input-data'!$E$151,Fodertabel,4,FALSE),0)*'input-data'!I151/100))*100","v":0}]
[null,null,{"$f":"IF(topdowntables!$N$4=1, \"Tørstof, %\", \"Dry matter, %\")","v":"Tørstof, %"},{"$f":" SUM((IFERROR(VLOOKUP('input-data'!$E$147,Fodertabel,9,FALSE),0)*'input-data'!I147/100)\n+(IFERROR(VLOOKUP('input-data'!$E$148,Fodertabel,9,FALSE),0)*'input-data'!I148/100)\n+(IFERROR(VLOOKUP('input-data'!$E$149,Fodertabel,9,FALSE),0)*'input-data'!I149/100)\n+(IFERROR(VLOOKUP('input-data'!$E$150,Fodertabel,9,FALSE),0)*'input-data'!I150/100)\n+(IFERROR(VLOOKUP('input-data'!$E$151,Fodertabel,9,FALSE),0)*'input-data'!I151/100))","v":0}]
[null,null,{"$f":"IF(topdowntables!$N$4=1, \"Råprotein, g per kg foder\", \"Crude protein, g per kg feed\")","v":"Råprotein, g per kg foder"},{"$f":" SUM((IFERROR(VLOOKUP('input-data'!$E$147,Fodertabel,10,FALSE),0)*'input-data'!I147/100)\n+(IFERROR(VLOOKUP('input-data'!$E$148,Fodertabel,10,FALSE),0)*'input-data'!I148/100)\n+(IFERROR(VLOOKUP('input-data'!$E$149,Fodertabel,10,FALSE),0)*'input-data'!I149/100)\n+(IFERROR(VLOOKUP('input-data'!$E$150,Fodertabel,10,FALSE),0)*'input-data'!I150/100)\n+(IFERROR(VLOOKUP('input-data'!$E$151,Fodertabel,10,FALSE),0)*'input-data'!I151/100))*10","v":0}]
[null,null,{"$f":"IF(topdowntables!$N$4=1, \"Fosfor, g per kg foder\", \"Phosphorus, g per kg feed\")","v":"Fosfor, g per kg foder"},{"$f":" SUM((IFERROR(VLOOKUP('input-data'!$E$147,Fodertabel,79,FALSE),0)*'input-data'!I147/100)\n+(IFERROR(VLOOKUP('input-data'!$E$148,Fodertabel,79,FALSE),0)*'input-data'!I148/100)\n+(IFERROR(VLOOKUP('input-data'!$E$149,Fodertabel,79,FALSE),0)*'input-data'!I149/100)\n+(IFERROR(VLOOKUP('input-data'!$E$150,Fodertabel,79,FALSE),0)*'input-data'!I150/100)\n+(IFERROR(VLOOKUP('input-data'!$E$151,Fodertabel,79,FALSE),0)*'input-data'!I151/100))","v":0}]
[]
[null,null,{"$f":"IF(topdowntables!$N$4=1, \"Græs, drægtige:\", \"Grass,  gestation period:\")","v":"Græs, drægtige:"}]
[null,null,{"$f":"IF(topdowntables!$N$4=1, \"FEsv/100 kg\", \"FUpiglet/100 kg\")","v":"FEsv/100 kg"},{"$f":"SUM((IFERROR(VLOOKUP('input-data'!$E$328,Fodertabel!$D$353:$HU$356,4,FALSE),0)))*100","v":11.899999999999999}]
[null,null,{"$f":"IF(topdowntables!$N$4=1, \"Tørstof, %\", \"Dry matter, %\")","v":"Tørstof, %"},{"$f":"SUM((IFERROR(VLOOKUP('input-data'!$E$328,Fodertabel!$D$353:$HU$356,9,FALSE),0)))","v":17}]
[null,null,{"$f":"IF(topdowntables!$N$4=1, \"Råprotein, g per kg foder\", \"Crude protein, g per kg feed\")","v":"Råprotein, g per kg foder"},{"$f":"SUM((IFERROR(VLOOKUP('input-data'!$E$328,Fodertabel!$D$353:$HU$356,10,FALSE),0)))*10","v":30.299999999999997}]
[null,null,{"$f":"IF(topdowntables!$N$4=1, \"Fosfor, g per kg foder\", \"Phosphorus, g per kg feed\")","v":"Fosfor, g per kg foder"},{"$f":"SUM((IFERROR(VLOOKUP('input-data'!$E$328,Fodertabel!$D$353:$HU$356,79,FALSE),0)))*10","v":0}]
[]
[null,null,{"$f":"IF(topdowntables!N4=1, \"N og P bidrag fra Grovfoder, drægtige\", \" N and P content in roughage, gestating period\")","v":"N og P bidrag fra Grovfoder, drægtige"}]
[null,null,{"$f":"IF(topdowntables!N4=1, \"Råprotein per årsso, kg\", \"Crude protein, kg per yearsow\")","v":"Råprotein per årsso, kg"},{"$f":"((D117*D45)+(D123*D44))/1000","v":0},null,"(råprotein g/kg*kg tildelt) +(råprotein g/kg *forventet græsoptag,kg )"]
[null,null,{"$f":"IF(topdowntables!N4=1, \"N per årsso, kg\", \"N, kg per yearsow\")","v":"N per årsso, kg"},{"$f":"D127/6.25","v":0}]
[null,null,{"$f":"IF(topdowntables!N4=1, \"P per årsso, kg\", \"P, kg per yearsow\")","v":"P per årsso, kg"},{"$f":"((D118*D45)+(D124*D44))/1000","v":0}]
[]
[null,{"$f":"IF(topdowntables!N4=1, \"Halm:\", \"Straw:\")","v":"Halm:"}]
[null,null,{"$f":"IF(topdowntables!N4=1, \"Diegivende:\", \"Lactation period:\")","v":"Diegivende:"}]
[null,null,{"$f":"IF(topdowntables!N4=1, \"Tørstof, %\", \"Dry matter, %\")","v":"Tørstof, %"},{"$f":"IF(OR('input-data'!$E$302=topdowntables!$C$4,'input-data'!$E$302=topdowntables!$C$9),(VLOOKUP('input-data'!$E$310,Fodertabel,9)),\nIF(OR('input-data'!$E$302=topdowntables!$C$5,'input-data'!$E$302=topdowntables!$C$10),(VLOOKUP('input-data'!$E$317,Fodertabel,9)),\nIF(OR('input-data'!$E$302=topdowntables!$C$6,'input-data'!$E$302=topdowntables!$C$11),(\n(VLOOKUP('input-data'!$E$310,Fodertabel,9))*((('input-data'!E309*'input-data'!E15*('input-data'!F303/365))/D49))\n)\n+((VLOOKUP('input-data'!$E$317,Fodertabel,9))*((('input-data'!E316*'input-data'!E15)*((365-'input-data'!F303)/365))/D49)),0)))","v":90}]
[null,null,{"$f":"IF(topdowntables!N4=1, \"Råprotein, g per kg strøelse\", \"Crude protein, g per kg straw\")","v":"Råprotein, g per kg strøelse"},{"$f":"IF(OR('input-data'!$E$302=topdowntables!$C$4,'input-data'!$E$302=topdowntables!$C$9),(VLOOKUP('input-data'!$E$310,Fodertabel,10)),\nIF(OR('input-data'!$E$302=topdowntables!$C$5,'input-data'!$E$302=topdowntables!$C$10),(VLOOKUP('input-data'!$E$317,Fodertabel,10)),\nIF(OR('input-data'!$E$302=topdowntables!$C$6,'input-data'!$E$302=topdowntables!$C$11),(\n(VLOOKUP('input-data'!$E$310,Fodertabel,10))*((('input-data'!E309*'input-data'!E15*('input-data'!F303/365))/D49))\n)\n+((VLOOKUP('input-data'!$E$317,Fodertabel,10))*((('input-data'!E316*'input-data'!E15)*((365-'input-data'!F303)/365))/D49)),0)))\n*10","v":36}]
[null,null,{"$f":"IF(topdowntables!N4=1, \"Fosfor, g per kg strøelse\", \"Phosphorus, g per kg straw\")","v":"Fosfor, g per kg strøelse"},{"$f":"IFERROR(IF(OR('input-data'!$E$302=topdowntables!$C$4,'input-data'!$E$302=topdowntables!$C$9),(VLOOKUP('input-data'!$E$310,Fodertabel,79)),\nIF(OR('input-data'!$E$302=topdowntables!$C$5,'input-data'!$E$302=topdowntables!$C$10),(VLOOKUP('input-data'!$E$317,Fodertabel,79)),\nIF(OR('input-data'!$E$302=topdowntables!$C$6,'input-data'!$E$302=topdowntables!$C$11),((VLOOKUP('input-data'!$E$310,Fodertabel,79))*((('input-data'!E309*'input-data'!E15*('input-data'!F303/365))/D49)))\n+((VLOOKUP('input-data'!$E$317,Fodertabel,79))*((('input-data'!E316*'input-data'!E15)*((365-'input-data'!F303)/365))/D49)),0))),0)","v":0.81}]
[null,null,{"$f":"IF(topdowntables!N4=1, \"N og P bidrag fra halm, diegivende\", \"N and P content in straw, lactating period\")","v":"N og P bidrag fra halm, diegivende"}]
[null,null,{"$f":"IF(topdowntables!N4=1, \"Råprotein per årsso, kg\", \"Crude protein, kg per yearsow\")","v":"Råprotein per årsso, kg"},{"$f":"D134*D49/1000","v":0}]
[null,null,{"$f":"IF(topdowntables!N4=1, \"N per årsso, kg\", \"N, kg per yearsow\")","v":"N per årsso, kg"},{"$f":"D137/6.25","v":0}]
[null,null,{"$f":"IF(topdowntables!N4=1, \"P per årsso, kg\", \"P, kg per yearsow\")","v":"P per årsso, kg"},{"$f":"D135*D49/1000","v":0}]
[]
[null,null,{"$f":"IF(topdowntables!N4=1, \"Drægtige\", \"Gestation period\")","v":"Drægtige"}]
[null,null,{"$f":"IF(topdowntables!N4=1, \"Tørstof, %\", \"Dry matter, %\")","v":"Tørstof, %"},{"$f":"IF(OR('input-data'!$E$324=topdowntables!$C$4,'input-data'!$E$324=topdowntables!$C$9), (VLOOKUP('input-data'!$E$332,Fodertabel,9)),\nIF(OR('input-data'!$E$324=topdowntables!$C$5,'input-data'!$E$324=topdowntables!$C$10), (VLOOKUP('input-data'!$E$339,Fodertabel,9)),\nIF(OR('input-data'!$E$324=topdowntables!$C$6,'input-data'!$E$324=topdowntables!$C$11),\n((VLOOKUP('input-data'!$E$332,Fodertabel,9))*((('input-data'!E331*(D27+D28)*('input-data'!F325/365))/D50)))\n+((VLOOKUP('input-data'!$E$339,Fodertabel,9))*((('input-data'!E338*(D27+D28))*((365-'input-data'!F325)/365))/D50)),0)))","v":90}]
[null,null,{"$f":"IF(topdowntables!N4=1, \"Råprotein, g per kg strøelse\", \"Crude protein, g per kg straw\")","v":"Råprotein, g per kg strøelse"},{"$f":"IF(OR('input-data'!$E$324=topdowntables!$C$4,'input-data'!$E$324=topdowntables!$C$9), (VLOOKUP('input-data'!$E$332,Fodertabel,10)),\nIF(OR('input-data'!$E$324=topdowntables!$C$5,'input-data'!$E$324=topdowntables!$C$10), (VLOOKUP('input-data'!$E$339,Fodertabel,10)),\nIF(OR('input-data'!$E$324=topdowntables!$C$6,'input-data'!$E$324=topdowntables!$C$11),\n((VLOOKUP('input-data'!$E$332,Fodertabel,10))*((('input-data'!E331*(D27+D28)*('input-data'!F325/365))/D50)))\n+((VLOOKUP('input-data'!$E$339,Fodertabel,10))*((('input-data'!E338*(D27+D28))*((365-'input-data'!F325)/365))/D50)),0)))*10","v":36}]
[null,null,{"$f":"IF(topdowntables!N4=1, \"Fosfor, g per kg strøelse\", \"Phosphorus, g per kg straw\")","v":"Fosfor, g per kg strøelse"},{"$f":"IF(OR('input-data'!$E$324=topdowntables!$C$4,'input-data'!$E$324=topdowntables!$C$9), (VLOOKUP('input-data'!$E$332,Fodertabel,79)),\nIF(OR('input-data'!$E$324=topdowntables!$C$5,'input-data'!$E$324=topdowntables!$C$10), (VLOOKUP('input-data'!$E$339,Fodertabel,79)),\nIF(OR('input-data'!$E$324=topdowntables!$C$6,'input-data'!$E$324=topdowntables!$C$11),\n((VLOOKUP('input-data'!$E$332,Fodertabel,79))*((('input-data'!E331*(D27+D28)*('input-data'!F325/365))/D50)))\n+((VLOOKUP('input-data'!$E$339,Fodertabel,79))*((('input-data'!E338*(D27+D28))*((365-'input-data'!F325)/365))/D50)),0)))","v":0.81}]
[null,null,{"$f":"IF(topdowntables!N4=1, \"N og P bidrag fra halm, drægtige\", \"N and P content in straw, gestating period\")","v":"N og P bidrag fra halm, drægtige"}]
[null,null,{"$f":"IF(topdowntables!N4=1, \"Råprotein per årsso, kg\", \"Crude protein, kg per yearsow\")","v":"Råprotein per årsso, kg"},{"$f":"D143*D50/1000","v":1.3140000000000001}]
[null,null,{"$f":"IF(topdowntables!N4=1, \"N per årsso, kg\", \"N, kg per yearsow\")","v":"N per årsso, kg"},{"$f":"D146/6.25","v":0.21024000000000001}]
[null,null,{"$f":"IF(topdowntables!N4=1, \"P per årsso, kg\", \"P, kg per yearsow\")","v":"P per årsso, kg"},{"$f":"D144*D50/1000","v":2.9565000000000001E-2}]

{"sheet":"Flow smågrise","index":11,"n_rows":108,"n_cols":6,"rows_kept":108,"cut":false,"hidden":false,"merged":[]}
[null,{"$f":"IF('input-data'!$B$3=\"Dansk\", \"SMÅGRISE\", \"PIGLETS\")","v":"SMÅGRISE"},null,"STANDARD",null,"Kilder til standardtal / bemærkninger"]
[]
[null,{"$f":"IF(topdowntables!N4=1, \"Dyre, flow\", \"Animals', flow\")","v":"Dyre, flow"}]
[null,{"$f":"IF(topdowntables!N4=1, \"Smågrisene:\", \"Piglets\")","v":"Smågrisene:"}]
[null,null,{"$f":"IF(topdowntables!N4=1, \"Overførte fra sohold, stk\", \"Transfered from sows' herd, p.\")","v":"Overførte fra sohold, stk"},{"$f":"'Flow sohold'!D20","v":0},null,"Overført værdi fra Flow sohold"]
[null,null,{"$f":"IF(topdowntables!N4=1, \"Indkøbte smågrise, stk\", \"Bought-in piglets, p.\")","v":"Indkøbte smågrise, stk"},{"$f":"'input-data'!E27","v":0},null,"Overført værdi input-data"]
[null,null,{"$f":"IF(topdowntables!N4=1, \"Vægt ved indsættelse, kg\", \"Weight at insertion, kg\")","v":"Vægt ved indsættelse, kg"},{"$f":"IFERROR(((D5*'input-data'!E21)+(D6*'input-data'!E28))/(D5+D6),0)","v":0},null,"(Vægt 'fravænnet'*Overførte)+(Vægt 'købte'*Købte)/(Overførte+købte)"]
[null,null,{"$f":"IF(topdowntables!N4=1, \"Døde/aflivet, stk\", \"Dead, p.\")","v":"Døde/aflivet, stk"},{"$f":"'input-data'!E31/100*(D5+D6)","v":0},null,"Dødlighedsprocenten/100x(Overførte + Indkøbte)"]
[null,null,{"$f":"IF(topdowntables!N4=1, \"Produceret smågrise, stk\", \"Produced piglets, p.\")","v":"Produceret smågrise, stk"},{"$f":"D5+D6-D8","v":0}]
[]
[null,null,{"$f":"IF(topdowntables!N4=1, \"Solgte, stk\", \"Sold, p.\")","v":"Solgte, stk"},{"$f":"'input-data'!E32","v":0},null,"Overført værdi input-data"]
[null,null,{"$f":"IF(topdowntables!N4=1, \"Overført til slagtesvin, stk\", \"Transferred to slaughter pigs, p.\")","v":"Overført til slagtesvin, stk"},{"$f":"D9-D11","v":0}]
[null,null,{"$f":"IF(topdowntables!N4=1, \"Vægt ved afgang, kg\", \"Weight at insertion, kg\")","v":"Vægt ved afgang, kg"},{"$f":"'input-data'!E29","v":0}]
[]
[null,{"$f":"IF(topdowntables!N4=1, \"Foder og strøelse, flow:\", \"Feed and straw, flow\")","v":"Foder og strøelse, flow:"}]
[null,{"$f":"IF(topdowntables!N4=1, \"Foderdage per produceret smågris:\", \"Feeding days per produced piglet\")","v":"Foderdage per produceret smågris:"}]
[null,null,{"$f":"IF(topdowntables!N4=1, \"Foderdage, ude\", \"Feeding days, outdoor\")","v":"Foderdage, ude"}]
[null,null,"    Blanding 1",{"$f":"IF(OR('input-data'!$E$346=topdowntables!$C$14,'input-data'!$E$346=topdowntables!$C$19),0)\n+(IF(AND('input-data'!$E$346=topdowntables!$C$15,'input-data'!H157>'input-data'!F157,'input-data'!E29>='input-data'!H157),('input-data'!H157-'input-data'!F157)/'input-data'!E30,0)\n+IF(AND('input-data'!$E$346=topdowntables!$C$20,'input-data'!H157>'input-data'!F157,'input-data'!E29>='input-data'!H157),('input-data'!H157-'input-data'!F157)/'input-data'!E30,0)\n+IF(AND('input-data'!$E$346=topdowntables!$C$15,'input-data'!H157>'input-data'!F157,'input-data'!E29<'input-data'!H157),('input-data'!E29-'input-data'!F157)/'input-data'!E30,0)\n+IF(AND('input-data'!$E$346=topdowntables!$C$20,'input-data'!H157>'input-data'!F157,'input-data'!E29<'input-data'!H157),('input-data'!E29-'input-data'!F157)/'input-data'!E30,0)\n+IF(AND('input-data'!$E$346=topdowntables!$C$16,'input-data'!H157>'input-data'!F157,'input-data'!F347>'input-data'!F157,'input-data'!F347<='input-data'!H157,'input-data'!H157<='input-data'!E29),('input-data'!F347-'input-data'!F157)/'input-data'!E30,0)\n+IF(AND('input-data'!$E$346=topdowntables!$C$21,'input-data'!H157>'input-data'!F157,'input-data'!F347>'input-data'!F157,'input-data'!F347<='input-data'!H157,'input-data'!H157<='input-data'!E29),('input-data'!F347-'input-data'!F157)/'input-data'!E30,0)\n+IF(AND('input-data'!$E$346=topdowntables!$C$16,'input-data'!H157>'input-data'!F157,'input-data'!F347>'input-data'!F157,'input-data'!F347<='input-data'!H157,'input-data'!H157>'input-data'!E29, 'input-data'!F347>'input-data'!E29),('input-data'!E29-'input-data'!F157)/'input-data'!E30,0)\n+IF(AND('input-data'!$E$346=topdowntables!$C$21,'input-data'!H157>'input-data'!F157,'input-data'!F347>'input-data'!F157,'input-data'!F347<='input-data'!H157,'input-data'!H157>'input-data'!E29, 'input-data'!F347>'input-data'!E29),('input-data'!E29-'input-data'!F157)/'input-data'!E30,0)\n+IF(AND('input-data'!$E$346=topdowntables!$C$16,'input-data'!H157>'input-data'!F157,'input-data'!F347>'input-data'!F157,'input-data'!F347<='input-data'!H157,'input-data'!H157>'input-data'!E29, 'input-data'!F347<='input-data'!E29),('input-data'!F347-'input-data'!F157)/'input-data'!E30,0)\n+IF(AND('input-data'!$E$346=topdowntables!$C$21,'input-data'!H157>'input-data'!F157,'input-data'!F347>'input-data'!F157,'input-data'!F347<='input-data'!H157,'input-data'!H157>'input-data'!E29, 'input-data'!F347<='input-data'!E29),('input-data'!F347-'input-data'!F157)/'input-data'!E30,0)\n+IF(AND('input-data'!$E$346=topdowntables!$C$16,'input-data'!H157>'input-data'!F157,'input-data'!F347>'input-data'!H157,'input-data'!H157<='input-data'!E29),('input-data'!H157-'input-data'!F157)/ 'input-data'!E30,0)\n+IF(AND('input-data'!$E$346=topdowntables!$C$21,'input-data'!H157>'input-data'!F157,'input-data'!F347>'input-data'!H157,'input-data'!H157<='input-data'!E29),('input-data'!H157-'input-data'!F157)/ 'input-data'!E30,0)\n+IF(AND('input-data'!$E$346=topdowntables!$C$16,'input-data'!H157>'input-data'!F157,'input-data'!F347>'input-data'!H157,'input-data'!H157>'input-data'!E29),('input-data'!E29-'input-data'!F157)/'input-data'!E30,0)\n+IF(AND('input-data'!$E$346=topdowntables!$C$21,'input-data'!H157>'input-data'!F157,'input-data'!F347>'input-data'!H157,'input-data'!H157>'input-data'!E29),('input-data'!E29-'input-data'!F157)/'input-data'!E30,0)\n)*1000","v":0}]
[null,null,"    Blanding 2",{"$f":"IF(OR('input-data'!$E$346=topdowntables!$C$14,'input-data'!$E$346=topdowntables!$C$19),0)\n+(IF(AND('input-data'!$E$346=topdowntables!$C$15,'input-data'!H176>'input-data'!F176,'input-data'!E29>='input-data'!H176),('input-data'!H176-'input-data'!F176)/'input-data'!E30,0)\n+IF(AND('input-data'!$E$346=topdowntables!$C$20,'input-data'!H176>'input-data'!F176,'input-data'!E29>='input-data'!H176),('input-data'!H176-'input-data'!F176)/'input-data'!E30,0)\n+IF(AND('input-data'!$E$346=topdowntables!$C$15,'input-data'!H176>'input-data'!F176,'input-data'!E29<'input-data'!H176),('input-data'!E29-'input-data'!F176)/'input-data'!E30,0)\n+IF(AND('input-data'!$E$346=topdowntables!$C$20,'input-data'!H176>'input-data'!F176,'input-data'!E29<'input-data'!H176),('input-data'!E29-'input-data'!F176)/'input-data'!E30,0)\n+IF(AND('input-data'!$E$346=topdowntables!$C$16,'input-data'!H176>'input-data'!F176,'input-data'!F347>'input-data'!F176,'input-data'!F347<='input-data'!H176,'input-data'!H176<='input-data'!E29),('input-data'!F347-'input-data'!F176)/'input-data'!E30,0)\n+IF(AND('input-data'!$E$346=topdowntables!$C$21,'input-data'!H176>'input-data'!F176,'input-data'!F347>'input-data'!F176,'input-data'!F347<='input-data'!H176,'input-data'!H176<='input-data'!E29),('input-data'!F347-'input-data'!F176)/'input-data'!E30,0)\n+IF(AND('input-data'!$E$346=topdowntables!$C$16,'input-data'!H176>'input-data'!F176,'input-data'!F347>'input-data'!F176,'input-data'!F347<='input-data'!H176,'input-data'!H176>'input-data'!E29, 'input-data'!F347>'input-data'!E29),('input-data'!E29-'input-data'!F176)/'input-data'!E30,0)\n+IF(AND('input-data'!$E$346=topdowntables!$C$21,'input-data'!H176>'input-data'!F176,'input-data'!F347>'input-data'!F176,'input-data'!F347<='input-data'!H176,'input-data'!H176>'input-data'!E29, 'input-data'!F347>'input-data'!E29),('input-data'!E29-'input-data'!F176)/'input-data'!E30,0)\n+IF(AND('input-data'!$E$346=topdowntables!$C$16,'input-data'!H176>'input-data'!F176,'input-data'!F347>'input-data'!F176,'input-data'!F347<='input-data'!H176,'input-data'!H176>'input-data'!E29, 'input-data'!F347<='input-data'!E29),('input-data'!F347-'input-data'!F176)/'input-data'!E30,0)\n+IF(AND('input-data'!$E$346=topdowntables!$C$21,'input-data'!H176>'input-data'!F176,'input-data'!F347>'input-data'!F176,'input-data'!F347<='input-data'!H176,'input-data'!H176>'input-data'!E29, 'input-data'!F347<='input-data'!E29),('input-data'!F347-'input-data'!F176)/'input-data'!E30,0)\n+IF(AND('input-data'!$E$346=topdowntables!$C$16,'input-data'!H176>'input-data'!F176,'input-data'!F347>'input-data'!H176,'input-data'!H176<='input-data'!E29),('input-data'!H176-'input-data'!F176)/ 'input-data'!E30,0)\n+IF(AND('input-data'!$E$346=topdowntables!$C$21,'input-data'!H176>'input-data'!F176,'input-data'!F347>'input-data'!H176,'input-data'!H176<='input-data'!E29),('input-data'!H176-'input-data'!F176)/ 'input-data'!E30,0)\n+IF(AND('input-data'!$E$346=topdowntables!$C$16,'input-data'!H176>'input-data'!F176,'input-data'!F347>'input-data'!H176,'input-data'!H176>'input-data'!E29),('input-data'!E29-'input-data'!F176)/'input-data'!E30,0)\n+IF(AND('input-data'!$E$346=topdowntables!$C$21,'input-data'!H176>'input-data'!F176,'input-data'!F347>'input-data'!H176,'input-data'!H176>'input-data'!E29),('input-data'!E29-'input-data'!F176)/'input-data'!E30,0)\n)*1000","v":0}]
[null,null,"    Blanding 3",{"$f":"IF(OR('input-data'!$E$346=topdowntables!$C$14,'input-data'!$E$346=topdowntables!$C$19),0)\n+(IF(AND('input-data'!$E$346=topdowntables!$C$15,'input-data'!H195>'input-data'!F195),('input-data'!H195-'input-data'!F195)/'input-data'!E30,0)\n+IF(AND('input-data'!$E$346=topdowntables!$C$20,'input-data'!H195>'input-data'!F195),('input-data'!H195-'input-data'!F195)/'input-data'!E30,0)\n+IF(AND('input-data'!$E$346=topdowntables!$C$16,'input-data'!H195>'input-data'!F195,'input-data'!F347>'input-data'!F195,'input-data'!F347<='input-data'!H195),('input-data'!F347-'input-data'!F195)/'input-data'!E30,0)\n+IF(AND('input-data'!$E$346=topdowntables!$C$21,'input-data'!H195>'input-data'!F195,'input-data'!F347>'input-data'!F195,'input-data'!F347<='input-data'!H195),('input-data'!F347-'input-data'!F195)/'input-data'!E30,0)\n+IF(AND('input-data'!$E$346=topdowntables!$C$16,'input-data'!H195>'input-data'!F195,'input-data'!F347>'input-data'!F195,'input-data'!F347>'input-data'!E29),('input-data'!E29-'input-data'!F195)/'input-data'!E30,0)\n+IF(AND('input-data'!$E$346=topdowntables!$C$21,'input-data'!H195>'input-data'!F195,'input-data'!F347>'input-data'!F195,'input-data'!F347>'input-data'!E29),('input-data'!E29-'input-data'!F195)/'input-data'!E30,0)\n)*1000","v":0}]
[null,null,{"$f":"IF(topdowntables!N4=1, \"Foderdage, ude ialt\", \"Feeding days, outdoor total\")","v":"Foderdage, ude ialt"},{"$f":"D18+D19+D20","v":0}]
[]
[null,null,{"$f":"IF(topdowntables!N4=1, \"Foderdage, inde\", \"Feeding days, indoor\")","v":"Foderdage, inde"}]
[null,null,"    Blanding 1",{"$f":"IFERROR((IF(AND('input-data'!$E$346=topdowntables!$C$14,'input-data'!H157>'input-data'!F157,'input-data'!E29>='input-data'!H157),('input-data'!H157-'input-data'!F157)/'input-data'!E30,0)\n+IF(AND('input-data'!$E$346=topdowntables!$C$19,'input-data'!H157>'input-data'!F157,'input-data'!E29>='input-data'!H157),('input-data'!H157-'input-data'!F157)/'input-data'!E30,0)\n+IF(AND('input-data'!$E$346=topdowntables!$C$14,'input-data'!H157>'input-data'!F157,'input-data'!E29<'input-data'!H157),('input-data'!E29-'input-data'!F157)/'input-data'!E30,0)\n+IF(AND('input-data'!$E$346=topdowntables!$C$19,'input-data'!H157>'input-data'!F157,'input-data'!E29<'input-data'!H157),('input-data'!E29-'input-data'!F157)/'input-data'!E30,0)\n+IF(OR('input-data'!$E$346=topdowntables!$C$15,'input-data'!$E$346=topdowntables!$C$20),0)\n+IF(AND('input-data'!$E$346=topdowntables!$C$16,'input-data'!H157>'input-data'!F157,'input-data'!F347>'input-data'!F157,'input-data'!F347<='input-data'!H157,'input-data'!H157<='input-data'!E29),('input-data'!H157-'input-data'!F347)/'input-data'!E30,0)\n+IF(AND('input-data'!$E$346=topdowntables!$C$21,'input-data'!H157>'input-data'!F157,'input-data'!F347>'input-data'!F157,'input-data'!F347<='input-data'!H157,'input-data'!H157<='input-data'!E29),('input-data'!H157-'input-data'!F347)/'input-data'!E30,0)\n+IF(AND('input-data'!$E$346=topdowntables!$C$16,'input-data'!H157>'input-data'!F157,'input-data'!F347>'input-data'!F157,'input-data'!F347<='input-data'!H157,'input-data'!H157>'input-data'!E29),('input-data'!E29-'input-data'!F347)/'input-data'!E30,0)\n+IF(AND('input-data'!$E$346=topdowntables!$C$21,'input-data'!H157>'input-data'!F157,'input-data'!F347>'input-data'!F157,'input-data'!F347<='input-data'!H157,'input-data'!H157>'input-data'!E29),('input-data'!E29-'input-data'!F347)/'input-data'!E30,0)\n+IF(AND('input-data'!$E$346=topdowntables!$C$16,'input-data'!H157>'input-data'!F157,'input-data'!F347<='input-data'!F157,'input-data'!H157<='input-data'!E29),('input-data'!H157-'input-data'!F157)/ 'input-data'!E30,0)\n+IF(AND('input-data'!$E$346=topdowntables!$C$21,'input-data'!H157>'input-data'!F157,'input-data'!F347<='input-data'!F157,'input-data'!H157<='input-data'!E29),('input-data'!H157-'input-data'!F157)/ 'input-data'!E30,0)\n+IF(AND('input-data'!$E$346=topdowntables!$C$16,'input-data'!H157>'input-data'!F157,'input-data'!F347<='input-data'!F157,'input-data'!H157>'input-data'!E29),('input-data'!E29-'input-data'!F157)/'input-data'!E30,0)\n+IF(AND('input-data'!$E$346=topdowntables!$C$21,'input-data'!H157>'input-data'!F157,'input-data'!F347<='input-data'!F157,'input-data'!H157>'input-data'!E29),('input-data'!E29-'input-data'!F157)/'input-data'!E30,0)\n)*1000, 0)","v":0}]
[null,null,"    Blanding 2",{"$f":"(IF(AND('input-data'!$E$346=topdowntables!$C$14,'input-data'!H176>'input-data'!F176,'input-data'!E29>='input-data'!H176),('input-data'!H176-'input-data'!F176)/'input-data'!E30,0)\n+IF(AND('input-data'!$E$346=topdowntables!$C$19,'input-data'!H176>'input-data'!F176,'input-data'!E29>='input-data'!H176),('input-data'!H176-'input-data'!F176)/'input-data'!E30,0)\n+IF(AND('input-data'!$E$346=topdowntables!$C$14,'input-data'!H176>'input-data'!F176,'input-data'!E29<'input-data'!H176),('input-data'!E29-'input-data'!F176)/'input-data'!E30,0)\n+IF(AND('input-data'!$E$346=topdowntables!$C$19,'input-data'!H176>'input-data'!F176,'input-data'!E29<'input-data'!H176),('input-data'!E29-'input-data'!F176)/'input-data'!E30,0)\n+IF(OR('input-data'!$E$346=topdowntables!$C$15,'input-data'!$E$346=topdowntables!$C$20),0)\n+IF(AND('input-data'!$E$346=topdowntables!$C$16,'input-data'!H176>'input-data'!F176,'input-data'!F347>'input-data'!F176,'input-data'!F347<='input-data'!H176,'input-data'!H176<='input-data'!E29),('input-data'!H176-'input-data'!F347)/'input-data'!E30,0)\n+IF(AND('input-data'!$E$346=topdowntables!$C$21,'input-data'!H176>'input-data'!F176,'input-data'!F347>'input-data'!F176,'input-data'!F347<='input-data'!H176,'input-data'!H176<='input-data'!E29),('input-data'!H176-'input-data'!F347)/'input-data'!E30,0)\n+IF(AND('input-data'!$E$346=topdowntables!$C$16,'input-data'!H176>'input-data'!F176,'input-data'!F347>'input-data'!F176,'input-data'!F347<='input-data'!H176,'input-data'!H176>'input-data'!E29),('input-data'!E29-'input-data'!F347)/'input-data'!E30,0)\n+IF(AND('input-data'!$E$346=topdowntables!$C$21,'input-data'!H176>'input-data'!F176,'input-data'!F347>'input-data'!F176,'input-data'!F347<='input-data'!H176,'input-data'!H176>'input-data'!E29),('input-data'!E29-'input-data'!F347)/'input-data'!E30,0)\n+IF(AND('input-data'!$E$346=topdowntables!$C$16,'input-data'!H176>'input-data'!F176,'input-data'!F347<='input-data'!F176,'input-data'!H176<='input-data'!E29),('input-data'!H176-'input-data'!F176)/ 'input-data'!E30,0)\n+IF(AND('input-data'!$E$346=topdowntables!$C$21,'input-data'!H176>'input-data'!F176,'input-data'!F347<='input-data'!F176,'input-data'!H176<='input-data'!E29),('input-data'!H176-'input-data'!F176)/ 'input-data'!E30,0)\n+IF(AND('input-data'!$E$346=topdowntables!$C$16,'input-data'!H176>'input-data'!F176,'input-data'!F347<='input-data'!F176,'input-data'!H176>'input-data'!E29),('input-data'!E29-'input-data'!F176)/'input-data'!E30,0)\n+IF(AND('input-data'!$E$346=topdowntables!$C$21,'input-data'!H176>'input-data'!F176,'input-data'!F347<='input-data'!F176,'input-data'!H176>'input-data'!E29),('input-data'!E29-'input-data'!F176)/'input-data'!E30,0)\n)*1000","v":0}]
[null,null,"    Blanding 3",{"$f":"(IF(AND('input-data'!$E$346=topdowntables!$C$14,'input-data'!H195>'input-data'!F195),('input-data'!H195-'input-data'!F195)/'input-data'!E30,0)\n+IF(AND('input-data'!$E$346=topdowntables!$C$19,'input-data'!H195>'input-data'!F195),('input-data'!H195-'input-data'!F195)/'input-data'!E30,0)\n+IF(OR('input-data'!$E$346=topdowntables!$C$15,'input-data'!$E$346=topdowntables!$C$20),0)\n+IF(AND('input-data'!$E$346=topdowntables!$C$16,'input-data'!H195>'input-data'!F195,'input-data'!F347>'input-data'!F195,'input-data'!F347<='input-data'!H195),('input-data'!H195-'input-data'!F347)/'input-data'!E30,0)\n+IF(AND('input-data'!$E$346=topdowntables!$C$21,'input-data'!H195>'input-data'!F195,'input-data'!F347>'input-data'!F195,'input-data'!F347<='input-data'!H195),('input-data'!H195-'input-data'!F347)/'input-data'!E30,0)\n+IF(AND('input-data'!$E$346=topdowntables!$C$16,'input-data'!H195>'input-data'!F195,'input-data'!F347<='input-data'!F195),('input-data'!H195-'input-data'!F195)/ 'input-data'!E30,0)\n+IF(AND('input-data'!$E$346=topdowntables!$C$21,'input-data'!H195>'input-data'!F195,'input-data'!F347<='input-data'!F195),('input-data'!H195-'input-data'!F195)/'input-data'!E30,0)\n)*1000","v":0}]
[null,null,{"$f":"IF(topdowntables!N4=1, \"Foderdage, inde ialt\", \"Feeding days, indoor total\")","v":"Foderdage, inde ialt"},{"$f":"D24+D25+D26","v":0}]
[]
[null,null,{"$f":"IF(topdowntables!N4=1, \"Foderdage, i alt\", \"Total feeding days\")","v":"Foderdage, i alt"},{"$f":"D21+D27","v":0}]
[null,{"$f":"IF(topdowntables!N4=1, \"Kraffoder per produceret smågris, FE:\", \"Concentrated feed, FU per produced piglet\")","v":"Kraffoder per produceret smågris, FE:"},null,null,null,"Antager døde grise dør midt i perioden"]
[null,null,{"$f":"IF(topdowntables!$N$4=1, \"Blanding 1\", \"Feed mixture 1\")","v":"Blanding 1"},{"$f":"IFERROR((IF(AND('input-data'!H157>'input-data'!F157,'input-data'!H157<='input-data'!E29),'Flow smågrise'!D9*'input-data'!E156*('input-data'!H157-'input-data'!F157),0)\n+IF(AND('input-data'!H157>'input-data'!F157,'input-data'!H157>'input-data'!E29),'Flow smågrise'!D9*'input-data'!E156*('input-data'!E29-'input-data'!F157),0)\n+IF(AND('input-data'!H157>'input-data'!F157,'input-data'!H157<='input-data'!E29),'Flow smågrise'!D8*'input-data'!E156*(('input-data'!E29-'input-data'!F157)/2)*(('input-data'!H157-'input-data'!F157)/('input-data'!E29-'input-data'!F157)),0)\n+IF(AND('input-data'!H157>'input-data'!F157,'input-data'!H157>'input-data'!E29),'Flow smågrise'!D8*'input-data'!E156*(('input-data'!E29-'input-data'!F157)/2),0))/'Flow smågrise'!D9,0)","v":0},null,"(producerede*FE kg tilvækst*kg tilvækst)+ (døde*kg tilvækst /2)/producerede"]
[null,null,{"$f":"IF(topdowntables!$N$4=1, \"Blanding 2\", \"Feed mixture 2\")","v":"Blanding 2"},{"$f":"IFERROR((IF(AND('input-data'!F176>='input-data'!F157,'input-data'!H176>'input-data'!F176,'input-data'!H176<='input-data'!E29),'Flow smågrise'!D9*'input-data'!E156*('input-data'!H176-'input-data'!F176),0)\n+IF(AND('input-data'!F176>='input-data'!F157,'input-data'!H176>'input-data'!F176,'input-data'!H176<='input-data'!E29),'Flow smågrise'!D8*'input-data'!E156*(('input-data'!E29-'input-data'!F157)/2)*(('input-data'!H176-'input-data'!F176)/('input-data'!E29-'input-data'!F157)),0)\n+IF(AND('input-data'!F176>='input-data'!F157,'input-data'!H176>'input-data'!F176,'input-data'!F176<'input-data'!E29, 'input-data'!H176>'input-data'!E29),'Flow smågrise'!D9*'input-data'!E156*('input-data'!E29-'input-data'!F176),0)\n+IF(AND('input-data'!F176>='input-data'!F157,'input-data'!H176>'input-data'!F176,'input-data'!F176<'input-data'!E29, 'input-data'!H176>'input-data'!E29),'Flow smågrise'!D8*'input-data'!E156*(('input-data'!E29-'input-data'!F157)/2),0)\n+IF(AND('input-data'!F176<'input-data'!F157,'input-data'!H176>'input-data'!F157,'input-data'!H176<='input-data'!E29),'Flow smågrise'!D9*'input-data'!E156*('input-data'!H176-'input-data'!F157),0)\n+IF(AND('input-data'!F176<'input-data'!F157,'input-data'!H176>'input-data'!F157,'input-data'!H176<='input-data'!E29),'Flow smågrise'!D8*'input-data'!E156*(('input-data'!E29-'input-data'!F157)/2)*(('input-data'!H176-'input-data'!F157)/('input-data'!E29-'input-data'!F157)),0)\n+IF(AND('input-data'!F176<'input-data'!F157,'input-data'!H176>'input-data'!F157,'input-data'!H176>'input-data'!E29),'Flow smågrise'!D9*'input-data'!E156*('input-data'!E29-'input-data'!F157),0)\n+IF(AND('input-data'!F176<'input-data'!F157,'input-data'!H176>'input-data'!F157,'input-data'!H176>'input-data'!E29),'Flow smågrise'!D8*'input-data'!E156*(('input-data'!E29-'input-data'!F157)/2)*(('input-data'!E29-'input-data'!F157)/('input-data'!E29-'input-data'!F157)),0)\n)/'Flow smågrise'!D9,0)","v":0}]
[null,null,{"$f":"IF(topdowntables!$N$4=1, \"Blanding 3\", \"Feed mixture 3\")","v":"Blanding 3"},{"$f":"IFERROR((IF(AND('input-data'!F195>='input-data'!F157,'input-data'!E29>'input-data'!H157,'input-data'!H176>='input-data'!F176,'input-data'!E29>'input-data'!F195),'Flow smågrise'!D9*'input-data'!E156*('input-data'!E29 -'input-data'!F195),0)\n+IF(AND('input-data'!F195>='input-data'!F157,'input-data'!E29>'input-data'!H157,'input-data'!H176>='input-data'!F176,'input-data'!E29>'input-data'!F195),'Flow smågrise'!D8*'input-data'!E156*(('input-data'!E29-'input-data'!F157)/2)*(('input-data'!E29 -'input-data'!F195)/('input-data'!E29-'input-data'!F157)),0)\n+IF(AND('input-data'!F195>='input-data'!F157,'input-data'!E29>'input-data'!H157,'input-data'!E29>'input-data'!F195,'input-data'!H176<='input-data'!F176),'Flow smågrise'!D9*'input-data'!E156*('input-data'!E29 -'input-data'!H157),0)\n+IF(AND('input-data'!F195>='input-data'!F157,'input-data'!E29>'input-data'!H157,'input-data'!E29>'input-data'!F195,'input-data'!H176<='input-data'!F176),'Flow smågrise'!D8*'input-data'!E156*(('input-data'!E29-'input-data'!F157)/2)*(('input-data'!E29 -'input-data'!H157)/('input-data'!E29-'input-data'!F157)),0)\n+IF(AND('input-data'!F195<'input-data'!F157,'input-data'!F195<'input-data'!F176,'input-data'!H157>='input-data'!F157, 'input-data'!E29>'input-data'!H157,'input-data'!E29>'input-data'!F195),'Flow smågrise'!D9*'input-data'!E156*('input-data'!E29-'input-data'!H157),0)\n+IF(AND('input-data'!F195<'input-data'!F157,'input-data'!F195<'input-data'!F176,'input-data'!H157>='input-data'!F157,'input-data'!E29>'input-data'!H157,'input-data'!E29>'input-data'!F195),'Flow smågrise'!D8*'input-data'!E156*(('input-data'!E29-'input-data'!F157)/2)*(('input-data'!E29 -'input-data'!H157)/('input-data'!E29-'input-data'!F157)),0)\n+IF(AND('input-data'!F195<'input-data'!F157, 'input-data'!H157<'input-data'!F157,'input-data'!E29>'input-data'!F195),'Flow smågrise'!D9*'input-data'!E156*('input-data'!E29-'input-data'!F157),0)\n+IF(AND('input-data'!F195<'input-data'!F157,'input-data'!H157<'input-data'!F157,'input-data'!E29>'input-data'!F195),'Flow smågrise'!D8*'input-data'!E156*(('input-data'!E29-'input-data'!F157)/2)*(('input-data'!E29 -'input-data'!F157)/('input-data'!E29-'input-data'!F157)),0)\n)/'Flow smågrise'!D9,0)","v":0}]
[null,null,{"$f":"IF(topdowntables!N4=1, \"Kraftfoder, ialt\", \"Concentrated feed, total\")","v":"Kraftfoder, ialt"},{"$f":"D31+D32+D33","v":0},null,{"$f":"(((D9)*(D13-D7)*'input-data'!E156)+(D8*'input-data'!E156*((D13-D7)/2)))/D9","v":{"$error":"#DIV/0!"}}]
[]
[null,{"$f":"IF(topdowntables!N4=1, \"Grovfoder per produceret smågris, kg:\", \"Roughage, kg per produced piglet\")","v":"Grovfoder per produceret smågris, kg:"}]
[null,null,{"$f":"IF(topdowntables!N4=1, \"Afgræsning (april-september)\", \"intake during grazing (April-September)\")","v":"Afgræsning (april-september)"},{"$f":"IF(OR('input-data'!E346=topdowntables!$C$14,'input-data'!E346=topdowntables!$C$19),0)\n+IF(OR('input-data'!E346=topdowntables!$C$15,'input-data'!E346=topdowntables!$C$20, 'input-data'!E346=topdowntables!$C$16, 'input-data'!E346=topdowntables!$C$21),D21*'NPK tal'!$B$33*('NPK tal'!$C$33/365))","v":0},null,"Foderdage ude * græsoptag per dag*andel af året ude"]
[null,null,{"$f":"IF(topdowntables!N4=1, \"Tildelt grovfoder\", \"roughage, added to feed rations\")","v":"Tildelt grovfoder"},{"$f":"D29*'input-data'!E215*('input-data'!E216/365)","v":0},null,"Foderdage i alt * grovfoderoptag per dag * andel af året med grovfodertildeling"]
[null,null,{"$f":"IF(topdowntables!N4=1, \"Grovfoder, ialt\", \"roughage, total\")","v":"Grovfoder, ialt"},{"$f":"D38+D37","v":0}]
[]
[null,{"$f":"IF(topdowntables!N4=1, \"Strøelseforbrug per produceret smågris, kg\", \"Straw use, kg per produced piglet\")","v":"Strøelseforbrug per produceret smågris, kg"}]
[null,null,{"$f":"IF(topdowntables!$N$4=1, \"Tildelt ude\", \"Used outdoor\")","v":"Tildelt ude"},{"$f":"'input-data'!$E$353*D21","v":0}]
[null,null,{"$f":"IF(topdowntables!$N$4=1, \"Tildelt inde\", \"Used indoor\")","v":"Tildelt inde"},{"$f":"'input-data'!$E$360*D27","v":0}]
[null,null,{"$f":"IF(topdowntables!$N$4=1, \"Strøelseforbrug ialt\", \"Straw used, total\")","v":"Strøelseforbrug ialt"},{"$f":"D43+D42","v":0}]
[]
[null,{"$f":"IF(topdowntables!N4=1, \"Foder og halm, N og P bidrag:\", \"Feed and straw, N and  P flow:\")","v":"Foder og halm, N og P bidrag:"}]
[null,{"$f":"IF(topdowntables!N4=1, \"Smågrisefodret:\", \"Feed use for piglets:\")","v":"Smågrisefodret:"}]
[null,null,{"$f":"IF(topdowntables!N4=1, \"Blanding 1:\", \"Feed mixture 1:\")","v":"Blanding 1:"}]
[null,null,{"$f":"IF(topdowntables!$N$4=1, \"FEsv/100 kg\", \"FUpiglet/100 kg\")","v":"FEsv/100 kg"},{"$f":"SUM((IFERROR(VLOOKUP('input-data'!$E$159,Fodertabel,3,FALSE),0)*'input-data'!I159/100)\n+(IFERROR(VLOOKUP('input-data'!$E$160,Fodertabel,3,FALSE),0)*'input-data'!I160/100)\n+(IFERROR(VLOOKUP('input-data'!$E$161,Fodertabel,3,FALSE),0)*'input-data'!I161/100)\n+(IFERROR(VLOOKUP('input-data'!$E$162,Fodertabel,3,FALSE),0)*'input-data'!I162/100)\n+(IFERROR(VLOOKUP('input-data'!$E$163,Fodertabel,3,FALSE),0)*'input-data'!I163/100)\n+(IFERROR(VLOOKUP('input-data'!$E$164,Fodertabel,3,FALSE),0)*'input-data'!I164/100)\n+(IFERROR(VLOOKUP('input-data'!$E$165,Fodertabel,3,FALSE),0)*'input-data'!I165/100)\n+(IFERROR(VLOOKUP('input-data'!$E$166,Fodertabel,3,FALSE),0)*'input-data'!I166/100)\n+(IFERROR(VLOOKUP('input-data'!$E$167,Fodertabel,3,FALSE),0)*'input-data'!I167/100)\n+(IFERROR(VLOOKUP('input-data'!$E$168,Fodertabel,3,FALSE),0)*'input-data'!I168/100)\n+(IFERROR(VLOOKUP('input-data'!$E$169,Fodertabel,3,FALSE),0)*'input-data'!I169/100)\n+(IFERROR(VLOOKUP('input-data'!$E$170,Fodertabel,3,FALSE),0)*'input-data'!I170/100)\n+(IFERROR(VLOOKUP('input-data'!$E$171,Fodertabel,3,FALSE),0)*'input-data'!I171/100)\n+(IFERROR(VLOOKUP('input-data'!$E$172,Fodertabel,3,FALSE),0)*'input-data'!I172/100)\n+(IFERROR(VLOOKUP('input-data'!$E$173,Fodertabel,3,FALSE),0)*'input-data'!I173/100))*100","v":0}]
[null,null,{"$f":"IF(topdowntables!N4=1, \"Tørstof, %\", \"Dry matter, %\")","v":"Tørstof, %"},{"$f":"SUM((IFERROR(VLOOKUP('input-data'!$E$159,Fodertabel,9,FALSE),0)*'input-data'!I159/100)\n+(IFERROR(VLOOKUP('input-data'!$E$160,Fodertabel,9,FALSE),0)*'input-data'!I160/100)\n+(IFERROR(VLOOKUP('input-data'!$E$161,Fodertabel,9,FALSE),0)*'input-data'!I161/100)\n+(IFERROR(VLOOKUP('input-data'!$E$162,Fodertabel,9,FALSE),0)*'input-data'!I162/100)\n+(IFERROR(VLOOKUP('input-data'!$E$163,Fodertabel,9,FALSE),0)*'input-data'!I163/100)\n+(IFERROR(VLOOKUP('input-data'!$E$164,Fodertabel,9,FALSE),0)*'input-data'!I164/100)\n+(IFERROR(VLOOKUP('input-data'!$E$165,Fodertabel,9,FALSE),0)*'input-data'!I165/100)\n+(IFERROR(VLOOKUP('input-data'!$E$166,Fodertabel,9,FALSE),0)*'input-data'!I166/100)\n+(IFERROR(VLOOKUP('input-data'!$E$167,Fodertabel,9,FALSE),0)*'input-data'!I167/100)\n+(IFERROR(VLOOKUP('input-data'!$E$168,Fodertabel,9,FALSE),0)*'input-data'!I168/100)\n+(IFERROR(VLOOKUP('input-data'!$E$169,Fodertabel,9,FALSE),0)*'input-data'!I169/100)\n+(IFERROR(VLOOKUP('input-data'!$E$170,Fodertabel,9,FALSE),0)*'input-data'!I170/100)\n+(IFERROR(VLOOKUP('input-data'!$E$171,Fodertabel,9,FALSE),0)*'input-data'!I171/100)\n+(IFERROR(VLOOKUP('input-data'!$E$172,Fodertabel,9,FALSE),0)*'input-data'!I172/100)\n+(IFERROR(VLOOKUP('input-data'!$E$173,Fodertabel,9,FALSE),0)*'input-data'!I173/100))","v":0}]
[null,null,{"$f":"IF(topdowntables!N4=1, \"Råprotein, g per kg foder\", \"Crude protein, g per kg feed\")","v":"Råprotein, g per kg foder"},{"$f":"SUM((IFERROR(VLOOKUP('input-data'!$E$159,Fodertabel,10,FALSE),0)*'input-data'!I159/100)\n+(IFERROR(VLOOKUP('input-data'!$E$160,Fodertabel,10,FALSE),0)*'input-data'!I160/100)\n+(IFERROR(VLOOKUP('input-data'!$E$161,Fodertabel,10,FALSE),0)*'input-data'!I161/100)\n+(IFERROR(VLOOKUP('input-data'!$E$162,Fodertabel,10,FALSE),0)*'input-data'!I162/100)\n+(IFERROR(VLOOKUP('input-data'!$E$163,Fodertabel,10,FALSE),0)*'input-data'!I163/100)\n+(IFERROR(VLOOKUP('input-data'!$E$164,Fodertabel,10,FALSE),0)*'input-data'!I164/100)\n+(IFERROR(VLOOKUP('input-data'!$E$165,Fodertabel,10,FALSE),0)*'input-data'!I165/100)\n+(IFERROR(VLOOKUP('input-data'!$E$166,Fodertabel,10,FALSE),0)*'input-data'!I166/100)\n+(IFERROR(VLOOKUP('input-data'!$E$167,Fodertabel,10,FALSE),0)*'input-data'!I167/100)\n+(IFERROR(VLOOKUP('input-data'!$E$168,Fodertabel,10,FALSE),0)*'input-data'!I168/100)\n+(IFERROR(VLOOKUP('input-data'!$E$169,Fodertabel,10,FALSE),0)*'input-data'!I169/100)\n+(IFERROR(VLOOKUP('input-data'!$E$170,Fodertabel,10,FALSE),0)*'input-data'!I170/100)\n+(IFERROR(VLOOKUP('input-data'!$E$171,Fodertabel,10,FALSE),0)*'input-data'!I171/100)\n+(IFERROR(VLOOKUP('input-data'!$E$172,Fodertabel,10,FALSE),0)*'input-data'!I172/100)\n+(IFERROR(VLOOKUP('input-data'!$E$173,Fodertabel,10,FALSE),0)*'input-data'!I173/100))*10","v":0}]
[null,null,{"$f":"IF(topdowntables!N4=1, \"Fosfor, g per kg foder\", \"Phosphorus, g per kg feed\")","v":"Fosfor, g per kg foder"},{"$f":"SUM((IFERROR(VLOOKUP('input-data'!$E$159,Fodertabel,79,FALSE),0)*'input-data'!I159/100)\n+(IFERROR(VLOOKUP('input-data'!$E$160,Fodertabel,79,FALSE),0)*'input-data'!I160/100)\n+(IFERROR(VLOOKUP('input-data'!$E$161,Fodertabel,79,FALSE),0)*'input-data'!I161/100)\n+(IFERROR(VLOOKUP('input-data'!$E$162,Fodertabel,79,FALSE),0)*'input-data'!I162/100)\n+(IFERROR(VLOOKUP('input-data'!$E$163,Fodertabel,79,FALSE),0)*'input-data'!I163/100)\n+(IFERROR(VLOOKUP('input-data'!$E$164,Fodertabel,79,FALSE),0)*'input-data'!I164/100)\n+(IFERROR(VLOOKUP('input-data'!$E$165,Fodertabel,79,FALSE),0)*'input-data'!I165/100)\n+(IFERROR(VLOOKUP('input-data'!$E$166,Fodertabel,79,FALSE),0)*'input-data'!I166/100)\n+(IFERROR(VLOOKUP('input-data'!$E$167,Fodertabel,79,FALSE),0)*'input-data'!I167/100)\n+(IFERROR(VLOOKUP('input-data'!$E$168,Fodertabel,79,FALSE),0)*'input-data'!I168/100)\n+(IFERROR(VLOOKUP('input-data'!$E$169,Fodertabel,79,FALSE),0)*'input-data'!I169/100)\n+(IFERROR(VLOOKUP('input-data'!$E$170,Fodertabel,79,FALSE),0)*'input-data'!I170/100)\n+(IFERROR(VLOOKUP('input-data'!$E$171,Fodertabel,79,FALSE),0)*'input-data'!I171/100)\n+(IFERROR(VLOOKUP('input-data'!$E$172,Fodertabel,79,FALSE),0)*'input-data'!I172/100)\n+(IFERROR(VLOOKUP('input-data'!$E$173,Fodertabel,79,FALSE),0)*'input-data'!I173/100))","v":0}]
[null,null,{"$f":"IF(topdowntables!N4=1, \"Blanding 2:\", \"Feed mixture 2:\")","v":"Blanding 2:"}]
[null,null,{"$f":"IF(topdowntables!$N$4=1, \"FEsv/100 kg\", \"FUpiglet/100 kg\")","v":"FEsv/100 kg"},{"$f":"SUM((IFERROR(VLOOKUP('input-data'!$E$178,Fodertabel,3,FALSE),0)*'input-data'!I178/100)\n+(IFERROR(VLOOKUP('input-data'!$E$179,Fodertabel,3,FALSE),0)*'input-data'!I179/100)\n+(IFERROR(VLOOKUP('input-data'!$E$180,Fodertabel,3,FALSE),0)*'input-data'!I180/100)\n+(IFERROR(VLOOKUP('input-data'!$E$181,Fodertabel,3,FALSE),0)*'input-data'!I181/100)\n+(IFERROR(VLOOKUP('input-data'!$E$182,Fodertabel,3,FALSE),0)*'input-data'!I182/100)\n+(IFERROR(VLOOKUP('input-data'!$E$183,Fodertabel,3,FALSE),0)*'input-data'!I183/100)\n+(IFERROR(VLOOKUP('input-data'!$E$184,Fodertabel,3,FALSE),0)*'input-data'!I184/100)\n+(IFERROR(VLOOKUP('input-data'!$E$185,Fodertabel,3,FALSE),0)*'input-data'!I185/100)\n+(IFERROR(VLOOKUP('input-data'!$E$186,Fodertabel,3,FALSE),0)*'input-data'!I186/100)\n+(IFERROR(VLOOKUP('input-data'!$E$187,Fodertabel,3,FALSE),0)*'input-data'!I187/100)\n+(IFERROR(VLOOKUP('input-data'!$E$188,Fodertabel,3,FALSE),0)*'input-data'!I188/100)\n+(IFERROR(VLOOKUP('input-data'!$E$189,Fodertabel,3,FALSE),0)*'input-data'!I189/100)\n+(IFERROR(VLOOKUP('input-data'!$E$190,Fodertabel,3,FALSE),0)*'input-data'!I190/100)\n+(IFERROR(VLOOKUP('input-data'!$E$191,Fodertabel,3,FALSE),0)*'input-data'!I191/100)\n+(IFERROR(VLOOKUP('input-data'!$E$192,Fodertabel,3,FALSE),0)*'input-data'!I192/100))*100","v":0}]
[null,null,{"$f":"IF(topdowntables!N4=1, \"Tørstof, %\", \"Dry matter, %\")","v":"Tørstof, %"},{"$f":"SUM((IFERROR(VLOOKUP('input-data'!$E$178,Fodertabel,9,FALSE),0)*'input-data'!I178/100)\n+(IFERROR(VLOOKUP('input-data'!$E$179,Fodertabel,9,FALSE),0)*'input-data'!I179/100)\n+(IFERROR(VLOOKUP('input-data'!$E$180,Fodertabel,9,FALSE),0)*'input-data'!I180/100)\n+(IFERROR(VLOOKUP('input-data'!$E$181,Fodertabel,9,FALSE),0)*'input-data'!I181/100)\n+(IFERROR(VLOOKUP('input-data'!$E$182,Fodertabel,9,FALSE),0)*'input-data'!I182/100)\n+(IFERROR(VLOOKUP('input-data'!$E$183,Fodertabel,9,FALSE),0)*'input-data'!I183/100)\n+(IFERROR(VLOOKUP('input-data'!$E$184,Fodertabel,9,FALSE),0)*'input-data'!I184/100)\n+(IFERROR(VLOOKUP('input-data'!$E$185,Fodertabel,9,FALSE),0)*'input-data'!I185/100)\n+(IFERROR(VLOOKUP('input-data'!$E$186,Fodertabel,9,FALSE),0)*'input-data'!I186/100)\n+(IFERROR(VLOOKUP('input-data'!$E$187,Fodertabel,9,FALSE),0)*'input-data'!I187/100)\n+(IFERROR(VLOOKUP('input-data'!$E$188,Fodertabel,9,FALSE),0)*'input-data'!I188/100)\n+(IFERROR(VLOOKUP('input-data'!$E$189,Fodertabel,9,FALSE),0)*'input-data'!I189/100)\n+(IFERROR(VLOOKUP('input-data'!$E$190,Fodertabel,9,FALSE),0)*'input-data'!I190/100)\n+(IFERROR(VLOOKUP('input-data'!$E$191,Fodertabel,9,FALSE),0)*'input-data'!I191/100)\n+(IFERROR(VLOOKUP('input-data'!$E$192,Fodertabel,9,FALSE),0)*'input-data'!I192/100))","v":0}]
[null,null,{"$f":"IF(topdowntables!N4=1, \"Råprotein, g per kg foder\", \"Crude protein, g per kg feed\")","v":"Råprotein, g per kg foder"},{"$f":"SUM((IFERROR(VLOOKUP('input-data'!$E$178,Fodertabel,10,FALSE),0)*'input-data'!I178/100)\n+(IFERROR(VLOOKUP('input-data'!$E$179,Fodertabel,10,FALSE),0)*'input-data'!I179/100)\n+(IFERROR(VLOOKUP('input-data'!$E$180,Fodertabel,10,FALSE),0)*'input-data'!I180/100)\n+(IFERROR(VLOOKUP('input-data'!$E$181,Fodertabel,10,FALSE),0)*'input-data'!I181/100)\n+(IFERROR(VLOOKUP('input-data'!$E$182,Fodertabel,10,FALSE),0)*'input-data'!I182/100)\n+(IFERROR(VLOOKUP('input-data'!$E$183,Fodertabel,10,FALSE),0)*'input-data'!I183/100)\n+(IFERROR(VLOOKUP('input-data'!$E$184,Fodertabel,10,FALSE),0)*'input-data'!I184/100)\n+(IFERROR(VLOOKUP('input-data'!$E$185,Fodertabel,10,FALSE),0)*'input-data'!I185/100)\n+(IFERROR(VLOOKUP('input-data'!$E$186,Fodertabel,10,FALSE),0)*'input-data'!I186/100)\n+(IFERROR(VLOOKUP('input-data'!$E$187,Fodertabel,10,FALSE),0)*'input-data'!I187/100)\n+(IFERROR(VLOOKUP('input-data'!$E$188,Fodertabel,10,FALSE),0)*'input-data'!I188/100)\n+(IFERROR(VLOOKUP('input-data'!$E$189,Fodertabel,10,FALSE),0)*'input-data'!I189/100)\n+(IFERROR(VLOOKUP('input-data'!$E$190,Fodertabel,10,FALSE),0)*'input-data'!I190/100)\n+(IFERROR(VLOOKUP('input-data'!$E$191,Fodertabel,10,FALSE),0)*'input-data'!I191/100)\n+(IFERROR(VLOOKUP('input-data'!$E$192,Fodertabel,10,FALSE),0)*'input-data'!I192/100))*10","v":0}]
[null,null,{"$f":"IF(topdowntables!N4=1, \"Fosfor, g per kg foder\", \"Phosphorus, g per kg feed\")","v":"Fosfor, g per kg foder"},{"$f":"SUM((IFERROR(VLOOKUP('input-data'!$E$178,Fodertabel,79,FALSE),0)*'input-data'!I178/100)\n+(IFERROR(VLOOKUP('input-data'!$E$179,Fodertabel,79,FALSE),0)*'input-data'!I179/100)\n+(IFERROR(VLOOKUP('input-data'!$E$180,Fodertabel,79,FALSE),0)*'input-data'!I180/100)\n+(IFERROR(VLOOKUP('input-data'!$E$181,Fodertabel,79,FALSE),0)*'input-data'!I181/100)\n+(IFERROR(VLOOKUP('input-data'!$E$182,Fodertabel,79,FALSE),0)*'input-data'!I182/100)\n+(IFERROR(VLOOKUP('input-data'!$E$183,Fodertabel,79,FALSE),0)*'input-data'!I183/100)\n+(IFERROR(VLOOKUP('input-data'!$E$184,Fodertabel,79,FALSE),0)*'input-data'!I184/100)\n+(IFERROR(VLOOKUP('input-data'!$E$185,Fodertabel,79,FALSE),0)*'input-data'!I185/100)\n+(IFERROR(VLOOKUP('input-data'!$E$186,Fodertabel,79,FALSE),0)*'input-data'!I186/100)\n+(IFERROR(VLOOKUP('input-data'!$E$187,Fodertabel,79,FALSE),0)*'input-data'!I187/100)\n+(IFERROR(VLOOKUP('input-data'!$E$188,Fodertabel,79,FALSE),0)*'input-data'!I188/100)\n+(IFERROR(VLOOKUP('input-data'!$E$189,Fodertabel,79,FALSE),0)*'input-data'!I189/100)\n+(IFERROR(VLOOKUP('input-data'!$E$190,Fodertabel,79,FALSE),0)*'input-data'!I190/100)\n+(IFERROR(VLOOKUP('input-data'!$E$191,Fodertabel,79,FALSE),0)*'input-data'!I191/100)\n+(IFERROR(VLOOKUP('input-data'!$E$192,Fodertabel,79,FALSE),0)*'input-data'!I192/100))","v":0}]
[null,null,{"$f":"IF(topdowntables!N4=1, \"Blanding 3:\", \"Feed mixture 3:\")","v":"Blanding 3:"}]
[null,null,{"$f":"IF(topdowntables!$N$4=1, \"FEsv/100 kg\", \"FUpiglet/100 kg\")","v":"FEsv/100 kg"},{"$f":"SUM((IFERROR(VLOOKUP('input-data'!$E$197,Fodertabel,3,FALSE),0)*'input-data'!I197/100)\n+(IFERROR(VLOOKUP('input-data'!$E$198,Fodertabel,3,FALSE),0)*'input-data'!I198/100)\n+(IFERROR(VLOOKUP('input-data'!$E$199,Fodertabel,3,FALSE),0)*'input-data'!I199/100)\n+(IFERROR(VLOOKUP('input-data'!$E$200,Fodertabel,3,FALSE),0)*'input-data'!I200/100)\n+(IFERROR(VLOOKUP('input-data'!$E$201,Fodertabel,3,FALSE),0)*'input-data'!I201/100)\n+(IFERROR(VLOOKUP('input-data'!$E$202,Fodertabel,3,FALSE),0)*'input-data'!I202/100)\n+(IFERROR(VLOOKUP('input-data'!$E$203,Fodertabel,3,FALSE),0)*'input-data'!I203/100)\n+(IFERROR(VLOOKUP('input-data'!$E$204,Fodertabel,3,FALSE),0)*'input-data'!I204/100)\n+(IFERROR(VLOOKUP('input-data'!$E$205,Fodertabel,3,FALSE),0)*'input-data'!I205/100)\n+(IFERROR(VLOOKUP('input-data'!$E$206,Fodertabel,3,FALSE),0)*'input-data'!I206/100)\n+(IFERROR(VLOOKUP('input-data'!$E$207,Fodertabel,3,FALSE),0)*'input-data'!I207/100)\n+(IFERROR(VLOOKUP('input-data'!$E$208,Fodertabel,3,FALSE),0)*'input-data'!I208/100)\n+(IFERROR(VLOOKUP('input-data'!$E$209,Fodertabel,3,FALSE),0)*'input-data'!I209/100)\n+(IFERROR(VLOOKUP('input-data'!$E$210,Fodertabel,3,FALSE),0)*'input-data'!I210/100)\n+(IFERROR(VLOOKUP('input-data'!$E$211,Fodertabel,3,FALSE),0)*'input-data'!I211/100))*100","v":0}]
[null,null,{"$f":"IF(topdowntables!N4=1, \"Tørstof, %\", \"Dry matter, %\")","v":"Tørstof, %"},{"$f":"SUM((IFERROR(VLOOKUP('input-data'!$E$197,Fodertabel,9,FALSE),0)*'input-data'!I197/100)\n+(IFERROR(VLOOKUP('input-data'!$E$198,Fodertabel,9,FALSE),0)*'input-data'!I198/100)\n+(IFERROR(VLOOKUP('input-data'!$E$199,Fodertabel,9,FALSE),0)*'input-data'!I199/100)\n+(IFERROR(VLOOKUP('input-data'!$E$200,Fodertabel,9,FALSE),0)*'input-data'!I200/100)\n+(IFERROR(VLOOKUP('input-data'!$E$201,Fodertabel,9,FALSE),0)*'input-data'!I201/100)\n+(IFERROR(VLOOKUP('input-data'!$E$202,Fodertabel,9,FALSE),0)*'input-data'!I202/100)\n+(IFERROR(VLOOKUP('input-data'!$E$203,Fodertabel,9,FALSE),0)*'input-data'!I203/100)\n+(IFERROR(VLOOKUP('input-data'!$E$204,Fodertabel,9,FALSE),0)*'input-data'!I204/100)\n+(IFERROR(VLOOKUP('input-data'!$E$205,Fodertabel,9,FALSE),0)*'input-data'!I205/100)\n+(IFERROR(VLOOKUP('input-data'!$E$206,Fodertabel,9,FALSE),0)*'input-data'!I206/100)\n+(IFERROR(VLOOKUP('input-data'!$E$207,Fodertabel,9,FALSE),0)*'input-data'!I207/100)\n+(IFERROR(VLOOKUP('input-data'!$E$208,Fodertabel,9,FALSE),0)*'input-data'!I208/100)\n+(IFERROR(VLOOKUP('input-data'!$E$209,Fodertabel,9,FALSE),0)*'input-data'!I209/100)\n+(IFERROR(VLOOKUP('input-data'!$E$210,Fodertabel,9,FALSE),0)*'input-data'!I210/100)\n+(IFERROR(VLOOKUP('input-data'!$E$211,Fodertabel,9,FALSE),0)*'input-data'!I211/100))","v":0}]
[null,null,{"$f":"IF(topdowntables!N4=1, \"Råprotein, g per kg foder\", \"Crude protein, g per kg feed\")","v":"Råprotein, g per kg foder"},{"$f":"SUM((IFERROR(VLOOKUP('input-data'!$E$197,Fodertabel,10,FALSE),0)*'input-data'!I197/100)\n+(IFERROR(VLOOKUP('input-data'!$E$198,Fodertabel,10,FALSE),0)*'input-data'!I198/100)\n+(IFERROR(VLOOKUP('input-data'!$E$199,Fodertabel,10,FALSE),0)*'input-data'!I199/100)\n+(IFERROR(VLOOKUP('input-data'!$E$200,Fodertabel,10,FALSE),0)*'input-data'!I200/100)\n+(IFERROR(VLOOKUP('input-data'!$E$201,Fodertabel,10,FALSE),0)*'input-data'!I201/100)\n+(IFERROR(VLOOKUP('input-data'!$E$202,Fodertabel,10,FALSE),0)*'input-data'!I202/100)\n+(IFERROR(VLOOKUP('input-data'!$E$203,Fodertabel,10,FALSE),0)*'input-data'!I203/100)\n+(IFERROR(VLOOKUP('input-data'!$E$204,Fodertabel,10,FALSE),0)*'input-data'!I204/100)\n+(IFERROR(VLOOKUP('input-data'!$E$205,Fodertabel,10,FALSE),0)*'input-data'!I205/100)\n+(IFERROR(VLOOKUP('input-data'!$E$206,Fodertabel,10,FALSE),0)*'input-data'!I206/100)\n+(IFERROR(VLOOKUP('input-data'!$E$207,Fodertabel,10,FALSE),0)*'input-data'!I207/100)\n+(IFERROR(VLOOKUP('input-data'!$E$208,Fodertabel,10,FALSE),0)*'input-data'!I208/100)\n+(IFERROR(VLOOKUP('input-data'!$E$209,Fodertabel,10,FALSE),0)*'input-data'!I209/100)\n+(IFERROR(VLOOKUP('input-data'!$E$210,Fodertabel,10,FALSE),0)*'input-data'!I210/100)\n+(IFERROR(VLOOKUP('input-data'!$E$211,Fodertabel,10,FALSE),0)*'input-data'!I211/100))*10","v":0}]
[null,null,{"$f":"IF(topdowntables!N4=1, \"Fosfor, g per kg foder\", \"Phosphorus, g per kg feed\")","v":"Fosfor, g per kg foder"},{"$f":"SUM((IFERROR(VLOOKUP('input-data'!$E$197,Fodertabel,79,FALSE),0)*'input-data'!I197/100)\n+(IFERROR(VLOOKUP('input-data'!$E$198,Fodertabel,79,FALSE),0)*'input-data'!I198/100)\n+(IFERROR(VLOOKUP('input-data'!$E$199,Fodertabel,79,FALSE),0)*'input-data'!I199/100)\n+(IFERROR(VLOOKUP('input-data'!$E$200,Fodertabel,79,FALSE),0)*'input-data'!I200/100)\n+(IFERROR(VLOOKUP('input-data'!$E$201,Fodertabel,79,FALSE),0)*'input-data'!I201/100)\n+(IFERROR(VLOOKUP('input-data'!$E$202,Fodertabel,79,FALSE),0)*'input-data'!I202/100)\n+(IFERROR(VLOOKUP('input-data'!$E$203,Fodertabel,79,FALSE),0)*'input-data'!I203/100)\n+(IFERROR(VLOOKUP('input-data'!$E$204,Fodertabel,79,FALSE),0)*'input-data'!I204/100)\n+(IFERROR(VLOOKUP('input-data'!$E$205,Fodertabel,79,FALSE),0)*'input-data'!I205/100)\n+(IFERROR(VLOOKUP('input-data'!$E$206,Fodertabel,79,FALSE),0)*'input-data'!I206/100)\n+(IFERROR(VLOOKUP('input-data'!$E$207,Fodertabel,79,FALSE),0)*'input-data'!I207/100)\n+(IFERROR(VLOOKUP('input-data'!$E$208,Fodertabel,79,FALSE),0)*'input-data'!I208/100)\n+(IFERROR(VLOOKUP('input-data'!$E$209,Fodertabel,79,FALSE),0)*'input-data'!I209/100)\n+(IFERROR(VLOOKUP('input-data'!$E$210,Fodertabel,79,FALSE),0)*'input-data'!I210/100)\n+(IFERROR(VLOOKUP('input-data'!$E$211,Fodertabel,79,FALSE),0)*'input-data'!I211/100))","v":0}]
[]
[null,null,{"$f":"IF(topdowntables!N4=1, \"N og P bidrag fra kraftfodret, tildelt ude\", \"N and P content in concentrated feed, used outdoor\")","v":"N og P bidrag fra kraftfodret, tildelt ude"},null,null,"Opdelt i ude og inden da blandinger afh. af alder på grise"]
[null,null,{"$f":"IF(topdowntables!N4=1, \"Råprotein pr. prod. smågris, kg\", \"Crude protein, kg per produced piglet\")","v":"Råprotein pr. prod. smågris, kg"},{"$f":"SUM(IF(D18<>0,(D51*(D49/100)*(D31/(D24+D18))*D18),0)+IF(D19<>0,(D56*(D54/100)*(D32/(D25+D19))*D19),0)+IF(D20<>0,(D61*(D59/100)*(D33/(D26+D20))*D20),0))/1000","v":0}]
[null,null,{"$f":"IF(topdowntables!N4=1, \"N pr. prod. smågris, kg\", \"N, kg per produced piglet\")","v":"N pr. prod. smågris, kg"},{"$f":"D65/6.25","v":0}]
[null,null,{"$f":"IF(topdowntables!N4=1, \"P pr. prod. smågris, kg\", \"P, kg per produced piglet\")","v":"P pr. prod. smågris, kg"},{"$f":" SUM(IF(D18<>0,(D52*(D49/100)*(D31/(D24+D18))*D18),0)+ IF(D19<>0,(D57*(D54/100)*(D32/(D25+D19))*D19),0) +IF(D20<>0, (D62*(D59/100)*(D33/(D26+D20))*D20),0))/1000","v":0}]
[]
[null,null,{"$f":"IF(topdowntables!N4=1, \"N og P bidrag fra kraftfodret, tildelt inde\", \"N and P content in concentrated feed, used indoor\")","v":"N og P bidrag fra kraftfodret, tildelt inde"}]
[null,null,{"$f":"IF(topdowntables!N4=1, \"Råprotein pr. prod. smågris, kg\", \"Crude protein, kg per produced piglet\")","v":"Råprotein pr. prod. smågris, kg"},{"$f":"SUM(IF(D24<>0,(D51*(D49/100)*(D31/(D24+D18))*D24),0)+IF(D25<>0,(D56*(D54/100)*(D32/(D25+D19))*D25),0)+IF(D26<>0, (D61*(D59/100)*(D33/(D26+D20))*D26)),0)/1000","v":0}]
[null,null,{"$f":"IF(topdowntables!N4=1, \"N pr. prod. smågris, kg\", \"N, kg per produced piglet\")","v":"N pr. prod. smågris, kg"},{"$f":"D70/6.25","v":0}]
[null,null,{"$f":"IF(topdowntables!N4=1, \"P pr. prod. smågris, kg\", \"P, kg per produced piglet\")","v":"P pr. prod. smågris, kg"},{"$f":"SUM(IF(D24<>0,(D52*(D49/100)*(D31/(D24+D18))*D24),0)+IF(D25<>0, (D57*(D54/100)*(D32/(D25+D19))*D25),0)+ IF(D26<>0,(D62*(D59/100)*(D33/(D26+D20))*D26),0))/1000","v":0}]
[null,{"$f":"IF(topdowntables!$N$4=1, \"Grovfoder inkl. græs:\", \"Roughage incl. grazing:\")","v":"Grovfoder inkl. græs:"}]
[null,null,{"$f":"IF(topdowntables!$N$4=1, \"Grovfoder:\", \"Roughage:\")","v":"Grovfoder:"}]
[null,null,{"$f":"IF(topdowntables!$N$4=1, \"FEsv/100 kg\", \"FUpiglet/100 kg\")","v":"FEsv/100 kg"},{"$f":" SUM((IFERROR(VLOOKUP('input-data'!$E$218,Fodertabel,3,FALSE),0)*'input-data'!I218/100)\n+(IFERROR(VLOOKUP('input-data'!$E$219,Fodertabel,3,FALSE),0)*'input-data'!I219/100)\n+(IFERROR(VLOOKUP('input-data'!$E$220,Fodertabel,3,FALSE),0)*'input-data'!I220/100)\n+(IFERROR(VLOOKUP('input-data'!$E$221,Fodertabel,3,FALSE),0)*'input-data'!I221/100)\n+(IFERROR(VLOOKUP('input-data'!$E$222,Fodertabel,3,FALSE),0)*'input-data'!I222/100))*100","v":0}]
[null,null,{"$f":"IF(topdowntables!$N$4=1, \"Tørstof, %\", \"Dry matter, %\")","v":"Tørstof, %"},{"$f":" SUM((IFERROR(VLOOKUP('input-data'!$E$218,Fodertabel,9,FALSE),0)*'input-data'!I218/100)\n+(IFERROR(VLOOKUP('input-data'!$E$219,Fodertabel,9,FALSE),0)*'input-data'!I219/100)\n+(IFERROR(VLOOKUP('input-data'!$E$220,Fodertabel,9,FALSE),0)*'input-data'!I220/100)\n+(IFERROR(VLOOKUP('input-data'!$E$221,Fodertabel,9,FALSE),0)*'input-data'!I221/100)\n+(IFERROR(VLOOKUP('input-data'!$E$222,Fodertabel,9,FALSE),0)*'input-data'!I222/100))","v":0}]
[null,null,{"$f":"IF(topdowntables!$N$4=1, \"Råprotein, g per kg foder\", \"Crude protein, g per kg feed\")","v":"Råprotein, g per kg foder"},{"$f":" SUM((IFERROR(VLOOKUP('input-data'!$E$218,Fodertabel,10,FALSE),0)*'input-data'!I218/100)\n+(IFERROR(VLOOKUP('input-data'!$E$219,Fodertabel,10,FALSE),0)*'input-data'!I219/100)\n+(IFERROR(VLOOKUP('input-data'!$E$220,Fodertabel,10,FALSE),0)*'input-data'!I220/100)\n+(IFERROR(VLOOKUP('input-data'!$E$221,Fodertabel,10,FALSE),0)*'input-data'!I221/100)\n+(IFERROR(VLOOKUP('input-data'!$E$222,Fodertabel,10,FALSE),0)*'input-data'!I222/100))*10","v":0}]
[null,null,{"$f":"IF(topdowntables!$N$4=1, \"Fosfor, g per kg foder\", \"Phosphorus, g per kg feed\")","v":"Fosfor, g per kg foder"},{"$f":" SUM((IFERROR(VLOOKUP('input-data'!$E$218,Fodertabel,79,FALSE),0)*'input-data'!I218/100)\n+(IFERROR(VLOOKUP('input-data'!$E$219,Fodertabel,79,FALSE),0)*'input-data'!I219/100)\n+(IFERROR(VLOOKUP('input-data'!$E$220,Fodertabel,79,FALSE),0)*'input-data'!I220/100)\n+(IFERROR(VLOOKUP('input-data'!$E$221,Fodertabel,79,FALSE),0)*'input-data'!I221/100)\n+(IFERROR(VLOOKUP('input-data'!$E$222,Fodertabel,79,FALSE),0)*'input-data'!I222/100))","v":0}]
[]
[null,null,{"$f":"IF(topdowntables!$N$4=1, \"Græs:\", \"Grass:\")","v":"Græs:"}]
[null,null,{"$f":"IF(topdowntables!$N$4=1, \"FEsv/100 kg\", \"FUpiglet/100 kg\")","v":"FEsv/100 kg"},{"$f":" SUM((IFERROR(VLOOKUP('input-data'!$E$350,Fodertabel!$D$353:$HU$356,3,FALSE),0)))*100","v":11.899999999999999}]
[null,null,{"$f":"IF(topdowntables!$N$4=1, \"Tørstof, %\", \"Dry matter, %\")","v":"Tørstof, %"},{"$f":" SUM((IFERROR(VLOOKUP('input-data'!$E$350,Fodertabel!$D$353:$HU$356,9,FALSE),0)))","v":17}]
[null,null,{"$f":"IF(topdowntables!$N$4=1, \"Råprotein, g per kg foder\", \"Crude protein, g per kg feed\")","v":"Råprotein, g per kg foder"},{"$f":" SUM((IFERROR(VLOOKUP('input-data'!$E$350,Fodertabel!$D$353:$HU$356,10,FALSE),0)))*10","v":30.299999999999997}]
[null,null,{"$f":"IF(topdowntables!$N$4=1, \"Fosfor, g per kg foder\", \"Phosphorus, g per kg feed\")","v":"Fosfor, g per kg foder"},{"$f":" SUM((IFERROR(VLOOKUP('input-data'!$E$350,Fodertabel!$D$353:$HU$356,79,FALSE),0)))","v":0}]
[]
[null,null,{"$f":"IF(topdowntables!$N$4=1, \"N og P bidrag fra grovfoder / græs, ude\", \"N and P content in roughage / grasse, outdoor\")","v":"N og P bidrag fra grovfoder / græs, ude"},null,null,"Antagelse altid grovfoder inde, så er andel af foderdage ude / total foderdage < dage med grovfoder/365, gives alt inde"]
[null,null,{"$f":"IF(topdowntables!$N$4=1, \"Råprotein pr. prod. smågris, kg\", \"Crude protein, kg per produced piglet\")","v":"Råprotein pr. prod. smågris, kg"},{"$f":"IFERROR((D77*(IF(((D21/D29)>('input-data'!F216/365)),D38*((D21/D29)-('input-data'!F216/365)),0))+(D83*D37))/1000, 0)","v":0},null,"ellers tildeles ude: ((foderdage ude- total foderdage)-(dage med grovfoder/365))*kg grovfoder "]
[null,null,{"$f":"IF(topdowntables!$N$4=1, \"N pr. prod. smågris, kg\", \"N, kg per produced piglet\")","v":"N pr. prod. smågris, kg"},{"$f":"D87/6.25","v":0},"tjek ",{"$f":"(IF(((D21/D29)>('input-data'!F216/365)),D38*((D21/D29)-('input-data'!F216/365)),0))+(IF(((D21/D29)>('input-data'!F216/365)),D38*(1-(D21/D29)-('input-data'!F216/365)),D38))","v":{"$error":"#DIV/0!"}}]
[null,null,{"$f":"IF(topdowntables!$N$4=1, \"P pr. prod. smågris, kg\", \"P, kg per produced piglet\")","v":"P pr. prod. smågris, kg"},{"$f":"IFERROR((D78*(IF(((D21/D29)>('input-data'!F216/365)),D38*((D21/D29)-('input-data'!F216/365)),0))+(D84*D37))/1000, 0)","v":0}]
[]
[null,null,{"$f":"IF(topdowntables!$N$4=1, \"N og P bidrag fra grovfoder, tildelt inde\", \"N and P content in roughage, used indoor\")","v":"N og P bidrag fra grovfoder, tildelt inde"}]
[null,null,{"$f":"IF(topdowntables!$N$4=1, \"Råprotein pr. prod. smågris, kg\", \"Crude protein, kg per produced piglet\")","v":"Råprotein pr. prod. smågris, kg"},{"$f":"IFERROR((D77*(IF(((D21/D29)>('input-data'!F216/365)),D38*(1-(D21/D29)-('input-data'!F216/365)),D38)))/1000, 0)","v":0}]
[null,null,{"$f":"IF(topdowntables!$N$4=1, \"N pr. prod. smågris, kg\", \"N, kg per produced piglet\")","v":"N pr. prod. smågris, kg"},{"$f":"D92/6.25","v":0}]
[null,null,{"$f":"IF(topdowntables!$N$4=1, \"P pr. prod. smågris, kg\", \"P, kg per produced piglet\")","v":"P pr. prod. smågris, kg"},{"$f":"IFERROR((D78*(IF(((D21/D29)>('input-data'!F216/365)),D38*(1-(D21/D29)-('input-data'!F216/365)),D38)))/1000, 0)","v":0}]
[null,{"$f":"IF(topdowntables!$N$4=1, \"Halm:\", \"Straw:\")","v":"Halm:"}]
[null,null,{"$f":"IF(topdowntables!$N$4=1, \"Tørstof, %\", \"Dry matter, %\")","v":"Tørstof, %"},{"$f":"IFERROR(SUM((IFERROR(VLOOKUP('input-data'!$E$354,Fodertabel,9,FALSE),0)*('input-data'!E353/( 'input-data'!E353+'input-data'!E360)))\n+(IFERROR(VLOOKUP('input-data'!$E$361,Fodertabel,9,FALSE),0)*('input-data'!E360/( 'input-data'!E353+'input-data'!E360)))),0)","v":90}]
[null,null,{"$f":"IF(topdowntables!$N$4=1, \"Råprotein, g per kg\", \"Crude protein, g per kg\")","v":"Råprotein, g per kg"},{"$f":"IFERROR(SUM((IFERROR(VLOOKUP('input-data'!$E$354,Fodertabel,10,FALSE),0)*('input-data'!E353/( 'input-data'!E353+'input-data'!E360)))\n+(IFERROR(VLOOKUP('input-data'!$E$361,Fodertabel,10,FALSE),0)*('input-data'!E360/( 'input-data'!E353+'input-data'!E360))))*10,0)","v":36}]
[null,null,{"$f":"IF(topdowntables!$N$4=1, \"Fosfor, g per kg\", \"Phosphorus, g per kg\")","v":"Fosfor, g per kg"},{"$f":"IFERROR(SUM((IFERROR(VLOOKUP('input-data'!$E$354,Fodertabel,79,FALSE),0)*('input-data'!E353/( 'input-data'!E353+'input-data'!E360)))\n+(IFERROR(VLOOKUP('input-data'!$E$361,Fodertabel,79,FALSE),0)*('input-data'!E360/( 'input-data'!E353+'input-data'!E360)))),0)","v":0.81}]
[]
[null,null,{"$f":"IF(topdowntables!$N$4=1, \"N og P bidrag fra halm, tildelt ude\", \"N and P content in straw, used outdoor\")","v":"N og P bidrag fra halm, tildelt ude"}]
[null,null,{"$f":"IF(topdowntables!N4=1, \"Råprotein pr. prod. smågris, kg\", \"Crude protein, kg per produced piglet\")","v":"Råprotein pr. prod. smågris, kg"},{"$f":"('input-data'!E353*D97*D21)/1000","v":0}]
[null,null,{"$f":"IF(topdowntables!$N$4=1, \"N pr. prod. smågris, kg\", \"N, kg per produced piglet\")","v":"N pr. prod. smågris, kg"},{"$f":"D101/6.25","v":0}]
[null,null,{"$f":"IF(topdowntables!$N$4=1,\"P pr. prod. smågris, kg\",\"P, kg per produced piglet\")","v":"P pr. prod. smågris, kg"},{"$f":"('input-data'!E353*D98*D21)/1000","v":0}]
[]
[null,null,{"$f":"IF(topdowntables!$N$4=1, \"N og P bidrag fra halm, tildelt inde\", \"N and P content in straw, used indoor\")","v":"N og P bidrag fra halm, tildelt inde"}]
[null,null,{"$f":"IF(topdowntables!$N$4=1, \"Råprotein pr. prod. smågris, kg\", \"Crude protein, kg per produced piglet\")","v":"Råprotein pr. prod. smågris, kg"},{"$f":"('input-data'!E360*D97*D27)/1000","v":0}]
[null,null,{"$f":"IF(topdowntables!$N$4=1, \"N pr. prod. smågris, kg\", \"N, kg per produced piglet\")","v":"N pr. prod. smågris, kg"},{"$f":"D106/6.25","v":0}]
[null,null,{"$f":"IF(topdowntables!$N$4=1, \"P pr. prod. smågris, kg\", \"P, kg per produced piglet\")","v":"P pr. prod. smågris, kg"},{"$f":"('input-data'!E360*D98*D2)/1000","v":0}]

{"sheet":"Flow slagtesvin","index":12,"n_rows":107,"n_cols":6,"rows_kept":107,"cut":false,"hidden":false,"merged":[]}
[null,{"$f":"IF(topdowntables!N4=1, \"SLAGTESVIN\", \"SLAUGHTER PIGS\")","v":"SLAGTESVIN"},null,"STANDARD",null,"Kilder til standardtal / bemærkninger"]
[]
[null,{"$f":"IF(topdowntables!N4=1, \"Dyre, flow\", \"Animals', flow\")","v":"Dyre, flow"}]
[null,{"$f":"IF(topdowntables!N4=1, \"Slagtesvin:\", \"Slaughter pigs\")","v":"Slagtesvin:"}]
[null,null,{"$f":"IF(topdowntables!N4=1, \"Overførte fra smågrisestald, stk\", \"Piglets, transferred from piglets' stable, p.\")","v":"Overførte fra smågrisestald, stk"},{"$f":"'Flow smågrise'!D12","v":0},null,"Overført værdi fra Flow smågrise"]
[null,null,{"$f":"IF(topdowntables!N4=1, \"Indkøbte smågrise, stk\", \"Bought-in piglets, p.\")","v":"Indkøbte smågrise, stk"},{"$f":"'input-data'!E34","v":0},null,"Overført værdi input-data"]
[null,null,{"$f":"IF(topdowntables!N4=1, \"Vægt ved indsættelse, kg\", \"Weight at insertion, kg\")","v":"Vægt ved indsættelse, kg"},{"$f":"IFERROR(((D5*'input-data'!E29)+('input-data'!E35*'input-data'!E34))/(D5+'input-data'!E34),0)","v":0},null,"(Vægt 'overførte'*Overførte)+(Vægt 'købte'*Købte)/(Overførte+købte)"]
[null,null,{"$f":"IF(topdowntables!N4=1, \"Produceret slagtesvin, stk\", \"Produced slaughter pigs, p.\")","v":"Produceret slagtesvin, stk"},{"$f":"D5-D10","v":0}]
[]
[null,null,{"$f":"IF(topdowntables!N4=1, \"Døde/aflivet, stk\", \"Dead animals, p.\")","v":"Døde/aflivet, stk"},{"$f":"'input-data'!E38/100*(D5+D6)","v":0},null,"Dødlighedsprocenten/100x(Overførte + Indkøbte)"]
[null,null,{"$f":"IF(topdowntables!N4=1, \"Overført til polte, stk\", \"Transferred to gilts, p.\")","v":"Overført til polte, stk"},{"$f":"'Flow sohold'!D11","v":0}]
[null,null,{"$f":"IF(topdowntables!N4=1, \"Vægt ved afgang, kg\", \"Weight, kg per produced slaughter pig\")","v":"Vægt ved afgang, kg"},{"$f":"'input-data'!E36","v":0}]
[]
[null,{"$f":"IF(topdowntables!N4=1, \"Foder og strøelse, flow:\", \"Feed and straw, flow\")","v":"Foder og strøelse, flow:"}]
[null,{"$f":"IF(topdowntables!N4=1, \"Foderdage per produceret slagtesvin:\", \"Feeding days per produced slaughter pig:\")","v":"Foderdage per produceret slagtesvin:"}]
[null,null,{"$f":"IF(topdowntables!N4=1, \"Foderdage, ude\", \"Feeding days, outdoor\")","v":"Foderdage, ude"}]
[null,null,{"$f":"IF(topdowntables!$N$4=1, \"    Blanding 1\", \"    Feed mixture 1\")","v":"    Blanding 1"},{"$f":"IF(OR('input-data'!$E$368=topdowntables!$C$25,'input-data'!$E$368=topdowntables!$C$30),0)\n+(IF(AND('input-data'!$E$368=topdowntables!$C$26,'input-data'!H228>'input-data'!F228,'input-data'!E36>='input-data'!H228),('input-data'!H228-'input-data'!F228)/'input-data'!E37,0)\n+IF(AND('input-data'!$E$368=topdowntables!$C$31,'input-data'!H228>'input-data'!F228,'input-data'!E36>='input-data'!H228),('input-data'!H228-'input-data'!F228)/'input-data'!E37,0)\n+IF(AND('input-data'!$E$368=topdowntables!$C$26,'input-data'!H228>'input-data'!F228,'input-data'!E36<'input-data'!H228),('input-data'!E36-'input-data'!F228)/'input-data'!E37,0)\n+IF(AND('input-data'!$E$368=topdowntables!$C$31,'input-data'!H228>'input-data'!F228,'input-data'!E36<'input-data'!H228),('input-data'!E36-'input-data'!F228)/'input-data'!E37,0)\n+IF(AND('input-data'!$E$368=topdowntables!$C$27,'input-data'!H228>'input-data'!F228,'input-data'!F369>'input-data'!F228,'input-data'!F369<='input-data'!H228,'input-data'!H228<='input-data'!E36),('input-data'!F369-'input-data'!F228)/'input-data'!E37,0)\n+IF(AND('input-data'!$E$368=topdowntables!$C$32,'input-data'!H228>'input-data'!F228,'input-data'!F369>'input-data'!F228,'input-data'!F369<='input-data'!H228,'input-data'!H228<='input-data'!E36),('input-data'!F369-'input-data'!F228)/'input-data'!E37,0)\n+IF(AND('input-data'!$E$368=topdowntables!$C$27,'input-data'!H228>'input-data'!F228,'input-data'!F369>'input-data'!F228,'input-data'!F369<='input-data'!H228,'input-data'!H228>'input-data'!E36, 'input-data'!F369>'input-data'!E36),('input-data'!E36-'input-data'!F228)/'input-data'!E37,0)\n+IF(AND('input-data'!$E$368=topdowntables!$C$32,'input-data'!H228>'input-data'!F228,'input-data'!F369>'input-data'!F228,'input-data'!F369<='input-data'!H228,'input-data'!H228>'input-data'!E36, 'input-data'!F369>'input-data'!E36),('input-data'!E36-'input-data'!F228)/'input-data'!E37,0)\n+IF(AND('input-data'!$E$368=topdowntables!$C$27,'input-data'!H228>'input-data'!F228,'input-data'!F369>'input-data'!F228,'input-data'!F369<='input-data'!H228,'input-data'!H228>'input-data'!E36, 'input-data'!F369<='input-data'!E36),('input-data'!F369-'input-data'!F228)/'input-data'!E37,0)\n+IF(AND('input-data'!$E$368=topdowntables!$C$32,'input-data'!H228>'input-data'!F228,'input-data'!F369>'input-data'!F228,'input-data'!F369<='input-data'!H228,'input-data'!H228>'input-data'!E36, 'input-data'!F369<='input-data'!E36),('input-data'!F369-'input-data'!F228)/'input-data'!E37,0)\n+IF(AND('input-data'!$E$368=topdowntables!$C$27,'input-data'!H228>'input-data'!F228,'input-data'!F369>'input-data'!H228,'input-data'!H228<='input-data'!E36),('input-data'!H228-'input-data'!F228)/ 'input-data'!E37,0)\n+IF(AND('input-data'!$E$368=topdowntables!$C$32,'input-data'!H228>'input-data'!F228,'input-data'!F369>'input-data'!H228,'input-data'!H228<='input-data'!E36),('input-data'!H228-'input-data'!F228)/ 'input-data'!E37,0)\n+IF(AND('input-data'!$E$368=topdowntables!$C$27,'input-data'!H228>'input-data'!F228,'input-data'!F369>'input-data'!H228,'input-data'!H228>'input-data'!E36),('input-data'!E36-'input-data'!F228)/'input-data'!E37,0)\n+IF(AND('input-data'!$E$368=topdowntables!$C$32,'input-data'!H228>'input-data'!F228,'input-data'!F369>'input-data'!H228,'input-data'!H228>'input-data'!E36),('input-data'!E36-'input-data'!F228)/'input-data'!E37,0)\n)*1000","v":0}]
[null,null,{"$f":"IF(topdowntables!$N$4=1, \"    Blanding 2\", \"    Feed mixture 2\")","v":"    Blanding 2"},{"$f":"IF(OR('input-data'!$E$368=topdowntables!$C$25,'input-data'!$E$368=topdowntables!$C$30),0)\n+(IF(AND('input-data'!$E$368=topdowntables!$C$26,'input-data'!H247>'input-data'!F247,'input-data'!E36>='input-data'!H247),('input-data'!H247-'input-data'!F247)/'input-data'!E37,0)\n+IF(AND('input-data'!$E$368=topdowntables!$C$31,'input-data'!H247>'input-data'!F247,'input-data'!E36>='input-data'!H247),('input-data'!H247-'input-data'!F247)/'input-data'!E37,0)\n+IF(AND('input-data'!$E$368=topdowntables!$C$26,'input-data'!H247>'input-data'!F247,'input-data'!E36<'input-data'!H247),('input-data'!E36-'input-data'!F247)/'input-data'!E37,0)\n+IF(AND('input-data'!$E$368=topdowntables!$C$31,'input-data'!H247>'input-data'!F247,'input-data'!E36<'input-data'!H247),('input-data'!E36-'input-data'!F247)/'input-data'!E37,0)\n+IF(AND('input-data'!$E$368=topdowntables!$C$27,'input-data'!H247>'input-data'!F247,'input-data'!F369>'input-data'!F247,'input-data'!F369<='input-data'!H247,'input-data'!H247<='input-data'!E36),('input-data'!F369-'input-data'!F247)/'input-data'!E37,0)\n+IF(AND('input-data'!$E$368=topdowntables!$C$32,'input-data'!H247>'input-data'!F247,'input-data'!F369>'input-data'!F247,'input-data'!F369<='input-data'!H247,'input-data'!H247<='input-data'!E36),('input-data'!F369-'input-data'!F247)/'input-data'!E37,0)\n+IF(AND('input-data'!$E$368=topdowntables!$C$27,'input-data'!H247>'input-data'!F247,'input-data'!F369>'input-data'!F247,'input-data'!F369<='input-data'!H247,'input-data'!H247>'input-data'!E36, 'input-data'!F369>'input-data'!E36),('input-data'!E36-'input-data'!F247)/'input-data'!E37,0)\n+IF(AND('input-data'!$E$368=topdowntables!$C$32,'input-data'!H247>'input-data'!F247,'input-data'!F369>'input-data'!F247,'input-data'!F369<='input-data'!H247,'input-data'!H247>'input-data'!E36, 'input-data'!F369>'input-data'!E36),('input-data'!E36-'input-data'!F247)/'input-data'!E37,0)\n+IF(AND('input-data'!$E$368=topdowntables!$C$27,'input-data'!H247>'input-data'!F247,'input-data'!F369>'input-data'!F247,'input-data'!F369<='input-data'!H247,'input-data'!H247>'input-data'!E36, 'input-data'!F369<='input-data'!E36),('input-data'!F369-'input-data'!F247)/'input-data'!E37,0)\n+IF(AND('input-data'!$E$368=topdowntables!$C$32,'input-data'!H247>'input-data'!F247,'input-data'!F369>'input-data'!F247,'input-data'!F369<='input-data'!H247,'input-data'!H247>'input-data'!E36, 'input-data'!F369<='input-data'!E36),('input-data'!F369-'input-data'!F247)/'input-data'!E37,0)\n+IF(AND('input-data'!$E$368=topdowntables!$C$27,'input-data'!H247>'input-data'!F247,'input-data'!F369>'input-data'!H247,'input-data'!H247<='input-data'!E36),('input-data'!H247-'input-data'!F247)/ 'input-data'!E37,0)\n+IF(AND('input-data'!$E$368=topdowntables!$C$32,'input-data'!H247>'input-data'!F247,'input-data'!F369>'input-data'!H247,'input-data'!H247<='input-data'!E36),('input-data'!H247-'input-data'!F247)/ 'input-data'!E37,0)\n+IF(AND('input-data'!$E$368=topdowntables!$C$27,'input-data'!H247>'input-data'!F247,'input-data'!F369>'input-data'!H247,'input-data'!H247>'input-data'!E36),('input-data'!E36-'input-data'!F247)/'input-data'!E37,0)\n+IF(AND('input-data'!$E$368=topdowntables!$C$32,'input-data'!H247>'input-data'!F247,'input-data'!F369>'input-data'!H247,'input-data'!H247>'input-data'!E36),('input-data'!E36-'input-data'!F247)/'input-data'!E37,0)\n)*1000","v":0}]
[null,null,{"$f":"IF(topdowntables!$N$4=1, \"    Blanding 3\", \"    Feed mixture 3\")","v":"    Blanding 3"},{"$f":"IF(OR('input-data'!$E$368=topdowntables!$C$25,'input-data'!$E$368=topdowntables!$C$30),0)\n+(IF(AND('input-data'!$E$368=topdowntables!$C$26,'input-data'!H266>'input-data'!F266),('input-data'!H266-'input-data'!F266)/'input-data'!E37,0)\n+IF(AND('input-data'!$E$368=topdowntables!$C$31,'input-data'!H266>'input-data'!F266),('input-data'!H266-'input-data'!F266)/'input-data'!E37,0)\n+IF(AND('input-data'!$E$368=topdowntables!$C$27,'input-data'!H266>'input-data'!F266,'input-data'!F369>'input-data'!F266,'input-data'!F369<='input-data'!H266),('input-data'!F369-'input-data'!F266)/'input-data'!E37,0)\n+IF(AND('input-data'!$E$368=topdowntables!$C$32,'input-data'!H266>'input-data'!F266,'input-data'!F369>'input-data'!F266,'input-data'!F369<='input-data'!H266),('input-data'!F369-'input-data'!F266)/'input-data'!E37,0)\n+IF(AND('input-data'!$E$368=topdowntables!$C$27,'input-data'!H266>'input-data'!F266,'input-data'!F369>'input-data'!F266,'input-data'!F369>'input-data'!E36),('input-data'!E36-'input-data'!F266)/'input-data'!E37,0)\n+IF(AND('input-data'!$E$368=topdowntables!$C$32,'input-data'!H266>'input-data'!F266,'input-data'!F369>'input-data'!F266,'input-data'!F369>'input-data'!E36),('input-data'!E36-'input-data'!F266)/'input-data'!E37,0)\n)*1000","v":0}]
[null,null,{"$f":"IF(topdowntables!N4=1, \"Foderdage, ude ialt\", \"Feeding days, outdoor total\")","v":"Foderdage, ude ialt"},{"$f":"D17+D18+D19","v":0}]
[]
[null,null,{"$f":"IF(topdowntables!N4=1, \"Foderdage, inde\", \"Feeding days, indoor\")","v":"Foderdage, inde"}]
[null,null,{"$f":"IF(topdowntables!$N$4=1, \"    Blanding 1\", \"    Feed mixture 1\")","v":"    Blanding 1"},{"$f":"(IF(AND('input-data'!$E$368=topdowntables!$C$25,'input-data'!H228>'input-data'!F228,'input-data'!E36>='input-data'!H228),('input-data'!H228-'input-data'!F228)/'input-data'!E37,0)\n+IF(AND('input-data'!$E$368=topdowntables!$C$30,'input-data'!H228>'input-data'!F228,'input-data'!E36>='input-data'!H228),('input-data'!H228-'input-data'!F228)/'input-data'!E37,0)\n+IF(AND('input-data'!$E$368=topdowntables!$C$25,'input-data'!H228>'input-data'!F228,'input-data'!E36<'input-data'!H228),('input-data'!E36-'input-data'!F228)/'input-data'!E37,0)\n+IF(AND('input-data'!$E$368=topdowntables!$C$30,'input-data'!H228>'input-data'!F228,'input-data'!E36<'input-data'!H228),('input-data'!E36-'input-data'!F228)/'input-data'!E37,0)\n+IF(OR('input-data'!$E$368=topdowntables!$C$26,'input-data'!$E$368=topdowntables!$C$31),0)\n+IF(AND('input-data'!$E$368=topdowntables!$C$27,'input-data'!H228>'input-data'!F228,'input-data'!F369>'input-data'!F228,'input-data'!F369<='input-data'!H228,'input-data'!H228<='input-data'!E36),('input-data'!H228-'input-data'!F369)/'input-data'!E37,0)\n+IF(AND('input-data'!$E$368=topdowntables!$C$32,'input-data'!H228>'input-data'!F228,'input-data'!F369>'input-data'!F228,'input-data'!F369<='input-data'!H228,'input-data'!H228<='input-data'!E36),('input-data'!H228-'input-data'!F369)/'input-data'!E37,0)\n+IF(AND('input-data'!$E$368=topdowntables!$C$27,'input-data'!H228>'input-data'!F228,'input-data'!F369>'input-data'!F228,'input-data'!F369<='input-data'!H228,'input-data'!H228>'input-data'!E36),('input-data'!E36-'input-data'!F369)/'input-data'!E37,0)\n+IF(AND('input-data'!$E$368=topdowntables!$C$32,'input-data'!H228>'input-data'!F228,'input-data'!F369>'input-data'!F228,'input-data'!F369<='input-data'!H228,'input-data'!H228>'input-data'!E36),('input-data'!E36-'input-data'!F369)/'input-data'!E37,0)\n+IF(AND('input-data'!$E$368=topdowntables!$C$27,'input-data'!H228>'input-data'!F228,'input-data'!F369<='input-data'!F228,'input-data'!H228<='input-data'!E36),('input-data'!H228-'input-data'!F228)/ 'input-data'!E37,0)\n+IF(AND('input-data'!$E$368=topdowntables!$C$32,'input-data'!H228>'input-data'!F228,'input-data'!F369<='input-data'!F228,'input-data'!H228<='input-data'!E36),('input-data'!H228-'input-data'!F228)/ 'input-data'!E37,0)\n+IF(AND('input-data'!$E$368=topdowntables!$C$27,'input-data'!H228>'input-data'!F228,'input-data'!F369<='input-data'!F228,'input-data'!H228>'input-data'!E36),('input-data'!E36-'input-data'!F228)/'input-data'!E37,0)\n+IF(AND('input-data'!$E$368=topdowntables!$C$32,'input-data'!H228>'input-data'!F228,'input-data'!F369<='input-data'!F228,'input-data'!H228>'input-data'!E36),('input-data'!E36-'input-data'!F228)/'input-data'!E37,0)\n)*1000","v":0}]
[null,null,{"$f":"IF(topdowntables!$N$4=1, \"    Blanding 2\", \"    Feed mixture 2\")","v":"    Blanding 2"},{"$f":"(IF(AND('input-data'!$E$368=topdowntables!$C$25,'input-data'!H247>'input-data'!F247,'input-data'!E36>='input-data'!H247),('input-data'!H247-'input-data'!F247)/'input-data'!E37,0)\n+IF(AND('input-data'!$E$368=topdowntables!$C$30,'input-data'!H247>'input-data'!F247,'input-data'!E36>='input-data'!H247),('input-data'!H247-'input-data'!F247)/'input-data'!E37,0)\n+IF(AND('input-data'!$E$368=topdowntables!$C$25,'input-data'!H247>'input-data'!F247,'input-data'!E36<'input-data'!H247),('input-data'!E36-'input-data'!F247)/'input-data'!E37,0)\n+IF(AND('input-data'!$E$368=topdowntables!$C$30,'input-data'!H247>'input-data'!F247,'input-data'!E36<'input-data'!H247),('input-data'!E36-'input-data'!F247)/'input-data'!E37,0)\n+IF(OR('input-data'!$E$368=topdowntables!$C$26,'input-data'!$E$368=topdowntables!$C$31),0)\n+IF(AND('input-data'!$E$368=topdowntables!$C$27,'input-data'!H247>'input-data'!F247,'input-data'!F369>'input-data'!F247,'input-data'!F369<='input-data'!H247,'input-data'!H247<='input-data'!E36),('input-data'!H247-'input-data'!F369)/'input-data'!E37,0)\n+IF(AND('input-data'!$E$368=topdowntables!$C$32,'input-data'!H247>'input-data'!F247,'input-data'!F369>'input-data'!F247,'input-data'!F369<='input-data'!H247,'input-data'!H247<='input-data'!E36),('input-data'!H247-'input-data'!F369)/'input-data'!E37,0)\n+IF(AND('input-data'!$E$368=topdowntables!$C$27,'input-data'!H247>'input-data'!F247,'input-data'!F369>'input-data'!F247,'input-data'!F369<='input-data'!H247,'input-data'!H247>'input-data'!E36),('input-data'!E36-'input-data'!F369)/'input-data'!E37,0)\n+IF(AND('input-data'!$E$368=topdowntables!$C$32,'input-data'!H247>'input-data'!F247,'input-data'!F369>'input-data'!F247,'input-data'!F369<='input-data'!H247,'input-data'!H247>'input-data'!E36),('input-data'!E36-'input-data'!F369)/'input-data'!E37,0)\n+IF(AND('input-data'!$E$368=topdowntables!$C$27,'input-data'!H247>'input-data'!F247,'input-data'!F369<='input-data'!F247,'input-data'!H247<='input-data'!E36),('input-data'!H247-'input-data'!F247)/ 'input-data'!E37,0)\n+IF(AND('input-data'!$E$368=topdowntables!$C$32,'input-data'!H247>'input-data'!F247,'input-data'!F369<='input-data'!F247,'input-data'!H247<='input-data'!E36),('input-data'!H247-'input-data'!F247)/ 'input-data'!E37,0)\n+IF(AND('input-data'!$E$368=topdowntables!$C$27,'input-data'!H247>'input-data'!F247,'input-data'!F369<='input-data'!F247,'input-data'!H247>'input-data'!E36),('input-data'!E36-'input-data'!F247)/'input-data'!E37,0)\n+IF(AND('input-data'!$E$368=topdowntables!$C$32,'input-data'!H247>'input-data'!F247,'input-data'!F369<='input-data'!F247,'input-data'!H247>'input-data'!E36),('input-data'!E36-'input-data'!F247)/'input-data'!E37,0)\n)*1000","v":0}]
[null,null,{"$f":"IF(topdowntables!$N$4=1, \"    Blanding 3\", \"    Feed mixture 3\")","v":"    Blanding 3"},{"$f":"(IF(AND('input-data'!$E$368=topdowntables!$C$25,'input-data'!H266>'input-data'!F266),('input-data'!H266-'input-data'!F266)/'input-data'!E37,0)\n+IF(AND('input-data'!$E$368=topdowntables!$C$30,'input-data'!H266>'input-data'!F266),('input-data'!H266-'input-data'!F266)/'input-data'!E37,0)\n+IF(OR('input-data'!$E$368=topdowntables!$C$26,'input-data'!$E$368=topdowntables!$C$31),0)\n+IF(AND('input-data'!$E$368=topdowntables!$C$27,'input-data'!H266>'input-data'!F266,'input-data'!F369>'input-data'!F266,'input-data'!F369<='input-data'!H266),('input-data'!H266-'input-data'!F369)/'input-data'!E37,0)\n+IF(AND('input-data'!$E$368=topdowntables!$C$32,'input-data'!H266>'input-data'!F266,'input-data'!F369>'input-data'!F266,'input-data'!F369<='input-data'!H266),('input-data'!H266-'input-data'!F369)/'input-data'!E37,0)\n+IF(AND('input-data'!$E$368=topdowntables!$C$27,'input-data'!H266>'input-data'!F266,'input-data'!F369<='input-data'!F266),('input-data'!H266-'input-data'!F266)/ 'input-data'!E37,0)\n+IF(AND('input-data'!$E$368=topdowntables!$C$32,'input-data'!H266>'input-data'!F266,'input-data'!F369<='input-data'!F266),('input-data'!H266-'input-data'!F266)/'input-data'!E37,0)\n)*1000","v":0}]
[null,null,{"$f":"IF(topdowntables!N4=1, \"Foderdage, inde ialt\", \"Feeding days, indoor total\")","v":"Foderdage, inde ialt"},{"$f":"D23+D24+D25","v":0}]
[]
[null,null,{"$f":"IF(topdowntables!N4=1, \"Foderdage, i alt\", \"Total feeding days\")","v":"Foderdage, i alt"},{"$f":"D20+D26","v":0},null,{"$f":"('input-data'!E36-'input-data'!F228)/'input-data'!E37*1000","v":{"$error":"#DIV/0!"}}]
[null,{"$f":"IF(topdowntables!N4=1, \"Kraffoder per produceret slagtesvin, FE:\", \"Concentrated feed, FU per produced slaughter pig\")","v":"Kraffoder per produceret slagtesvin, FE:"}]
[null,null,{"$f":"IF(topdowntables!$N$4=1, \"Blanding 1\", \"Feed mixture 1\")","v":"Blanding 1"},{"$f":"IFERROR((IF(AND('input-data'!H228>'input-data'!F228,'input-data'!H228<='input-data'!E36),'Flow slagtesvin'!D8*'input-data'!E227*('input-data'!H228-'input-data'!F228),0)\n+IF(AND('input-data'!H228>'input-data'!F228,'input-data'!H228>'input-data'!E36),'Flow slagtesvin'!D8*'input-data'!E227*('input-data'!E36-'input-data'!F228),0)\n+IF(AND('input-data'!H228>'input-data'!F228,'input-data'!H228<='input-data'!E36), 'Flow slagtesvin'!D10*'input-data'!E227*(('input-data'!E36-'input-data'!F228)/2)*(('input-data'!H228-'input-data'!F228)/('input-data'!E36-'input-data'!F228)),0)\n+IF(AND('input-data'!H228>'input-data'!F228,'input-data'!H228>'input-data'!E36),'Flow slagtesvin'!D10*'input-data'!E227*(('input-data'!E36-'input-data'!F228)/2),0))/'Flow slagtesvin'!D8,0)","v":0}]
[null,null,{"$f":"IF(topdowntables!$N$4=1, \"Blanding 2\", \"Feed mixture 2\")","v":"Blanding 2"},{"$f":"IFERROR((IF(AND('input-data'!F247>='input-data'!F228,'input-data'!H247>'input-data'!F247,'input-data'!H247<='input-data'!E36),D8*'input-data'!E227*('input-data'!H247-'input-data'!F247),0)\n+IF(AND('input-data'!F247>='input-data'!F228,'input-data'!H247>'input-data'!F247,'input-data'!H247<='input-data'!E36),D10*'input-data'!E227*(('input-data'!E36-'input-data'!F228)/2)*(('input-data'!H247-'input-data'!F247)/('input-data'!E36-'input-data'!F228)),0)\n+IF(AND('input-data'!F247>='input-data'!F228,'input-data'!H247>'input-data'!F247,'input-data'!F247<'input-data'!E36, 'input-data'!H247>'input-data'!E36),D8*'input-data'!E227*('input-data'!E36-'input-data'!F247),0)\n+IF(AND('input-data'!F247>='input-data'!F228,'input-data'!H247>'input-data'!F247,'input-data'!F247<'input-data'!E36, 'input-data'!H247>'input-data'!E36),D10*'input-data'!E227*(('input-data'!E36-'input-data'!F228)/2),0)\n+IF(AND('input-data'!F247<'input-data'!F228,'input-data'!H247>'input-data'!F228,'input-data'!H247<='input-data'!E36),D8*'input-data'!E227*('input-data'!H247-'input-data'!F228),0)\n+IF(AND('input-data'!F247<'input-data'!F228,'input-data'!H247>'input-data'!F228,'input-data'!H247<='input-data'!E36),D10*'input-data'!E227*(('input-data'!E36-'input-data'!F228)/2)*(('input-data'!H247-'input-data'!F228)/('input-data'!E36-'input-data'!F228)),0)\n+IF(AND('input-data'!F247<'input-data'!F228,'input-data'!H247>'input-data'!F228,'input-data'!H247>'input-data'!E36),D8*'input-data'!E227*('input-data'!E36-'input-data'!F228),0)\n+IF(AND('input-data'!F247<'input-data'!F228,'input-data'!H247>'input-data'!F228,'input-data'!H247>'input-data'!E36),D10*'input-data'!E227*(('input-data'!E36-'input-data'!F228)/2)*(('input-data'!E36-'input-data'!F228)/('input-data'!E36-'input-data'!F228)),0))/D8,0)","v":0}]
[null,null,{"$f":"IF(topdowntables!$N$4=1, \"Blanding 3\", \"Feed mixture 3\")","v":"Blanding 3"},{"$f":"IFERROR((IF(AND('input-data'!F266>='input-data'!F228,'input-data'!E36>'input-data'!H228,'input-data'!H247>='input-data'!F247,'input-data'!E36>'input-data'!F266),D8*'input-data'!E227*('input-data'!E36 -'input-data'!F266),0)\n+IF(AND('input-data'!F266>='input-data'!F228,'input-data'!E36>'input-data'!H228,'input-data'!H247>='input-data'!F247,'input-data'!E36>'input-data'!F266),D10*'input-data'!E227*(('input-data'!E36-'input-data'!F228)/2)*(('input-data'!E36 -'input-data'!F266)/('input-data'!E36-'input-data'!F228)),0)\n+IF(AND('input-data'!F266>='input-data'!F228,'input-data'!E36>'input-data'!H228,'input-data'!E36>'input-data'!F266,'input-data'!H247<='input-data'!F247),D8*'input-data'!E227*('input-data'!E36 -'input-data'!H228),0)\n+IF(AND('input-data'!F266>='input-data'!F228,'input-data'!E36>'input-data'!H228,'input-data'!E36>'input-data'!F266,'input-data'!H247<='input-data'!F247),D10*'input-data'!E227*(('input-data'!E36-'input-data'!F228)/2)*(('input-data'!E36 -'input-data'!H228)/('input-data'!E36-'input-data'!F228)),0)\n+IF(AND('input-data'!F266<'input-data'!F228,'input-data'!F266<'input-data'!F247,'input-data'!H228>='input-data'!F228, 'input-data'!E36>'input-data'!H228,'input-data'!E36>'input-data'!F266),D8*'input-data'!E227*('input-data'!E36-'input-data'!H228),0)\n+IF(AND('input-data'!F266<'input-data'!F228,'input-data'!F266<'input-data'!F247,'input-data'!H228>='input-data'!F228,'input-data'!E36>'input-data'!H228,'input-data'!E36>'input-data'!F266),D10*'input-data'!E227*(('input-data'!E36-'input-data'!F228)/2)*(('input-data'!E36 -'input-data'!H228)/('input-data'!E36-'input-data'!F228)),0)\n+IF(AND('input-data'!F266<'input-data'!F228, 'input-data'!H228<'input-data'!F228,'input-data'!E36>'input-data'!F266),D8*'input-data'!E227*('input-data'!E36-'input-data'!F228),0)\n+IF(AND('input-data'!F266<'input-data'!F228,'input-data'!H228<'input-data'!F228,'input-data'!E36>'input-data'!F266),D10*'input-data'!E227*(('input-data'!E36-'input-data'!F228)/2)*(('input-data'!E36 -'input-data'!F228)/('input-data'!E36-'input-data'!F228)),0)\n)/D8,0)","v":0}]
[null,null,{"$f":"IF(topdowntables!N4=1,\"Kraftfoder, ialt\", \"Concentrated feed, total\")","v":"Kraftfoder, ialt"},{"$f":"D30+D31+D32","v":0},null,{"$f":"(('input-data'!H266-'input-data'!F228)*'input-data'!E227*D8+((('input-data'!H266-'input-data'!F228)/2)*'input-data'!E227*D10))/D8","v":{"$error":"#DIV/0!"}}]
[]
[null,{"$f":"IF(topdowntables!N4=1, \"Grovfoder per produceret slagtesvin, kg:\", \"Roughage, kg per produced slaughter pig\")","v":"Grovfoder per produceret slagtesvin, kg:"},null,null,null,{"$f":"D20*'NPK tal'!$B$34*('NPK tal'!$C$34/365)","v":0}]
[null,null,{"$f":"IF(topdowntables!N4=1, \"Afgræsning (april-september)\", \"intake during grazing (April-September)\")","v":"Afgræsning (april-september)"},{"$f":"IF(OR('input-data'!E368=topdowntables!$C$25,'input-data'!E368=topdowntables!$C$30),0)\n+IF(OR('input-data'!E368=topdowntables!$C$26,'input-data'!E368=topdowntables!$C$31, 'input-data'!E368=topdowntables!$C$27, 'input-data'!E368=topdowntables!$C$32),D20*'NPK tal'!$B$34*('NPK tal'!$C$34/365))","v":0}]
[null,null,{"$f":"IF(topdowntables!$N$4=1, \"Tildelt grovfoder\", \"roughage, added to feed rations\")","v":"Tildelt grovfoder"},{"$f":"D28*'input-data'!E286*('input-data'!E287/365)","v":0}]
[null,null,{"$f":"IF(topdowntables!$N$4=1, \"Grovfoder, ialt\", \"Roughage, total\")","v":"Grovfoder, ialt"},{"$f":"D37+D36","v":0}]
[]
[null,{"$f":"IF(topdowntables!N4=1, \"Strøelseforbrug per produceret slagtesvin, kg\", \"Straw use, kg per produced slaughter pig\")","v":"Strøelseforbrug per produceret slagtesvin, kg"}]
[null,null,{"$f":"IF(topdowntables!$N$4=1, \"Tildelt ude\", \"Used outdoor\")","v":"Tildelt ude"},{"$f":"'Flow slagtesvin'!D20*'input-data'!E375","v":0}]
[null,null,{"$f":"IF(topdowntables!$N$4=1, \"Tildelt inde\", \"Used indoor\")","v":"Tildelt inde"},{"$f":"'Flow slagtesvin'!D26*'input-data'!E382","v":0}]
[null,null,{"$f":"IF(topdowntables!$N$4=1, \"Strøelsesforbrug, ialt\", \"Straw used, total\")","v":"Strøelsesforbrug, ialt"},{"$f":"D41+D42","v":0}]
[]
[]
[null,{"$f":"IF(topdowntables!N4=1, \"Foder og halm, N og P bidrag:\", \"Feed and straw, N and  P flow:\")","v":"Foder og halm, N og P bidrag:"}]
[null,{"$f":"IF(topdowntables!N4=1, \"Kraftfoder:\", \"Concentrated feed:\")","v":"Kraftfoder:"}]
[null,null,{"$f":"IF(topdowntables!N4=1, \"Blanding 1:\", \"Feed mixture 1:\")","v":"Blanding 1:"}]
[null,null,{"$f":"IF(topdowntables!N4=1, \"FEsv/100 kg\", \"FUsl.pig/100 kg\")","v":"FEsv/100 kg"},{"$f":"SUM((IFERROR(VLOOKUP('input-data'!$E$230,Fodertabel,3,FALSE),0)*'input-data'!I230/100)\n+(IFERROR(VLOOKUP('input-data'!$E$231,Fodertabel,3,FALSE),0)*'input-data'!I231/100)\n+(IFERROR(VLOOKUP('input-data'!$E$232,Fodertabel,3,FALSE),0)*'input-data'!I232/100)\n+(IFERROR(VLOOKUP('input-data'!$E$233,Fodertabel,3,FALSE),0)*'input-data'!I233/100)\n+(IFERROR(VLOOKUP('input-data'!$E$234,Fodertabel,3,FALSE),0)*'input-data'!I234/100)\n+(IFERROR(VLOOKUP('input-data'!$E$235,Fodertabel,3,FALSE),0)*'input-data'!I235/100)\n+(IFERROR(VLOOKUP('input-data'!$E$236,Fodertabel,3,FALSE),0)*'input-data'!I236/100)\n+(IFERROR(VLOOKUP('input-data'!$E$237,Fodertabel,3,FALSE),0)*'input-data'!I237/100)\n+(IFERROR(VLOOKUP('input-data'!$E$238,Fodertabel,3,FALSE),0)*'input-data'!I238/100)\n+(IFERROR(VLOOKUP('input-data'!$E$239,Fodertabel,3,FALSE),0)*'input-data'!I239/100)\n+(IFERROR(VLOOKUP('input-data'!$E$240,Fodertabel,3,FALSE),0)*'input-data'!I240/100)\n+(IFERROR(VLOOKUP('input-data'!$E$241,Fodertabel,3,FALSE),0)*'input-data'!I241/100)\n+(IFERROR(VLOOKUP('input-data'!$E$242,Fodertabel,3,FALSE),0)*'input-data'!I242/100)\n+(IFERROR(VLOOKUP('input-data'!$E$243,Fodertabel,3,FALSE),0)*'input-data'!I243/100)\n+(IFERROR(VLOOKUP('input-data'!$E$244,Fodertabel,3,FALSE),0)*'input-data'!I244/100))*100","v":0}]
[null,null,{"$f":"IF(topdowntables!N4=1, \"Tørstof, %\", \"Dry matter, %\")","v":"Tørstof, %"},{"$f":"SUM((IFERROR(VLOOKUP('input-data'!$E$230,Fodertabel,9,FALSE),0)*'input-data'!I230/100)\n+(IFERROR(VLOOKUP('input-data'!$E$231,Fodertabel,9,FALSE),0)*'input-data'!I231/100)\n+(IFERROR(VLOOKUP('input-data'!$E$232,Fodertabel,9,FALSE),0)*'input-data'!I232/100)\n+(IFERROR(VLOOKUP('input-data'!$E$233,Fodertabel,9,FALSE),0)*'input-data'!I233/100)\n+(IFERROR(VLOOKUP('input-data'!$E$234,Fodertabel,9,FALSE),0)*'input-data'!I234/100)\n+(IFERROR(VLOOKUP('input-data'!$E$235,Fodertabel,9,FALSE),0)*'input-data'!I235/100)\n+(IFERROR(VLOOKUP('input-data'!$E$236,Fodertabel,9,FALSE),0)*'input-data'!I236/100)\n+(IFERROR(VLOOKUP('input-data'!$E$237,Fodertabel,9,FALSE),0)*'input-data'!I237/100)\n+(IFERROR(VLOOKUP('input-data'!$E$238,Fodertabel,9,FALSE),0)*'input-data'!I238/100)\n+(IFERROR(VLOOKUP('input-data'!$E$239,Fodertabel,9,FALSE),0)*'input-data'!I239/100)\n+(IFERROR(VLOOKUP('input-data'!$E$240,Fodertabel,9,FALSE),0)*'input-data'!I240/100)\n+(IFERROR(VLOOKUP('input-data'!$E$241,Fodertabel,9,FALSE),0)*'input-data'!I241/100)\n+(IFERROR(VLOOKUP('input-data'!$E$242,Fodertabel,9,FALSE),0)*'input-data'!I242/100)\n+(IFERROR(VLOOKUP('input-data'!$E$243,Fodertabel,9,FALSE),0)*'input-data'!I243/100)\n+(IFERROR(VLOOKUP('input-data'!$E$244,Fodertabel,9,FALSE),0)*'input-data'!I244/100))","v":0}]
[null,null,{"$f":"IF(topdowntables!N4=1, \"Råprotein, g per kg foder\", \"Crude protein, g per kg feed\")","v":"Råprotein, g per kg foder"},{"$f":"SUM((IFERROR(VLOOKUP('input-data'!$E$230,Fodertabel,10,FALSE),0)*'input-data'!I230/100)\n+(IFERROR(VLOOKUP('input-data'!$E$231,Fodertabel,10,FALSE),0)*'input-data'!I231/100)\n+(IFERROR(VLOOKUP('input-data'!$E$232,Fodertabel,10,FALSE),0)*'input-data'!I232/100)\n+(IFERROR(VLOOKUP('input-data'!$E$233,Fodertabel,10,FALSE),0)*'input-data'!I233/100)\n+(IFERROR(VLOOKUP('input-data'!$E$234,Fodertabel,10,FALSE),0)*'input-data'!I234/100)\n+(IFERROR(VLOOKUP('input-data'!$E$235,Fodertabel,10,FALSE),0)*'input-data'!I235/100)\n+(IFERROR(VLOOKUP('input-data'!$E$236,Fodertabel,10,FALSE),0)*'input-data'!I236/100)\n+(IFERROR(VLOOKUP('input-data'!$E$237,Fodertabel,10,FALSE),0)*'input-data'!I237/100)\n+(IFERROR(VLOOKUP('input-data'!$E$238,Fodertabel,10,FALSE),0)*'input-data'!I238/100)\n+(IFERROR(VLOOKUP('input-data'!$E$239,Fodertabel,10,FALSE),0)*'input-data'!I239/100)\n+(IFERROR(VLOOKUP('input-data'!$E$240,Fodertabel,10,FALSE),0)*'input-data'!I240/100)\n+(IFERROR(VLOOKUP('input-data'!$E$241,Fodertabel,10,FALSE),0)*'input-data'!I241/100)\n+(IFERROR(VLOOKUP('input-data'!$E$242,Fodertabel,10,FALSE),0)*'input-data'!I242/100)\n+(IFERROR(VLOOKUP('input-data'!$E$243,Fodertabel,10,FALSE),0)*'input-data'!I243/100)\n+(IFERROR(VLOOKUP('input-data'!$E$244,Fodertabel,10,FALSE),0)*'input-data'!I244/100))\n*10","v":0}]
[null,null,{"$f":"IF(topdowntables!N4=1, \"Fosfor, g per kg foder\", \"Phosphorus, g per kg feed\")","v":"Fosfor, g per kg foder"},{"$f":"SUM((IFERROR(VLOOKUP('input-data'!$E$230,Fodertabel,79,FALSE),0)*'input-data'!I230/100)\n+(IFERROR(VLOOKUP('input-data'!$E$231,Fodertabel,79,FALSE),0)*'input-data'!I231/100)\n+(IFERROR(VLOOKUP('input-data'!$E$232,Fodertabel,79,FALSE),0)*'input-data'!I232/100)\n+(IFERROR(VLOOKUP('input-data'!$E$233,Fodertabel,79,FALSE),0)*'input-data'!I233/100)\n+(IFERROR(VLOOKUP('input-data'!$E$234,Fodertabel,79,FALSE),0)*'input-data'!I234/100)\n+(IFERROR(VLOOKUP('input-data'!$E$235,Fodertabel,79,FALSE),0)*'input-data'!I235/100)\n+(IFERROR(VLOOKUP('input-data'!$E$236,Fodertabel,79,FALSE),0)*'input-data'!I236/100)\n+(IFERROR(VLOOKUP('input-data'!$E$237,Fodertabel,79,FALSE),0)*'input-data'!I237/100)\n+(IFERROR(VLOOKUP('input-data'!$E$238,Fodertabel,79,FALSE),0)*'input-data'!I238/100)\n+(IFERROR(VLOOKUP('input-data'!$E$239,Fodertabel,79,FALSE),0)*'input-data'!I239/100)\n+(IFERROR(VLOOKUP('input-data'!$E$240,Fodertabel,79,FALSE),0)*'input-data'!I240/100)\n+(IFERROR(VLOOKUP('input-data'!$E$241,Fodertabel,79,FALSE),0)*'input-data'!I241/100)\n+(IFERROR(VLOOKUP('input-data'!$E$242,Fodertabel,79,FALSE),0)*'input-data'!I242/100)\n+(IFERROR(VLOOKUP('input-data'!$E$243,Fodertabel,79,FALSE),0)*'input-data'!I243/100)\n+(IFERROR(VLOOKUP('input-data'!$E$244,Fodertabel,79,FALSE),0)*'input-data'!I244/100))","v":0}]
[null,null,{"$f":"IF(topdowntables!N4=1, \"Blanding 2:\", \"Feed mixture 2:\")","v":"Blanding 2:"}]
[null,null,{"$f":"IF(topdowntables!N4=1, \"FEsv/100 kg\", \"FUsl.pig/100 kg\")","v":"FEsv/100 kg"},{"$f":"SUM((IFERROR(VLOOKUP('input-data'!$E$249,Fodertabel,3,FALSE),0)*'input-data'!I249/100)\n+(IFERROR(VLOOKUP('input-data'!$E$250,Fodertabel,3,FALSE),0)*'input-data'!I250/100)\n+(IFERROR(VLOOKUP('input-data'!$E$251,Fodertabel,3,FALSE),0)*'input-data'!I251/100)\n+(IFERROR(VLOOKUP('input-data'!$E$252,Fodertabel,3,FALSE),0)*'input-data'!I252/100)\n+(IFERROR(VLOOKUP('input-data'!$E$253,Fodertabel,3,FALSE),0)*'input-data'!I253/100)\n+(IFERROR(VLOOKUP('input-data'!$E$254,Fodertabel,3,FALSE),0)*'input-data'!I254/100)\n+(IFERROR(VLOOKUP('input-data'!$E$255,Fodertabel,3,FALSE),0)*'input-data'!I255/100)\n+(IFERROR(VLOOKUP('input-data'!$E$256,Fodertabel,3,FALSE),0)*'input-data'!I256/100)\n+(IFERROR(VLOOKUP('input-data'!$E$257,Fodertabel,3,FALSE),0)*'input-data'!I257/100)\n+(IFERROR(VLOOKUP('input-data'!$E$258,Fodertabel,3,FALSE),0)*'input-data'!I258/100)\n+(IFERROR(VLOOKUP('input-data'!$E$259,Fodertabel,3,FALSE),0)*'input-data'!I259/100)\n+(IFERROR(VLOOKUP('input-data'!$E$260,Fodertabel,3,FALSE),0)*'input-data'!I260/100)\n+(IFERROR(VLOOKUP('input-data'!$E$261,Fodertabel,3,FALSE),0)*'input-data'!I261/100)\n+(IFERROR(VLOOKUP('input-data'!$E$262,Fodertabel,3,FALSE),0)*'input-data'!I262/100)\n+(IFERROR(VLOOKUP('input-data'!$E$263,Fodertabel,3,FALSE),0)*'input-data'!I263/100))\n*100","v":0}]
[null,null,{"$f":"IF(topdowntables!N4=1, \"Tørstof, %\", \"Dry matter, %\")","v":"Tørstof, %"},{"$f":"SUM((IFERROR(VLOOKUP('input-data'!$E$249,Fodertabel,9,FALSE),0)*'input-data'!I249/100)\n+(IFERROR(VLOOKUP('input-data'!$E$250,Fodertabel,9,FALSE),0)*'input-data'!I250/100)\n+(IFERROR(VLOOKUP('input-data'!$E$251,Fodertabel,9,FALSE),0)*'input-data'!I251/100)\n+(IFERROR(VLOOKUP('input-data'!$E$252,Fodertabel,9,FALSE),0)*'input-data'!I252/100)\n+(IFERROR(VLOOKUP('input-data'!$E$253,Fodertabel,9,FALSE),0)*'input-data'!I253/100)\n+(IFERROR(VLOOKUP('input-data'!$E$254,Fodertabel,9,FALSE),0)*'input-data'!I254/100)\n+(IFERROR(VLOOKUP('input-data'!$E$255,Fodertabel,9,FALSE),0)*'input-data'!I255/100)\n+(IFERROR(VLOOKUP('input-data'!$E$256,Fodertabel,9,FALSE),0)*'input-data'!I256/100)\n+(IFERROR(VLOOKUP('input-data'!$E$257,Fodertabel,9,FALSE),0)*'input-data'!I257/100)\n+(IFERROR(VLOOKUP('input-data'!$E$258,Fodertabel,9,FALSE),0)*'input-data'!I258/100)\n+(IFERROR(VLOOKUP('input-data'!$E$259,Fodertabel,9,FALSE),0)*'input-data'!I259/100)\n+(IFERROR(VLOOKUP('input-data'!$E$260,Fodertabel,9,FALSE),0)*'input-data'!I260/100)\n+(IFERROR(VLOOKUP('input-data'!$E$261,Fodertabel,9,FALSE),0)*'input-data'!I261/100)\n+(IFERROR(VLOOKUP('input-data'!$E$262,Fodertabel,9,FALSE),0)*'input-data'!I262/100)\n+(IFERROR(VLOOKUP('input-data'!$E$263,Fodertabel,9,FALSE),0)*'input-data'!I263/100))","v":0}]
[null,null,{"$f":"IF(topdowntables!N4=1, \"Råprotein, g per kg foder\", \"Crude protein, g per kg feed\")","v":"Råprotein, g per kg foder"},{"$f":"SUM((IFERROR(VLOOKUP('input-data'!$E$249,Fodertabel,10,FALSE),0)*'input-data'!I249/100)\n+(IFERROR(VLOOKUP('input-data'!$E$250,Fodertabel,10,FALSE),0)*'input-data'!I250/100)\n+(IFERROR(VLOOKUP('input-data'!$E$251,Fodertabel,10,FALSE),0)*'input-data'!I251/100)\n+(IFERROR(VLOOKUP('input-data'!$E$252,Fodertabel,10,FALSE),0)*'input-data'!I252/100)\n+(IFERROR(VLOOKUP('input-data'!$E$253,Fodertabel,10,FALSE),0)*'input-data'!I253/100)\n+(IFERROR(VLOOKUP('input-data'!$E$254,Fodertabel,10,FALSE),0)*'input-data'!I254/100)\n+(IFERROR(VLOOKUP('input-data'!$E$255,Fodertabel,10,FALSE),0)*'input-data'!I255/100)\n+(IFERROR(VLOOKUP('input-data'!$E$256,Fodertabel,10,FALSE),0)*'input-data'!I256/100)\n+(IFERROR(VLOOKUP('input-data'!$E$257,Fodertabel,10,FALSE),0)*'input-data'!I257/100)\n+(IFERROR(VLOOKUP('input-data'!$E$258,Fodertabel,10,FALSE),0)*'input-data'!I258/100)\n+(IFERROR(VLOOKUP('input-data'!$E$259,Fodertabel,10,FALSE),0)*'input-data'!I259/100)\n+(IFERROR(VLOOKUP('input-data'!$E$260,Fodertabel,10,FALSE),0)*'input-data'!I260/100)\n+(IFERROR(VLOOKUP('input-data'!$E$261,Fodertabel,10,FALSE),0)*'input-data'!I261/100)\n+(IFERROR(VLOOKUP('input-data'!$E$262,Fodertabel,10,FALSE),0)*'input-data'!I262/100)\n+(IFERROR(VLOOKUP('input-data'!$E$263,Fodertabel,10,FALSE),0)*'input-data'!I263/100))\n*10","v":0}]
[null,null,{"$f":"IF(topdowntables!N4=1, \"Fosfor, g per kg foder\", \"Phosphorus, g per kg feed\")","v":"Fosfor, g per kg foder"},{"$f":"SUM((IFERROR(VLOOKUP('input-data'!$E$249,Fodertabel,79,FALSE),0)*'input-data'!I249/100)\n+(IFERROR(VLOOKUP('input-data'!$E$250,Fodertabel,79,FALSE),0)*'input-data'!I250/100)\n+(IFERROR(VLOOKUP('input-data'!$E$251,Fodertabel,79,FALSE),0)*'input-data'!I251/100)\n+(IFERROR(VLOOKUP('input-data'!$E$252,Fodertabel,79,FALSE),0)*'input-data'!I252/100)\n+(IFERROR(VLOOKUP('input-data'!$E$253,Fodertabel,79,FALSE),0)*'input-data'!I253/100)\n+(IFERROR(VLOOKUP('input-data'!$E$254,Fodertabel,79,FALSE),0)*'input-data'!I254/100)\n+(IFERROR(VLOOKUP('input-data'!$E$255,Fodertabel,79,FALSE),0)*'input-data'!I255/100)\n+(IFERROR(VLOOKUP('input-data'!$E$256,Fodertabel,79,FALSE),0)*'input-data'!I256/100)\n+(IFERROR(VLOOKUP('input-data'!$E$257,Fodertabel,79,FALSE),0)*'input-data'!I257/100)\n+(IFERROR(VLOOKUP('input-data'!$E$258,Fodertabel,79,FALSE),0)*'input-data'!I258/100)\n+(IFERROR(VLOOKUP('input-data'!$E$259,Fodertabel,79,FALSE),0)*'input-data'!I259/100)\n+(IFERROR(VLOOKUP('input-data'!$E$260,Fodertabel,79,FALSE),0)*'input-data'!I260/100)\n+(IFERROR(VLOOKUP('input-data'!$E$261,Fodertabel,79,FALSE),0)*'input-data'!I261/100)\n+(IFERROR(VLOOKUP('input-data'!$E$262,Fodertabel,79,FALSE),0)*'input-data'!I262/100)\n+(IFERROR(VLOOKUP('input-data'!$E$263,Fodertabel,79,FALSE),0)*'input-data'!I263/100))","v":0}]
[null,null,{"$f":"IF(topdowntables!N4=1, \"Blanding 3:\", \"Feed mixture 3:\")","v":"Blanding 3:"}]
[null,null,{"$f":"IF(topdowntables!N4=1, \"FEsv/100 kg\", \"FUsl.pig/100 kg\")","v":"FEsv/100 kg"},{"$f":"SUM((IFERROR(VLOOKUP('input-data'!$E$268,Fodertabel,3,FALSE),0)*'input-data'!I268/100)\n+(IFERROR(VLOOKUP('input-data'!$E$269,Fodertabel,3,FALSE),0)*'input-data'!I269/100)\n+(IFERROR(VLOOKUP('input-data'!$E$270,Fodertabel,3,FALSE),0)*'input-data'!I270/100)\n+(IFERROR(VLOOKUP('input-data'!$E$271,Fodertabel,3,FALSE),0)*'input-data'!I271/100)\n+(IFERROR(VLOOKUP('input-data'!$E$272,Fodertabel,3,FALSE),0)*'input-data'!I272/100)\n+(IFERROR(VLOOKUP('input-data'!$E$273,Fodertabel,3,FALSE),0)*'input-data'!I273/100)\n+(IFERROR(VLOOKUP('input-data'!$E$274,Fodertabel,3,FALSE),0)*'input-data'!I274/100)\n+(IFERROR(VLOOKUP('input-data'!$E$275,Fodertabel,3,FALSE),0)*'input-data'!I275/100)\n+(IFERROR(VLOOKUP('input-data'!$E$276,Fodertabel,3,FALSE),0)*'input-data'!I276/100)\n+(IFERROR(VLOOKUP('input-data'!$E$277,Fodertabel,3,FALSE),0)*'input-data'!I277/100)\n+(IFERROR(VLOOKUP('input-data'!$E$278,Fodertabel,3,FALSE),0)*'input-data'!I278/100)\n+(IFERROR(VLOOKUP('input-data'!$E$279,Fodertabel,3,FALSE),0)*'input-data'!I279/100)\n+(IFERROR(VLOOKUP('input-data'!$E$280,Fodertabel,3,FALSE),0)*'input-data'!I280/100)\n+(IFERROR(VLOOKUP('input-data'!$E$281,Fodertabel,3,FALSE),0)*'input-data'!I281/100)\n+(IFERROR(VLOOKUP('input-data'!$E$282,Fodertabel,3,FALSE),0)*'input-data'!I282/100))\n*100","v":0}]
[null,null,{"$f":"IF(topdowntables!N4=1, \"Tørstof, %\", \"Dry matter, %\")","v":"Tørstof, %"},{"$f":"SUM((IFERROR(VLOOKUP('input-data'!$E$268,Fodertabel,9,FALSE),0)*'input-data'!I268/100)\n+(IFERROR(VLOOKUP('input-data'!$E$269,Fodertabel,9,FALSE),0)*'input-data'!I269/100)\n+(IFERROR(VLOOKUP('input-data'!$E$270,Fodertabel,9,FALSE),0)*'input-data'!I270/100)\n+(IFERROR(VLOOKUP('input-data'!$E$271,Fodertabel,9,FALSE),0)*'input-data'!I271/100)\n+(IFERROR(VLOOKUP('input-data'!$E$272,Fodertabel,9,FALSE),0)*'input-data'!I272/100)\n+(IFERROR(VLOOKUP('input-data'!$E$273,Fodertabel,9,FALSE),0)*'input-data'!I273/100)\n+(IFERROR(VLOOKUP('input-data'!$E$274,Fodertabel,9,FALSE),0)*'input-data'!I274/100)\n+(IFERROR(VLOOKUP('input-data'!$E$275,Fodertabel,9,FALSE),0)*'input-data'!I275/100)\n+(IFERROR(VLOOKUP('input-data'!$E$276,Fodertabel,9,FALSE),0)*'input-data'!I276/100)\n+(IFERROR(VLOOKUP('input-data'!$E$277,Fodertabel,9,FALSE),0)*'input-data'!I277/100)\n+(IFERROR(VLOOKUP('input-data'!$E$278,Fodertabel,9,FALSE),0)*'input-data'!I278/100)\n+(IFERROR(VLOOKUP('input-data'!$E$279,Fodertabel,9,FALSE),0)*'input-data'!I279/100)\n+(IFERROR(VLOOKUP('input-data'!$E$280,Fodertabel,9,FALSE),0)*'input-data'!I280/100)\n+(IFERROR(VLOOKUP('input-data'!$E$281,Fodertabel,9,FALSE),0)*'input-data'!I281/100)\n+(IFERROR(VLOOKUP('input-data'!$E$282,Fodertabel,9,FALSE),0)*'input-data'!I282/100))","v":0}]
[null,null,{"$f":"IF(topdowntables!N4=1, \"Råprotein, g per kg foder\", \"Crude protein, g per kg feed\")","v":"Råprotein, g per kg foder"},{"$f":"SUM((IFERROR(VLOOKUP('input-data'!$E$268,Fodertabel,10,FALSE),0)*'input-data'!I268/100)\n+(IFERROR(VLOOKUP('input-data'!$E$269,Fodertabel,10,FALSE),0)*'input-data'!I269/100)\n+(IFERROR(VLOOKUP('input-data'!$E$270,Fodertabel,10,FALSE),0)*'input-data'!I270/100)\n+(IFERROR(VLOOKUP('input-data'!$E$271,Fodertabel,10,FALSE),0)*'input-data'!I271/100)\n+(IFERROR(VLOOKUP('input-data'!$E$272,Fodertabel,10,FALSE),0)*'input-data'!I272/100)\n+(IFERROR(VLOOKUP('input-data'!$E$273,Fodertabel,10,FALSE),0)*'input-data'!I273/100)\n+(IFERROR(VLOOKUP('input-data'!$E$274,Fodertabel,10,FALSE),0)*'input-data'!I274/100)\n+(IFERROR(VLOOKUP('input-data'!$E$275,Fodertabel,10,FALSE),0)*'input-data'!I275/100)\n+(IFERROR(VLOOKUP('input-data'!$E$276,Fodertabel,10,FALSE),0)*'input-data'!I276/100)\n+(IFERROR(VLOOKUP('input-data'!$E$277,Fodertabel,10,FALSE),0)*'input-data'!I277/100)\n+(IFERROR(VLOOKUP('input-data'!$E$278,Fodertabel,10,FALSE),0)*'input-data'!I278/100)\n+(IFERROR(VLOOKUP('input-data'!$E$279,Fodertabel,10,FALSE),0)*'input-data'!I279/100)\n+(IFERROR(VLOOKUP('input-data'!$E$280,Fodertabel,10,FALSE),0)*'input-data'!I280/100)\n+(IFERROR(VLOOKUP('input-data'!$E$281,Fodertabel,10,FALSE),0)*'input-data'!I281/100)\n+(IFERROR(VLOOKUP('input-data'!$E$282,Fodertabel,10,FALSE),0)*'input-data'!I282/100))\n*10","v":0}]
[null,null,{"$f":"IF(topdowntables!N4=1, \"Fosfor, g per kg foder\", \"Phosphorus, g per kg feed\")","v":"Fosfor, g per kg foder"},{"$f":"SUM((IFERROR(VLOOKUP('input-data'!$E$268,Fodertabel,79,FALSE),0)*'input-data'!I268/100)\n+(IFERROR(VLOOKUP('input-data'!$E$269,Fodertabel,79,FALSE),0)*'input-data'!I269/100)\n+(IFERROR(VLOOKUP('input-data'!$E$270,Fodertabel,79,FALSE),0)*'input-data'!I270/100)\n+(IFERROR(VLOOKUP('input-data'!$E$271,Fodertabel,79,FALSE),0)*'input-data'!I271/100)\n+(IFERROR(VLOOKUP('input-data'!$E$272,Fodertabel,79,FALSE),0)*'input-data'!I272/100)\n+(IFERROR(VLOOKUP('input-data'!$E$273,Fodertabel,79,FALSE),0)*'input-data'!I273/100)\n+(IFERROR(VLOOKUP('input-data'!$E$274,Fodertabel,79,FALSE),0)*'input-data'!I274/100)\n+(IFERROR(VLOOKUP('input-data'!$E$275,Fodertabel,79,FALSE),0)*'input-data'!I275/100)\n+(IFERROR(VLOOKUP('input-data'!$E$276,Fodertabel,79,FALSE),0)*'input-data'!I276/100)\n+(IFERROR(VLOOKUP('input-data'!$E$277,Fodertabel,79,FALSE),0)*'input-data'!I277/100)\n+(IFERROR(VLOOKUP('input-data'!$E$278,Fodertabel,79,FALSE),0)*'input-data'!I278/100)\n+(IFERROR(VLOOKUP('input-data'!$E$279,Fodertabel,79,FALSE),0)*'input-data'!I279/100)\n+(IFERROR(VLOOKUP('input-data'!$E$280,Fodertabel,79,FALSE),0)*'input-data'!I280/100)\n+(IFERROR(VLOOKUP('input-data'!$E$281,Fodertabel,79,FALSE),0)*'input-data'!I281/100)\n+(IFERROR(VLOOKUP('input-data'!$E$282,Fodertabel,79,FALSE),0)*'input-data'!I282/100))","v":0}]
[]
[null,null,{"$f":"IF(topdowntables!$N$4=1, \"N og P bidrag fra kraftfodret, tildelt ude\", \"N and P content in concentrated feed, used outdoor\")","v":"N og P bidrag fra kraftfodret, tildelt ude"}]
[null,null,{"$f":"IF(topdowntables!$N$4=1, \"Råprotein pr. prod. slagtesvin, kg\", \"Crude protein, kg per prod. slaughter pig\")","v":"Råprotein pr. prod. slagtesvin, kg"},{"$f":"SUM(IF(D17<>0,(D51*(D49/100)*(D30/(D17+D23))*D17),0)+IF(D18<>0, (D56*(D54/100)*(D31/(D18+D24))*D18),0)+ IF(D19<>0,(D61*(D59/100)*(D32/(D19+D25))*D19),0))/1000","v":0}]
[null,null,{"$f":"IF(topdowntables!$N$4=1, \"N pr. prod. slagtesvin, kg\", \"N, kg per prod. Slaughter  pig\")","v":"N pr. prod. slagtesvin, kg"},{"$f":"D65/6.25","v":0}]
[null,null,{"$f":"IF(topdowntables!$N$4=1, \"P pr. prod. slagtesvin, kg\", \"P, kg per prod. Slaughter pig\")","v":"P pr. prod. slagtesvin, kg"},{"$f":"SUM(IF(D17<>0,(D52*(D49/100)*(D30/(D17+D23))*D17),0)+ IF(D18<>0,(D57*(D54/100)*(D31/(D18+D24))*D18),0)+IF(D19<>0, (D62*(D59/100)*(D32/(D19+D25))*D19),0))/1000","v":0}]
[]
[null,null,{"$f":"IF(topdowntables!$N$4=1, \"N og P bidrag fra kraftfodret, tildelt inde\", \"N and P content in concentrated feed, used indoor\")","v":"N og P bidrag fra kraftfodret, tildelt inde"}]
[null,null,{"$f":"IF(topdowntables!$N$4=1, \"Råprotein pr. prod. slagtesvin, kg\", \"Crude protein, kg per prod. Slaugther pig\")","v":"Råprotein pr. prod. slagtesvin, kg"},{"$f":"SUM(IF(D23<>0,(D51*(D49/100)*(D30/(D17+D23))*D23),0)+IF(D24<>0,(D56*(D54/100)*(D31/(D18+D24))*D24),0)+IF(D25<>0,(D61*(D59/100)*(D32/(D19+D25))*D25),0))/1000","v":0}]
[null,null,{"$f":"IF(topdowntables!$N$4=1, \"N pr. prod. slagtesvin, kg\", \"N, kg per prod. Slaughter pig\")","v":"N pr. prod. slagtesvin, kg"},{"$f":"D70/6.25","v":0}]
[null,null,{"$f":"IF(topdowntables!$N$4=1, \"P pr. prod. slagtesvin, kg\", \"P, kg per prod. Slaughter pig\")","v":"P pr. prod. slagtesvin, kg"},{"$f":"SUM(IF(D23<>0,(D52*(D49/100)*(D30/(D17+D23))*D23),0)+IF(D24<>0,(D57*(D54/100)*(D31/(D18+D24))*D24),0)+IF(D25<>0,(D62*(D59/100)*(D32/(D19+D25))*D25),0))/1000","v":0}]
[null,{"$f":"IF(topdowntables!$N$4=1, \"Grovfoder inkl. græs:\", \"Roughage incl. grazing:\")","v":"Grovfoder inkl. græs:"}]
[null,null,{"$f":"IF(topdowntables!N4=1, \"FEsv/100 kg\", \"FUsl.pig/100 kg\")","v":"FEsv/100 kg"},{"$f":" SUM((IFERROR(VLOOKUP('input-data'!$E$289,Fodertabel,3,FALSE),0)*'input-data'!I289/100)\n+(IFERROR(VLOOKUP('input-data'!$E$290,Fodertabel,3,FALSE),0)*'input-data'!I290/100)\n+(IFERROR(VLOOKUP('input-data'!$E$291,Fodertabel,3,FALSE),0)*'input-data'!I291/100)\n+(IFERROR(VLOOKUP('input-data'!$E$292,Fodertabel,3,FALSE),0)*'input-data'!I292/100)\n+(IFERROR(VLOOKUP('input-data'!$E$293,Fodertabel,3,FALSE),0)*'input-data'!I293/100))*100","v":0}]
[null,null,{"$f":"IF(topdowntables!N4=1, \"Tørstof, %\", \"Dry matter, %\")","v":"Tørstof, %"},{"$f":" SUM((IFERROR(VLOOKUP('input-data'!$E$289,Fodertabel,9,FALSE),0)*'input-data'!I289/100)\n+(IFERROR(VLOOKUP('input-data'!$E$290,Fodertabel,9,FALSE),0)*'input-data'!I290/100)\n+(IFERROR(VLOOKUP('input-data'!$E$291,Fodertabel,9,FALSE),0)*'input-data'!I291/100)\n+(IFERROR(VLOOKUP('input-data'!$E$292,Fodertabel,9,FALSE),0)*'input-data'!I292/100)\n+(IFERROR(VLOOKUP('input-data'!$E$293,Fodertabel,9,FALSE),0)*'input-data'!I293/100))","v":0}]
[null,null,{"$f":"IF(topdowntables!N4=1, \"Råprotein, g per kg foder\", \"Crude protein, g per kg feed\")","v":"Råprotein, g per kg foder"},{"$f":" SUM((IFERROR(VLOOKUP('input-data'!$E$289,Fodertabel,10,FALSE),0)*'input-data'!I289/100)\n+(IFERROR(VLOOKUP('input-data'!$E$290,Fodertabel,10,FALSE),0)*'input-data'!I290/100)\n+(IFERROR(VLOOKUP('input-data'!$E$291,Fodertabel,10,FALSE),0)*'input-data'!I291/100)\n+(IFERROR(VLOOKUP('input-data'!$E$292,Fodertabel,10,FALSE),0)*'input-data'!I292/100)\n+(IFERROR(VLOOKUP('input-data'!$E$293,Fodertabel,10,FALSE),0)*'input-data'!I293/100))\n*10","v":0}]
[null,null,{"$f":"IF(topdowntables!N4=1, \"Fosfor, g per kg foder\", \"Phosphorus, g per kg feed\")","v":"Fosfor, g per kg foder"},{"$f":" SUM((IFERROR(VLOOKUP('input-data'!$E$289,Fodertabel,79,FALSE),0)*'input-data'!I289/100)\n+(IFERROR(VLOOKUP('input-data'!$E$290,Fodertabel,79,FALSE),0)*'input-data'!I290/100)\n+(IFERROR(VLOOKUP('input-data'!$E$291,Fodertabel,79,FALSE),0)*'input-data'!I291/100)\n+(IFERROR(VLOOKUP('input-data'!$E$292,Fodertabel,79,FALSE),0)*'input-data'!I292/100)\n+(IFERROR(VLOOKUP('input-data'!$E$293,Fodertabel,79,FALSE),0)*'input-data'!I293/100))","v":0}]
[]
[null,null,{"$f":"IF(topdowntables!$N$4=1, \"Græs:\", \"Grass:\")","v":"Græs:"}]
[null,null,{"$f":"IF(topdowntables!$N$4=1, \"FEsv/100 kg\", \"FUpiglet/100 kg\")","v":"FEsv/100 kg"},{"$f":" SUM((IFERROR(VLOOKUP('input-data'!$E$372,Fodertabel!$D$353:$HU$356,3,FALSE),0)))*100","v":0}]
[null,null,{"$f":"IF(topdowntables!$N$4=1, \"Tørstof, %\", \"Dry matter, %\")","v":"Tørstof, %"},{"$f":"SUM((IFERROR(VLOOKUP('input-data'!$E$372,Fodertabel!$D$353:$HU$356,9,FALSE),0)))","v":0}]
[null,null,{"$f":"IF(topdowntables!$N$4=1, \"Råprotein, g per kg foder\", \"Crude protein, g per kg feed\")","v":"Råprotein, g per kg foder"},{"$f":"SUM((IFERROR(VLOOKUP('input-data'!$E$372,Fodertabel!$D$353:$HU$356,10,FALSE),0))*10)","v":0}]
[null,null,{"$f":"IF(topdowntables!$N$4=1, \"Fosfor, g per kg foder\", \"Phosphorus, g per kg feed\")","v":"Fosfor, g per kg foder"},{"$f":"SUM((IFERROR(VLOOKUP('input-data'!$E$372,Fodertabel!$D$353:$HU$356,79,FALSE),0)))","v":0}]
[]
[null,null,{"$f":"IF(topdowntables!$N$4=1, \"N og P bidrag fra grovfoder / græs, ude\", \"N and P content in roughage / grasse, outdoor\")","v":"N og P bidrag fra grovfoder / græs, ude"},null,null,"Antagelse altid grovfoder inde, så er andel af foderdage ude / total foderdage < dage med grovfoder/365, gives alt inde"]
[null,null,{"$f":"IF(topdowntables!$N$4=1, \"Råprotein pr. prod. slagtesvin, kg\", \"Crude protein per prod. Slaughter pig, kg\")","v":"Råprotein pr. prod. slagtesvin, kg"},{"$f":"IFERROR((D76*(IF(((D20/D28)>('input-data'!F287/365)),D38*((D20/D28)-('input-data'!F287/365)),0))+(D82*D36))/1000,0)","v":0},null,"ellers tildeles ude: ((foderdage ude- total foderdage)-(dage med grovfoder/365))*kg grovfoder "]
[null,null,{"$f":"IF(topdowntables!$N$4=1, \"N pr. prod. slagtesvin, kg\", \"N, kg per prod. Slaughter pig\")","v":"N pr. prod. slagtesvin, kg"},{"$f":"D86/6.25","v":0},"tjek ",{"$f":"(IF(((D20/D28)>('input-data'!F287/365)),D38*((D20/D28)-('input-data'!F287/365)),0))+(IF(((D20/D28)>('input-data'!F287/365)),D38*(1-(D20/D28)-('input-data'!F287/365)),D38))","v":{"$error":"#DIV/0!"}}]
[null,null,{"$f":"IF(topdowntables!$N$4=1, \"P pr. prod. slagtesvin, kg\", \"P, kg per prod. Slaughter pig\")","v":"P pr. prod. slagtesvin, kg"},{"$f":"IFERROR((D77*(IF(((D20/D28)>('input-data'!F287/365)),D38*((D20/D28)-('input-data'!F287/365)),0))+(D83*D36))/1000,0)","v":0}]
[]
[null,null,{"$f":"IF(topdowntables!$N$4=1, \"N og P bidrag fra grovfoder, tildelt inde\", \"N and P content in roughage, used indoor\")","v":"N og P bidrag fra grovfoder, tildelt inde"}]
[null,null,{"$f":"IF(topdowntables!$N$4=1, \"Råprotein pr. prod. Slagtesvin, kg\", \"Crude protein, kg per prod. Slaughter pig\")","v":"Råprotein pr. prod. Slagtesvin, kg"},{"$f":"IFERROR((D76*(IF(((D20/D28)>('input-data'!F287/365)),D38*(1-(D20/D28)-('input-data'!F287/365)),D38))+(D82*D36))/1000,0)","v":0}]
[null,null,{"$f":"IF(topdowntables!$N$4=1, \"N pr. prod. slagtesvin, kg\", \"N, kg per prod. Slaughter pig\")","v":"N pr. prod. slagtesvin, kg"},{"$f":"D91/6.25","v":0}]
[null,null,{"$f":"IF(topdowntables!$N$4=1, \"P pr. prod. slagtesvin, kg\", \"P, kg per prod. Slaughter pig\")","v":"P pr. prod. slagtesvin, kg"},{"$f":"IFERROR((D77*(IF(((D20/D28)>('input-data'!F287/365)),D38*(1-(D20/D28)-('input-data'!F287/365)),D38))+(D83*D36))/1000,0)","v":0}]
[null,{"$f":"IF(topdowntables!N4=1, \"Halm:\", \"Straw:\")","v":"Halm:"}]
[null,null,{"$f":"IF(topdowntables!N4=1, \"Tørstof, %\", \"Dry matter, %\")","v":"Tørstof, %"},{"$f":"IFERROR(SUM((IFERROR(VLOOKUP('input-data'!$E$376,Fodertabel,9,FALSE),0)*('input-data'!E375/( 'input-data'!E375+'input-data'!E382)))\n+(IFERROR(VLOOKUP('input-data'!$E$383,Fodertabel,9,FALSE),0)*('input-data'!E382/( 'input-data'!E375+'input-data'!E382)))),0)","v":0}]
[null,null,{"$f":"IF(topdowntables!N4=1, \"Råprotein, g per kg\", \"Crude protein, g per kg\")","v":"Råprotein, g per kg"},{"$f":"IFERROR(SUM((IFERROR(VLOOKUP('input-data'!$E$376,Fodertabel,10,FALSE),0)*('input-data'!E375/( 'input-data'!E375+'input-data'!E382)))\n+(IFERROR(VLOOKUP('input-data'!$E$383,Fodertabel,10,FALSE),0)*('input-data'!E382/( 'input-data'!E375+'input-data'!E382)))),0)","v":0}]
[null,null,{"$f":"IF(topdowntables!N4=1, \"Fosfor, g per kg\", \"Phosphorus, g per kg\")","v":"Fosfor, g per kg"},{"$f":"IFERROR(SUM((IFERROR(VLOOKUP('input-data'!$E$376,Fodertabel,79,FALSE),0)*('input-data'!E375/( 'input-data'!E375+'input-data'!E382)))\n+(IFERROR(VLOOKUP('input-data'!$E$383,Fodertabel,79,FALSE),0)*('input-data'!E382/( 'input-data'!E375+'input-data'!E382)))),0)","v":0}]
[]
[null,null,{"$f":"IF(topdowntables!N4=1, \"N og P bidrag fra halm, tildelt ude\", \"N and P content in straw, used outdoor\")","v":"N og P bidrag fra halm, tildelt ude"}]
[null,null,{"$f":"IF(topdowntables!N4=1, \"Råprotein pr. prod. slagtesvin, kg\", \"Crude protein, kg per prod. Slaughter pig\")","v":"Råprotein pr. prod. slagtesvin, kg"},{"$f":"(D41*D96)/1000","v":0}]
[null,null,{"$f":"IF(topdowntables!N4=1, \"N pr. prod. slagtesvin, kg\", \"N, kg per prod. Slaughter pig\")","v":"N pr. prod. slagtesvin, kg"},{"$f":"D100/6.25","v":0}]
[null,null,{"$f":"IF(topdowntables!N4=1,\"P pr. prod. slagtesvin, kg\",\"P, kg per prod. Slaughter pig\")","v":"P pr. prod. slagtesvin, kg"},{"$f":"(D41*D97)/1000","v":0}]
[]
[null,null,{"$f":"IF(topdowntables!N4=1, \"N og P bidrag fra halm, tildelt inde\", \"N and P content in straw, used indoor\")","v":"N og P bidrag fra halm, tildelt inde"}]
[null,null,{"$f":"IF(topdowntables!N4=1, \"Råprotein pr. prod. slagtesvin, kg\", \"Crude protein, kg per prod. Slaughter pig\")","v":"Råprotein pr. prod. slagtesvin, kg"},{"$f":"(D42*D96)/1000","v":0}]
[null,null,{"$f":"IF(topdowntables!N4=1, \"N pr. prod. slagtesvin, kg\", \"N, kg per prod. slaughter pig\")","v":"N pr. prod. slagtesvin, kg"},{"$f":"D105/6.25","v":0}]
[null,null,{"$f":"IF(topdowntables!N4=1, \"P pr. prod. slagtesvin, kg\", \"P, kg per prod. Slaughter pig\")","v":"P pr. prod. slagtesvin, kg"},{"$f":"(D42*D97)/1000","v":0}]

{"sheet":"N-P balance sohold","index":13,"n_rows":212,"n_cols":9,"rows_kept":212,"cut":false,"hidden":false,"merged":[]}
[null,"N og P BALANCEN ","STANDARD",null,null,null,null,"Kilder til standardtal / bemærkninger"]
[]
[null,"Farefolden / Farestalden",{"$f":"IF(topdowntables!$N$4=1, \"Total\", \"Total\")","v":"Total"},{"$f":"IF(topdowntables!$N$4=1, \"Per årso\", \"Per year sow\")","v":"Per årso"},{"$f":"IF(topdowntables!$N$4=1, \"Total\", \"Total\")","v":"Total"},{"$f":"IF(topdowntables!$N$4=1, \"Per årso\", \"Per year sow\")","v":"Per årso"}]
[null,"Ind, kg:","N","N","P","P"]
[null," Dyr:"]
[null,"      Søer, vægtændring",{"$f":"'NPK tal'!$C$19*'NPK tal'!$B$4/1000*'Flow sohold'!D5","v":0},{"$f":"IFERROR(C6/'Flow sohold'!$D$5,0)","v":0},{"$f":"'NPK tal'!$C$19*'NPK tal'!$C$4/1000*'Flow sohold'!D5","v":0},{"$f":"IFERROR(E6/'Flow sohold'!$D$5,0)","v":0},null,null,"Vægt difference (indsættelse - afgang)*N per kg tilvækst* antal årssøer "]
[null,{"$f":"IF(topdowntables!$N$4=1, \"Kraffoder:\", \"Concentrated feed:\")","v":"Kraffoder:"}]
[null,"      Søer",{"$f":"'Flow sohold'!D62*'Flow sohold'!D5","v":0},{"$f":"IFERROR(C8/'Flow sohold'!$D$5,0)","v":0},{"$f":"'Flow sohold'!D63*'Flow sohold'!D5","v":0},{"$f":"IFERROR(E8/'Flow sohold'!$D$5,0)","v":0},null,null,"N per årsso, kg * antal årssøer"]
[null,"      Pattegrise",{"$f":"'Flow sohold'!D73*'Flow sohold'!D5","v":0},{"$f":"IFERROR(C9/'Flow sohold'!$D$5,0)","v":0},{"$f":"'Flow sohold'!D74*'Flow sohold'!D5","v":0},{"$f":"IFERROR(E9/'Flow sohold'!$D$5,0)","v":0},null,null,"N per fravænnet grise*antal fravænnet per årsso*antal årssøer"]
[null," Grovfoder:"]
[null,"     Tildelt ude inkl græs",{"$f":"IF(OR('input-data'!E302=topdowntables!$C4,'input-data'!E302=topdowntables!$C$9),'Flow sohold'!D5*'Flow sohold'!D111,\nIF(OR('input-data'!E302=topdowntables!$C$5,'input-data'!$E$302=topdowntables!$C$10),0,\nIF((365-'input-data'!F303)>='input-data'!E68,'Flow sohold'!D5*('Flow sohold'!D106*'Flow sohold'!D40/1000/6.25),\nIF(OR('input-data'!E302=topdowntables!$C$6,'input-data'!$E$302=topdowntables!$C$11),('Flow sohold'!D5*('Flow sohold'!D100*'Flow sohold'!D41/1000/6.25)*(('input-data'!E68-(365-'input-data'!F303))/'input-data'!E68))+('Flow sohold'!D5*('Flow sohold'!D106*'Flow sohold'!D40/1000/6.25)),0))))","v":0},{"$f":"IFERROR(C11/'Flow sohold'!$D$5,0)","v":0},{"$f":"IF(OR('input-data'!E302=topdowntables!$C4,'input-data'!E302=topdowntables!$C$9),'Flow sohold'!D5*'Flow sohold'!D112,\nIF(OR('input-data'!E302=topdowntables!$C$5,'input-data'!$E$302=topdowntables!$C$10),0,\nIF((365-'input-data'!F303)>='input-data'!E68,'Flow sohold'!D5*('Flow sohold'!D107*'Flow sohold'!D40/1000),\nIF(OR('input-data'!E302=topdowntables!$C$6,'input-data'!$E$302=topdowntables!$C$11),('Flow sohold'!D5*('Flow sohold'!D101*'Flow sohold'!D41/1000)*(('input-data'!E68-(365-'input-data'!F303))/'input-data'!E68))+('Flow sohold'!D5*('Flow sohold'!D107*'Flow sohold'!D40/1000)),0))))","v":0},{"$f":"IFERROR(E11/'Flow sohold'!$D$5,0)","v":0},null,null,"Opdelt i inde og ude, da mængden tildelt variere mellem ude og inde"]
[null,"     Tildelt inde",{"$f":"IF(OR('input-data'!$E$302=topdowntables!$C$5,'input-data'!$E$302=topdowntables!$C$10),'Flow sohold'!D5*'Flow sohold'!D111,\nIF(OR('input-data'!$E$302=topdowntables!$C$4,'input-data'!$E$302=topdowntables!$C$9),0,\nIF((365-'input-data'!F303)>='input-data'!E68,'Flow sohold'!D5*('Flow sohold'!D100*'Flow sohold'!D41/1000/6.25),\nIF(OR('input-data'!$E$302=topdowntables!$C$6,'input-data'!$E$302=topdowntables!$C$11),'Flow sohold'!D5*('Flow sohold'!D100*'Flow sohold'!D41/1000/6.25)*((365-'input-data'!F303)/'input-data'!E68),0)))\n)","v":0},{"$f":"IFERROR(C12/'Flow sohold'!$D$5,0)","v":0},{"$f":"IF(OR('input-data'!$E$302=topdowntables!$C$5,'input-data'!$E$302=topdowntables!$C$10),'Flow sohold'!D5*'Flow sohold'!D112,\nIF(OR('input-data'!$E$302=topdowntables!$C$4,'input-data'!$E$302=topdowntables!$C$9),0,\nIF((365-'input-data'!F303)>='input-data'!E68,'Flow sohold'!D5*('Flow sohold'!D101*'Flow sohold'!D41/1000),\nIF(OR('input-data'!$E$302=topdowntables!$C$6,'input-data'!$E$302=topdowntables!$C$11),'Flow sohold'!D5*('Flow sohold'!D101*'Flow sohold'!D41/1000)*((365-'input-data'!F303)/'input-data'!E68),0)))\n)","v":0},{"$f":"IFERROR(E12/'Flow sohold'!$D$5,0)","v":0}]
[null," Strøelse:"]
[null,"     Tildelt ude",{"$f":"IF(OR('input-data'!$E$302=topdowntables!$C$5,'input-data'!$E$302=topdowntables!$C$10),0,\nIF(OR('input-data'!$E$302=topdowntables!$C$4,'input-data'!$E$302=topdowntables!$C$9), 'Flow sohold'!D5*'Flow sohold'!D138,\nIF(OR('input-data'!$E$302=topdowntables!$C$6,'input-data'!$E$302=topdowntables!$C$11),'Flow sohold'!D5*('input-data'!E316*'input-data'!E15*('Flow sohold'!D134/6.25)/1000)*((365-'input-data'!F303)/365),0)))","v":0},{"$f":"IFERROR(C14/'Flow sohold'!$D$5,0)","v":0},{"$f":"IF(OR('input-data'!$E$302=topdowntables!$C$5,'input-data'!$E$302=topdowntables!$C$10),0,\nIF(OR('input-data'!$E$302=topdowntables!$C$4,'input-data'!$E$302=topdowntables!$C$9),'Flow sohold'!D5*'Flow sohold'!D138,\nIF(OR('input-data'!$E$302=topdowntables!$C$6,'input-data'!$E$302=topdowntables!$C$11),'Flow sohold'!D5*('input-data'!E316*'input-data'!E15*('Flow sohold'!D135)/1000)*((365-'input-data'!F303)/365),0)))","v":0},{"$f":"IFERROR(E14/'Flow sohold'!$D$5,0)","v":0},null,null,"Opdelt i inde og ude, da mængden tildelt variere mellem ude og inde"]
[null,"     Tildelt inde",{"$f":"IF(OR('input-data'!$E$302=topdowntables!$C$5,'input-data'!$E$302=topdowntables!$C$10),'Flow sohold'!D5*'Flow sohold'!D138,\nIF(OR('input-data'!$E$302=topdowntables!$C$4,'input-data'!$E$302=topdowntables!$C$9),0,\nIF(OR('input-data'!$E$302=topdowntables!$C$6,'input-data'!$E$302=topdowntables!$C$11), 'Flow sohold'!D5*('input-data'!E309*'input-data'!E15*('Flow sohold'!D134/6.25)/1000)*(('input-data'!F303)/365),0)))","v":0},{"$f":"IFERROR(C15/'Flow sohold'!$D$5,0)","v":0},{"$f":"IF(OR('input-data'!$E$302=topdowntables!$C$5,'input-data'!$E$302=topdowntables!$C$10),'Flow sohold'!D5*'Flow sohold'!D139,\nIF(OR('input-data'!$E$302=topdowntables!$C$4,'input-data'!$E$302=topdowntables!$C$9),0,\nIF(OR('input-data'!$E$302=topdowntables!$C$6,'input-data'!$E$302=topdowntables!$C$11),'Flow sohold'!D5*('input-data'!E309*'input-data'!E15*('Flow sohold'!D135)/1000)*(('input-data'!F303)/365),0)))","v":0},{"$f":"IFERROR(E15/'Flow sohold'!$D$5,0)","v":0}]
[]
[null,"Ud, kg","N","N","P","P"]
[null," Dyr:"]
[null,"     Pattegrise, overførte/solgte",{"$f":"'Flow sohold'!D18*'Flow sohold'!D21*'NPK tal'!$B$5/1000","v":0},{"$f":"IFERROR(C19/'Flow sohold'!$D$5,0)","v":0},{"$f":"'Flow sohold'!D18*'Flow sohold'!D21*'NPK tal'!$C$5/1000","v":0},{"$f":"IFERROR(E19/'Flow sohold'!$D$5,0)","v":0},null,null,"Fravænnet per år*vægt afgang*N per kg pattegris"]
[null,"     Pattegrise, døde",{"$f":"'Flow sohold'!D22*(0.2*'Flow sohold'!D21)*'NPK tal'!$B$5/1000","v":0},{"$f":"IFERROR(C20/'Flow sohold'!$D$5,0)","v":0},{"$f":"'Flow sohold'!D22*(0.2*'Flow sohold'!D21)*'NPK tal'!$C$5/1000","v":0},{"$f":"IFERROR(E20/'Flow sohold'!$D$5,0)","v":0},null,null,"Antal døde* 0,2*Vægt afgang*N per kg pattegris (Vægten ganget med 0,2 ud fra at ~85% af pattegrisene der dør vejere under 1.5 kg (Ph. D, Lena Rangstrup-Christensen, 2017)"]
[]
[null,"Ab dyr, kg","N","N","P","P"]
[null,"     Folden",{"$f":"IF(OR('input-data'!$E$302=topdowntables!$C$4,'input-data'!$E$302=topdowntables!$C$9), C6+C8+C9+C11-C19-C20,\nIF(OR('input-data'!$E$302=topdowntables!$C$5,'input-data'!$E$302=topdowntables!$C$10),0,\nIF(OR('input-data'!$E$302=topdowntables!$C$6,'input-data'!$E$302=topdowntables!$C$11), ((C6+C8+C9)*('input-data'!F303/365))-((C19+C20)*('input-data'!F303/365))+C11,0)))","v":0},{"$f":"IFERROR(C23/'Flow sohold'!$D$5,0)","v":0},{"$f":"IF(OR('input-data'!$E$302=topdowntables!$C$4,'input-data'!$E$302=topdowntables!$C$9), E6+E8+E9+E11+E14-E19-E20,\nIF(OR('input-data'!$E$302=topdowntables!$C$5,'input-data'!$E$302=topdowntables!$C$10),0,\nIF(OR('input-data'!$E$302=topdowntables!$C$6,'input-data'!$E$302=topdowntables!$C$11), ((E6+E8+E9)*('input-data'!G303/365))-((E19+E20)*('input-data'!G303/365))+E11+E14,0)))","v":0},{"$f":"IFERROR(E23/'Flow sohold'!$D$5,0)","v":0}]
[null,"     Stalden",{"$f":"IF(OR('input-data'!$E$302=topdowntables!$C$5,'input-data'!$E$302=topdowntables!$C$10), C6+C8+C9+C12-C19-C20,\nIF(OR('input-data'!$E$302=topdowntables!$C$4,'input-data'!$E$302=topdowntables!$C$9),0,\nIF(OR('input-data'!$E$302=topdowntables!$C$6,'input-data'!$E$302=topdowntables!$C$11),\n((C6+C8+C9)*((365-'input-data'!F303)/365))-((C19+C20)*((365-'input-data'!F303)/365))+C12,0)))","v":0},{"$f":"IFERROR(C24/'Flow sohold'!$D$5,0)","v":0},{"$f":"IF(OR('input-data'!$E$302=topdowntables!$C$5,'input-data'!$E$302=topdowntables!$C$10), E6+E8+E9+E12+E14-E19-E20,\nIF(OR('input-data'!$E$302=topdowntables!$C$4,'input-data'!$E$302=topdowntables!$C$9),0,\nIF(OR('input-data'!$E$302=topdowntables!$C$6,'input-data'!$E$302=topdowntables!$C$11),\n((E6+E8+E9)*((365-'input-data'!G303)/365))-((E19+E20)*((365-'input-data'!G303)/365))+E12+E15,0)))","v":0},{"$f":"IFERROR(E24/'Flow sohold'!$D$5,0)","v":0}]
[]
[null,"TAN-N, kg","Tan-N","Tan-N"]
[null,"     Folden",{"$f":"IF(OR('input-data'!$E$302=topdowntables!$C$4,'input-data'!$E$302=topdowntables!$C$9), C23-((C8*(1-('NPK tal'!B27/100)))+(C9*(1-('NPK tal'!B28/100)))),\nIF(OR('input-data'!$E$302=topdowntables!$C$5,'input-data'!$E$302=topdowntables!$C$10),0,\nIF(OR('input-data'!$E$302=topdowntables!$C$6,'input-data'!$E$302=topdowntables!$C$11),\nC23-((C8*(1-('NPK tal'!B27/100))*(('input-data'!F303)/365))+(C9*(1-('NPK tal'!B28/100)))*(('input-data'!F303)/365)),0)))","v":0},{"$f":"IFERROR(C27/'Flow sohold'!$D$5,0)","v":0},null,null,null,null,"N ab dyr, kg - (FE per årsso*råprotein per FE/6250*(1-fordøjlighedskoefficienten) (kilde: Svin baggrundsmatriale 2016-2017) "]
[null,"     Stalden",{"$f":"IF(OR('input-data'!$E$302=topdowntables!$C$5,'input-data'!$E$302=topdowntables!$C$10), C24-((C8*(1-('NPK tal'!$B$27/100)))+(C9*(1-('NPK tal'!$B$28/100)))),\nIF(OR('input-data'!$E$302=topdowntables!$C$4,'input-data'!$E$302=topdowntables!$C$9),0,\nIF(OR('input-data'!$E$302=topdowntables!$C$6,'input-data'!$E$302=topdowntables!$C$11),\nC24-((C8*(1-('NPK tal'!B27/100))*((365-'input-data'!F303)/365))+(C9*(1-('NPK tal'!B28/100)))*((365-'input-data'!F303)/365)),0)))","v":0},{"$f":"IFERROR(C28/'Flow sohold'!$D$5,0)","v":0}]
[]
[null,"Org-N, kg","Org-N","Org-N"]
[null,"     Folden",{"$f":"IF(OR('input-data'!$E$302=topdowntables!$C$5,'input-data'!$E$302=topdowntables!$C$10),0,\nIF(OR('input-data'!$E$302=topdowntables!$C$4,'input-data'!$E$302=topdowntables!$C$9),C14+((C8*(1-('NPK tal'!$B$27/100)))+(C9*(1-('NPK tal'!$B$28/100)))),\nIF(OR('input-data'!$E$302=topdowntables!$C$6,'input-data'!$E$302=topdowntables!$C$11),\nC14+((C8*(1-('NPK tal'!B27/100))*(('input-data'!F303)/365))+(C9*(1-('NPK tal'!B28/100)))*(('input-data'!F303)/365)),0)))","v":0},{"$f":"IFERROR(C31/'Flow sohold'!$D$5,0)","v":0},null,null,null,null,"Organisk N fæces + N strøelse, Dämmgen and Hutchings, 2008"]
[null,"     Stalden",{"$f":"IF(OR('input-data'!$E$302=topdowntables!$C$5,'input-data'!$E$302=topdowntables!$C$10),C15+((C8*(1-('NPK tal'!B27/100)))+(C9*(1-('NPK tal'!B28/100)))),\nIF(OR('input-data'!$E$302=topdowntables!$C$4,'input-data'!$E$302=topdowntables!$C$9),0,\nIF(OR('input-data'!$E$302=topdowntables!$C$6,'input-data'!$E$302=topdowntables!$C$11),\n C15+((C8*(1-('NPK tal'!B27/100))*((365-'input-data'!F303)/365))+(C9*(1-('NPK tal'!B28/100)))*((365-'input-data'!F303)/365)),0)))","v":0},{"$f":"IFERROR(C32/'Flow sohold'!$D$5,0)","v":0}]
[]
[null,"N ab fold / stald, kg","N","N"]
[null,"Emission, folden:"]
[null,"   NH3-N",{"$f":"SUM((IFERROR(VLOOKUP('input-data'!E306,'Opstaldingsform-Housing '!$B$30:$O$38,4,FALSE),0))+(IFERROR(VLOOKUP('input-data'!E306,'Opstaldingsform-Housing '!$B$69:$O$75,4,FALSE),0)))*C27","v":0},{"$f":"IFERROR(C36/'Flow sohold'!$D$5,0)","v":0}]
[null,"   N2O-N ",{"$f":"(SUM(IFERROR(VLOOKUP('input-data'!E306,'Opstaldingsform-Housing '!$B$32:$O$38,8,FALSE),0))+(IFERROR(VLOOKUP('input-data'!E306,'Opstaldingsform-Housing '!$B$69:$O$75,8,FALSE),0)))*(C27+C31)","v":0},{"$f":"IFERROR(C37/'Flow sohold'!$D$5,0)","v":0}]
[null,"   N2-N",{"$f":"SUM((IFERROR(VLOOKUP('input-data'!E306,'Opstaldingsform-Housing '!$B$30:$O$38,10,FALSE),0))+(IFERROR(VLOOKUP('input-data'!E306,'Opstaldingsform-Housing '!$B$69:$O$75,10,FALSE),0)))*(C27+C31)","v":0},{"$f":"IFERROR(C38/'Flow sohold'!$D$5,0)","v":0}]
[null,"   Nox-N",{"$f":"(SUM(IFERROR(VLOOKUP('input-data'!E306,'Opstaldingsform-Housing '!$B$30:$O$38,12,FALSE),0))+(IFERROR(VLOOKUP('input-data'!E306,'Opstaldingsform-Housing '!$B$69:$O$75,12,FALSE),0)))*(C27+C31)","v":0},{"$f":"IFERROR(C39/'Flow sohold'!$D$5,0)","v":0}]
[null,"N ab fold, kg",{"$f":"C27+C31-C36-C37-C38-C39","v":0},{"$f":"IFERROR(C40/'Flow sohold'!$D$5,0)","v":0}]
[]
[null,"Emission, stalden:",null,null,null,null,null,null,"TAN bruges ved beregning af gylle / alje mens TAN N + Org-N bruges ved beregning af total N"]
[null,"   NH3-N",{"$f":"'NPK tal'!$B$37*(SUM(IFERROR(VLOOKUP('input-data'!E313,'Opstaldingsform-Housing '!$B$7:$O$19,4,FALSE),0))+(IFERROR(VLOOKUP('input-data'!E313,'Opstaldingsform-Housing '!$B$44:$O$56,4,FALSE),0)))*(\nIF(OR('input-data'!$E$313='Opstaldingsform-Housing '!$B$8,'input-data'!$E$313='Opstaldingsform-Housing '!$B$45,\n'input-data'!$E$313='Opstaldingsform-Housing '!$B$9,'input-data'!$E$313='Opstaldingsform-Housing '!$B$46,\n'input-data'!$E$313='Opstaldingsform-Housing '!$B$10,'input-data'!$E$313='Opstaldingsform-Housing '!$B$47),C28+C32,C28))\n+ ('NPK tal'!$C$37*(SUM(IFERROR(VLOOKUP('input-data'!E314,'Opstaldingsform-Housing '!$B$20:$O$57,4,FALSE),0))+(IFERROR(VLOOKUP('input-data'!E314,'Opstaldingsform-Housing '!$B$57:$O$65,4,FALSE),0)))*C28)","v":0},{"$f":"IFERROR(C43/'Flow sohold'!$D$5,0)","v":0},null,null,null,null,"AP regneark, tager højde for fordelingen ude inde + forskellige gulvtyper ude inde"]
[null,"   N2O-N",{"$f":"'NPK tal'!$B$37*(SUM(IFERROR(VLOOKUP('input-data'!E313,'Opstaldingsform-Housing '!$B$7:$O$19,8,FALSE),0))+(IFERROR(VLOOKUP('input-data'!E313,'Opstaldingsform-Housing '!$B$44:$O$56,8,FALSE),0)))*(C28+C32)+\n('NPK tal'!$C$37*(SUM(IFERROR(VLOOKUP('input-data'!E314,'Opstaldingsform-Housing '!$B$20:$O$28,8,FALSE),0))+(IFERROR(VLOOKUP('input-data'!E314,'Opstaldingsform-Housing '!$B$57:$O$65,8,FALSE),0)))*(C28+C32))","v":0},{"$f":"IFERROR(C44/'Flow sohold'!$D$5,0)","v":0},null,null,null,null,"(TAN N+Org N) * emissionfaktor fanblad \"opstaldning….\" (summeret for ude og inde areal, mht. fordelingen af gødning ude/inde)"]
[null,"   N2-N",{"$f":"'NPK tal'!$B$37*(SUM(IFERROR(VLOOKUP('input-data'!E313,'Opstaldingsform-Housing '!$B$7:$O$19,10,FALSE),0))+(IFERROR(VLOOKUP('input-data'!E313,'Opstaldingsform-Housing '!$B$44:$O$56,10,FALSE),0)))*(C28+C32)+\n('NPK tal'!$C$37*(SUM(IFERROR(VLOOKUP('input-data'!E314,'Opstaldingsform-Housing '!$B$20:$O$28,10,FALSE),0))+(IFERROR(VLOOKUP('input-data'!E314,'Opstaldingsform-Housing '!$B$57:$O$65,10,FALSE),0)))*(C28+C32))","v":0},{"$f":"IFERROR(C45/'Flow sohold'!$D$5,0)","v":0}]
[null,"   NOx-N",{"$f":"'NPK tal'!$B$37*(SUM(IFERROR(VLOOKUP('input-data'!E313,'Opstaldingsform-Housing '!$B$7:$O$19,12,FALSE),0))+(IFERROR(VLOOKUP('input-data'!E313,'Opstaldingsform-Housing '!$B$44:$O$56,12,FALSE),0)))*(C28+C32)+\n('NPK tal'!$C$37*(SUM(IFERROR(VLOOKUP('input-data'!E314,'Opstaldingsform-Housing '!$B$20:$O$28,12,FALSE),0))+(IFERROR(VLOOKUP('input-data'!E314,'Opstaldingsform-Housing '!$B$57:$O$65,12,FALSE),0)))*(C28+C32))","v":0},{"$f":"IFERROR(C46/'Flow sohold'!$D$5,0)","v":0}]
[null,"N ab, stald, kg",{"$f":"C28+C32-C43-C44-C45-C46","v":0},{"$f":"IFERROR(C47/'Flow sohold'!$D$5,0)","v":0}]
[null,"  Heraf:"]
[null,"       N ab stald gylle, kg",{"$f":"'NPK tal'!B37*(C28+C32)*(SUM(IFERROR(VLOOKUP('input-data'!E313,'Opstaldingsform-Housing '!$B$7:$O$19,3,FALSE),0))+(IFERROR(VLOOKUP('input-data'!E313,'Opstaldingsform-Housing '!$B$44:$O$56,3,FALSE),0)))\n+('NPK tal'!C37*(C28+C32)*((SUM(IFERROR(VLOOKUP('input-data'!E314,'Opstaldingsform-Housing '!$B$20:$O$28,3,FALSE),0))+(IFERROR(VLOOKUP('input-data'!E314,'Opstaldingsform-Housing '!$B$57:$O$65,3,FALSE),0)))\n))-(('NPK tal'!B37*(SUM(IFERROR(VLOOKUP('input-data'!E313,'Opstaldingsform-Housing '!$B$7:$O$19,4,FALSE),0))+(IFERROR(VLOOKUP('input-data'!E313,'Opstaldingsform-Housing '!$B$44:$O$56,4,FALSE),0)))*(\nIF(OR('input-data'!$E$313='Opstaldingsform-Housing '!$B$8,'input-data'!$E$313='Opstaldingsform-Housing '!$B$45,\n'input-data'!$E$313='Opstaldingsform-Housing '!$B$9,'input-data'!$E$313='Opstaldingsform-Housing '!$B$46,\n'input-data'!$E$313='Opstaldingsform-Housing '!$B$10,'input-data'!$E$313='Opstaldingsform-Housing '!$B$47),0,C28))\n+ ('NPK tal'!C37*(SUM(IFERROR(VLOOKUP('input-data'!E314,'Opstaldingsform-Housing '!$B$20:$O$28,4,FALSE),0))+(IFERROR(VLOOKUP('input-data'!E314,'Opstaldingsform-Housing '!$B$57:$O$65,4,FALSE),0)))*C28)))-('NPK tal'!B37*(SUM(IFERROR(VLOOKUP('input-data'!E313,'Opstaldingsform-Housing '!$B$7:$O$19,8,FALSE),0))+(IFERROR(VLOOKUP('input-data'!E313,'Opstaldingsform-Housing '!$B$44:$O$56,8,FALSE),0)))*(\nIF(OR('input-data'!$E$313='Opstaldingsform-Housing '!$B$8,'input-data'!$E$313='Opstaldingsform-Housing '!$B$45,\n'input-data'!$E$313='Opstaldingsform-Housing '!$B$9,'input-data'!$E$313='Opstaldingsform-Housing '!$B$46,\n'input-data'!$E$313='Opstaldingsform-Housing '!$B$10,'input-data'!$E$313='Opstaldingsform-Housing '!$B$47),0,C28+C32))+\n('NPK tal'!C37*(SUM(IFERROR(VLOOKUP('input-data'!E314,'Opstaldingsform-Housing '!$B$20:$O$28,8,FALSE),0))+(IFERROR(VLOOKUP('input-data'!E314,'Opstaldingsform-Housing '!$B$57:$O$65,8,FALSE),0)))*(C28+C32)))-(('NPK tal'!B37*(SUM(IFERROR(VLOOKUP('input-data'!E313,'Opstaldingsform-Housing '!$B$7:$O$19,10,FALSE),0))+(IFERROR(VLOOKUP('input-data'!E313,'Opstaldingsform-Housing '!$B$44:$O$56,10,FALSE),0)))*\nIF(OR('input-data'!$E$313='Opstaldingsform-Housing '!$B$8,'input-data'!$E$313='Opstaldingsform-Housing '!$B$45,\n'input-data'!$E$313='Opstaldingsform-Housing '!$B$9,'input-data'!$E$313='Opstaldingsform-Housing '!$B$46,\n'input-data'!$E$313='Opstaldingsform-Housing '!$B$10,'input-data'!$E$313='Opstaldingsform-Housing '!$B$47),0,C28+C32))+\n('NPK tal'!C37*(SUM(IFERROR(VLOOKUP('input-data'!E314,'Opstaldingsform-Housing '!$B$20:$O$28,10,FALSE),0))+(IFERROR(VLOOKUP('input-data'!E314,'Opstaldingsform-Housing '!$B$57:$O$65,10,FALSE),0)))*(C28+C32)))-('NPK tal'!B37*(SUM(IFERROR(VLOOKUP('input-data'!E313,'Opstaldingsform-Housing '!$B$7:$O$19,12,FALSE),0))+(IFERROR(VLOOKUP('input-data'!E313,'Opstaldingsform-Housing '!$B$44:$O$56,12,FALSE),0)))*\nIF(OR('input-data'!$E$313='Opstaldingsform-Housing '!$B$8,'input-data'!$E$313='Opstaldingsform-Housing '!$B$45,\n'input-data'!$E$313='Opstaldingsform-Housing '!$B$9,'input-data'!$E$313='Opstaldingsform-Housing '!$B$46,\n'input-data'!$E$313='Opstaldingsform-Housing '!$B$10,'input-data'!$E$313='Opstaldingsform-Housing '!$B$47),0,(C28+C32))+\n('NPK tal'!C37*(SUM(IFERROR(VLOOKUP('input-data'!E314,'Opstaldingsform-Housing '!$B$20:$O$28,12,FALSE),0))+(IFERROR(VLOOKUP('input-data'!E314,'Opstaldingsform-Housing '!$B$57:$O$65,12,FALSE),0)))*(C28+C32)))","v":0},{"$f":"IFERROR(C49/'Flow sohold'!$D$5,0)","v":0}]
[null,"       N ab stald dybstrøelse, kg",{"$f":"'NPK tal'!B37*(C28+C32)*(1-SUM(IFERROR(VLOOKUP('input-data'!E313,'Opstaldingsform-Housing '!$B$7:$O$19,3,FALSE),0))+(IFERROR(VLOOKUP('input-data'!E313,'Opstaldingsform-Housing '!$B$44:$O$56,3,FALSE),0)))\n+ ('NPK tal'!C37*(C28+C32)*(1-SUM(IFERROR(VLOOKUP('input-data'!E314,'Opstaldingsform-Housing '!$B$20:$O$28,3,FALSE),0))+(IFERROR(VLOOKUP('input-data'!E314,'Opstaldingsform-Housing '!$B$57:$O$65,3,FALSE),0))))-('NPK tal'!B37*(SUM(IFERROR(VLOOKUP('input-data'!E313,'Opstaldingsform-Housing '!$B$7:$O$19,4,FALSE),0))+(IFERROR(VLOOKUP('input-data'!E313,'Opstaldingsform-Housing '!$B$44:$O$56,4,FALSE),0)))*(\nIF(OR('input-data'!$E$313='Opstaldingsform-Housing '!$B$8,'input-data'!$E$313='Opstaldingsform-Housing '!$B$45,\n'input-data'!$E$313='Opstaldingsform-Housing '!$B$9,'input-data'!$E$313='Opstaldingsform-Housing '!$B$46,\n'input-data'!$E$313='Opstaldingsform-Housing '!$B$10,'input-data'!$E$313='Opstaldingsform-Housing '!$B$47),C28+C32,0)))-('NPK tal'!B37*(SUM(IFERROR(VLOOKUP('input-data'!E313,'Opstaldingsform-Housing '!$B$7:$O$19,8,FALSE),0))+(IFERROR(VLOOKUP('input-data'!E313,'Opstaldingsform-Housing '!$B$44:$O$56,8,FALSE),0)))*(\nIF(OR('input-data'!$E$313='Opstaldingsform-Housing '!$B$8,'input-data'!$E$313='Opstaldingsform-Housing '!$B$45,\n'input-data'!$E$313='Opstaldingsform-Housing '!$B$9,'input-data'!$E$313='Opstaldingsform-Housing '!$B$46,\n'input-data'!$E$313='Opstaldingsform-Housing '!$B$10,'input-data'!$E$313='Opstaldingsform-Housing '!$B$47),C28+C32,0)))-('NPK tal'!B37*(SUM(IFERROR(VLOOKUP('input-data'!E313,'Opstaldingsform-Housing '!$B$7:$O$19,10,FALSE),0))+(IFERROR(VLOOKUP('input-data'!E313,'Opstaldingsform-Housing '!$B$44:$O$56,10,FALSE),0)))*\nIF(OR('input-data'!$E$313='Opstaldingsform-Housing '!$B$8,'input-data'!$E$313='Opstaldingsform-Housing '!$B$45,\n'input-data'!$E$313='Opstaldingsform-Housing '!$B$9,'input-data'!$E$313='Opstaldingsform-Housing '!$B$46,\n'input-data'!$E$313='Opstaldingsform-Housing '!$B$10,'input-data'!$E$313='Opstaldingsform-Housing '!$B$47),C28+C32,0))-('NPK tal'!B37*(SUM(IFERROR(VLOOKUP('input-data'!E313,'Opstaldingsform-Housing '!$B$7:$O$19,12,FALSE),0))+(IFERROR(VLOOKUP('input-data'!E313,'Opstaldingsform-Housing '!$B$44:$O$56,12,FALSE),0)))*\nIF(OR('input-data'!$E$313='Opstaldingsform-Housing '!$B$8,'input-data'!$E$313='Opstaldingsform-Housing '!$B$45,\n'input-data'!$E$313='Opstaldingsform-Housing '!$B$9,'input-data'!$E$313='Opstaldingsform-Housing '!$B$46,\n'input-data'!$E$313='Opstaldingsform-Housing '!$B$10,'input-data'!$E$313='Opstaldingsform-Housing '!$B$47),(C28+C32),0))","v":0},{"$f":"IFERROR(C50/'Flow sohold'!$D$5,0)","v":0}]
[]
[null,"N ab lager, kg","N","N"]
[null,"Lager, gylletank:"]
[null,"   NH3-N",{"$f":"IFERROR(IF(OR('input-data'!$E$302=topdowntables!$C$4, 'input-data'!$E$302=topdowntables!$C$9),0,(0.95*(C49-((C49*'input-data'!E319/100)+(C49-(C49*'input-data'!E319/100))*(C49/(C49+C50))*'input-data'!E318/100))*(SUM(IFERROR(VLOOKUP('input-data'!E392,'Lagring-Storage'!B6:M11,3,FALSE),0))+(IFERROR(VLOOKUP('input-data'!E392,'Opstaldingsform-Housing '!$B$46:$O$51,3,FALSE),0)))\n+(0.05*(C49-((C49*'input-data'!E319/100)+(C49-(C49*'input-data'!E319/100))*(C49/(C49+C50))*'input-data'!E318/100))*'Lagring-Storage'!$D$7))), 0)","v":0},{"$f":"IFERROR(C54/'Flow sohold'!$D$5,0)","v":0}]
[null,"   N2O-N ",{"$f":"IFERROR(IF(OR('input-data'!$E$302=topdowntables!$C$4, 'input-data'!$E$302=topdowntables!$C$9),0,(0.95*(C49-((C49*'input-data'!E319/100)+(C49-(C49*'input-data'!E319/100))*(C49/(C49+C50))*'input-data'!E318/100))*(SUM(IFERROR(VLOOKUP('input-data'!E392,'Lagring-Storage'!B6:M11,5,FALSE),0))+(IFERROR(VLOOKUP('input-data'!E392,'Opstaldingsform-Housing '!$B$46:$O$51,5,FALSE),0)))\n+(0.05*(C49-((C49*'input-data'!E319/100)+(C49-(C49*'input-data'!E319/100))*(C49/(C49+C50))*'input-data'!E318/100))*'Lagring-Storage'!$F$7))), 0)","v":0},{"$f":"IFERROR(C55/'Flow sohold'!$D$5,0)","v":0}]
[null,"   N2-N",{"$f":"IFERROR(IF(OR('input-data'!$E$302=topdowntables!$C$4, 'input-data'!$E$302=topdowntables!$C$9),0,(0.95*(C49-((C49*'input-data'!E319/100)+(C49-(C49*'input-data'!E319/100))*(C49/(C49+C50))*'input-data'!E318/100))*(SUM(IFERROR(VLOOKUP('input-data'!E392,'Lagring-Storage'!B6:M11,7,FALSE),0))+(IFERROR(VLOOKUP('input-data'!E392,'Opstaldingsform-Housing '!$B$46:$O$51,7,FALSE),0)))\n+(0.05*(C49-((C49*'input-data'!E319/100)+(C49-(C49*'input-data'!E319/100))*(C49/(C49+C50))*'input-data'!E318/100))*'Lagring-Storage'!$H$7))), 0)","v":0},{"$f":"IFERROR(C56/'Flow sohold'!$D$5,0)","v":0}]
[null,"   NOx",{"$f":"IFERROR(IF(OR('input-data'!$E$302=topdowntables!$C$4, 'input-data'!$E$302=topdowntables!$C$9),0,(0.95*(C49-((C49*'input-data'!E319/100)+(C49-(C49*'input-data'!E319/100))*(C49/(C49+C50))*'input-data'!E318/100))*(SUM(IFERROR(VLOOKUP('input-data'!E392,'Lagring-Storage'!B6:M11,9,FALSE),0))+(IFERROR(VLOOKUP('input-data'!E392,'Opstaldingsform-Housing '!$B$46:$O$51,9,FALSE),0)))\n+(0.05*(C49-((C49*'input-data'!E319/100)+(C49-(C49*'input-data'!E319/100))*(C49/(C49+C50))*'input-data'!E318/100))*'Lagring-Storage'!$J$7))),0)","v":0},{"$f":"IFERROR(C57/'Flow sohold'!$D$5,0)","v":0}]
[null,"N ab lager, gylletank:",{"$f":"IFERROR(IF(OR('input-data'!$E$302=topdowntables!$C$4, 'input-data'!$E$302=topdowntables!$C$9),0,(C49-((C49*'input-data'!E319/100)+(C49-(C49*'input-data'!E319/100))*(C49/(C49+C50))*'input-data'!E318/100)-(C54+C55+C56+C57))),0)","v":0},{"$f":"IFERROR(C58/'Flow sohold'!$D$5,0)","v":0}]
[]
[null,"Lager, dybstrøelse:"]
[null,"   NH3-N",{"$f":"IFERROR(IF(OR('input-data'!$E$302=topdowntables!$C$4, 'input-data'!$E$302=topdowntables!$C$9),0,((0.95*(C50-((C50*'input-data'!E320/100)+((C50-(C50*'input-data'!E320/100))*(C50/(C49+C50))*'input-data'!E318/100)))*(SUM(IFERROR(VLOOKUP('input-data'!E393,'Lagring-Storage'!B33:M36,3,FALSE),0))+(IFERROR(VLOOKUP('input-data'!E393,'Opstaldingsform-Housing '!$B$71:$O$75,3,FALSE),0))))\n+(0.05*( C50-((C50*'input-data'!E320/100)+((C50-(C50*'input-data'!E320/100))*(C50/(C49+C50))*'input-data'!E318/100)))*'Lagring-Storage'!$D$34))),0)","v":0},{"$f":"IFERROR(C61/'Flow sohold'!$D$5,0)","v":0}]
[null,"   N2O-N ",{"$f":"IFERROR(IF(OR('input-data'!$E$302=topdowntables!$C$4, 'input-data'!$E$302=topdowntables!$C$9),0,((0.95*(C50-((C50*'input-data'!E320/100)+((C50-(C50*'input-data'!E320/100))*(C50/(C49+C50))*'input-data'!E318/100)))*(SUM(IFERROR(VLOOKUP('input-data'!E393,'Lagring-Storage'!B33:M36,5,FALSE),0))+(IFERROR(VLOOKUP('input-data'!E393,'Opstaldingsform-Housing '!$B$71:$O$75,5,FALSE),0))))\n+(0.05*( C50-((C50*'input-data'!E320/100)+((C50-(C50*'input-data'!E320/100))*(C50/(C49+C50))*'input-data'!E318/100)))*'Lagring-Storage'!$F$34))),0)","v":0},{"$f":"IFERROR(C62/'Flow sohold'!$D$5,0)","v":0}]
[null,"   N2-N",{"$f":"IFERROR(IF(OR('input-data'!$E$302=topdowntables!$C$4, 'input-data'!$E$302=topdowntables!$C$9),0,((0.95*(C50-((C50*'input-data'!E320/100)+((C50-(C50*'input-data'!E320/100))*(C50/(C49+C50))*'input-data'!E318/100)))*(SUM(IFERROR(VLOOKUP('input-data'!E393,'Lagring-Storage'!B33:M36,7,FALSE),0))+(IFERROR(VLOOKUP('input-data'!E393,'Opstaldingsform-Housing '!$B$71:$O$75,7,FALSE),0))))\n+(0.05*( C50-((C50*'input-data'!E320/100)+((C50-(C50*'input-data'!E320/100))*(C50/(C49+C50))*'input-data'!E318/100)))*'Lagring-Storage'!$H$34))),0)","v":0},{"$f":"IFERROR(C63/'Flow sohold'!$D$5,0)","v":0}]
[null,"   NOx",{"$f":"IFERROR(IF(OR('input-data'!$E$302=topdowntables!$C$4, 'input-data'!$E$302=topdowntables!$C$9),0,((0.95*(C50-((C50*'input-data'!E320/100)+((C50-(C50*'input-data'!E320/100))*(C50/(C49+C50))*'input-data'!E318/100)))*(SUM(IFERROR(VLOOKUP('input-data'!E393,'Lagring-Storage'!B33:M36,9,FALSE),0))+(IFERROR(VLOOKUP('input-data'!E393,'Opstaldingsform-Housing '!$B$71:$O$75,9,FALSE),0))))\n+(0.05*( C50-((C50*'input-data'!E320/100)+((C50-(C50*'input-data'!E320/100))*(C50/(C49+C50))*'input-data'!E318/100)))*'Lagring-Storage'!$J$34))),0)","v":0},{"$f":"IFERROR(C64/'Flow sohold'!$D$5,0)","v":0}]
[null,"N ab lager, dybstrøelse:",{"$f":"IFERROR(IF(OR('input-data'!$E$302=topdowntables!$C$4, 'input-data'!$E$302=topdowntables!$C$9),0,(C50-((C50*'input-data'!E320/100)+((C50-(C50*'input-data'!E320/100))*(C50/(C49+C50))*'input-data'!E318/100))-(C61+C62+C63+C64))),0)","v":0},{"$f":"IFERROR(C65/'Flow sohold'!$D$5,0)","v":0}]
[]
[null,"Lager, biogas:"]
[null,"   NH3-N",{"$f":"IF(OR('input-data'!$E$302=topdowntables!$C$4, 'input-data'!$E$302=topdowntables!$C$9),0,(IF('input-data'!E318>0,0.95*(((C49-(C49*'input-data'!E319/100))*(C49/(C49+C50))*'input-data'!E318/100)+\n(C50-(C50*'input-data'!E320/100)*(C50/(C49+C50))*'input-data'!E318/100))*(SUM(IFERROR(VLOOKUP('input-data'!E392,'Lagring-Storage'!B6:M11,3,FALSE),0))+(IFERROR(VLOOKUP('input-data'!E392,'Opstaldingsform-Housing '!$B$46:$O$51,3,FALSE),0)))\n+(0.05*(((C49-(C49*'input-data'!E319/100))*(C49/(C49+C50))*'input-data'!E318/100)+\n(C50-(C50*'input-data'!E320/100)*(C50/(C49+C50))*'input-data'!E318/100))*('Lagring-Storage'!$D$13)),0)))","v":0},{"$f":"IFERROR(C68/'Flow sohold'!$D$5,0)","v":0},null,null,null,null,"Antager forsuret gylle ikke kommer i biogas"]
[null,"   N2O-N",{"$f":"IF(OR('input-data'!$E$302=topdowntables!$C$4, 'input-data'!$E$302=topdowntables!$C$9),0,(IF('input-data'!E318>0,0.95*(((C49-(C49*'input-data'!E319/100))*(C49/(C49+C50))*'input-data'!E318/100)+\n(C50-(C50*'input-data'!E320/100)*(C50/(C49+C50))*'input-data'!E318/100))*(SUM(IFERROR(VLOOKUP('input-data'!E392,'Lagring-Storage'!B6:M11,5,FALSE),0))+(IFERROR(VLOOKUP('input-data'!E392,'Opstaldingsform-Housing '!$B$46:$O$51,5,FALSE),0)))\n+(0.05*(((C49-(C49*'input-data'!E319/100))*(C49/(C49+C50))*'input-data'!E318/100)+\n(C50-(C50*'input-data'!E320/100)*(C50/(C49+C50))*'input-data'!E318/100))*('Lagring-Storage'!$F$13)),0)))","v":0},{"$f":"IFERROR(C69/'Flow sohold'!$D$5,0)","v":0}]
[null,"   N2",{"$f":"IF(OR('input-data'!$E$302=topdowntables!$C$4, 'input-data'!$E$302=topdowntables!$C$9),0,(IF('input-data'!E318>0,0.95*(((C49-(C49*'input-data'!E319/100))*(C49/(C49+C50))*'input-data'!E318/100)+\n(C50-(C50*'input-data'!E320/100)*(C50/(C49+C50))*'input-data'!E318/100))*(SUM(IFERROR(VLOOKUP('input-data'!E392,'Lagring-Storage'!B6:M11,7,FALSE),0))+(IFERROR(VLOOKUP('input-data'!E392,'Opstaldingsform-Housing '!$B$46:$O$51,7,FALSE),0)))\n+(0.05*(((C49-(C49*'input-data'!E319/100))*(C49/(C49+C50))*'input-data'!E318/100)+\n(C50-(C50*'input-data'!E320/100)*(C50/(C49+C50))*'input-data'!E318/100))*('Lagring-Storage'!$H$13)),0)))","v":0},{"$f":"IFERROR(C70/'Flow sohold'!$D$5,0)","v":0}]
[null,"   NOx",{"$f":"IF(OR('input-data'!$E$302=topdowntables!$C$4, 'input-data'!$E$302=topdowntables!$C$9),0,(IF('input-data'!E318>0,0.95*(((C49-(C49*'input-data'!E319/100))*(C49/(C49+C50))*'input-data'!E318/100)+\n(C50-(C50*'input-data'!E320/100)*(C50/(C49+C50))*'input-data'!E318/100))*(SUM(IFERROR(VLOOKUP('input-data'!E392,'Lagring-Storage'!B6:M11,9,FALSE),0))+(IFERROR(VLOOKUP('input-data'!E392,'Opstaldingsform-Housing '!$B$46:$O$51,9,FALSE),0)))\n+(0.05*(((C49-(C49*'input-data'!E319/100))*(C49/(C49+C50))*'input-data'!E318/100)+\n(C50-(C50*'input-data'!E320/100)*(C50/(C49+C50))*'input-data'!E318/100))*('Lagring-Storage'!$J$13)),0)))","v":0},{"$f":"IFERROR(C71/'Flow sohold'!$D$5,0)","v":0}]
[null,"N ab lager, biogas",{"$f":"IFERROR(IF(OR('input-data'!$E$302=topdowntables!$C$4, 'input-data'!$E$302=topdowntables!$C$9),0,(((C49-(C49*'input-data'!E319/100))*(C49/(C49+C50))*'input-data'!E318/100)+\n((C50-(C50*'input-data'!E320/100))*(C50/(C49+C50))*'input-data'!E318/100)\n-(C68+C69+C70+C71))),0)","v":0},{"$f":"IFERROR(C72/'Flow sohold'!$D$5,0)","v":0}]
[]
[null,"Lager, forsuringstank:"]
[null,"   NH3-N",{"$f":"0.95*C49*'input-data'!E319/100*(SUM(IFERROR(VLOOKUP('input-data'!E392,'Lagring-Storage'!B17:M22,3,FALSE),0))+(IFERROR(VLOOKUP('input-data'!E392,'Opstaldingsform-Housing '!$B$44:$O$56,3,FALSE),0)))\n+(0.05* C49*'input-data'!E319/100*('Lagring-Storage'!$D$18))","v":0},{"$f":"IFERROR(C75/'Flow sohold'!$D$5,0)","v":0}]
[null,"   N2O-N",{"$f":"0.95*C49*'input-data'!E319/100*(SUM(IFERROR(VLOOKUP('input-data'!E392,'Lagring-Storage'!B17:M22,5,FALSE),0))+(IFERROR(VLOOKUP('input-data'!E392,'Opstaldingsform-Housing '!$B$44:$O$56,5,FALSE),0)))\n+(0.05* C49*'input-data'!E319/100*('Lagring-Storage'!$F$18))","v":0},{"$f":"IFERROR(C76/'Flow sohold'!$D$5,0)","v":0}]
[null,"   N2",{"$f":"0.95*C49*'input-data'!E319/100*(SUM(IFERROR(VLOOKUP('input-data'!E392,'Lagring-Storage'!B17:M22,7,FALSE),0))+(IFERROR(VLOOKUP('input-data'!E392,'Opstaldingsform-Housing '!$B$44:$O$56,7,FALSE),0)))\n+(0.05* C49*'input-data'!E319/100*('Lagring-Storage'!$H$18))","v":0},{"$f":"IFERROR(C77/'Flow sohold'!$D$5,0)","v":0}]
[null,"   NOx",{"$f":"0.95*C49*'input-data'!E319/100*(SUM(IFERROR(VLOOKUP('input-data'!E392,'Lagring-Storage'!B17:M22,9,FALSE),0))+(IFERROR(VLOOKUP('input-data'!E392,'Opstaldingsform-Housing '!$B$44:$O$56,9,FALSE),0)))\n+(0.05* C49*'input-data'!E319/100*('Lagring-Storage'!$J$18))","v":0},{"$f":"IFERROR(C78/'Flow sohold'!$D$5,0)","v":0}]
[null,"N ab lager, forsuringstank",{"$f":"C49*'input-data'!E319/100-(C75+C76+C77+C78)","v":0},{"$f":"IFERROR(C79/'Flow sohold'!$D$5,0)","v":0}]
[]
[null,"N ab mark, kg","N","N"]
[null,"Alm, gylle"]
[null,"   NH3-N",{"$f":"C58*'Udbringning af gylleApplication'!C6","v":0},{"$f":"IFERROR(C83/'Flow sohold'!$D$5,0)","v":0}]
[null,"   N2O-N Denitrifikation",{"$f":"C58*'Udbringning af gylleApplication'!E6","v":0},{"$f":"IFERROR(C84/'Flow sohold'!$D$5,0)","v":0}]
[null,"   N2",{"$f":"C58*'Udbringning af gylleApplication'!G6","v":0},{"$f":"IFERROR(C85/'Flow sohold'!$D$5,0)","v":0}]
[null,"   NOx",{"$f":"C58*'Udbringning af gylleApplication'!I6","v":0},{"$f":"IFERROR(C86/'Flow sohold'!$D$5,0)","v":0}]
[null,"N ab mark, gylle:",{"$f":"C58-(C83+C84+C85+C86)","v":0},{"$f":"IFERROR(C87/'Flow sohold'!$D$5,0)","v":0}]
[]
[null,"Dybstrøelse"]
[null,"   NH3-N",{"$f":"(C65+(C50*'input-data'!E386/100))*'Udbringning af gylleApplication'!C9","v":0},{"$f":"IFERROR(C90/'Flow sohold'!$D$5,0)","v":0}]
[null,"   N2O-N Denitrifikation",{"$f":"(C65+(C50*'input-data'!E386/100))*'Udbringning af gylleApplication'!E9","v":0},{"$f":"IFERROR(C91/'Flow sohold'!$D$5,0)","v":0}]
[null,"   N2",{"$f":"(C65+(C50*'input-data'!E386/100))*'Udbringning af gylleApplication'!G9","v":0},{"$f":"IFERROR(C92/'Flow sohold'!$D$5,0)","v":0}]
[null,"   NOx",{"$f":"(C65+(C50*'input-data'!E386/100))*'Udbringning af gylleApplication'!I9","v":0},{"$f":"IFERROR(C93/'Flow sohold'!$D$5,0)","v":0}]
[null,"N ab mark, dybstrøelse:",{"$f":"C65-(C90+C91+C92+C93)+(C50*'input-data'!E386/100)","v":0},{"$f":"IFERROR(C94/'Flow sohold'!$D$5,0)","v":0},null,null,null,null,"plus direkte udbragt"]
[]
[null,"Afgasset gylle"]
[null,"   NH3-N",{"$f":"C72*'Udbringning af gylleApplication'!C7","v":0},{"$f":"IFERROR(C97/'Flow sohold'!$D$5,0)","v":0}]
[null,"   N2O-N Denitrifikation",{"$f":"C72*'Udbringning af gylleApplication'!E7","v":0},{"$f":"IFERROR(C98/'Flow sohold'!$D$5,0)","v":0}]
[null,"   N2",{"$f":"C72*'Udbringning af gylleApplication'!G7","v":0},{"$f":"IFERROR(C99/'Flow sohold'!$D$5,0)","v":0}]
[null,"   NOx",{"$f":"C72*'Udbringning af gylleApplication'!I7","v":0},{"$f":"IFERROR(C100/'Flow sohold'!$D$5,0)","v":0}]
[null,"N ab mark, afgassetgylle",{"$f":"C72-(C97+C98+C99+C100)","v":0},{"$f":"IFERROR(C101/'Flow sohold'!$D$5,0)","v":0}]
[]
[null,"Forsuret gylle"]
[null,"   NH3-N",{"$f":"C79*'Udbringning af gylleApplication'!C8","v":0},{"$f":"IFERROR(C104/'Flow sohold'!$D$5,0)","v":0}]
[null,"   N2O-N Denitrifikation",{"$f":"C79*'Udbringning af gylleApplication'!E8","v":0},{"$f":"IFERROR(C105/'Flow sohold'!$D$5,0)","v":0}]
[null,"   N2",{"$f":"C79*'Udbringning af gylleApplication'!G8","v":0},{"$f":"IFERROR(C106/'Flow sohold'!$D$5,0)","v":0}]
[null,"   Nox",{"$f":"C79*'Udbringning af gylleApplication'!I8","v":0},{"$f":"IFERROR(C107/'Flow sohold'!$D$5,0)","v":0}]
[null,"N ab lager, forsuringstank",{"$f":"C79-(C104+C105+C106+C107)","v":0},{"$f":"IFERROR(C108/'Flow sohold'!$D$5,0)","v":0}]
[]
[]
[null,"Drægtighedsfolden / Drægtighedsstalden",{"$f":"IF(topdowntables!$N$4=1, \"Total\", \"Total\")","v":"Total"},{"$f":"IF(topdowntables!$N$4=1, \"Per årso\", \"Per year sow\")","v":"Per årso"},{"$f":"IF(topdowntables!$N$4=1, \"Total\", \"Total\")","v":"Total"},{"$f":"IF(topdowntables!$N$4=1, \"Per årso\", \"Per year sow\")","v":"Per årso"}]
[null,"Ind, kg:","N","N","P","P"]
[null," Kraftfoder:"]
[null,"      Søer",{"$f":"'Flow sohold'!D93*'Flow sohold'!D5","v":0},{"$f":"IFERROR(C114/'Flow sohold'!$D$5,0)","v":0},{"$f":"'Flow sohold'!D5*'Flow sohold'!D94","v":0},{"$f":"IFERROR(E114/'Flow sohold'!$D$5,0)","v":0},null,null,"N per årsso, kg * antal årssøer"]
[null," Grovfoder:"]
[null,"     Tildelt ude",{"$f":"IF(OR('input-data'!E324=topdowntables!$C$4,'input-data'!E324=topdowntables!$C$9),'Flow sohold'!D5*'Flow sohold'!D128,\nIF(OR('input-data'!E324=topdowntables!$C$5,'input-data'!$E$324=topdowntables!$C$10),0,\nIF((365-'input-data'!F325)>='input-data'!E145,'Flow sohold'!D5*('Flow sohold'!D123*'Flow sohold'!D44/1000/6.25),\nIF(OR('input-data'!E324=topdowntables!$C$6,'input-data'!$E$324=topdowntables!$C$11),('Flow sohold'!D5*('Flow sohold'!D117*'Flow sohold'!D45/1000/6.25)*(('input-data'!E145-(365-'input-data'!F325))/'input-data'!E145))+('Flow sohold'!D5*('Flow sohold'!D123*'Flow sohold'!D44/1000/6.25)),0))))","v":0},{"$f":"IFERROR(C116/'Flow sohold'!$D$5,0)","v":0},{"$f":"IF(OR('input-data'!E324=topdowntables!$C$4,'input-data'!E324=topdowntables!$C$9),'Flow sohold'!D5*'Flow sohold'!D129,\nIF(OR('input-data'!E324=topdowntables!$C$5,'input-data'!$E$324=topdowntables!$C$10),0,\nIF((365-'input-data'!F325)>='input-data'!E145,'Flow sohold'!D5*('Flow sohold'!D124*'Flow sohold'!D44/1000),\nIF(OR('input-data'!E324=topdowntables!$C$6,'input-data'!$E$324=topdowntables!$C$11),('Flow sohold'!D5*('Flow sohold'!D118*'Flow sohold'!D45/1000)*(('input-data'!E145-(365-'input-data'!F325))/'input-data'!E145))+('Flow sohold'!D5*('Flow sohold'!D124*'Flow sohold'!D44/1000)),0))))","v":0},{"$f":"IFERROR(E116/'Flow sohold'!$D$5,0)","v":0},null,null,"Opdelt i inde og ude, da mængden tildelt variere mellem ude og inde"]
[null,"     Tildelt inde",{"$f":"IF(OR('input-data'!$E$324=topdowntables!$C$5,'input-data'!$E$324=topdowntables!$C$10),'Flow sohold'!D5*'Flow sohold'!D128,\nIF(OR('input-data'!$E$324=topdowntables!$C$4,'input-data'!$E$324=topdowntables!$C$9),0,\nIF((365-'input-data'!F325)>='input-data'!E145,'Flow sohold'!D5*('Flow sohold'!D117*'Flow sohold'!D45/1000/6.25),\nIF(OR('input-data'!$E$324=topdowntables!$C$6,'input-data'!$E$324=topdowntables!$C$11),'Flow sohold'!D5*('Flow sohold'!D117*'Flow sohold'!D45/1000/6.25)*((365-'input-data'!F325)/'input-data'!E145),0)))\n)","v":0},{"$f":"IFERROR(C117/'Flow sohold'!$D$5,0)","v":0},{"$f":"IF(OR('input-data'!$E$324=topdowntables!$C$5,'input-data'!$E$324=topdowntables!$C$10),'Flow sohold'!D5*'Flow sohold'!D129,\nIF(OR('input-data'!$E$324=topdowntables!$C$4,'input-data'!$E$324=topdowntables!$C$9),0,\nIF((365-'input-data'!F325)>='input-data'!E145,'Flow sohold'!D5*('Flow sohold'!D118*'Flow sohold'!D45/1000),\nIF(OR('input-data'!$E$324=topdowntables!$C$6,'input-data'!$E$324=topdowntables!$C$11),'Flow sohold'!D5*('Flow sohold'!D118*'Flow sohold'!D45/1000)*((365-'input-data'!F325)/'input-data'!E145),0))))","v":0},{"$f":"IFERROR(E117/'Flow sohold'!$D$5,0)","v":0}]
[null," Strøelse:"]
[null,"     Tildelt ude",{"$f":"IF(OR('input-data'!$E$324=topdowntables!$C$4,'input-data'!$E$324=topdowntables!$C$9),'Flow sohold'!D5*'Flow sohold'!D147,\nIF(OR('input-data'!$E$324=topdowntables!$C$5,'input-data'!$E$324=topdowntables!$C$10),0,\nIF(OR('input-data'!$E$324=topdowntables!$C$6,'input-data'!$E$324=topdowntables!$C$11),'Flow sohold'!D5*'Flow sohold'!D147*('input-data'!F325/365),0)))","v":0},{"$f":"IFERROR(C119/'Flow sohold'!$D$5,0)","v":0},{"$f":"IF(OR('input-data'!$E$324=topdowntables!$C$4,'input-data'!$E$324=topdowntables!$C$9),'Flow sohold'!D5*'Flow sohold'!D148,\nIF(OR('input-data'!$E$324=topdowntables!$C$5,'input-data'!$E$324=topdowntables!$C$10),0,\nIF(OR('input-data'!$E$324=topdowntables!$C$6,'input-data'!$E$324=topdowntables!$C$11),'Flow sohold'!D5*'Flow sohold'!D148*('input-data'!F325/365),0)))","v":0},{"$f":"IFERROR(E119/'Flow sohold'!$D$5,0)","v":0},null,null,"Opdelt i inde og ude, da mængden tildelt variere mellem ude og inde"]
[null,"     Tildelt inde",{"$f":"IF(OR('input-data'!$E$324=topdowntables!$C$5,'input-data'!$E$324=topdowntables!$C$10),'Flow sohold'!D5*'Flow sohold'!D147,\nIF(OR('input-data'!$E$324=topdowntables!$C$4,'input-data'!$E$324=topdowntables!$C$9),0,\nIF(OR('input-data'!$E$324=topdowntables!$C$6,'input-data'!$E$324=topdowntables!$C$11),'Flow sohold'!D5*'Flow sohold'!D147*((365-'input-data'!F325)/365),0)))","v":0},{"$f":"IFERROR(C120/'Flow sohold'!$D$5,0)","v":0},{"$f":"IF(OR('input-data'!$E$324=topdowntables!$C$5,'input-data'!$E$324=topdowntables!$C$10),'Flow sohold'!D5*'Flow sohold'!D148,\nIF(OR('input-data'!$E$324=topdowntables!$C$4,'input-data'!$E$324=topdowntables!$C$9),0,\nIF(OR('input-data'!$E$324=topdowntables!$C$6,'input-data'!$E$324=topdowntables!$C$11),'Flow sohold'!D5*'Flow sohold'!D148*((365-'input-data'!F325)/365),0)))","v":0},{"$f":"IFERROR(E120/'Flow sohold'!$D$5,0)","v":0}]
[]
[null,"Ud, kg","N","N","P"]
[null," Dyr:"]
[null,"     Søer, tilvækst",{"$f":"('NPK tal'!$C$15+'NPK tal'!$C$16+'NPK tal'!$C$17+'NPK tal'!$C$19)*'NPK tal'!$B$10/1000*'Flow sohold'!D5","v":0},{"$f":"IFERROR(C124/'Flow sohold'!$D$5,0)","v":0},{"$f":"('NPK tal'!$C$15+'NPK tal'!$C$16+'NPK tal'!$C$17+'NPK tal'!$C$19)*'NPK tal'!$C$10/1000*'Flow sohold'!D5","v":0},{"$f":"IFERROR(E124/'Flow sohold'!$D$5,0)","v":0},null,null,"Tager højde for vægtforskel mellem indsatte polt og afgået søer, samt orner"]
[]
[null,"Ab dyr, kg","N","N","P"]
[null,"     Folden",{"$f":"IF(OR('input-data'!$E$324=topdowntables!$C$4,'input-data'!$E$324=topdowntables!$C$9), C114+C116-C124,\nIF(OR('input-data'!$E$324=topdowntables!$C$5,'input-data'!$E$324=topdowntables!$C$10),0,\nIF(OR('input-data'!$E$324=topdowntables!$C$6,'input-data'!$E$324=topdowntables!$C$11),(C114 *('input-data'!F325/365))-(C124*('input-data'!F325/365))+(C116),0)))","v":0},{"$f":"IFERROR(C127/'Flow sohold'!$D$5,0)","v":0},{"$f":"IF(OR('input-data'!$E$324=topdowntables!$C$4,'input-data'!$E$324=topdowntables!$C$9), E114+E116+E119-E124,\nIF(OR('input-data'!$E$324=topdowntables!$C$5,'input-data'!$E$324=topdowntables!$C$10),0,\nIF(OR('input-data'!$E$324=topdowntables!$C$6,'input-data'!$E$324=topdowntables!$C$11),(E114 *('input-data'!F325/365))-(E124*('input-data'!F325/365))+(E116+E119),0)))","v":0},{"$f":"IFERROR(E127/'Flow sohold'!$D$5,0)","v":0}]
[null,"     Stalden",{"$f":"IF(OR('input-data'!$E$324=topdowntables!$C$5,'input-data'!$E$324=topdowntables!$C$10), C114+C117-C124,\nIF(OR('input-data'!$E$324=topdowntables!$C$4,'input-data'!$E$324=topdowntables!$C$9),0,\nIF(OR('input-data'!$E$324=topdowntables!$C$6,'input-data'!$E$324=topdowntables!$C$11),(C114*((365-'input-data'!F325)/365))-(C124*((365-'input-data'!F325)/365))+(C117),0)))","v":0},{"$f":"IFERROR(C128/'Flow sohold'!$D$5,0)","v":0},{"$f":"IF(OR('input-data'!$E$324=topdowntables!$C$5,'input-data'!$E$324=topdowntables!$C$10), E114+E117+E120-E124,\nIF(OR('input-data'!$E$324=topdowntables!$C$4,'input-data'!$E$324=topdowntables!$C$9),0,\nIF(OR('input-data'!$E$324=topdowntables!$C$6,'input-data'!$E$324=topdowntables!$C$11),(E114*((365-'input-data'!F325)/365))-(E124*((365-'input-data'!F325)/365))+(E117+E120),0)))","v":0},{"$f":"IFERROR(E128/'Flow sohold'!$D$5,0)","v":0}]
[]
[null,"TAN-N, kg","TAN-N","TAN-N"]
[null,"     Folden",{"$f":"IF(OR('input-data'!$E$324=topdowntables!$C$4,'input-data'!$E$324=topdowntables!$C$9), C127-((C114+C116)*(1-('NPK tal'!$B$27/100))),\nIF(OR('input-data'!$E$324=topdowntables!$C$5,'input-data'!$E$324=topdowntables!$C$10),0,\nIF(OR('input-data'!$E$324=topdowntables!$C$6,'input-data'!$E$324=topdowntables!$C$11),\nC127- (((C114+C116)*(1-('NPK tal'!$B$27/100))*('input-data'!F325/365))),0)))","v":0},{"$f":"IFERROR(C131/'Flow sohold'!$D$5,0)","v":0},null,null,null,null,"N ab dyr, kg - (FE per årsso*råprotein per FE/6250*(1-fordøjlighedskoefficienten) (kilde: Svin baggrundsmatriale 2016-2017) "]
[null,"     Stalden",{"$f":"IF(OR('input-data'!$E$324=topdowntables!$C$5,'input-data'!$E$324=topdowntables!$C$10), C128-((C114+C117)*(1-('NPK tal'!B27/100))),\nIF(OR('input-data'!$E$324=topdowntables!$C$4,'input-data'!$E$324=topdowntables!$C$9),0,\nIF(OR('input-data'!$E$324=topdowntables!$C$6,'input-data'!$E$324=topdowntables!$C$11),\nC128-(((C114+C117)*(1-('NPK tal'!B27/100))*((365-'input-data'!F325)/365))),0)))","v":0},{"$f":"IFERROR(C132/'Flow sohold'!$D$5,0)","v":0}]
[]
[null,"Org-N, kg","Org-N","Org-N"]
[null,"     Folden",{"$f":"IF(OR('input-data'!$E$324=topdowntables!$C$4,'input-data'!$E$324=topdowntables!$C$9), C119+((C114+C116)*(1-('NPK tal'!$B$27/100))),\nIF(OR('input-data'!$E$324=topdowntables!$C$5,'input-data'!$E$324=topdowntables!$C$10),0,\nIF(OR('input-data'!$E$324=topdowntables!$C$6,'input-data'!$E$324=topdowntables!$C$11),\nC119+ (((C114+C116)*(1-('NPK tal'!$B$27/100))*('input-data'!F325/365))),0)))","v":0},{"$f":"IFERROR(C135/'Flow sohold'!$D$5,0)","v":0},null,null,null,null,"Organisk N fæces + N strøelse, Dämmgen and Hutchings, 2008"]
[null,"     Stalden",{"$f":"IF(OR('input-data'!$E$324=topdowntables!$C$5,'input-data'!$E$324=topdowntables!$C$10), C120+((C114+C117)*(1-('NPK tal'!B27/100))),\nIF(OR('input-data'!$E$324=topdowntables!$C$4,'input-data'!$E$324=topdowntables!$C$9),0,\nIF(OR('input-data'!$E$324=topdowntables!$C$6,'input-data'!$E$324=topdowntables!$C$11),\nC120+(((C114+C117)*(1-('NPK tal'!B27/100))*((365-'input-data'!F325)/365))),0)))","v":0},{"$f":"IFERROR(C136/'Flow sohold'!$D$5,0)","v":0}]
[]
[null,"N ab fold / stald, kg","N","N"]
[null,"Emission, folden:"]
[null,"   NH3-N",{"$f":"SUM((IFERROR(VLOOKUP('input-data'!E328,'Opstaldingsform-Housing '!$B$30:$O$38,4,FALSE),0))+(IFERROR(VLOOKUP('input-data'!E328,'Opstaldingsform-Housing '!$B$69:$O$75,4,FALSE),0)))*C131","v":0},{"$f":"IFERROR(C140/'Flow sohold'!$D$5,0)","v":0}]
[null,"   N2O-N ",{"$f":"SUM((IFERROR(VLOOKUP('input-data'!E328,'Opstaldingsform-Housing '!$B$30:$O$38,8,FALSE),0))+(IFERROR(VLOOKUP('input-data'!E328,'Opstaldingsform-Housing '!$B$69:$O$75,8,FALSE),0)))*(C131+C135)","v":0},{"$f":"IFERROR(C141/'Flow sohold'!$D$5,0)","v":0}]
[null,"   N2-N",{"$f":"SUM((IFERROR(VLOOKUP('input-data'!E328,'Opstaldingsform-Housing '!$B$30:$O$38,10,FALSE),0))+(IFERROR(VLOOKUP('input-data'!E328,'Opstaldingsform-Housing '!$B$69:$O$75,10,FALSE),0)))*(C131+C135)","v":0},{"$f":"IFERROR(C142/'Flow sohold'!$D$5,0)","v":0}]
[null,"   NOx-N",{"$f":"SUM((IFERROR(VLOOKUP('input-data'!E328,'Opstaldingsform-Housing '!$B$30:$O$38,12,FALSE),0))+(IFERROR(VLOOKUP('input-data'!E328,'Opstaldingsform-Housing '!$B$69:$O$75,12,FALSE),0)))*(C131+C135)","v":0},{"$f":"IFERROR(C143/'Flow sohold'!$D$5,0)","v":0}]
[null,"N ab fold, kg",{"$f":"C131+C135-C140-C141-C142-C143","v":0},{"$f":"IFERROR(C144/'Flow sohold'!$D$5,0)","v":0}]
[]
[null,"Emission, stalden:",null,null,null,null,null,null,"TAN bruges ved beregning af gylle / alje mens TAN-N+Org N dyr bruges ved beregning af total N"]
[null,"   NH3-N",{"$f":"'NPK tal'!B37*(SUM(IFERROR(VLOOKUP('input-data'!E335,'Opstaldingsform-Housing '!$B$7:$O$19,4,FALSE),0))+(IFERROR(VLOOKUP('input-data'!E335,'Opstaldingsform-Housing '!$B$44:$O$56,4,FALSE),0)))*(\nIF(OR('input-data'!$E$335='Opstaldingsform-Housing '!$B$8,'input-data'!$E$335='Opstaldingsform-Housing '!$B$45,\n'input-data'!$E$335='Opstaldingsform-Housing '!$B$9,'input-data'!$E$335='Opstaldingsform-Housing '!$B$46,\n'input-data'!$E$335='Opstaldingsform-Housing '!$B$10,'input-data'!$E$335='Opstaldingsform-Housing '!$B$47),C132+C136,C132))\n+ ('NPK tal'!C37*(SUM(IFERROR(VLOOKUP('input-data'!E336,'Opstaldingsform-Housing '!$B$20:$O$28,4,FALSE),0))+(IFERROR(VLOOKUP('input-data'!E336,'Opstaldingsform-Housing '!$B$57:$O$65,4,FALSE),0)))*C132)","v":0},{"$f":"IFERROR(C147/'Flow sohold'!$D$5,0)","v":0},null,null,null,null,"AP regneark, tager højde for fordelingen ude inde + forskellige gulvtyper ude inde"]
[null,"   N2O-N",{"$f":"'NPK tal'!B37*(SUM(IFERROR(VLOOKUP('input-data'!E335,'Opstaldingsform-Housing '!$B$7:$O$19,8,FALSE),0))+(IFERROR(VLOOKUP('input-data'!E335,'Opstaldingsform-Housing '!$B$44:$O$56,8,FALSE),0)))*(C132+C136)+\n('NPK tal'!C37*(SUM(IFERROR(VLOOKUP('input-data'!E336,'Opstaldingsform-Housing '!$B$20:$O$28,8,FALSE),0))+(IFERROR(VLOOKUP('input-data'!E336,'Opstaldingsform-Housing '!$B$57:$O$65,8,FALSE),0)))*(C132+C136)\n)","v":0},{"$f":"IFERROR(C148/'Flow sohold'!$D$5,0)","v":0},null,null,null,null,"(TAN-N+Org N ab dyr) * emissionfaktor fanblad \"opstaldning….\" (summeret for ude og inde areal, mht. fordelingen af gødning ude/inde)"]
[null,"   N2-N",{"$f":"'NPK tal'!B37*(SUM(IFERROR(VLOOKUP('input-data'!E335,'Opstaldingsform-Housing '!$B$7:$O$19,10,FALSE),0))+(IFERROR(VLOOKUP('input-data'!E335,'Opstaldingsform-Housing '!$B$44:$O$56,10,FALSE),0)))*(C132+C136)+\n('NPK tal'!C37*(SUM(IFERROR(VLOOKUP('input-data'!E336,'Opstaldingsform-Housing '!$B$20:$O$28,10,FALSE),0))+(IFERROR(VLOOKUP('input-data'!E336,'Opstaldingsform-Housing '!$B$57:$O$65,10,FALSE),0)))*(C132+C136))","v":0},{"$f":"IFERROR(C149/'Flow sohold'!$D$5,0)","v":0}]
[null,"   NOx-N",{"$f":"'NPK tal'!B37*(SUM(IFERROR(VLOOKUP('input-data'!E335,'Opstaldingsform-Housing '!$B$7:$O$19,12,FALSE),0))+(IFERROR(VLOOKUP('input-data'!E335,'Opstaldingsform-Housing '!$B$44:$O$56,12,FALSE),0)))*(C132+C136)+\n('NPK tal'!C37*(SUM(IFERROR(VLOOKUP('input-data'!E336,'Opstaldingsform-Housing '!$B$20:$O$28,12,FALSE),0))+(IFERROR(VLOOKUP('input-data'!E336,'Opstaldingsform-Housing '!$B$57:$O$65,12,FALSE),0)))*(C132+C136))","v":0},{"$f":"IFERROR(C150/'Flow sohold'!$D$5,0)","v":0}]
[null,"N ab, stald, kg",{"$f":"C132+C136-C147-C148-C149-C150","v":0},{"$f":"IFERROR(C151/'Flow sohold'!$D$5,0)","v":0}]
[null,"  Heraf:"]
[null,"       N ab stald gylle, kg",{"$f":"'NPK tal'!B37*(C132+C136)*(SUM(IFERROR(VLOOKUP('input-data'!E335,'Opstaldingsform-Housing '!$B$7:$O$19,3,FALSE),0))+(IFERROR(VLOOKUP('input-data'!E335,'Opstaldingsform-Housing '!$B$44:$O$56,3,FALSE),0)))\n+('NPK tal'!C37*(C132+C136)*((SUM(IFERROR(VLOOKUP('input-data'!E336,'Opstaldingsform-Housing '!$B$20:$O$28,3,FALSE),0))+(IFERROR(VLOOKUP('input-data'!E336,'Opstaldingsform-Housing '!$B$57:$O$65,3,FALSE),0)))\n))-(('NPK tal'!B37*(SUM(IFERROR(VLOOKUP('input-data'!E335,'Opstaldingsform-Housing '!$B$7:$O$19,4,FALSE),0))+(IFERROR(VLOOKUP('input-data'!E335,'Opstaldingsform-Housing '!$B$44:$O$56,4,FALSE),0)))*(\nIF(OR('input-data'!$E$335='Opstaldingsform-Housing '!$B$8,'input-data'!$E$335='Opstaldingsform-Housing '!$B$45,\n'input-data'!$E$335='Opstaldingsform-Housing '!$B$9,'input-data'!$E$335='Opstaldingsform-Housing '!$B$46,\n'input-data'!$E$335='Opstaldingsform-Housing '!$B$10,'input-data'!$E$335='Opstaldingsform-Housing '!$B$47),0,C132))\n+ ('NPK tal'!C37*(SUM(IFERROR(VLOOKUP('input-data'!E336,'Opstaldingsform-Housing '!$B$20:$O$28,4,FALSE),0))+(IFERROR(VLOOKUP('input-data'!E336,'Opstaldingsform-Housing '!$B$57:$O$65,4,FALSE),0)))*C132)))-('NPK tal'!B37*(SUM(IFERROR(VLOOKUP('input-data'!E335,'Opstaldingsform-Housing '!$B$7:$O$19,8,FALSE),0))+(IFERROR(VLOOKUP('input-data'!E335,'Opstaldingsform-Housing '!$B$44:$O$56,8,FALSE),0)))*(\nIF(OR('input-data'!$E$335='Opstaldingsform-Housing '!$B$8,'input-data'!$E$335='Opstaldingsform-Housing '!$B$45,\n'input-data'!$E$335='Opstaldingsform-Housing '!$B$9,'input-data'!$E$335='Opstaldingsform-Housing '!$B$46,\n'input-data'!$E$335='Opstaldingsform-Housing '!$B$10,'input-data'!$E$335='Opstaldingsform-Housing '!$B$47),0,C132+C136))+\n('NPK tal'!C37*(SUM(IFERROR(VLOOKUP('input-data'!E336,'Opstaldingsform-Housing '!$B$20:$O$28,8,FALSE),0))+(IFERROR(VLOOKUP('input-data'!E336,'Opstaldingsform-Housing '!$B$57:$O$65,8,FALSE),0)))*(C132+C136)))-(('NPK tal'!B37*(SUM(IFERROR(VLOOKUP('input-data'!E335,'Opstaldingsform-Housing '!$B$7:$O$19,10,FALSE),0))+(IFERROR(VLOOKUP('input-data'!E335,'Opstaldingsform-Housing '!$B$44:$O$56,10,FALSE),0)))*\nIF(OR('input-data'!$E$335='Opstaldingsform-Housing '!$B$8,'input-data'!$E$335='Opstaldingsform-Housing '!$B$45,\n'input-data'!$E$335='Opstaldingsform-Housing '!$B$9,'input-data'!$E$335='Opstaldingsform-Housing '!$B$46,\n'input-data'!$E$335='Opstaldingsform-Housing '!$B$10,'input-data'!$E$335='Opstaldingsform-Housing '!$B$47),0,C132+C136))+\n('NPK tal'!C37*(SUM(IFERROR(VLOOKUP('input-data'!E336,'Opstaldingsform-Housing '!$B$20:$O$28,10,FALSE),0))+(IFERROR(VLOOKUP('input-data'!E336,'Opstaldingsform-Housing '!$B$57:$O$65,10,FALSE),0)))*(C132+C136)))-('NPK tal'!B37*(SUM(IFERROR(VLOOKUP('input-data'!E335,'Opstaldingsform-Housing '!$B$7:$O$19,12,FALSE),0))+(IFERROR(VLOOKUP('input-data'!E335,'Opstaldingsform-Housing '!$B$44:$O$56,12,FALSE),0)))*\nIF(OR('input-data'!$E$335='Opstaldingsform-Housing '!$B$8,'input-data'!$E$335='Opstaldingsform-Housing '!$B$45,\n'input-data'!$E$335='Opstaldingsform-Housing '!$B$9,'input-data'!$E$335='Opstaldingsform-Housing '!$B$46,\n'input-data'!$E$335='Opstaldingsform-Housing '!$B$10,'input-data'!$E$335='Opstaldingsform-Housing '!$B$47),0,(C132+C136))+\n('NPK tal'!C37*(SUM(IFERROR(VLOOKUP('input-data'!E336,'Opstaldingsform-Housing '!$B$20:$O$28,12,FALSE),0))+(IFERROR(VLOOKUP('input-data'!E336,'Opstaldingsform-Housing '!$B$57:$O$65,12,FALSE),0)))*(C132+C136)))","v":0},{"$f":"IFERROR(C153/'Flow sohold'!$D$5,0)","v":0}]
[null,"       N ab stald dybstrøelse, kg",{"$f":"'NPK tal'!B37*(C132+C136)*(1-SUM(IFERROR(VLOOKUP('input-data'!E335,'Opstaldingsform-Housing '!$B$7:$O$19,3,FALSE),0))+(IFERROR(VLOOKUP('input-data'!E335,'Opstaldingsform-Housing '!$B$44:$O$56,3,FALSE),0)))\n+ ('NPK tal'!C37*(C132+C136)*(1-SUM(IFERROR(VLOOKUP('input-data'!E336,'Opstaldingsform-Housing '!$B$20:$O$28,3,FALSE),0))+(IFERROR(VLOOKUP('input-data'!E336,'Opstaldingsform-Housing '!$B$57:$O$65,3,FALSE),0))))-('NPK tal'!B37*(SUM(IFERROR(VLOOKUP('input-data'!E335,'Opstaldingsform-Housing '!$B$7:$O$19,4,FALSE),0))+(IFERROR(VLOOKUP('input-data'!E335,'Opstaldingsform-Housing '!$B$44:$O$56,4,FALSE),0)))*(\nIF(OR('input-data'!$E$335='Opstaldingsform-Housing '!$B$8,'input-data'!$E$335='Opstaldingsform-Housing '!$B$45,\n'input-data'!$E$335='Opstaldingsform-Housing '!$B$9,'input-data'!$E$335='Opstaldingsform-Housing '!$B$46,\n'input-data'!$E$335='Opstaldingsform-Housing '!$B$10,'input-data'!$E$335='Opstaldingsform-Housing '!$B$47),C132+C136,0)))-('NPK tal'!B37*(SUM(IFERROR(VLOOKUP('input-data'!E335,'Opstaldingsform-Housing '!$B$7:$O$19,8,FALSE),0))+(IFERROR(VLOOKUP('input-data'!E335,'Opstaldingsform-Housing '!$B$44:$O$56,8,FALSE),0)))*(\nIF(OR('input-data'!$E$335='Opstaldingsform-Housing '!$B$8,'input-data'!$E$335='Opstaldingsform-Housing '!$B$45,\n'input-data'!$E$335='Opstaldingsform-Housing '!$B$9,'input-data'!$E$335='Opstaldingsform-Housing '!$B$46,\n'input-data'!$E$335='Opstaldingsform-Housing '!$B$10,'input-data'!$E$335='Opstaldingsform-Housing '!$B$47),C132+C136,0)))-('NPK tal'!B37*(SUM(IFERROR(VLOOKUP('input-data'!E335,'Opstaldingsform-Housing '!$B$7:$O$19,10,FALSE),0))+(IFERROR(VLOOKUP('input-data'!E335,'Opstaldingsform-Housing '!$B$44:$O$56,10,FALSE),0)))*\nIF(OR('input-data'!$E$335='Opstaldingsform-Housing '!$B$8,'input-data'!$E$335='Opstaldingsform-Housing '!$B$45,\n'input-data'!$E$335='Opstaldingsform-Housing '!$B$9,'input-data'!$E$335='Opstaldingsform-Housing '!$B$46,\n'input-data'!$E$335='Opstaldingsform-Housing '!$B$10,'input-data'!$E$335='Opstaldingsform-Housing '!$B$47),C132+C136,0))-('NPK tal'!B37*(SUM(IFERROR(VLOOKUP('input-data'!E335,'Opstaldingsform-Housing '!$B$7:$O$19,12,FALSE),0))+(IFERROR(VLOOKUP('input-data'!E335,'Opstaldingsform-Housing '!$B$44:$O$56,12,FALSE),0)))*\nIF(OR('input-data'!$E$335='Opstaldingsform-Housing '!$B$8,'input-data'!$E$335='Opstaldingsform-Housing '!$B$45,\n'input-data'!$E$335='Opstaldingsform-Housing '!$B$9,'input-data'!$E$335='Opstaldingsform-Housing '!$B$46,\n'input-data'!$E$335='Opstaldingsform-Housing '!$B$10,'input-data'!$E$335='Opstaldingsform-Housing '!$B$47),(C132+C136),0))","v":0},{"$f":"IFERROR(C154/'Flow sohold'!$D$5,0)","v":0}]
[]
[null,"N ab lager, kg","N","N"]
[null,"Lager, gylletank:"]
[null,"   NH3-N",{"$f":"IFERROR(IF(OR('input-data'!$E$324=topdowntables!$C$4, 'input-data'!$E$324=topdowntables!$C$9),0,(0.95*(C153-((C153*'input-data'!E341/100)+(C153-(C153*'input-data'!E341/100))*(C153/(C153+C154))*'input-data'!E340/100))*(SUM(IFERROR(VLOOKUP('input-data'!E392,'Lagring-Storage'!B6:M11,3,FALSE),0))+(IFERROR(VLOOKUP('input-data'!E392,'Opstaldingsform-Housing '!$B$46:$O$51,3,FALSE),0)))\n+(0.05*(C153-((C153*'input-data'!E341/100)+(C153-(C153*'input-data'!E341/100))*(C153/(C153+C154))*'input-data'!E340/100))*'Lagring-Storage'!$D$7))),0)","v":0},{"$f":"IFERROR(C158/'Flow sohold'!$D$5,0)","v":0}]
[null,"   N2O-N ",{"$f":"IFERROR(IF(OR('input-data'!$E$324=topdowntables!$C$4, 'input-data'!$E$324=topdowntables!$C$9),0,(0.95*(C153-((C153*'input-data'!E341/100)+(C153-(C153*'input-data'!E341/100))*(C153/(C153+C154))*'input-data'!E340/100))*(SUM(IFERROR(VLOOKUP('input-data'!E392,'Lagring-Storage'!B6:M11,5,FALSE),0))+(IFERROR(VLOOKUP('input-data'!E392,'Opstaldingsform-Housing '!$B$46:$O$51,5,FALSE),0)))\n+(0.05*(C153-((C153*'input-data'!E341/100)+(C153-(C153*'input-data'!E341/100))*(C153/(C153+C154))*'input-data'!E340/100))*'Lagring-Storage'!$F$7))),0)","v":0},{"$f":"IFERROR(C159/'Flow sohold'!$D$5,0)","v":0}]
[null,"   N2-N",{"$f":"IFERROR(IF(OR('input-data'!$E$324=topdowntables!$C$4, 'input-data'!$E$324=topdowntables!$C$9),0,(0.95*(C153-((C153*'input-data'!E341/100)+(C153-(C153*'input-data'!E341/100))*(C153/(C153+C154))*'input-data'!E340/100))*(SUM(IFERROR(VLOOKUP('input-data'!E392,'Lagring-Storage'!B6:M11,7,FALSE),0))+(IFERROR(VLOOKUP('input-data'!E392,'Opstaldingsform-Housing '!$B$46:$O$51,7,FALSE),0)))\n+(0.05*(C153-((C153*'input-data'!E341/100)+(C153-(C153*'input-data'!E341/100))*(C153/(C153+C154))*'input-data'!E340/100))*'Lagring-Storage'!$H$7))),0)","v":0},{"$f":"IFERROR(C160/'Flow sohold'!$D$5,0)","v":0}]
[null,"   NOx",{"$f":"IFERROR(IF(OR('input-data'!$E$324=topdowntables!$C$4, 'input-data'!$E$324=topdowntables!$C$9),0,(0.95*(C153-((C153*'input-data'!E341/100)+(C153-(C153*'input-data'!E341/100))*(C153/(C153+C154))*'input-data'!E340/100))*(SUM(IFERROR(VLOOKUP('input-data'!E392,'Lagring-Storage'!B6:M11,9,FALSE),0))+(IFERROR(VLOOKUP('input-data'!E392,'Opstaldingsform-Housing '!$B$46:$O$51,9,FALSE),0)))\n+(0.05*(C153-((C153*'input-data'!E341/100)+(C153-(C153*'input-data'!E341/100))*(C153/(C153+C154))*'input-data'!E340/100))*'Lagring-Storage'!$J$7))),0)","v":0},{"$f":"IFERROR(C161/'Flow sohold'!$D$5,0)","v":0}]
[null,"N ab lager, gylletank:",{"$f":"IFERROR(IF(OR('input-data'!$E$324=topdowntables!$C$4, 'input-data'!$E$324=topdowntables!$C$9),0,(C153-((C153*'input-data'!E341/100)+(C153-(C153*'input-data'!E341/100))*(C153/(C153+C154))*'input-data'!E340/100)-(C158+C159+C160+C161))),0)","v":0},{"$f":"IFERROR(C162/'Flow sohold'!$D$5,0)","v":0}]
[]
[null,"Lager, dybstrøelse:"]
[null,"   NH3-N",{"$f":"IFERROR(IF(OR('input-data'!$E$324=topdowntables!$C$4, 'input-data'!$E$324=topdowntables!$C$9),0,((0.95*(C154-((C154*'input-data'!E342/100)+((C154-(C154*'input-data'!E342/100))*(C154/(C153+C154))*'input-data'!E340/100)))*(SUM(IFERROR(VLOOKUP('input-data'!E393,'Lagring-Storage'!B33:M36,3,FALSE),0))+(IFERROR(VLOOKUP('input-data'!E393,'Opstaldingsform-Housing '!$B$71:$O$75,3,FALSE),0))))\n+(0.05*( C154-((C154*'input-data'!E342/100)+((C154-(C154*'input-data'!E342/100))*(C154/(C153+C154))*'input-data'!E340/100)))*'Lagring-Storage'!$D$34))),0)","v":0},{"$f":"IFERROR(C165/'Flow sohold'!$D$5,0)","v":0}]
[null,"   N2O-N ",{"$f":"IFERROR(IF(OR('input-data'!$E$324=topdowntables!$C$4, 'input-data'!$E$324=topdowntables!$C$9),0,((0.95*(C154-((C154*'input-data'!E342/100)+((C154-(C154*'input-data'!E342/100))*(C154/(C153+C154))*'input-data'!E340/100)))*(SUM(IFERROR(VLOOKUP('input-data'!E393,'Lagring-Storage'!B33:M36,5,FALSE),0))+(IFERROR(VLOOKUP('input-data'!E393,'Opstaldingsform-Housing '!$B$71:$O$75,5,FALSE),0))))\n+(0.05*( C154-((C154*'input-data'!E342/100)+((C154-(C154*'input-data'!E342/100))*(C154/(C153+C154))*'input-data'!E340/100)))*'Lagring-Storage'!$F$34))),0)","v":0},{"$f":"IFERROR(C166/'Flow sohold'!$D$5,0)","v":0}]
[null,"   N2-N",{"$f":"IFERROR(IF(OR('input-data'!$E$324=topdowntables!$C$4, 'input-data'!$E$324=topdowntables!$C$9),0,((0.95*(C154-((C154*'input-data'!E342/100)+((C154-(C154*'input-data'!E342/100))*(C154/(C153+C154))*'input-data'!E340/100)))*(SUM(IFERROR(VLOOKUP('input-data'!E393,'Lagring-Storage'!B33:M36,7,FALSE),0))+(IFERROR(VLOOKUP('input-data'!E393,'Opstaldingsform-Housing '!$B$71:$O$75,7,FALSE),0))))\n+(0.05*( C154-((C154*'input-data'!E342/100)+((C154-(C154*'input-data'!E342/100))*(C154/(C153+C154))*'input-data'!E340/100)))*'Lagring-Storage'!$H$34))),0)","v":0},{"$f":"IFERROR(C167/'Flow sohold'!$D$5,0)","v":0}]
[null,"   NOx",{"$f":"IFERROR(IF(OR('input-data'!$E$324=topdowntables!$C$4, 'input-data'!$E$324=topdowntables!$C$9),0,((0.95*(C154-((C154*'input-data'!E342/100)+((C154-(C154*'input-data'!E342/100))*(C154/(C153+C154))*'input-data'!E340/100)))*(SUM(IFERROR(VLOOKUP('input-data'!E393,'Lagring-Storage'!B33:M36,9,FALSE),0))+(IFERROR(VLOOKUP('input-data'!E393,'Opstaldingsform-Housing '!$B$71:$O$75,9,FALSE),0))))\n+(0.05*( C154-((C154*'input-data'!E342/100)+((C154-(C154*'input-data'!E342/100))*(C154/(C153+C154))*'input-data'!E340/100)))*'Lagring-Storage'!$J$34))),0)","v":0},{"$f":"IFERROR(C168/'Flow sohold'!$D$5,0)","v":0}]
[null,"N ab lager, dybstrøelse:",{"$f":"IFERROR(IF(OR('input-data'!$E$324=topdowntables!$C$4, 'input-data'!$E$324=topdowntables!$C$9),0,(C154-((C154*'input-data'!E342/100)+((C154-(C154*'input-data'!E342/100))*(C154/(C153+C154))*'input-data'!E340/100))-(C165+C166+C167+C168))),0)","v":0},{"$f":"IFERROR(C169/'Flow sohold'!$D$5,0)","v":0}]
[]
[null,"Lager, biogas:"]
[null,"   NH3-N",{"$f":"IF(OR('input-data'!$E$324=topdowntables!$C$4, 'input-data'!$E$324=topdowntables!$C$9),0,(IF('input-data'!E340>0,0.95*(((C153-(C153*'input-data'!E341/100))*(C153/(C153+C154))*'input-data'!E340/100)+\n(C154-(C154*'input-data'!E342/100)*(C154/(C153+C154))*'input-data'!E340/100))*(SUM(IFERROR(VLOOKUP('input-data'!E392,'Lagring-Storage'!B6:M11,3,FALSE),0))+(IFERROR(VLOOKUP('input-data'!E392,'Opstaldingsform-Housing '!$B$46:$O$51,3,FALSE),0)))\n+(0.05*(((C153-(C153*'input-data'!E341/100))*(C153/(C153+C154))*'input-data'!E340/100)+\n(C154-(C154*'input-data'!E342/100)*(C154/(C153+C154))*'input-data'!E340/100))*('Lagring-Storage'!$D$13)),0)))","v":0},{"$f":"IFERROR(C172/'Flow sohold'!$D$5,0)","v":0},null,null,null,null,"Antager forsuret gylle ikke kommer i biogas"]
[null,"   N2O-N",{"$f":"IF(OR('input-data'!$E$324=topdowntables!$C$4, 'input-data'!$E$324=topdowntables!$C$9),0,(IF('input-data'!E340>0,0.95*(((C153-(C153*'input-data'!E341/100))*(C153/(C153+C154))*'input-data'!E340/100)+\n(C154-(C154*'input-data'!E342/100)*(C154/(C153+C154))*'input-data'!E340/100))*(SUM(IFERROR(VLOOKUP('input-data'!E392,'Lagring-Storage'!B6:M11,5,FALSE),0))+(IFERROR(VLOOKUP('input-data'!E392,'Opstaldingsform-Housing '!$B$46:$O$51,5,FALSE),0)))\n+(0.05*(((C153-(C153*'input-data'!E341/100))*(C153/(C153+C154))*'input-data'!E340/100)+\n(C154-(C154*'input-data'!E342/100)*(C154/(C153+C154))*'input-data'!E340/100))*('Lagring-Storage'!$F$13)),0)))","v":0},{"$f":"IFERROR(C173/'Flow sohold'!$D$5,0)","v":0}]
[null,"   N2",{"$f":"IF(OR('input-data'!$E$324=topdowntables!$C$4, 'input-data'!$E$324=topdowntables!$C$9),0,(IF('input-data'!E340>0,0.95*(((C153-(C153*'input-data'!E341/100))*(C153/(C153+C154))*'input-data'!E340/100)+\n(C154-(C154*'input-data'!E342/100)*(C154/(C153+C154))*'input-data'!E340/100))*(SUM(IFERROR(VLOOKUP('input-data'!E392,'Lagring-Storage'!B6:M11,7,FALSE),0))+(IFERROR(VLOOKUP('input-data'!E392,'Opstaldingsform-Housing '!$B$46:$O$51,7,FALSE),0)))\n+(0.05*(((C153-(C153*'input-data'!E341/100))*(C153/(C153+C154))*'input-data'!E340/100)+\n(C154-(C154*'input-data'!E342/100)*(C154/(C153+C154))*'input-data'!E340/100))*('Lagring-Storage'!$H$13)),0)))","v":0},{"$f":"IFERROR(C174/'Flow sohold'!$D$5,0)","v":0}]
[null,"   NOx",{"$f":"IF(OR('input-data'!$E$324=topdowntables!$C$4, 'input-data'!$E$324=topdowntables!$C$9),0,(IF('input-data'!E340>0,0.95*(((C153-(C153*'input-data'!E341/100))*(C153/(C153+C154))*'input-data'!E340/100)+\n(C154-(C154*'input-data'!E342/100)*(C154/(C153+C154))*'input-data'!E340/100))*(SUM(IFERROR(VLOOKUP('input-data'!E392,'Lagring-Storage'!B6:M11,9,FALSE),0))+(IFERROR(VLOOKUP('input-data'!E392,'Opstaldingsform-Housing '!$B$46:$O$51,9,FALSE),0)))\n+(0.05*(((C153-(C153*'input-data'!E341/100))*(C153/(C153+C154))*'input-data'!E340/100)+\n(C154-(C154*'input-data'!E342/100)*(C154/(C153+C154))*'input-data'!E340/100))*('Lagring-Storage'!$J$13)),0)))","v":0},{"$f":"IFERROR(C175/'Flow sohold'!$D$5,0)","v":0}]
[null,"N ab lager, biogas",{"$f":"IFERROR(IF(OR('input-data'!$E$324=topdowntables!$C$4, 'input-data'!$E$324=topdowntables!$C$9),0,(((C153-(C153*'input-data'!E341/100))*(C153/(C153+C154))*'input-data'!E340/100)+\n((C154-(C154*'input-data'!E342/100))*(C154/(C153+C154))*'input-data'!E340/100)\n-(C172+C173+C174+C175))),0)","v":0},{"$f":"IFERROR(C176/'Flow sohold'!$D$5,0)","v":0}]
[]
[null,"Lager, forsuringstank:"]
[null,"   NH3-N",{"$f":"0.95*C153*'input-data'!E341/100*(SUM(IFERROR(VLOOKUP('input-data'!E392,'Lagring-Storage'!B17:M22,3,FALSE),0))+(IFERROR(VLOOKUP('input-data'!E392,'Opstaldingsform-Housing '!$B$44:$O$56,3,FALSE),0)))\n+(0.05* C153*'input-data'!E341/100*('Lagring-Storage'!$D$18))","v":0},{"$f":"IFERROR(C179/'Flow sohold'!$D$5,0)","v":0}]
[null,"   N2O-N",{"$f":"0.95*C153*'input-data'!E341/100*(SUM(IFERROR(VLOOKUP('input-data'!E392,'Lagring-Storage'!B17:M22,5,FALSE),0))+(IFERROR(VLOOKUP('input-data'!E392,'Opstaldingsform-Housing '!$B$44:$O$56,5,FALSE),0)))\n+(0.05* C153*'input-data'!E341/100*('Lagring-Storage'!$F$18))","v":0},{"$f":"IFERROR(C180/'Flow sohold'!$D$5,0)","v":0}]
[null,"   N2",{"$f":"0.95*C153*'input-data'!E341/100*(SUM(IFERROR(VLOOKUP('input-data'!E392,'Lagring-Storage'!B17:M22,7,FALSE),0))+(IFERROR(VLOOKUP('input-data'!E392,'Opstaldingsform-Housing '!$B$44:$O$56,7,FALSE),0)))\n+(0.05* C153*'input-data'!E341/100*('Lagring-Storage'!$H$18))","v":0},{"$f":"IFERROR(C181/'Flow sohold'!$D$5,0)","v":0}]
[null,"   NOx",{"$f":"0.95*C153*'input-data'!E341/100*(SUM(IFERROR(VLOOKUP('input-data'!E392,'Lagring-Storage'!B17:M22,9,FALSE),0))+(IFERROR(VLOOKUP('input-data'!E392,'Opstaldingsform-Housing '!$B$44:$O$56,9,FALSE),0)))\n+(0.05* C153*'input-data'!E341/100*('Lagring-Storage'!$J$18))","v":0},{"$f":"IFERROR(C182/'Flow sohold'!$D$5,0)","v":0}]
[null,"N ab lager, forsuringstank",{"$f":"C153*'input-data'!E341/100-(C179+C180+C181+C182)","v":0},{"$f":"IFERROR(C183/'Flow sohold'!$D$5,0)","v":0}]
[]
[null,"N ab mark, kg","N","N",null,null,null,null,"IKKE TAGET HØJDE FOR AT NOGET SÆLGES - skal tages fra den samlede bedrift"]
[null,"Alm, gylle"]
[null,"   NH3-N",{"$f":"C162*'Udbringning af gylleApplication'!C6","v":0},{"$f":"IFERROR(C187/'Flow sohold'!$D$5,0)","v":0}]
[null,"   N2O-N Denitrifikation",{"$f":"C162*'Udbringning af gylleApplication'!E6","v":0},{"$f":"IFERROR(C188/'Flow sohold'!$D$5,0)","v":0}]
[null,"   N2",{"$f":"C162*'Udbringning af gylleApplication'!G6","v":0},{"$f":"IFERROR(C189/'Flow sohold'!$D$5,0)","v":0}]
[null,"   NOx",{"$f":"C162*'Udbringning af gylleApplication'!I6","v":0},{"$f":"IFERROR(C190/'Flow sohold'!$D$5,0)","v":0}]
[null,"N ab mark, gylle:",{"$f":"C162-(C187+C188+C189+C190)","v":0},{"$f":"IFERROR(C191/'Flow sohold'!$D$5,0)","v":0}]
[]
[null,"Dybstrøelse"]
[null,"   NH3-N",{"$f":"C169*'Udbringning af gylleApplication'!C9","v":0},{"$f":"IFERROR(C194/'Flow sohold'!$D$5,0)","v":0}]
[null,"   N2O-N Denitrifikation",{"$f":"C169*'Udbringning af gylleApplication'!E9","v":0},{"$f":"IFERROR(C195/'Flow sohold'!$D$5,0)","v":0}]
[null,"   N2",{"$f":"C169*'Udbringning af gylleApplication'!G9","v":0},{"$f":"IFERROR(C196/'Flow sohold'!$D$5,0)","v":0}]
[null,"   NOx",{"$f":"C169*'Udbringning af gylleApplication'!I9","v":0},{"$f":"IFERROR(C197/'Flow sohold'!$D$5,0)","v":0}]
[null,"N ab mark, dybstrøelse:",{"$f":"C169-(C194+C195+C196+C197)+(C154*'input-data'!E488/100)","v":0},{"$f":"IFERROR(C198/'Flow sohold'!$D$5,0)","v":0},null,null,null,null,"inkl. direkte udbragt"]
[]
[null,"Afgasset gylle"]
[null,"   NH3-N",{"$f":"C176*'Udbringning af gylleApplication'!C7","v":0},{"$f":"IFERROR(C201/'Flow sohold'!$D$5,0)","v":0}]
[null,"   N2O-N Denitrifikation",{"$f":"C176*'Udbringning af gylleApplication'!E7","v":0},{"$f":"IFERROR(C202/'Flow sohold'!$D$5,0)","v":0}]
[null,"   N2",{"$f":"C176*'Udbringning af gylleApplication'!G7","v":0},{"$f":"IFERROR(C203/'Flow sohold'!$D$5,0)","v":0}]
[null,"   NOx",{"$f":"C176*'Udbringning af gylleApplication'!I7","v":0},{"$f":"IFERROR(C204/'Flow sohold'!$D$5,0)","v":0}]
[null,"N ab mark, afgassetgylle",{"$f":"C176-(C201+C202+C203+C204)","v":0},{"$f":"IFERROR(C205/'Flow sohold'!$D$5,0)","v":0}]
[]
[null,"Forsuret gylle"]
[null,"   NH3-N",{"$f":"C183*'Udbringning af gylleApplication'!C8","v":0},{"$f":"IFERROR(C208/'Flow sohold'!$D$5,0)","v":0}]
[null,"   N2O-N Denitrifikation",{"$f":"C183*'Udbringning af gylleApplication'!E8","v":0},{"$f":"IFERROR(C209/'Flow sohold'!$D$5,0)","v":0}]
[null,"   N2",{"$f":"C183*'Udbringning af gylleApplication'!G8","v":0},{"$f":"IFERROR(C210/'Flow sohold'!$D$5,0)","v":0}]
[null,"   NOx",{"$f":"C183*'Udbringning af gylleApplication'!I8","v":0},{"$f":"IFERROR(C211/'Flow sohold'!$D$5,0)","v":0}]
[null,"N ab lager, forsuringstank",{"$f":"C183-(C208+C209+C210+C211)","v":0},{"$f":"IFERROR(C212/'Flow sohold'!$D$5,0)","v":0}]

{"sheet":"N-P balance smågrise","index":14,"n_rows":108,"n_cols":8,"rows_kept":108,"cut":false,"hidden":false,"merged":[]}
[null,"N-BALANCEN ","STANDARD",null,null,null,null,"Kilder til standardtal / bemærkninger"]
[]
[null,"Smågrisefolden / Smågrisestalden",{"$f":"IF(topdowntables!$N$4=1, \"Total\", \"Total\")","v":"Total"},{"$f":"IF(topdowntables!$N$4=1, \"per produceret smågris\", \"Per produced piglet\")","v":"per produceret smågris"},{"$f":"IF(topdowntables!$N$4=1, \"Total\", \"Total\")","v":"Total"},{"$f":"IF(topdowntables!$N$4=1, \"per produceret smågris\", \"Per produced piglet\")","v":"per produceret smågris"}]
[null,"Ind, kg:","N","N","P","P"]
[null," Dyr:"]
[null,"      Dyr, indsat",{"$f":"IF('input-data'!E30=0, 0, 'NPK tal'!$B$5/1000*'Flow smågrise'!D7*('Flow smågrise'!D5+'Flow smågrise'!D6))","v":0},{"$f":"IFERROR(C6/'Flow smågrise'!$D$9,0)","v":0},{"$f":"IF('input-data'!E30=0, 0, 'NPK tal'!$C$5/1000*'Flow smågrise'!D7*('Flow smågrise'!D5+'Flow smågrise'!D6))","v":0},{"$f":"IFERROR(E6/'Flow smågrise'!$D$9,0)","v":0},null,"Vægt ind*N per kg tilvækst* antal overførte"]
[null," Kraftfoder:"]
[null,"      Tildelt ude",{"$f":"'Flow smågrise'!D66*'Flow smågrise'!D9","v":0},{"$f":"IFERROR(C8/'Flow smågrise'!$D$9,0)","v":0},{"$f":"'Flow smågrise'!D67*'Flow smågrise'!D9","v":0},{"$f":"IFERROR(E8/'Flow smågrise'!$D$9,0)","v":0},null,"N per produceret, kg * antal produceret"]
[null,"      Tildelt inde",{"$f":"'Flow smågrise'!D71*'Flow smågrise'!D9","v":0},{"$f":"IFERROR(C9/'Flow smågrise'!$D$9,0)","v":0},{"$f":"'Flow smågrise'!D72*'Flow smågrise'!D9","v":0},{"$f":"IFERROR(E9/'Flow smågrise'!$D$9,0)","v":0},null,"N per produceret, kg * antal produceret"]
[null," Grovfoder:"]
[null,"     Tildelt ude inkl. Græs",{"$f":"'Flow smågrise'!D88*'Flow smågrise'!D9","v":0},{"$f":"IFERROR(C11/'Flow smågrise'!$D$9,0)","v":0},{"$f":"'Flow smågrise'!D89*'Flow smågrise'!D9","v":0},{"$f":"IFERROR(E11/'Flow smågrise'!$D$9,0)","v":0},null,"Opdelt i inde og ude, da mængden tildelt variere mellem ude og inde"]
[null,"     Tildelt inde",{"$f":"'Flow smågrise'!D93*'Flow smågrise'!D9","v":0},{"$f":"IFERROR(C12/'Flow smågrise'!$D$9,0)","v":0},{"$f":"'Flow smågrise'!D94*'Flow smågrise'!D9","v":0},{"$f":"IFERROR(E12/'Flow smågrise'!$D$9,0)","v":0}]
[null," Strøelse:"]
[null,"     Tildelt ude",{"$f":"'Flow smågrise'!D102*'Flow smågrise'!D9","v":0},{"$f":"IFERROR(C14/'Flow smågrise'!$D$9,0)","v":0},{"$f":"'Flow smågrise'!D103*'Flow smågrise'!D9","v":0},{"$f":"IFERROR(E14/'Flow smågrise'!$D$9,0)","v":0},null,"Opdelt i inde og ude, da mængden tildelt variere mellem ude og inde"]
[null,"     Tildelt inde",{"$f":"'Flow smågrise'!D107*'Flow smågrise'!D9","v":0},{"$f":"IFERROR(C15/'Flow smågrise'!$D$9,0)","v":0},{"$f":"'Flow smågrise'!D108*'Flow smågrise'!D9","v":0},{"$f":"IFERROR(E15/'Flow smågrise'!$D$9,0)","v":0}]
[]
[null,"Ud, kg","N","N","P","P"]
[null," Dyr:"]
[null,"     Smågrise, overførte/solgte",{"$f":"IF('input-data'!E30=0, 0, ('Flow smågrise'!D12+'Flow smågrise'!D11)*'Flow smågrise'!D13*('NPK tal'!$B$6/1000))","v":0},{"$f":"IFERROR(C19/'Flow smågrise'!$D$9,0)","v":0},{"$f":"IF('input-data'!E30=0, 0,('Flow smågrise'!D12+'Flow smågrise'!D11)*'Flow smågrise'!D13*('NPK tal'!$C$6/1000))","v":0},{"$f":"IFERROR(E19/'Flow smågrise'!$D$9,0)","v":0},null,"Produceret per år*vægt afgang*N per kg slagtesvin"]
[null,"    Smågrise, døde",{"$f":"'Flow smågrise'!D8*(('Flow smågrise'!D13-'Flow smågrise'!D7)/2)*'NPK tal'!$B$6/1000","v":0},{"$f":"IFERROR(C20/'Flow smågrise'!$D$9,0)","v":0},{"$f":"'Flow smågrise'!D8*(('Flow smågrise'!D13-'Flow smågrise'!D7)/2)*'NPK tal'!$C$6/1000","v":0},{"$f":"IFERROR(E20/'Flow smågrise'!$D$9,0)","v":0},null,"Antal døde* 0,2*Vægt afgang*N per kg slagtesvin"]
[]
[null,"Ab dyr, kg","N","N","p","P",null,"N dyr og N foder"]
[null,"     Folden",{"$f":"IF(OR('input-data'!$E$346=topdowntables!$C$14,'input-data'!$E$346=topdowntables!$C$19),0,\nIF(OR('input-data'!$E$346=topdowntables!$C$15,'input-data'!$E$346=topdowntables!$C$20), C6+C8+C11-(C19+C20),\nIF(OR('input-data'!$E$346=topdowntables!$C$16,'input-data'!$E$346=topdowntables!$C$21), (C6+C8+C11)-(('Flow smågrise'!D5+'Flow smågrise'!D6)*'input-data'!F347*'NPK tal'!$B$6/1000+(0.5*C20)),0)))","v":0},{"$f":"IFERROR(C23/'Flow smågrise'!$D$9,0)","v":0},{"$f":"IF(OR('input-data'!$E$346=topdowntables!$C$14,'input-data'!$E$346=topdowntables!$C$19),0,\nIF(OR('input-data'!$E$346=topdowntables!$C$15,'input-data'!$E$346=topdowntables!$C$20), E6+E8+E11+E14-(E19+E20),\nIF(OR('input-data'!$E$346=topdowntables!$C$16,'input-data'!$E$346=topdowntables!$C$21), (E6+E8+E11+E14)-(('Flow smågrise'!D5+'Flow smågrise'!D6)*'input-data'!F347*'NPK tal'!$C$6/1000+(0.5*E20)),0)))","v":0},{"$f":"IFERROR(E23/'Flow smågrise'!$D$9,0)","v":0}]
[null,"     Stalden",{"$f":"IF(OR('input-data'!$E$346=topdowntables!$C$14,'input-data'!$E$346=topdowntables!$C$19), C6+C9+C12-(C19+C20),\nIF(OR('input-data'!$E$346=topdowntables!$C$15,'input-data'!$E$346=topdowntables!$C$20),0,\nIF(OR('input-data'!$E$346=topdowntables!$C$16,'input-data'!$E$346=topdowntables!$C$21),((('Flow smågrise'!D5+'Flow smågrise'!D6)*'input-data'!F347*'NPK tal'!$B$6/1000)+C9+C12)-(C19+(0.5*C20)),0)))","v":0},{"$f":"IFERROR(C24/'Flow smågrise'!$D$9,0)","v":0},{"$f":"IF(OR('input-data'!$E$346=topdowntables!$C$14,'input-data'!$E$346=topdowntables!$C$19), E6+E9+E12+E15-(E19+E20),\nIF(OR('input-data'!$E$346=topdowntables!$C$15,'input-data'!$E$346=topdowntables!$C$20),0,\nIF(OR('input-data'!$E$346=topdowntables!$C$16,'input-data'!$E$346=topdowntables!$C$21),((('Flow smågrise'!D5+'Flow smågrise'!D6)*'input-data'!F347*'NPK tal'!$C$6/1000)+E9+E12)-(E19+(0.5*E20)),0)))","v":0},{"$f":"IFERROR(E24/'Flow smågrise'!$D$9,0)","v":0}]
[]
[null,"TAN-N, kg","TAN-N","TAN-N",null,null,null,"Totalammonium (indholdet i urin)"]
[null,"     Folden",{"$f":"IF(OR('input-data'!$E$346=topdowntables!$C$14,'input-data'!$E$346=topdowntables!$C$19),0,\nIF(OR('input-data'!$E$346=topdowntables!$C$15,'input-data'!$E$346=topdowntables!$C$20), C23-((C8+C11)*(1-('NPK tal'!B28/100))),\nIF(OR('input-data'!$E$346=topdowntables!$C$16,'input-data'!$E$346=topdowntables!$C$21),\nC23-((C8+C11)*(1-('NPK tal'!B28/100))),0)))","v":0},{"$f":"IFERROR(C27/'Flow smågrise'!$D$9,0)","v":0},null,null,null,"N ab dyr, kg - (FE per kg tilvækst*råprotein g per FE/6250*(1-fordøjlighedskoefficienten) (kilde: Svin baggrundsmatriale 2016-2017) "]
[null,"     Stalden",{"$f":"IF(OR('input-data'!$E$346=topdowntables!$C$14,'input-data'!$E$346=topdowntables!$C$19),C24-((C9+C12)*(1-('NPK tal'!B28/100))),\nIF(OR('input-data'!$E$346=topdowntables!$C$15,'input-data'!$E$346=topdowntables!$C$20),0,\nIF(OR('input-data'!$E$346=topdowntables!$C$16,'input-data'!$E$346=topdowntables!$C$21),\n C24-((C9+C12)*(1-('NPK tal'!B28/100))),0)))","v":0},{"$f":"IFERROR(C28/'Flow smågrise'!$D$9,0)","v":0},null,null,null,"Fordøjlighedskoefficienterne er baseret på typisk foder - hvad med grovfodret? (antager de ikke æder halm)"]
[]
[null,"Org-N, kg","Org-N","Org-N"]
[null,"     Folden",{"$f":"IF(OR('input-data'!$E$346=topdowntables!$C$14,'input-data'!$E$346=topdowntables!$C$19),0,\nIF(OR('input-data'!$E$346=topdowntables!$C$15,'input-data'!$E$346=topdowntables!$C$20),C14+((C8+C11)*(1-('NPK tal'!B28/100))),\nIF(OR('input-data'!$E$346=topdowntables!$C$16,'input-data'!$E$346=topdowntables!$C$21),\nC14+((C8+C11)*(1-('NPK tal'!B28/100))),0)))","v":0},{"$f":"IFERROR(C31/'Flow smågrise'!$D$9,0)","v":0},null,null,null,"Organisk N fæces + N strøelse, Dämmgen and Hutchings, 2008"]
[null,"     Stalden",{"$f":"IF(OR('input-data'!$E$346=topdowntables!$C$14,'input-data'!$E$346=topdowntables!$C$19),C15+((C9+C12)*(1-('NPK tal'!B28/100))),\nIF(OR('input-data'!$E$346=topdowntables!$C$15,'input-data'!$E$346=topdowntables!$C$20),0,\nIF(OR('input-data'!$E$346=topdowntables!$C$16,'input-data'!$E$346=topdowntables!$C$21),\n C15+((C9+C12)*(1-('NPK tal'!B28/100))),0)))","v":0},{"$f":"IFERROR(C32/'Flow smågrise'!$D$9,0)","v":0}]
[]
[null,"N ab fold /  stald, kg","N","N"]
[null,"Emission, folden:"]
[null,"   NH3-N",{"$f":"SUM((IFERROR(VLOOKUP('input-data'!E350,'Opstaldingsform-Housing '!$B$30:$O$38,4,FALSE),0))+(IFERROR(VLOOKUP('input-data'!E350,'Opstaldingsform-Housing '!$B$69:$O$75,4,FALSE),0)))*C27","v":0},{"$f":"IFERROR(C36/'Flow smågrise'!$D$9,0)","v":0},null,null,null,"TAN bruges ved beregning af gylle / alje mens Tan + Org. N bruges ved beregning ved dybstrøelse"]
[null,"   N2O-N ",{"$f":"SUM((IFERROR(VLOOKUP('input-data'!E350,'Opstaldingsform-Housing '!$B$30:$O$38,8,FALSE),0))+(IFERROR(VLOOKUP('input-data'!E350,'Opstaldingsform-Housing '!$B$69:$O$75,8,FALSE),0)))*(C27+C31)","v":0},{"$f":"IFERROR(C37/'Flow smågrise'!$D$9,0)","v":0},null,null,null,"AP regneark, tager højde for fordelingen ude inde + forskellige gulvtyper ude inde"]
[null,"   N2-N",{"$f":"SUM((IFERROR(VLOOKUP('input-data'!E350,'Opstaldingsform-Housing '!$B$30:$O$38,10,FALSE),0))+(IFERROR(VLOOKUP('input-data'!E350,'Opstaldingsform-Housing '!$B$69:$O$75,10,FALSE),0)))*(C27+C31)","v":0},{"$f":"IFERROR(C38/'Flow smågrise'!$D$9,0)","v":0},null,null,null,"(TAN-N + Org-N) * emissionfaktor fanblad \"opstaldning….\" (summeret for ude og inde areal, mht. fordelingen af gødning ude/inde)"]
[null,"   NOx-N",{"$f":"SUM((IFERROR(VLOOKUP('input-data'!E350,'Opstaldingsform-Housing '!$B$30:$O$38,12,FALSE),0))+(IFERROR(VLOOKUP('input-data'!E350,'Opstaldingsform-Housing '!$B$69:$O$75,12,FALSE),0)))*(C27+C31)","v":0},{"$f":"IFERROR(C39/'Flow smågrise'!$D$9,0)","v":0}]
[null,"N ab fold, kg",{"$f":"C27+C31-C36-C37-C38-C39","v":0},{"$f":"IFERROR(C40/'Flow smågrise'!$D$9,0)","v":0}]
[]
[null,"Emission, stalden:"]
[null,"   NH3-N",{"$f":"'NPK tal'!B40*(SUM(IFERROR(VLOOKUP('input-data'!E357,'Opstaldingsform-Housing '!$B$7:$O$19,4,FALSE),0))+(IFERROR(VLOOKUP('input-data'!E357,'Opstaldingsform-Housing '!$B$44:$O$56,4,FALSE),0)))*(\nIF(OR('input-data'!$E$357='Opstaldingsform-Housing '!$B$8,'input-data'!$E$357='Opstaldingsform-Housing '!$B$45,\n'input-data'!$E$357='Opstaldingsform-Housing '!$B$9,'input-data'!$E$357='Opstaldingsform-Housing '!$B$46,\n'input-data'!$E$357='Opstaldingsform-Housing '!$B$10,'input-data'!$E$357='Opstaldingsform-Housing '!$B$47),(C28+C32),C28))\n+ ('NPK tal'!C40*(SUM(IFERROR(VLOOKUP('input-data'!E358,'Opstaldingsform-Housing '!$B$20:$O$28,4,FALSE),0))+(IFERROR(VLOOKUP('input-data'!E358,'Opstaldingsform-Housing '!$B$57:$O$65,4,FALSE),0)))*C28)","v":0},{"$f":"IFERROR(C43/'Flow smågrise'!$D$9,0)","v":0}]
[null,"   N2O-N",{"$f":"'NPK tal'!B40*(SUM((IFERROR(VLOOKUP('input-data'!E357,'Opstaldingsform-Housing '!$B$7:$O$19,8,FALSE),0))+(IFERROR(VLOOKUP('input-data'!E357,'Opstaldingsform-Housing '!$B$44:$O$56,8,FALSE),0)))*(C28+C32))+\n('NPK tal'!C40*(SUM((IFERROR(VLOOKUP('input-data'!E358,'Opstaldingsform-Housing '!$B$20:$O$28,8,FALSE),0))+(IFERROR(VLOOKUP('input-data'!E358,'Opstaldingsform-Housing '!$B$57:$O$65,8,FALSE),0))))*(C28+C32))","v":0},{"$f":"IFERROR(C44/'Flow smågrise'!$D$9,0)","v":0}]
[null,"   N2-N",{"$f":"'NPK tal'!B40*(SUM((IFERROR(VLOOKUP('input-data'!E357,'Opstaldingsform-Housing '!$B$7:$O$19,10,FALSE),0))+(IFERROR(VLOOKUP('input-data'!E357,'Opstaldingsform-Housing '!$B$44:$O$56,10,FALSE),0)))*(C28+C32))+\n('NPK tal'!C40*(SUM((IFERROR(VLOOKUP('input-data'!E358,'Opstaldingsform-Housing '!$B$20:$O$28,10,FALSE),0))+(IFERROR(VLOOKUP('input-data'!E358,'Opstaldingsform-Housing '!$B$57:$O$65,10,FALSE),0))))*(C28+C32))","v":0},{"$f":"IFERROR(C45/'Flow smågrise'!$D$9,0)","v":0}]
[null,"   NOx-N",{"$f":"'NPK tal'!B40*(SUM((IFERROR(VLOOKUP('input-data'!E357,'Opstaldingsform-Housing '!$B$7:$O$19,12,FALSE),0))+(IFERROR(VLOOKUP('input-data'!E357,'Opstaldingsform-Housing '!$B$44:$O$56,12,FALSE),0)))*(C28+C32))+\n('NPK tal'!C40*(SUM((IFERROR(VLOOKUP('input-data'!E358,'Opstaldingsform-Housing '!$B$20:$O$28,12,FALSE),0))+(IFERROR(VLOOKUP('input-data'!E358,'Opstaldingsform-Housing '!$B$57:$O$65,12,FALSE),0))))*(C28+C32))","v":0},{"$f":"IFERROR(C46/'Flow smågrise'!$D$9,0)","v":0}]
[null,"N ab, stald, kg",{"$f":"(C28+C32)-(C43+C44+C45+C46)","v":0},{"$f":"IFERROR(C47/'Flow smågrise'!$D$9,0)","v":0}]
[null,"  Heraf:"]
[null,"       N ab stald gylle, kg",{"$f":"'NPK tal'!B40*(C28+C32)*(SUM(IFERROR(VLOOKUP('input-data'!E357,'Opstaldingsform-Housing '!$B$7:$O$19,3,FALSE),0))+(IFERROR(VLOOKUP('input-data'!E357,'Opstaldingsform-Housing '!$B$44:$O$56,3,FALSE),0)))\n+('NPK tal'!C40*(C28+C32)*((SUM(IFERROR(VLOOKUP('input-data'!E358,'Opstaldingsform-Housing '!$B$20:$O$28,3,FALSE),0))+(IFERROR(VLOOKUP('input-data'!E358,'Opstaldingsform-Housing '!$B$57:$O$65,3,FALSE),0)))\n))-(('NPK tal'!B40*(SUM(IFERROR(VLOOKUP('input-data'!E357,'Opstaldingsform-Housing '!$B$7:$O$19,4,FALSE),0))+(IFERROR(VLOOKUP('input-data'!E357,'Opstaldingsform-Housing '!$B$44:$O$56,4,FALSE),0)))*(\nIF(OR('input-data'!$E$357='Opstaldingsform-Housing '!$B$8,'input-data'!$E$357='Opstaldingsform-Housing '!$B$45,\n'input-data'!$E$357='Opstaldingsform-Housing '!$B$9,'input-data'!$E$357='Opstaldingsform-Housing '!$B$46,\n'input-data'!$E$357='Opstaldingsform-Housing '!$B$10,'input-data'!$E$357='Opstaldingsform-Housing '!$B$47),0,C28))\n+ ('NPK tal'!C40*(SUM(IFERROR(VLOOKUP('input-data'!E358,'Opstaldingsform-Housing '!$B$20:$O$28,4,FALSE),0))+(IFERROR(VLOOKUP('input-data'!E358,'Opstaldingsform-Housing '!$B$57:$O$65,4,FALSE),0)))*C28)))-('NPK tal'!B40*(SUM(IFERROR(VLOOKUP('input-data'!E357,'Opstaldingsform-Housing '!$B$7:$O$19,8,FALSE),0))+(IFERROR(VLOOKUP('input-data'!E357,'Opstaldingsform-Housing '!$B$44:$O$56,8,FALSE),0)))*(\nIF(OR('input-data'!$E$357='Opstaldingsform-Housing '!$B$8,'input-data'!$E$357='Opstaldingsform-Housing '!$B$45,\n'input-data'!$E$357='Opstaldingsform-Housing '!$B$9,'input-data'!$E$357='Opstaldingsform-Housing '!$B$46,\n'input-data'!$E$357='Opstaldingsform-Housing '!$B$10,'input-data'!$E$357='Opstaldingsform-Housing '!$B$47),0,C28+C32))+\n('NPK tal'!C40*(SUM(IFERROR(VLOOKUP('input-data'!E358,'Opstaldingsform-Housing '!$B$20:$O$28,8,FALSE),0))+(IFERROR(VLOOKUP('input-data'!E358,'Opstaldingsform-Housing '!$B$57:$O$65,8,FALSE),0)))*(C28+C32)))-(('NPK tal'!B40*(SUM(IFERROR(VLOOKUP('input-data'!E357,'Opstaldingsform-Housing '!$B$7:$O$19,10,FALSE),0))+(IFERROR(VLOOKUP('input-data'!E357,'Opstaldingsform-Housing '!$B$44:$O$56,10,FALSE),0)))*\nIF(OR('input-data'!$E$357='Opstaldingsform-Housing '!$B$8,'input-data'!$E$357='Opstaldingsform-Housing '!$B$45,\n'input-data'!$E$357='Opstaldingsform-Housing '!$B$9,'input-data'!$E$357='Opstaldingsform-Housing '!$B$46,\n'input-data'!$E$357='Opstaldingsform-Housing '!$B$10,'input-data'!$E$357='Opstaldingsform-Housing '!$B$47),0,C28+C32))+\n('NPK tal'!C40*(SUM(IFERROR(VLOOKUP('input-data'!E358,'Opstaldingsform-Housing '!$B$20:$O$28,10,FALSE),0))+(IFERROR(VLOOKUP('input-data'!E358,'Opstaldingsform-Housing '!$B$57:$O$65,10,FALSE),0)))*(C28+C32)))-('NPK tal'!B40*(SUM(IFERROR(VLOOKUP('input-data'!E357,'Opstaldingsform-Housing '!$B$7:$O$19,12,FALSE),0))+(IFERROR(VLOOKUP('input-data'!E357,'Opstaldingsform-Housing '!$B$44:$O$56,12,FALSE),0)))*\nIF(OR('input-data'!$E$357='Opstaldingsform-Housing '!$B$8,'input-data'!$E$357='Opstaldingsform-Housing '!$B$45,\n'input-data'!$E$357='Opstaldingsform-Housing '!$B$9,'input-data'!$E$357='Opstaldingsform-Housing '!$B$46,\n'input-data'!$E$357='Opstaldingsform-Housing '!$B$10,'input-data'!$E$357='Opstaldingsform-Housing '!$B$47),0,(C28+C32))+\n('NPK tal'!C40*(SUM(IFERROR(VLOOKUP('input-data'!E358,'Opstaldingsform-Housing '!$B$20:$O$28,12,FALSE),0))+(IFERROR(VLOOKUP('input-data'!E358,'Opstaldingsform-Housing '!$B$57:$O$65,12,FALSE),0)))*(C28+C32)))","v":0},{"$f":"IFERROR(C49/'Flow smågrise'!$D$9,0)","v":0}]
[null,"       N ab stald dybstrøelse, kg",{"$f":"'NPK tal'!B40*(C28+C32)*(1-SUM(IFERROR(VLOOKUP('input-data'!E357,'Opstaldingsform-Housing '!$B$7:$O$19,3,FALSE),0))+(IFERROR(VLOOKUP('input-data'!E357,'Opstaldingsform-Housing '!$B$44:$O$56,3,FALSE),0)))\n+ ('NPK tal'!C40*(C28+C32)*(1-SUM(IFERROR(VLOOKUP('input-data'!E358,'Opstaldingsform-Housing '!$B$20:$O$28,3,FALSE),0))+(IFERROR(VLOOKUP('input-data'!E358,'Opstaldingsform-Housing '!$B$57:$O$65,3,FALSE),0))))-('NPK tal'!B40*(SUM(IFERROR(VLOOKUP('input-data'!E357,'Opstaldingsform-Housing '!$B$7:$O$19,4,FALSE),0))+(IFERROR(VLOOKUP('input-data'!E357,'Opstaldingsform-Housing '!$B$44:$O$56,4,FALSE),0)))*(\nIF(OR('input-data'!$E$357='Opstaldingsform-Housing '!$B$8,'input-data'!$E$357='Opstaldingsform-Housing '!$B$45,\n'input-data'!$E$357='Opstaldingsform-Housing '!$B$9,'input-data'!$E$357='Opstaldingsform-Housing '!$B$46,\n'input-data'!$E$357='Opstaldingsform-Housing '!$B$10,'input-data'!$E$357='Opstaldingsform-Housing '!$B$47),C28+C32,0)))-('NPK tal'!B40*(SUM(IFERROR(VLOOKUP('input-data'!E357,'Opstaldingsform-Housing '!$B$7:$O$19,8,FALSE),0))+(IFERROR(VLOOKUP('input-data'!E357,'Opstaldingsform-Housing '!$B$44:$O$56,8,FALSE),0)))*(\nIF(OR('input-data'!$E$357='Opstaldingsform-Housing '!$B$8,'input-data'!$E$357='Opstaldingsform-Housing '!$B$45,\n'input-data'!$E$357='Opstaldingsform-Housing '!$B$9,'input-data'!$E$357='Opstaldingsform-Housing '!$B$46,\n'input-data'!$E$357='Opstaldingsform-Housing '!$B$10,'input-data'!$E$357='Opstaldingsform-Housing '!$B$47),C28+C32,0)))-('NPK tal'!B40*(SUM(IFERROR(VLOOKUP('input-data'!E357,'Opstaldingsform-Housing '!$B$7:$O$19,10,FALSE),0))+(IFERROR(VLOOKUP('input-data'!E357,'Opstaldingsform-Housing '!$B$44:$O$56,10,FALSE),0)))*\nIF(OR('input-data'!$E$357='Opstaldingsform-Housing '!$B$8,'input-data'!$E$357='Opstaldingsform-Housing '!$B$45,\n'input-data'!$E$357='Opstaldingsform-Housing '!$B$9,'input-data'!$E$357='Opstaldingsform-Housing '!$B$46,\n'input-data'!$E$357='Opstaldingsform-Housing '!$B$10,'input-data'!$E$357='Opstaldingsform-Housing '!$B$47),C28+C32,0))-('NPK tal'!B40*(SUM(IFERROR(VLOOKUP('input-data'!E357,'Opstaldingsform-Housing '!$B$7:$O$19,12,FALSE),0))+(IFERROR(VLOOKUP('input-data'!E357,'Opstaldingsform-Housing '!$B$44:$O$56,12,FALSE),0)))*\nIF(OR('input-data'!$E$357='Opstaldingsform-Housing '!$B$8,'input-data'!$E$357='Opstaldingsform-Housing '!$B$45,\n'input-data'!$E$357='Opstaldingsform-Housing '!$B$9,'input-data'!$E$357='Opstaldingsform-Housing '!$B$46,\n'input-data'!$E$357='Opstaldingsform-Housing '!$B$10,'input-data'!$E$357='Opstaldingsform-Housing '!$B$47),(C28+C32),0))","v":0},{"$f":"IFERROR(C50/'Flow smågrise'!$D$9,0)","v":0}]
[]
[null,"N ab lager, kg","N","N"]
[null,"Lager, gylletank:"]
[null,"   NH3-N",{"$f":"IFERROR(IF(OR('input-data'!$E$346=topdowntables!$C$15, 'input-data'!$E$346=topdowntables!$C$20),0,(0.95*(C49-((C49*'input-data'!E363/100)+((C49-(C49*'input-data'!E363/100))*(C49/(C49+C50))*'input-data'!E362/100)))*(SUM(IFERROR(VLOOKUP('input-data'!E392,'Lagring-Storage'!B6:M11,3,FALSE),0))+(IFERROR(VLOOKUP('input-data'!E392,'Opstaldingsform-Housing '!$B$46:$O$51,3,FALSE),0)))\n+(0.05*(C49-((C49*'input-data'!E363/100)+(C49-(C49*'input-data'!E363/100))*(C49/(C49+C50))*'input-data'!E362/100))*'Lagring-Storage'!$D$7))), 0)","v":0},{"$f":"IFERROR(C54/'Flow smågrise'!$D$9,0)","v":0}]
[null,"   N2O-N ",{"$f":"IFERROR(IF(OR('input-data'!$E$346=topdowntables!$C$15, 'input-data'!$E$346=topdowntables!$C$20),0,(0.95*(C49-((C49*'input-data'!E363/100)+ (C49-(C49*'input-data'!E363/100))*(C49/(C49+C50))*'input-data'!E362/100))*(SUM(IFERROR(VLOOKUP('input-data'!E392,'Lagring-Storage'!B6:M11,5,FALSE),0))+(IFERROR(VLOOKUP('input-data'!E392,'Opstaldingsform-Housing '!$B$46:$O$51,5,FALSE),0)))\n+(0.05*(C49-((C49*'input-data'!E363/100)+ (C49-(C49*'input-data'!E363/100))*(C49/(C49+C50))*'input-data'!E362/100))*'Lagring-Storage'!$F$7))), 0)","v":0},{"$f":"IFERROR(C55/'Flow smågrise'!$D$9,0)","v":0}]
[null,"   N2-N",{"$f":"IFERROR(IF(OR('input-data'!$E$346=topdowntables!$C$15, 'input-data'!$E$346=topdowntables!$C$20),0,(0.95*(C49-((C49*'input-data'!E363/100)+((C49-(C49*'input-data'!E363/100))*(C49/(C49+C50))*'input-data'!E362/100)))*(SUM(IFERROR(VLOOKUP('input-data'!E392,'Lagring-Storage'!B6:M11,7,FALSE),0))+(IFERROR(VLOOKUP('input-data'!E392,'Opstaldingsform-Housing '!$B$46:$O$51,7,FALSE),0)))\n+(0.05*(C49-((C49*'input-data'!E363/100)+(C49-(C49*'input-data'!E363/100))*(C49/(C49+C50))*'input-data'!E362/100))*'Lagring-Storage'!$H$7))), 0)","v":0},{"$f":"IFERROR(C56/'Flow smågrise'!$D$9,0)","v":0}]
[null,"   NOx",{"$f":"IFERROR(IF(OR('input-data'!$E$346=topdowntables!$C$15, 'input-data'!$E$346=topdowntables!$C$20),0,(0.95*(C49-((C49*'input-data'!E363/100)+ (C49-(C49*'input-data'!E363/100))*(C49/(C49+C50))*'input-data'!E362/100))*(SUM(IFERROR(VLOOKUP('input-data'!E392,'Lagring-Storage'!B6:M11,9,FALSE),0))+(IFERROR(VLOOKUP('input-data'!E392,'Opstaldingsform-Housing '!$B$46:$O$51,9,FALSE),0)))\n+(0.05*(C49-((C49*'input-data'!E363/100)+ (C49-(C49*'input-data'!E363/100))*(C49/(C49+C50))*'input-data'!E362/100))*'Lagring-Storage'!$J$7))), 0)","v":0},{"$f":"IFERROR(C57/'Flow smågrise'!$D$9,0)","v":0}]
[null,"N ab lager, gylletank:",{"$f":"IFERROR(IF(OR('input-data'!$E$346=topdowntables!$C$15, 'input-data'!$E$346=topdowntables!$C$20),0,(C49-((C49*'input-data'!E363/100)+(C49-(C49*'input-data'!E363/100))*(C49/(C49+C50))*'input-data'!E362/100)-(C54+C55+C56+C57))), 0)","v":0},{"$f":"IFERROR(C58/'Flow smågrise'!$D$9,0)","v":0}]
[]
[null,"Lager, dybstrøelse:"]
[null,"   NH3-N",{"$f":"IFERROR(IF(OR('input-data'!$E$346=topdowntables!$C$15, 'input-data'!$E$346=topdowntables!$C$20),0,((0.95*(C50-((C50*'input-data'!E364/100)+((C50-(C50*'input-data'!E364/100))*(C50/(C49+C50))*'input-data'!E362/100)))*(SUM(IFERROR(VLOOKUP('input-data'!E393,'Lagring-Storage'!B33:M36,3,FALSE),0))+(IFERROR(VLOOKUP('input-data'!E393,'Opstaldingsform-Housing '!$B$71:$O$75,3,FALSE),0))))\n+(0.05*( C50-((C50*'input-data'!E364/100)+((C50-(C50*'input-data'!E364/100))*(C50/(C49+C50))*'input-data'!E362/100)))*'Lagring-Storage'!$D$34))), 0)","v":0},{"$f":"IFERROR(C61/'Flow smågrise'!$D$9,0)","v":0}]
[null,"   N2O-N ",{"$f":"IFERROR(IF(OR('input-data'!$E$346=topdowntables!$C$15, 'input-data'!$E$346=topdowntables!$C$20),0,((0.95*(C50-((C50*'input-data'!E364/100)+((C50-(C50*'input-data'!E364/100))*(C50/(C49+C50))*'input-data'!E362/100)))*(SUM(IFERROR(VLOOKUP('input-data'!E393,'Lagring-Storage'!B33:M36,5,FALSE),0))+(IFERROR(VLOOKUP('input-data'!E393,'Opstaldingsform-Housing '!$B$71:$O$75,5,FALSE),0))))\n+(0.05*( C50-((C50*'input-data'!E364/100)+((C50-(C50*'input-data'!E364/100))*(C50/(C49+C50))*'input-data'!E362/100)))*'Lagring-Storage'!$F$34))), 0)","v":0},{"$f":"IFERROR(C62/'Flow smågrise'!$D$9,0)","v":0}]
[null,"   N2-N",{"$f":"IFERROR(IF(OR('input-data'!$E$346=topdowntables!$C$15, 'input-data'!$E$346=topdowntables!$C$20),0,((0.95*(C50-((C50*'input-data'!E364/100)+((C50-(C50*'input-data'!E364/100))*(C50/(C49+C50))*'input-data'!E362/100)))*(SUM(IFERROR(VLOOKUP('input-data'!E393,'Lagring-Storage'!B33:M36,7,FALSE),0))+(IFERROR(VLOOKUP('input-data'!E393,'Opstaldingsform-Housing '!$B$71:$O$75,7,FALSE),0))))\n+(0.05*( C50-((C50*'input-data'!E364/100)+((C50-(C50*'input-data'!E364/100))*(C50/(C49+C50))*'input-data'!E362/100)))*'Lagring-Storage'!$H$34))), 0)","v":0},{"$f":"IFERROR(C63/'Flow smågrise'!$D$9,0)","v":0}]
[null,"   NOx",{"$f":"IFERROR(IF(OR('input-data'!$E$346=topdowntables!$C$15, 'input-data'!$E$346=topdowntables!$C$20),0,((0.95*(C50-((C50*'input-data'!E364/100)+((C50-(C50*'input-data'!E364/100))*(C50/(C49+C50))*'input-data'!E362/100)))*(SUM(IFERROR(VLOOKUP('input-data'!E393,'Lagring-Storage'!B33:M36,9,FALSE),0))+(IFERROR(VLOOKUP('input-data'!E393,'Opstaldingsform-Housing '!$B$71:$O$75,9,FALSE),0))))\n+(0.05*( C50-((C50*'input-data'!E364/100)+((C50-(C50*'input-data'!E364/100))*(C50/(C49+C50))*'input-data'!E362/100)))*'Lagring-Storage'!$J$34))), 0)","v":0},{"$f":"IFERROR(C64/'Flow smågrise'!$D$9,0)","v":0}]
[null,"N ab lager, dybstrøelse:",{"$f":"IFERROR(IF(OR('input-data'!$E$346=topdowntables!$C$15, 'input-data'!$E$346=topdowntables!$C$20),0,(C50-((C50*'input-data'!E364/100)+((C50-(C50*'input-data'!E364/100))*(C50/(C49+C50))*'input-data'!E362/100)+(C61+C62+C63+C64)))), 0)","v":0},{"$f":"IFERROR(C65/'Flow smågrise'!$D$9,0)","v":0}]
[]
[null,"Lager, biogas:"]
[null,"   NH3-N",{"$f":"IFERROR(IF(OR('input-data'!$E$346=topdowntables!$C$15, 'input-data'!$E$346=topdowntables!$C$20),0,(IF('input-data'!E362>0,0.95*(((C49-(C49*'input-data'!E363/100))*(C49/(C49+C50))*'input-data'!E362/100)+\n((C50-(C50*'input-data'!E364/100))*(C50/(C49+C50))*'input-data'!E362/100))*(SUM(IFERROR(VLOOKUP('input-data'!E392,'Lagring-Storage'!B6:M11,3,FALSE),0))+(IFERROR(VLOOKUP('input-data'!E392,'Opstaldingsform-Housing '!$B$46:$O$51,3,FALSE),0)))\n+(0.05*(((C49-(C49*'input-data'!E363/100))*(C49/(C49+C50))*'input-data'!E362/100)+\n(C50-(C50*'input-data'!E364/100)*(C50/(C49+C50))*'input-data'!E362/100))*('Lagring-Storage'!$D$13)),0))), 0)","v":0},{"$f":"IFERROR(C68/'Flow smågrise'!$D$9,0)","v":0},null,null,null,"Antager forsuret gylle ikke kommer i biogas"]
[null,"   N2O-N",{"$f":"IFERROR(IF(OR('input-data'!$E$346=topdowntables!$C$15, 'input-data'!$E$346=topdowntables!$C$20),0,(IF('input-data'!E362>0,0.95*(((C49-(C49*'input-data'!E363/100))*(C49/(C49+C50))*'input-data'!E362/100)+\n((C50-(C50*'input-data'!E364/100))*(C50/(C49+C50))*'input-data'!E362/100))*(SUM(IFERROR(VLOOKUP('input-data'!E392,'Lagring-Storage'!B6:M11,5,FALSE),0))+(IFERROR(VLOOKUP('input-data'!E392,'Opstaldingsform-Housing '!$B$46:$O$51,5,FALSE),0)))\n+(0.05*(((C49-(C49*'input-data'!E363/100))*(C49/(C49+C50))*'input-data'!E362/100)+\n(C50-(C50*'input-data'!E364/100)*(C50/(C49+C50))*'input-data'!E362/100))*('Lagring-Storage'!$F$13)),0))), 0)","v":0},{"$f":"IFERROR(C69/'Flow smågrise'!$D$9,0)","v":0}]
[null,"   N2",{"$f":"IFERROR(IF(OR('input-data'!$E$346=topdowntables!$C$15, 'input-data'!$E$346=topdowntables!$C$20),0,(IF('input-data'!E362>0,0.95*(((C49-(C49*'input-data'!E363/100))*(C49/(C49+C50))*'input-data'!E362/100)+\n((C50-(C50*'input-data'!E364/100))*(C50/(C49+C50))*'input-data'!E362/100))*(SUM(IFERROR(VLOOKUP('input-data'!E392,'Lagring-Storage'!B6:M11,7,FALSE),0))+(IFERROR(VLOOKUP('input-data'!E392,'Opstaldingsform-Housing '!$B$46:$O$51,7,FALSE),0)))\n+(0.05*(((C49-(C49*'input-data'!E363/100))*(C49/(C49+C50))*'input-data'!E362/100)+\n(C50-(C50*'input-data'!E364/100)*(C50/(C49+C50))*'input-data'!E362/100))*('Lagring-Storage'!$H$13)),0))), 0)","v":0},{"$f":"IFERROR(C70/'Flow smågrise'!$D$9,0)","v":0}]
[null,"   NOx",{"$f":"IFERROR(IF(OR('input-data'!$E$346=topdowntables!$C$15, 'input-data'!$E$346=topdowntables!$C$20),0,(IF('input-data'!E362>0,0.95*(((C49-(C49*'input-data'!E363/100))*(C49/(C49+C50))*'input-data'!E362/100)+\n((C50-(C50*'input-data'!E364/100))*(C50/(C49+C50))*'input-data'!E362/100))*(SUM(IFERROR(VLOOKUP('input-data'!E392,'Lagring-Storage'!B6:M11,9,FALSE),0))+(IFERROR(VLOOKUP('input-data'!E392,'Opstaldingsform-Housing '!$B$46:$O$51,9,FALSE),0)))\n+(0.05*(((C49-(C49*'input-data'!E363/100))*(C49/(C49+C50))*'input-data'!E362/100)+\n(C50-(C50*'input-data'!E364/100)*(C50/(C49+C50))*'input-data'!E362/100))*('Lagring-Storage'!$J$13)),0))), 0)","v":0},{"$f":"IFERROR(C71/'Flow smågrise'!$D$9,0)","v":0}]
[null,"N ab lager, biogas",{"$f":"IFERROR(IF(OR('input-data'!$E$346=topdowntables!$C$15, 'input-data'!$E$346=topdowntables!$C$20),0,(((C49-(C49*'input-data'!E363/100))*(C49/(C49+C50))*'input-data'!E362/100)+\n((C50-(C50*'input-data'!E364/100))*(C50/(C49+C50))*'input-data'!E362/100)-(C68+C69+C70+C71))), 0)","v":0},{"$f":"IFERROR(C72/'Flow smågrise'!$D$9,0)","v":0}]
[]
[null,"Lager, forsuringstank:"]
[null,"   NH3-N",{"$f":"0.95*C49*'input-data'!E363/100*(SUM(IFERROR(VLOOKUP('input-data'!E392,'Lagring-Storage'!B17:M22,3,FALSE),0))+(IFERROR(VLOOKUP('input-data'!E392,'Opstaldingsform-Housing '!$B$44:$O$56,3,FALSE),0)))\n+(0.05* C49*'input-data'!E363/100*('Lagring-Storage'!$D$18))","v":0},{"$f":"IFERROR(C75/'Flow smågrise'!$D$9,0)","v":0}]
[null,"   N2O-N",{"$f":"0.95*C49*'input-data'!E363/100*(SUM(IFERROR(VLOOKUP('input-data'!E392,'Lagring-Storage'!B17:M22,5,FALSE),0))+(IFERROR(VLOOKUP('input-data'!E392,'Opstaldingsform-Housing '!$B$44:$O$56,5,FALSE),0)))\n+(0.05* C49*'input-data'!E363/100*('Lagring-Storage'!$F$18))","v":0},{"$f":"IFERROR(C76/'Flow smågrise'!$D$9,0)","v":0}]
[null,"   N2",{"$f":"0.95*C49*'input-data'!E363/100*(SUM(IFERROR(VLOOKUP('input-data'!E392,'Lagring-Storage'!B17:M22,7,FALSE),0))+(IFERROR(VLOOKUP('input-data'!E392,'Opstaldingsform-Housing '!$B$44:$O$56,7,FALSE),0)))\n+(0.05*C49*'input-data'!E363/100*('Lagring-Storage'!$H$18))","v":0},{"$f":"IFERROR(C77/'Flow smågrise'!$D$9,0)","v":0}]
[null,"   NOx",{"$f":"0.95*C49*'input-data'!E363/100*(SUM(IFERROR(VLOOKUP('input-data'!E392,'Lagring-Storage'!B17:M22,9,FALSE),0))+(IFERROR(VLOOKUP('input-data'!E392,'Opstaldingsform-Housing '!$B$44:$O$56,9,FALSE),0)))\n+(0.05*C49*'input-data'!E363/100*('Lagring-Storage'!$J$18))","v":0},{"$f":"IFERROR(C78/'Flow smågrise'!$D$9,0)","v":0}]
[null,"N ab lager, forsuringstank",{"$f":"C49*'input-data'!E363/100-(C75+C76+C77+C78)","v":0},{"$f":"IFERROR(C79/'Flow smågrise'!$D$9,0)","v":0}]
[]
[null,"N ab mark, kg","N","N"]
[null,"Alm, gylle"]
[null,"   NH3-N",{"$f":"C58*'Udbringning af gylleApplication'!C6","v":0},{"$f":"IFERROR(C83/'Flow smågrise'!$D$9,0)","v":0}]
[null,"   N2O-N Denitrifikation",{"$f":"C58*'Udbringning af gylleApplication'!E6","v":0},{"$f":"IFERROR(C84/'Flow smågrise'!$D$9,0)","v":0}]
[null,"   N2",{"$f":"C58*'Udbringning af gylleApplication'!G6","v":0},{"$f":"IFERROR(C85/'Flow smågrise'!$D$9,0)","v":0}]
[null,"   NOx",{"$f":"C58*'Udbringning af gylleApplication'!I6","v":0},{"$f":"IFERROR(C86/'Flow smågrise'!$D$9,0)","v":0}]
[null,"N ab mark, gylle:",{"$f":"C58-(C83+C84+C85+C86)","v":0},{"$f":"IFERROR(C87/'Flow smågrise'!$D$9,0)","v":0}]
[]
[null,"Dybstrøelse"]
[null,"   NH3-N",{"$f":"C65*'Udbringning af gylleApplication'!C9","v":0},{"$f":"IFERROR(C90/'Flow smågrise'!$D$9,0)","v":0}]
[null,"   N2O-N Denitrifikation",{"$f":"C65*'Udbringning af gylleApplication'!E9","v":0},{"$f":"IFERROR(C91/'Flow smågrise'!$D$9,0)","v":0}]
[null,"   N2",{"$f":"C65*'Udbringning af gylleApplication'!G9","v":0},{"$f":"IFERROR(C92/'Flow smågrise'!$D$9,0)","v":0}]
[null,"   NOx",{"$f":"C65*'Udbringning af gylleApplication'!I9","v":0},{"$f":"IFERROR(C93/'Flow smågrise'!$D$9,0)","v":0}]
[null,"N ab mark, dybstrøelse:",{"$f":"C65-(C90+C91+C92+C93)+(C50*'input-data'!E386/100)","v":0},{"$f":"IFERROR(C94/'Flow smågrise'!$D$9,0)","v":0},null,null,null,"inkl.  direkte udbragt"]
[]
[null,"Afgasset gylle"]
[null,"   NH3-N",{"$f":"C72*'Udbringning af gylleApplication'!C7","v":0},{"$f":"IFERROR(C97/'Flow smågrise'!$D$9,0)","v":0}]
[null,"   N2O-N Denitrifikation",{"$f":"C72*'Udbringning af gylleApplication'!E7","v":0},{"$f":"IFERROR(C98/'Flow smågrise'!$D$9,0)","v":0}]
[null,"   N2",{"$f":"C72*'Udbringning af gylleApplication'!G7","v":0},{"$f":"IFERROR(C99/'Flow smågrise'!$D$9,0)","v":0}]
[null,"   NOx",{"$f":"C72*'Udbringning af gylleApplication'!I7","v":0},{"$f":"IFERROR(C100/'Flow smågrise'!$D$9,0)","v":0}]
[null,"N ab mark, afgassetgylle",{"$f":"C72-(C97+C98+C99+C100)","v":0},{"$f":"IFERROR(C101/'Flow smågrise'!$D$9,0)","v":0}]
[]
[null,"Forsuret gylle"]
[null,"   NH3-N",{"$f":"C79*'Udbringning af gylleApplication'!C8","v":0},{"$f":"IFERROR(C104/'Flow smågrise'!$D$9,0)","v":0}]
[null,"   N2O-N Denitrifikation",{"$f":"C79*'Udbringning af gylleApplication'!E8","v":0},{"$f":"IFERROR(C105/'Flow smågrise'!$D$9,0)","v":0}]
[null,"   N2",{"$f":"C79*'Udbringning af gylleApplication'!G8","v":0},{"$f":"IFERROR(C106/'Flow smågrise'!$D$9,0)","v":0}]
[null,"   NOx",{"$f":"C79*'Udbringning af gylleApplication'!I8","v":0},{"$f":"IFERROR(C107/'Flow smågrise'!$D$9,0)","v":0}]
[null,"N ab lager, forsuringstank",{"$f":"C79-(C104+C105+C106+C107)","v":0},{"$f":"IFERROR(C108/'Flow smågrise'!$D$9,0)","v":0}]

{"sheet":"N-P balance slagtesvin","index":15,"n_rows":108,"n_cols":9,"rows_kept":108,"cut":false,"hidden":false,"merged":[]}
[null,"N og P-BALANCEN ","STANDARD",null,null,null,"per prod","Kilder til standardtal / bemærkninger"]
[]
[null,"Slagtesvinefolden / Slagtesvinestalden","Total","per produceret slagtesvin","Total","per produceret slagtesvin"]
[null,"Ind, kg:","N","N","P","P"]
[null," Dyr:"]
[null,"      Dyr, indsat",{"$f":"'NPK tal'!$B$6/1000*'Flow slagtesvin'!D7*('Flow slagtesvin'!D5+'Flow slagtesvin'!D6)","v":0},{"$f":"C6/'Flow slagtesvin'!$D$8","v":{"$error":"#DIV/0!"}},{"$f":"'NPK tal'!$C$6/1000*'Flow slagtesvin'!D7*('Flow slagtesvin'!D5+'Flow slagtesvin'!D6)","v":0},{"$f":"E6/'Flow slagtesvin'!$D$8","v":{"$error":"#DIV/0!"}},null,null,"Vægt ind*N per kg tilvækst* antal overførte"]
[null," Kraftfoder:"]
[null,"      Tildelt ude",{"$f":"'Flow slagtesvin'!D66*'Flow slagtesvin'!D8","v":0},{"$f":"C8/'Flow slagtesvin'!$D$8","v":{"$error":"#DIV/0!"}},{"$f":"'Flow slagtesvin'!D67*'Flow slagtesvin'!D8","v":0},{"$f":"E8/'Flow slagtesvin'!$D$8","v":{"$error":"#DIV/0!"}},null,null,"N per produceret, kg * antal produceret"]
[null,"      Tildelt inde",{"$f":"'Flow slagtesvin'!D71*'Flow slagtesvin'!D8","v":0},{"$f":"C9/'Flow slagtesvin'!$D$8","v":{"$error":"#DIV/0!"}},{"$f":"'Flow slagtesvin'!D72*'Flow slagtesvin'!D8","v":0},{"$f":"E9/'Flow slagtesvin'!$D$8","v":{"$error":"#DIV/0!"}},null,null,"N per produceret, kg * antal produceret"]
[null," Grovfoder:"]
[null,"     Tildelt ude",{"$f":"'Flow slagtesvin'!D87*'Flow slagtesvin'!D8","v":0},{"$f":"C11/'Flow slagtesvin'!$D$8","v":{"$error":"#DIV/0!"}},{"$f":"'Flow slagtesvin'!D88*'Flow slagtesvin'!D8","v":0},{"$f":"E11/'Flow slagtesvin'!$D$8","v":{"$error":"#DIV/0!"}},null,null,"Opdelt i inde og ude, da mængden tildelt variere mellem ude og inde"]
[null,"     Tildelt inde",{"$f":"'Flow slagtesvin'!D92*'Flow slagtesvin'!D8","v":0},{"$f":"C12/'Flow slagtesvin'!$D$8","v":{"$error":"#DIV/0!"}},{"$f":"'Flow slagtesvin'!D93*'Flow slagtesvin'!D8","v":0},{"$f":"E12/'Flow slagtesvin'!$D$8","v":{"$error":"#DIV/0!"}}]
[null," Strøelse:"]
[null,"     Tildelt ude",{"$f":"'Flow slagtesvin'!D101*'Flow slagtesvin'!D8","v":0},{"$f":"C14/'Flow slagtesvin'!$D$8","v":{"$error":"#DIV/0!"}},{"$f":"'Flow slagtesvin'!D102*'Flow slagtesvin'!D8","v":0},{"$f":"E14/'Flow slagtesvin'!$D$8","v":{"$error":"#DIV/0!"}},null,null,"Opdelt i inde og ude, da mængden tildelt variere mellem ude og inde"]
[null,"     Tildelt inde",{"$f":"'Flow slagtesvin'!D106*'Flow slagtesvin'!D8","v":0},{"$f":"C15/'Flow slagtesvin'!$D$8","v":{"$error":"#DIV/0!"}},{"$f":"'Flow slagtesvin'!D107*'Flow slagtesvin'!D8","v":0},{"$f":"E15/'Flow slagtesvin'!$D$8","v":{"$error":"#DIV/0!"}}]
[]
[null,"Ud, kg","N","N","P","P"]
[null," Dyr:"]
[null,"     Slagtesvin, overførte/solgte",{"$f":"'Flow slagtesvin'!D8*'Flow slagtesvin'!D12*('NPK tal'!$B$7/1000)","v":0},{"$f":"C19/'Flow slagtesvin'!$D$8","v":{"$error":"#DIV/0!"}},{"$f":"'Flow slagtesvin'!D8*'Flow slagtesvin'!D12*('NPK tal'!$C$7/1000)","v":0},{"$f":"E19/'Flow slagtesvin'!$D$8","v":{"$error":"#DIV/0!"}},null,null,"Produceret per år*vægt afgang*N per kg slagtesvin"]
[null,"    Slagtesvin, døde",{"$f":"'Flow slagtesvin'!D10*(('Flow slagtesvin'!D12-'Flow slagtesvin'!D7)/2)*'NPK tal'!$B$7/1000","v":0},{"$f":"C20/'Flow slagtesvin'!$D$8","v":{"$error":"#DIV/0!"}},{"$f":"'Flow slagtesvin'!D10*(('Flow slagtesvin'!D12-'Flow slagtesvin'!D7)/2)*'NPK tal'!$C$7/1000","v":0},{"$f":"E20/'Flow slagtesvin'!$D$8","v":{"$error":"#DIV/0!"}},null,null,"Antal døde* 0,2*Vægt afgang*N per kg slagtesvin"]
[]
[null,"Ab dyr, kg","N","N","P","P"]
[null,"     Folden",{"$f":"IF(OR('input-data'!$E$368=topdowntables!$C$25,'input-data'!$E$368=topdowntables!$C$30),0,\nIF(OR('input-data'!$E$368=topdowntables!$C$26,'input-data'!$E$368=topdowntables!$C$31), C6+C8+C11-(C19+C20),\nIF(OR('input-data'!$E$368=topdowntables!$C$27,'input-data'!$E$368=topdowntables!$C$32), (C6+C8+C11)-(('Flow slagtesvin'!D5+'Flow slagtesvin'!D6)*'input-data'!F369*'NPK tal'!B7/1000+(0.5*C20)),0)))","v":0},{"$f":"C23/'Flow slagtesvin'!$D$8","v":{"$error":"#DIV/0!"}},{"$f":"IF(OR('input-data'!$E$368=topdowntables!$C$25,'input-data'!$E$368=topdowntables!$C$30),0,\nIF(OR('input-data'!$E$368=topdowntables!$C$26,'input-data'!$E$368=topdowntables!$C$31), E6+E8+E11+E14-(E19+E20),\nIF(OR('input-data'!$E$368=topdowntables!$C$27,'input-data'!$E$368=topdowntables!$C$32), (E6+E8+E11+E14)-(('Flow slagtesvin'!D5+'Flow slagtesvin'!D6)*'input-data'!F369*'NPK tal'!$C$7/1000+(0.5*E20)),0)))","v":0},{"$f":"E23/'Flow slagtesvin'!$D$8","v":{"$error":"#DIV/0!"}},null,null,"N dyr og N foder; P dyr, P foder, P strøelse"]
[null,"     Stalden",{"$f":"IF(OR('input-data'!$E$368=topdowntables!$C$25,'input-data'!$E$368=topdowntables!$C$30), C6+C9+C12-(C19+C20),\nIF(OR('input-data'!$E$368=topdowntables!$C$26,'input-data'!$E$368=topdowntables!$C$31),0,\nIF(OR('input-data'!$E$368=topdowntables!$C$27,'input-data'!$E$368=topdowntables!$C$32),(('Flow slagtesvin'!D5*'input-data'!F369*'NPK tal'!$B$7/1000)+C9+C12)-(C19+(0.5*C20)),0)))","v":0},{"$f":"C24/'Flow slagtesvin'!$D$8","v":{"$error":"#DIV/0!"}},{"$f":"IF(OR('input-data'!$E$368=topdowntables!$C$25,'input-data'!$E$368=topdowntables!$C$30),E6+E9+E12+E15-(E19+E20),\nIF(OR('input-data'!$E$368=topdowntables!$C$26,'input-data'!$E$368=topdowntables!$C$31),0,\nIF(OR('input-data'!$E$368=topdowntables!$C$27,'input-data'!$E$368=topdowntables!$C$32),(('Flow slagtesvin'!D5*'input-data'!F369*'NPK tal'!$C$7/1000)+E9+E12+E15)-(E19+(0.5*E20)),0)))","v":0},{"$f":"E24/'Flow slagtesvin'!$D$8","v":{"$error":"#DIV/0!"}},null,null,{"$f":"C23+C24+C14+C15","v":0}]
[null,null,null,null,null,null,null,null,{"$f":"C27+C28+C31+C32","v":0}]
[null,"TAN-N, kg","TAN-N","TAN-N",null,null,null,null,"Totalammonium (indholdet i urin)"]
[null,"     Folden",{"$f":"IF(OR('input-data'!$E$368=topdowntables!$C$25,'input-data'!$E$368=topdowntables!$C$30),0,\nIF(OR('input-data'!$E$368=topdowntables!$C$26,'input-data'!$E$368=topdowntables!$C$31), C23-((C8+C11)*(1-('NPK tal'!B29/100))),\nIF(OR('input-data'!$E$368=topdowntables!$C$27,'input-data'!$E$368=topdowntables!$C$32),\nC23-((C8+C11)*(1-('NPK tal'!B29/100))),0)))","v":0},{"$f":"C27/'Flow slagtesvin'!$D$8","v":{"$error":"#DIV/0!"}},null,null,null,null,"N ab dyr, kg - (FE per kg tilvækst*råprotein g per FE/6250*(1-fordøjlighedskoefficienten) (kilde: Svin baggrundsmatriale 2016-2017) "]
[null,"     Stalden",{"$f":"IF(OR('input-data'!$E$368=topdowntables!$C$25,'input-data'!$E$368=topdowntables!$C$30),C24-((C9+C12)*(1-('NPK tal'!B29/100))),\nIF(OR('input-data'!$E$368=topdowntables!$C$26,'input-data'!$E$368=topdowntables!$C$31),0,\nIF(OR('input-data'!$E$368=topdowntables!$C$27,'input-data'!$E$368=topdowntables!$C$32),\n C24-((C9+C12)*(1-('NPK tal'!B29/100))),0)))","v":0},{"$f":"C28/'Flow slagtesvin'!$D$8","v":{"$error":"#DIV/0!"}},null,null,null,null,"Fordøjlighedskoefficienterne er baseret på typisk foder - hvad med grovfodret (antager de ikke æder halm)"]
[]
[null,"Org-N, kg  (incl. strøelse)","Org-N","Org-N"]
[null,"     Folden",{"$f":"IF(OR('input-data'!$E$368=topdowntables!$C$25,'input-data'!$E$368=topdowntables!$C$30),0,\nIF(OR('input-data'!$E$368=topdowntables!$C$26,'input-data'!$E$368=topdowntables!$C$31),C14+((C8+C11)*(1-('NPK tal'!B29/100))),\nIF(OR('input-data'!$E$368=topdowntables!$C$27,'input-data'!$E$368=topdowntables!$C$32),\nC14+((C8+C11)*(1-('NPK tal'!B29/100))),0)))","v":0},{"$f":"C31/'Flow slagtesvin'!$D$8","v":{"$error":"#DIV/0!"}},null,null,null,null,"Organisk N fæces + N strøelse, Dämmgen and Hutchings, 2008"]
[null,"     Stalden",{"$f":"IF(OR('input-data'!$E$368=topdowntables!$C$25,'input-data'!$E$368=topdowntables!$C$30),C15+((C9+C12)*(1-('NPK tal'!B29/100))),\nIF(OR('input-data'!$E$368=topdowntables!$C$26,'input-data'!$E$368=topdowntables!$C$31),0,\nIF(OR('input-data'!$E$368=topdowntables!$C$27,'input-data'!$E$368=topdowntables!$C$32),\n C15+((C9+C12)*(1-('NPK tal'!B29/100))),0)))","v":0},{"$f":"C32/'Flow slagtesvin'!$D$8","v":{"$error":"#DIV/0!"}}]
[]
[null,"N ab fold / stald, kg","N","N"]
[null,"Emission, folden:"]
[null,"   NH3-N",{"$f":"SUM((IFERROR(VLOOKUP('input-data'!E372,'Opstaldingsform-Housing '!$B$30:$O$38,4,FALSE),0))+(IFERROR(VLOOKUP('input-data'!E372,'Opstaldingsform-Housing '!$B$69:$O$75,4,FALSE),0)))*C27","v":0},{"$f":"C36/'Flow slagtesvin'!$D$8","v":{"$error":"#DIV/0!"}},null,null,null,null,"TAN bruges ved beregning af gylle / alje mens N ab dyr bruges ved beregning af total N"]
[null,"   N2O-N ",{"$f":"SUM((IFERROR(VLOOKUP('input-data'!E372,'Opstaldingsform-Housing '!$B$30:$O$38,8,FALSE),0))+(IFERROR(VLOOKUP('input-data'!E372,'Opstaldingsform-Housing '!$B$69:$O$75,8,FALSE),0)))*(C27+C31)","v":0},{"$f":"C37/'Flow slagtesvin'!$D$8","v":{"$error":"#DIV/0!"}},null,null,null,null,"Total N bruges ved N20, N2 og Noxc"]
[null,"   N2-N",{"$f":"(SUM(IFERROR(VLOOKUP('input-data'!E372,'Opstaldingsform-Housing '!$B$30:$O$38,10,FALSE),0))+(IFERROR(VLOOKUP('input-data'!E372,'Opstaldingsform-Housing '!$B$69:$O$75,10,FALSE),0)))*(C27+C31)","v":0},{"$f":"C38/'Flow slagtesvin'!$D$8","v":{"$error":"#DIV/0!"}},null,null,null,null,"N ab dyr * emissionfaktor fanblad \"opstaldning….\" (summeret for ude og inde areal, mht. fordelingen af gødning ude/inde)"]
[null,"   NOx-N",{"$f":"(SUM(IFERROR(VLOOKUP('input-data'!E372,'Opstaldingsform-Housing '!$B$30:$O$38,12,FALSE),0))+(IFERROR(VLOOKUP('input-data'!E372,'Opstaldingsform-Housing '!$B$69:$O$75,12,FALSE),0)))*(C27+C31)","v":0},{"$f":"C39/'Flow slagtesvin'!$D$8","v":{"$error":"#DIV/0!"}}]
[null,"N ab fold, kg",{"$f":"C27+C31-C36-C37-C38-C39","v":0},{"$f":"C40/'Flow slagtesvin'!$D$8","v":{"$error":"#DIV/0!"}}]
[]
[null,"Emission, stalden:",null,null,null,null,null,null,"TAN bruges ved beregning af gylle / alje mens N ab dyr bruges ved beregning af total N"]
[null,"   NH3-N",{"$f":"'NPK tal'!B43*(SUM(IFERROR(VLOOKUP('input-data'!E379,'Opstaldingsform-Housing '!$B$7:$O$19,4,FALSE),0))+(IFERROR(VLOOKUP('input-data'!E379,'Opstaldingsform-Housing '!$B$44:$O$56,4,FALSE),0)))*(\nIF(OR('input-data'!$E$379='Opstaldingsform-Housing '!$B$8,'input-data'!$E$379='Opstaldingsform-Housing '!$B$45,\n'input-data'!$E$379='Opstaldingsform-Housing '!$B$9,'input-data'!$E$379='Opstaldingsform-Housing '!$B$46,\n'input-data'!$E$379='Opstaldingsform-Housing '!$B$10,'input-data'!$E$379='Opstaldingsform-Housing '!$B$47),(C28+C32),C28))\n+ ('NPK tal'!C43*(SUM(IFERROR(VLOOKUP('input-data'!E380,'Opstaldingsform-Housing '!$B$20:$O$28,4,FALSE),0))+(IFERROR(VLOOKUP('input-data'!E380,'Opstaldingsform-Housing '!$B$57:$O$65,4,FALSE),0)))*C28)","v":0},{"$f":"C43/'Flow slagtesvin'!$D$8","v":{"$error":"#DIV/0!"}},null,null,null,null,"AP regneark, tager højde for fordelingen ude inde + forskellige gulvtyper ude inde"]
[null,"   N2O-N",{"$f":"'NPK tal'!B43*(SUM(IFERROR(VLOOKUP('input-data'!E379,'Opstaldingsform-Housing '!$B$7:$O$19,8,FALSE),0))+(IFERROR(VLOOKUP('input-data'!E379,'Opstaldingsform-Housing '!$B$44:$O$56,8,FALSE),0)))*(C28+C32)+\n('NPK tal'!C43*(SUM(IFERROR(VLOOKUP('input-data'!E380,'Opstaldingsform-Housing '!$B$20:$O$28,8,FALSE),0))+(IFERROR(VLOOKUP('input-data'!E380,'Opstaldingsform-Housing '!$B$57:$O$65,8,FALSE),0)))*(C28+C32))","v":0},{"$f":"C44/'Flow slagtesvin'!$D$8","v":{"$error":"#DIV/0!"}},null,null,null,null,"N ab dyr * emissionfaktor fanblad \"opstaldning….\" (summeret for ude og inde areal, mht. fordelingen af gødning ude/inde)"]
[null,"   N2-N",{"$f":"'NPK tal'!B43*(SUM(IFERROR(VLOOKUP('input-data'!E379,'Opstaldingsform-Housing '!$B$7:$O$19,10,FALSE),0))+(IFERROR(VLOOKUP('input-data'!E379,'Opstaldingsform-Housing '!$B$44:$O$56,10,FALSE),0)))*(C28+C32)+\n('NPK tal'!C43*(SUM(IFERROR(VLOOKUP('input-data'!E380,'Opstaldingsform-Housing '!$B$20:$O$28,10,FALSE),0))+(IFERROR(VLOOKUP('input-data'!E380,'Opstaldingsform-Housing '!$B$57:$O$65,10,FALSE),0)))*(C28+C32))","v":0},{"$f":"C45/'Flow slagtesvin'!$D$8","v":{"$error":"#DIV/0!"}}]
[null,"   NOx-N",{"$f":"'NPK tal'!B43*(SUM(IFERROR(VLOOKUP('input-data'!E379,'Opstaldingsform-Housing '!$B$7:$O$19,12,FALSE),0))+(IFERROR(VLOOKUP('input-data'!E379,'Opstaldingsform-Housing '!$B$44:$O$56,12,FALSE),0)))*(C28+C32)+\n('NPK tal'!C43*(SUM(IFERROR(VLOOKUP('input-data'!E380,'Opstaldingsform-Housing '!$B$20:$O$28,12,FALSE),0))+(IFERROR(VLOOKUP('input-data'!E380,'Opstaldingsform-Housing '!$B$57:$O$65,12,FALSE),0)))*(C28+C32))","v":0},{"$f":"C46/'Flow slagtesvin'!$D$8","v":{"$error":"#DIV/0!"}}]
[null,"N ab, stald, kg",{"$f":"C28+C32-C43-C44-C45-C46","v":0},{"$f":"C47/'Flow slagtesvin'!$D$8","v":{"$error":"#DIV/0!"}},null,null,null,null,"Skelne mellem TAN-N og Org-N??"]
[null,"  Heraf:"]
[null,"       N ab stald gylle, kg",{"$f":"'NPK tal'!B43*(C28+C32)*(SUM(IFERROR(VLOOKUP('input-data'!E379,'Opstaldingsform-Housing '!$B$7:$O$19,3,FALSE),0))+(IFERROR(VLOOKUP('input-data'!E379,'Opstaldingsform-Housing '!$B$44:$O$56,3,FALSE),0)))\n+('NPK tal'!C43*(C28+C32)*((SUM(IFERROR(VLOOKUP('input-data'!E380,'Opstaldingsform-Housing '!$B$20:$O$28,3,FALSE),0))+(IFERROR(VLOOKUP('input-data'!E380,'Opstaldingsform-Housing '!$B$57:$O$65,3,FALSE),0)))\n))-(('NPK tal'!B43*(SUM(IFERROR(VLOOKUP('input-data'!E379,'Opstaldingsform-Housing '!$B$7:$O$19,4,FALSE),0))+(IFERROR(VLOOKUP('input-data'!E379,'Opstaldingsform-Housing '!$B$44:$O$56,4,FALSE),0)))*(\nIF(OR('input-data'!$E$379='Opstaldingsform-Housing '!$B$8,'input-data'!$E$379='Opstaldingsform-Housing '!$B$45,\n'input-data'!$E$379='Opstaldingsform-Housing '!$B$9,'input-data'!$E$379='Opstaldingsform-Housing '!$B$46,\n'input-data'!$E$379='Opstaldingsform-Housing '!$B$10,'input-data'!$E$379='Opstaldingsform-Housing '!$B$47),0,C28))\n+ ('NPK tal'!C43*(SUM(IFERROR(VLOOKUP('input-data'!E380,'Opstaldingsform-Housing '!$B$20:$O$28,4,FALSE),0))+(IFERROR(VLOOKUP('input-data'!E380,'Opstaldingsform-Housing '!$B$57:$O$65,4,FALSE),0)))*C28)))-('NPK tal'!B43*(SUM(IFERROR(VLOOKUP('input-data'!E379,'Opstaldingsform-Housing '!$B$7:$O$19,8,FALSE),0))+(IFERROR(VLOOKUP('input-data'!E379,'Opstaldingsform-Housing '!$B$44:$O$56,8,FALSE),0)))*(\nIF(OR('input-data'!$E$379='Opstaldingsform-Housing '!$B$8,'input-data'!$E$379='Opstaldingsform-Housing '!$B$45,\n'input-data'!$E$379='Opstaldingsform-Housing '!$B$9,'input-data'!$E$379='Opstaldingsform-Housing '!$B$46,\n'input-data'!$E$379='Opstaldingsform-Housing '!$B$10,'input-data'!$E$379='Opstaldingsform-Housing '!$B$47),0,C28+C32))+\n('NPK tal'!C43*(SUM(IFERROR(VLOOKUP('input-data'!E380,'Opstaldingsform-Housing '!$B$20:$O$28,8,FALSE),0))+(IFERROR(VLOOKUP('input-data'!E380,'Opstaldingsform-Housing '!$B$57:$O$65,8,FALSE),0)))*(C28+C32)))-(('NPK tal'!B43*(SUM(IFERROR(VLOOKUP('input-data'!E379,'Opstaldingsform-Housing '!$B$7:$O$19,10,FALSE),0))+(IFERROR(VLOOKUP('input-data'!E379,'Opstaldingsform-Housing '!$B$44:$O$56,10,FALSE),0)))*\nIF(OR('input-data'!$E$379='Opstaldingsform-Housing '!$B$8,'input-data'!$E$379='Opstaldingsform-Housing '!$B$45,\n'input-data'!$E$379='Opstaldingsform-Housing '!$B$9,'input-data'!$E$379='Opstaldingsform-Housing '!$B$46,\n'input-data'!$E$379='Opstaldingsform-Housing '!$B$10,'input-data'!$E$379='Opstaldingsform-Housing '!$B$47),0,C28+C32))+\n('NPK tal'!C43*(SUM(IFERROR(VLOOKUP('input-data'!E380,'Opstaldingsform-Housing '!$B$20:$O$28,10,FALSE),0))+(IFERROR(VLOOKUP('input-data'!E380,'Opstaldingsform-Housing '!$B$57:$O$65,10,FALSE),0)))*(C28+C32)))-('NPK tal'!B43*(SUM(IFERROR(VLOOKUP('input-data'!E379,'Opstaldingsform-Housing '!$B$7:$O$19,12,FALSE),0))+(IFERROR(VLOOKUP('input-data'!E379,'Opstaldingsform-Housing '!$B$44:$O$56,12,FALSE),0)))*\nIF(OR('input-data'!$E$379='Opstaldingsform-Housing '!$B$8,'input-data'!$E$379='Opstaldingsform-Housing '!$B$45,\n'input-data'!$E$379='Opstaldingsform-Housing '!$B$9,'input-data'!$E$379='Opstaldingsform-Housing '!$B$46,\n'input-data'!$E$379='Opstaldingsform-Housing '!$B$10,'input-data'!$E$379='Opstaldingsform-Housing '!$B$47),0,(C28+C32))+\n('NPK tal'!C43*(SUM(IFERROR(VLOOKUP('input-data'!E380,'Opstaldingsform-Housing '!$B$20:$O$28,12,FALSE),0))+(IFERROR(VLOOKUP('input-data'!E380,'Opstaldingsform-Housing '!$B$57:$O$65,12,FALSE),0)))*(C28+C32)))","v":0},{"$f":"C49/'Flow slagtesvin'!$D$8","v":{"$error":"#DIV/0!"}},null,null,null,null,{"$f":"C49+C50","v":0}]
[null,"       N ab stald dybstrøelse, kg",{"$f":"'NPK tal'!B43*(C28+C32)*(1-SUM(IFERROR(VLOOKUP('input-data'!E379,'Opstaldingsform-Housing '!$B$7:$O$19,3,FALSE),0))+(IFERROR(VLOOKUP('input-data'!E379,'Opstaldingsform-Housing '!$B$44:$O$56,3,FALSE),0)))\n+ ('NPK tal'!C43*(C28+C32)*(1-SUM(IFERROR(VLOOKUP('input-data'!E380,'Opstaldingsform-Housing '!$B$20:$O$28,3,FALSE),0))+(IFERROR(VLOOKUP('input-data'!E380,'Opstaldingsform-Housing '!$B$57:$O$65,3,FALSE),0))))-('NPK tal'!B43*(SUM(IFERROR(VLOOKUP('input-data'!E379,'Opstaldingsform-Housing '!$B$7:$O$19,4,FALSE),0))+(IFERROR(VLOOKUP('input-data'!E379,'Opstaldingsform-Housing '!$B$44:$O$56,4,FALSE),0)))*(\nIF(OR('input-data'!$E$379='Opstaldingsform-Housing '!$B$8,'input-data'!$E$379='Opstaldingsform-Housing '!$B$45,\n'input-data'!$E$379='Opstaldingsform-Housing '!$B$9,'input-data'!$E$379='Opstaldingsform-Housing '!$B$46,\n'input-data'!$E$379='Opstaldingsform-Housing '!$B$10,'input-data'!$E$379='Opstaldingsform-Housing '!$B$47),C28+C32,0)))-('NPK tal'!B43*(SUM(IFERROR(VLOOKUP('input-data'!E379,'Opstaldingsform-Housing '!$B$7:$O$19,8,FALSE),0))+(IFERROR(VLOOKUP('input-data'!E379,'Opstaldingsform-Housing '!$B$44:$O$56,8,FALSE),0)))*(\nIF(OR('input-data'!$E$379='Opstaldingsform-Housing '!$B$8,'input-data'!$E$379='Opstaldingsform-Housing '!$B$45,\n'input-data'!$E$379='Opstaldingsform-Housing '!$B$9,'input-data'!$E$379='Opstaldingsform-Housing '!$B$46,\n'input-data'!$E$379='Opstaldingsform-Housing '!$B$10,'input-data'!$E$379='Opstaldingsform-Housing '!$B$47),C28+C32,0)))-('NPK tal'!B43*(SUM(IFERROR(VLOOKUP('input-data'!E379,'Opstaldingsform-Housing '!$B$7:$O$19,10,FALSE),0))+(IFERROR(VLOOKUP('input-data'!E379,'Opstaldingsform-Housing '!$B$44:$O$56,10,FALSE),0)))*\nIF(OR('input-data'!$E$379='Opstaldingsform-Housing '!$B$8,'input-data'!$E$379='Opstaldingsform-Housing '!$B$45,\n'input-data'!$E$379='Opstaldingsform-Housing '!$B$9,'input-data'!$E$379='Opstaldingsform-Housing '!$B$46,\n'input-data'!$E$379='Opstaldingsform-Housing '!$B$10,'input-data'!$E$379='Opstaldingsform-Housing '!$B$47),C28+C32,0))-('NPK tal'!B43*(SUM(IFERROR(VLOOKUP('input-data'!E379,'Opstaldingsform-Housing '!$B$7:$O$19,12,FALSE),0))+(IFERROR(VLOOKUP('input-data'!E379,'Opstaldingsform-Housing '!$B$44:$O$56,12,FALSE),0)))*\nIF(OR('input-data'!$E$379='Opstaldingsform-Housing '!$B$8,'input-data'!$E$379='Opstaldingsform-Housing '!$B$45,\n'input-data'!$E$379='Opstaldingsform-Housing '!$B$9,'input-data'!$E$379='Opstaldingsform-Housing '!$B$46,\n'input-data'!$E$379='Opstaldingsform-Housing '!$B$10,'input-data'!$E$379='Opstaldingsform-Housing '!$B$47),(C28+C32),0))","v":0},{"$f":"C50/'Flow slagtesvin'!$D$8","v":{"$error":"#DIV/0!"}}]
[]
[null,"N ab lager, kg","N","N"]
[null,"Lager, gylletank:"]
[null,"   NH3-N",{"$f":"IFERROR(IF(OR('input-data'!$E$368=topdowntables!$C$26, 'input-data'!$E$368=topdowntables!$C$31),0,(0.95*(C49-((C49*'input-data'!E385/100)+(C49-(C49*'input-data'!E385/100))*(C49/(C49+C50))*'input-data'!E384/100))*(SUM(IFERROR(VLOOKUP('input-data'!E392,'Lagring-Storage'!B6:M11,3,FALSE),0))+(IFERROR(VLOOKUP('input-data'!E392,'Opstaldingsform-Housing '!$B$46:$O$51,3,FALSE),0)))\n+(0.05*(C49-((C49*'input-data'!E385/100)+(C49-(C49*'input-data'!E385/100))*(C49/(C49+C50))*'input-data'!E384/100))*'Lagring-Storage'!$D$7))),0)","v":0},{"$f":"C54/'Flow slagtesvin'!$D$8","v":{"$error":"#DIV/0!"}}]
[null,"   N2O-N ",{"$f":"IFERROR(IF(OR('input-data'!$E$368=topdowntables!$C$26, 'input-data'!$E$368=topdowntables!$C$31),0,(0.95*(C49-((C49*'input-data'!E385/100)+ (C49-(C49*'input-data'!E385/100))*(C49/(C49+C50))*'input-data'!E384/100))*(SUM(IFERROR(VLOOKUP('input-data'!E392,'Lagring-Storage'!B6:M11,5,FALSE),0))+(IFERROR(VLOOKUP('input-data'!E392,'Opstaldingsform-Housing '!$B$46:$O$51,5,FALSE),0)))\n+(0.05*(C49-((C49*'input-data'!E385/100)+ (C49-(C49*'input-data'!E385/100))*(C49/(C49+C50))*'input-data'!E384/100))*'Lagring-Storage'!$F$7))),0)","v":0},{"$f":"C55/'Flow slagtesvin'!$D$8","v":{"$error":"#DIV/0!"}}]
[null,"   N2-N",{"$f":"IFERROR(IF(OR('input-data'!$E$368=topdowntables!$C$26, 'input-data'!$E$368=topdowntables!$C$31),0,(0.95*(C49-((C49*'input-data'!E385/100)+ (C49-(C49*'input-data'!E385/100))*(C49/(C49+C50))*'input-data'!E384/100))*(SUM(IFERROR(VLOOKUP('input-data'!E392,'Lagring-Storage'!B6:M11,7,FALSE),0))+(IFERROR(VLOOKUP('input-data'!E392,'Opstaldingsform-Housing '!$B$46:$O$51,7,FALSE),0)))\n+(0.05*(C49-((C49*'input-data'!E385/100)+ (C49-(C49*'input-data'!E385/100))*(C49/(C49+C50))*'input-data'!E384/100))*'Lagring-Storage'!$H$7))),0)","v":0},{"$f":"C56/'Flow slagtesvin'!$D$8","v":{"$error":"#DIV/0!"}}]
[null,"   NOx",{"$f":"IFERROR(IF(OR('input-data'!$E$368=topdowntables!$C$26, 'input-data'!$E$368=topdowntables!$C$31),0,(0.95*(C49-((C49*'input-data'!E385/100)+ (C49-(C49*'input-data'!E385/100))*(C49/(C49+C50))*'input-data'!E384/100))*(SUM(IFERROR(VLOOKUP('input-data'!E392,'Lagring-Storage'!B6:M11,9,FALSE),0))+(IFERROR(VLOOKUP('input-data'!E392,'Opstaldingsform-Housing '!$B$46:$O$51,9,FALSE),0)))\n+(0.05*(C49-((C49*'input-data'!E385/100)+ (C49-(C49*'input-data'!E385/100))*(C49/(C49+C50))*'input-data'!E384/100))*'Lagring-Storage'!$J$7))),0)","v":0},{"$f":"C57/'Flow slagtesvin'!$D$8","v":{"$error":"#DIV/0!"}}]
[null,"N ab lager, gylletank:",{"$f":"IFERROR(IF(OR('input-data'!$E$368=topdowntables!$C$26, 'input-data'!$E$368=topdowntables!$C$31),0,(C49-((C49*'input-data'!E385/100)+(C49-(C49*'input-data'!E385/100))*(C49/(C49+C50))*'input-data'!E384/100)-(C54+C55+C56+C57))),0)","v":0},{"$f":"C58/'Flow slagtesvin'!$D$8","v":{"$error":"#DIV/0!"}}]
[]
[null,"Lager, dybstrøelse:"]
[null,"   NH3-N",{"$f":"IFERROR(IF(OR('input-data'!$E$368=topdowntables!$C$26, 'input-data'!$E$368=topdowntables!$C$31),0,((0.95*(C50-((C50*'input-data'!E386/100)+((C50-(C50*'input-data'!E386/100))*(C50/(C49+C50))*'input-data'!E384/100)))*(SUM(IFERROR(VLOOKUP('input-data'!E393,'Lagring-Storage'!B33:M36,3,FALSE),0))+(IFERROR(VLOOKUP('input-data'!E393,'Opstaldingsform-Housing '!$B$71:$O$75,3,FALSE),0))))\n+(0.05*( C50-((C50*'input-data'!E386/100)+((C50-(C50*'input-data'!E386/100))*(C50/(C49+C50))*'input-data'!E384/100)))*'Lagring-Storage'!$D$34))),0)","v":0},{"$f":"C61/'Flow slagtesvin'!$D$8","v":{"$error":"#DIV/0!"}}]
[null,"   N2O-N ",{"$f":"IFERROR(IF(OR('input-data'!$E$368=topdowntables!$C$26, 'input-data'!$E$368=topdowntables!$C$31),0,((0.95*(C50-((C50*'input-data'!E386/100)+((C50-(C50*'input-data'!E386/100))*(C50/(C49+C50))*'input-data'!E384/100)))*(SUM(IFERROR(VLOOKUP('input-data'!E393,'Lagring-Storage'!B33:M36,5,FALSE),0))+(IFERROR(VLOOKUP('input-data'!E393,'Opstaldingsform-Housing '!$B$71:$O$75,5,FALSE),0))))\n+(0.05*( C50-((C50*'input-data'!E386/100)+((C50-(C50*'input-data'!E386/100))*(C50/(C49+C50))*'input-data'!E384/100)))*'Lagring-Storage'!$F$34))),0)","v":0},{"$f":"C62/'Flow slagtesvin'!$D$8","v":{"$error":"#DIV/0!"}}]
[null,"   N2-N",{"$f":"IFERROR(IF(OR('input-data'!$E$368=topdowntables!$C$26, 'input-data'!$E$368=topdowntables!$C$31),0,((0.95*(C50-((C50*'input-data'!E386/100)+((C50-(C50*'input-data'!E386/100))*(C50/(C49+C50))*'input-data'!E384/100)))*(SUM(IFERROR(VLOOKUP('input-data'!E393,'Lagring-Storage'!B33:M367,FALSE),0))+(IFERROR(VLOOKUP('input-data'!E393,'Opstaldingsform-Housing '!$B$71:$O$75,7,FALSE),0))))\n+(0.05*( C50-((C50*'input-data'!E386/100)+((C50-(C50*'input-data'!E386/100))*(C50/(C49+C50))*'input-data'!E384/100)))*'Lagring-Storage'!$H$34))),0)","v":0},{"$f":"C63/'Flow slagtesvin'!$D$8","v":{"$error":"#DIV/0!"}}]
[null,"   NOx",{"$f":"IFERROR(IF(OR('input-data'!$E$368=topdowntables!$C$26, 'input-data'!$E$368=topdowntables!$C$31),0,((0.95*(C50-((C50*'input-data'!E386/100)+((C50-(C50*'input-data'!E386/100))*(C50/(C49+C50))*'input-data'!E384/100)))*(SUM(IFERROR(VLOOKUP('input-data'!E393,'Lagring-Storage'!B33:M36,9,FALSE),0))+(IFERROR(VLOOKUP('input-data'!E393,'Opstaldingsform-Housing '!$B$71:$O$75,9,FALSE),0))))\n+(0.05*( C50-((C50*'input-data'!E386/100)+((C50-(C50*'input-data'!E386/100))*(C50/(C49+C50))*'input-data'!E384/100)))*'Lagring-Storage'!$J$34))),0)","v":0},{"$f":"C64/'Flow slagtesvin'!$D$8","v":{"$error":"#DIV/0!"}}]
[null,"N ab lager, dybstrøelse:",{"$f":"IFERROR(IF(OR('input-data'!$E$368=topdowntables!$C$26, 'input-data'!$E$368=topdowntables!$C$31),0,(C50-((C50*'input-data'!E386/100)+((C50-(C50*'input-data'!E386/100))*(C50/(C49+C50))*'input-data'!E384/100))-(C61+C62+C63+C64))),0)","v":0},{"$f":"C65/'Flow slagtesvin'!$D$8","v":{"$error":"#DIV/0!"}}]
[]
[null,"Lager, biogas:"]
[null,"   NH3-N",{"$f":"IF(OR('input-data'!$E$368=topdowntables!$C$26, 'input-data'!$E$368=topdowntables!$C$31),0,(IF('input-data'!E384>0,0.95*(((C49-(C49*'input-data'!E385/100))*(C49/(C49+C50))*'input-data'!E384/100)+\n(C50-(C50*'input-data'!E386/100)*(C50/(C49+C50))*'input-data'!E384/100))*(SUM(IFERROR(VLOOKUP('input-data'!E392,'Lagring-Storage'!B6:M11,3,FALSE),0))+(IFERROR(VLOOKUP('input-data'!E392,'Opstaldingsform-Housing '!$B$46:$O$51,3,FALSE),0)))\n+(0.05*(((C49-(C49*'input-data'!E385/100))*(C49/(C49+C50))*'input-data'!E384/100)+\n(C50-(C50*'input-data'!E386/100)*(C50/(C49+C50))*'input-data'!E384/100))*('Lagring-Storage'!$D$13)),0)))","v":0},{"$f":"C68/'Flow slagtesvin'!$D$8","v":{"$error":"#DIV/0!"}},null,null,null,null,"Antager forsuret gylle ikke kommer i biogas"]
[null,"   N2O-N",{"$f":"IF(OR('input-data'!$E$368=topdowntables!$C$26, 'input-data'!$E$368=topdowntables!$C$31),0,(IF('input-data'!E384>0,0.95*(((C49-(C49*'input-data'!E385/100))*(C49/(C49+C50))*'input-data'!E384/100)+\n(C50-(C50*'input-data'!E386/100)*(C50/(C49+C50))*'input-data'!E384/100))*(SUM(IFERROR(VLOOKUP('input-data'!E392,'Lagring-Storage'!B6:M11,5,FALSE),0))+(IFERROR(VLOOKUP('input-data'!E392,'Opstaldingsform-Housing '!$B$46:$O$51,5,FALSE),0)))\n+(0.05*(((C49-(C49*'input-data'!E385/100))*(C49/(C49+C50))*'input-data'!E384/100)+\n(C50-(C50*'input-data'!E386/100)*(C50/(C49+C50))*'input-data'!E384/100))*('Lagring-Storage'!$F$13)),0)))","v":0},{"$f":"C69/'Flow slagtesvin'!$D$8","v":{"$error":"#DIV/0!"}}]
[null,"   N2",{"$f":"IF(OR('input-data'!$E$368=topdowntables!$C$26, 'input-data'!$E$368=topdowntables!$C$31),0,(IF('input-data'!E384>0,0.95*(((C49-(C49*'input-data'!E385/100))*(C49/(C49+C50))*'input-data'!E384/100)+\n(C50-(C50*'input-data'!E386/100)*(C50/(C49+C50))*'input-data'!E384/100))*(SUM(IFERROR(VLOOKUP('input-data'!E392,'Lagring-Storage'!B6:M11,7,FALSE),0))+(IFERROR(VLOOKUP('input-data'!E392,'Opstaldingsform-Housing '!$B$46:$O$51,7,FALSE),0)))\n+(0.05*(((C49-(C49*'input-data'!E385/100))*(C49/(C49+C50))*'input-data'!E384/100)+\n(C50-(C50*'input-data'!E386/100)*(C50/(C49+C50))*'input-data'!E384/100))*('Lagring-Storage'!$H$13)),0)))","v":0},{"$f":"C70/'Flow slagtesvin'!$D$8","v":{"$error":"#DIV/0!"}}]
[null,"   NOx",{"$f":"IF(OR('input-data'!$E$368=topdowntables!$C$26, 'input-data'!$E$368=topdowntables!$C$31),0,(IF('input-data'!E384>0,0.95*(((C49-(C49*'input-data'!E385/100))*(C49/(C49+C50))*'input-data'!E384/100)+\n(C50-(C50*'input-data'!E386/100)*(C50/(C49+C50))*'input-data'!E384/100))*(SUM(IFERROR(VLOOKUP('input-data'!E392,'Lagring-Storage'!B6:M11,9,FALSE),0))+(IFERROR(VLOOKUP('input-data'!E392,'Opstaldingsform-Housing '!$B$46:$O$51,9,FALSE),0)))\n+(0.05*(((C49-(C49*'input-data'!E385/100))*(C49/(C49+C50))*'input-data'!E384/100)+\n(C50-(C50*'input-data'!E386/100)*(C50/(C49+C50))*'input-data'!E384/100))*('Lagring-Storage'!$J$13)),0)))","v":0},{"$f":"C71/'Flow slagtesvin'!$D$8","v":{"$error":"#DIV/0!"}}]
[null,"N ab lager, biogas",{"$f":"IFERROR(IF(OR('input-data'!$E$368=topdowntables!$C$26, 'input-data'!$E$368=topdowntables!$C$31),0,(((C49-(C49*'input-data'!E385/100))*(C49/(C49+C50))*'input-data'!E384/100)+\n((C50-(C50*'input-data'!E386/100))*(C50/(C49+C50))*'input-data'!E384/100)\n-(C68+C69+C70+C71))),0)","v":0},{"$f":"C72/'Flow slagtesvin'!$D$8","v":{"$error":"#DIV/0!"}}]
[]
[null,"Lager, forsuringstank:"]
[null,"   NH3-N",{"$f":"0.95*C49*'input-data'!E385/100*(SUM(IFERROR(VLOOKUP('input-data'!E392,'Lagring-Storage'!B17:M22,3,FALSE),0))+(IFERROR(VLOOKUP('input-data'!E392,'Opstaldingsform-Housing '!$B$44:$O$56,3,FALSE),0)))\n+(0.05* C49*'input-data'!E385/100*('Lagring-Storage'!$D$18))","v":0},{"$f":"C75/'Flow slagtesvin'!$D$8","v":{"$error":"#DIV/0!"}}]
[null,"   N2O-N",{"$f":"0.95*C49*'input-data'!E385/100*(SUM(IFERROR(VLOOKUP('input-data'!E392,'Lagring-Storage'!B17:M22,5,FALSE),0))+(IFERROR(VLOOKUP('input-data'!E392,'Opstaldingsform-Housing '!$B$44:$O$56,5,FALSE),0)))\n+(0.05* C49*'input-data'!E385/100*('Lagring-Storage'!$F$18))","v":0},{"$f":"C76/'Flow slagtesvin'!$D$8","v":{"$error":"#DIV/0!"}}]
[null,"   N2",{"$f":"0.95*C49*'input-data'!E385/100*(SUM(IFERROR(VLOOKUP('input-data'!E392,'Lagring-Storage'!B17:M22,7,FALSE),0))+(IFERROR(VLOOKUP('input-data'!E392,'Opstaldingsform-Housing '!$B$44:$O$56,7,FALSE),0)))\n+(0.05* C49*'input-data'!E385/100*('Lagring-Storage'!$H$18))","v":0},{"$f":"C77/'Flow slagtesvin'!$D$8","v":{"$error":"#DIV/0!"}}]
[null,"   NOx",{"$f":"0.95*C49*'input-data'!E385/100*(SUM(IFERROR(VLOOKUP('input-data'!E392,'Lagring-Storage'!B17:M22,9,FALSE),0))+(IFERROR(VLOOKUP('input-data'!E392,'Opstaldingsform-Housing '!$B$44:$O$56,9,FALSE),0)))\n+(0.05* C49*'input-data'!E385/100*('Lagring-Storage'!$J$18))","v":0},{"$f":"C78/'Flow slagtesvin'!$D$8","v":{"$error":"#DIV/0!"}}]
[null,"N ab lager, forsuringstank",{"$f":"C49*'input-data'!E385/100-(C75+C76+C77+C78)","v":0},{"$f":"C79/'Flow slagtesvin'!$D$8","v":{"$error":"#DIV/0!"}}]
[]
[null,"N ab mark, kg","N","N"]
[null,"Alm, gylle"]
[null,"   NH3-N",{"$f":"C58*'Udbringning af gylleApplication'!C6","v":0},{"$f":"C83/'Flow slagtesvin'!$D$8","v":{"$error":"#DIV/0!"}}]
[null,"   N2O-N Denitrifikation",{"$f":"C58*'Udbringning af gylleApplication'!E6","v":0},{"$f":"C84/'Flow slagtesvin'!$D$8","v":{"$error":"#DIV/0!"}}]
[null,"   N2",{"$f":"C58*'Udbringning af gylleApplication'!G6","v":0},{"$f":"C85/'Flow slagtesvin'!$D$8","v":{"$error":"#DIV/0!"}}]
[null,"   NOx",{"$f":"C58*'Udbringning af gylleApplication'!I6","v":0},{"$f":"C86/'Flow slagtesvin'!$D$8","v":{"$error":"#DIV/0!"}}]
[null,"N ab mark, gylle:",{"$f":"C58-(C83+C84+C85+C86)","v":0},{"$f":"C87/'Flow slagtesvin'!$D$8","v":{"$error":"#DIV/0!"}}]
[]
[null,"Dybstrøelse"]
[null,"   NH3-N",{"$f":"C65*'Udbringning af gylleApplication'!C9","v":0},{"$f":"C90/'Flow slagtesvin'!$D$8","v":{"$error":"#DIV/0!"}}]
[null,"   N2O-N Denitrifikation",{"$f":"C65*'Udbringning af gylleApplication'!E9","v":0},{"$f":"C91/'Flow slagtesvin'!$D$8","v":{"$error":"#DIV/0!"}}]
[null,"   N2",{"$f":"C65*'Udbringning af gylleApplication'!G9","v":0},{"$f":"C92/'Flow slagtesvin'!$D$8","v":{"$error":"#DIV/0!"}}]
[null,"   NOx",{"$f":"C65*'Udbringning af gylleApplication'!I9","v":0},{"$f":"C93/'Flow slagtesvin'!$D$8","v":{"$error":"#DIV/0!"}}]
[null,"N ab mark, dybstrøelse:",{"$f":"C65-(C90+C91+C92+C93)+(C50*'input-data'!E386/100)","v":0},{"$f":"C94/'Flow slagtesvin'!$D$8","v":{"$error":"#DIV/0!"}},null,null,null,null,"plus direkte udbragt"]
[]
[null,"Afgasset gylle"]
[null,"   NH3-N",{"$f":"C72*'Udbringning af gylleApplication'!C7","v":0},{"$f":"C97/'Flow slagtesvin'!$D$8","v":{"$error":"#DIV/0!"}}]
[null,"   N2O-N Denitrifikation",{"$f":"C72*'Udbringning af gylleApplication'!E7","v":0},{"$f":"C98/'Flow slagtesvin'!$D$8","v":{"$error":"#DIV/0!"}}]
[null,"   N2",{"$f":"C72*'Udbringning af gylleApplication'!G7","v":0},{"$f":"C99/'Flow slagtesvin'!$D$8","v":{"$error":"#DIV/0!"}}]
[null,"   NOx",{"$f":"C72*'Udbringning af gylleApplication'!I7","v":0},{"$f":"C100/'Flow slagtesvin'!$D$8","v":{"$error":"#DIV/0!"}}]
[null,"N ab mark, afgassetgylle",{"$f":"C72-(C97+C98+C99+C100)","v":0},{"$f":"C101/'Flow slagtesvin'!$D$8","v":{"$error":"#DIV/0!"}}]
[]
[null,"Forsuret gylle"]
[null,"   NH3-N",{"$f":"C79*'Udbringning af gylleApplication'!C8","v":0},{"$f":"C104/'Flow slagtesvin'!$D$8","v":{"$error":"#DIV/0!"}}]
[null,"   N2O-N Denitrifikation",{"$f":"C79*'Udbringning af gylleApplication'!E8","v":0},{"$f":"C105/'Flow slagtesvin'!$D$8","v":{"$error":"#DIV/0!"}}]
[null,"   N2",{"$f":"C79*'Udbringning af gylleApplication'!G8","v":0},{"$f":"C106/'Flow slagtesvin'!$D$8","v":{"$error":"#DIV/0!"}}]
[null,"   NOx",{"$f":"C79*'Udbringning af gylleApplication'!I8","v":0},{"$f":"C107/'Flow slagtesvin'!$D$8","v":{"$error":"#DIV/0!"}}]
[null,"N ab mark, forsuringstank",{"$f":"C79-(C104+C105+C106+C107)","v":0},{"$f":"C108/'Flow slagtesvin'!$D$8","v":{"$error":"#DIV/0!"}}]

{"sheet":"Opstaldingsform-Housing ","index":16,"n_rows":75,"n_cols":26,"rows_kept":75,"cut":false,"hidden":false,"merged":[[82,12,83,12],[82,13,83,13],[82,14,83,14],[82,15,83,15],[82,7,83,7],[82,8,83,8],[82,9,83,9],[82,10,83,10],[82,11,83,11],[2,9,3,9],[2,11,3,11],[39,7,40,7],[39,8,40,8],[39,9,40,9],[39,10,40,10],[39,11,40,11],[2,8,3,8],[2,10,3,10],[2,7,3,7],[2,4,3,4],[82,2,83,2],[82,4,83,4],[82,6,83,6],[2,0,3,0],[2,2,3,2],[2,1,3,1],[2,6,3,6],[2,3,3,3],[39,0,40,0],[39,1,40,1],[39,2,40,2],[39,4,40,4],[39,6,40,6],[39,12,40,12],[1,18,3,18],[39,13,40,13],[39,14,40,14],[39,15,40,15],[1,16,3,16],[1,17,3,17],[2,15,3,15],[2,14,3,14],[2,13,3,13],[2,12,3,12]]}
[0,1,2,3,4,5,6,7,8,9,10,11,12,13,14,15,16,17,18,19,20,21,22,23,24,25]
[null,null,null,null,null,null,null,null,null,null,null,null,null,null,null,null,"TS/N, kg            (årssoer)","TS/N, kg            (smågrise)","TS/N, kg            (slagtesvin)"]
["OPSTALDNINGSFORM","GULVTYPE","GØDNINGSTYPE","Liquid fraction, %","NH4-N emissionsfaktor gulve","NH4-N til brug, hvis gulv deles op i to ","NH4-N emissionsfaktor kumme","Reference","N2O emissionsfaktor stald","Reference","N2 emissionsfaktor stald","Reference","NOx emissionsfaktor stald","Reference","CH4 emissionsfaktor stald","Reference"]
[]
[]
["1. OPSTALDING INDENDØRS"]
["1.1.Indendørs areal","Vælg…………………………….."]
[null,"Dybstrøelse","Dybstrøelse",0,0.1,null,"-",null,0.01,"IPCC, 2006",0.03,"Vinther, F.P., 2005",2.0999999999999999E-3,"Dammgen & Hutchings, 2008"]
[null,"Dybstrøelse, opdelt lejeareal","Dybstrøelse + Gylle",0.78,{"$f":"D9*E14+(100%-D9)*10%","v":0.11560000000000001},null,"-",null,0.01,"IPCC, 2006",0.03,"Vinther, F.P., 2005",2.0999999999999999E-3,"Dammgen & Hutchings, 2008"]
[null,"Dybstrøelse + spaltegulv","Dybstrøelse + Gylle",0.78,{"$f":"D10*E14+(100%-D10)*10%","v":0.11560000000000001},null,"-",null,0.01,"IPCC, 2006",0.03,"Vinther, F.P., 2005",2.0999999999999999E-3,"Dammgen & Hutchings, 2008"]
[null,"Fast gulv, strøet leje","Staldgødning + Ajle",0.78,0.2,null,"-","Anders",2E-3,"IPCC, 2006",6.0000000000000001E-3,"Vinther, F.P., 2005",4.2000000000000002E-4,"Dammgen & Hutchings, 2008",0.02,"IPCC, 2006"]
[null,"Delvis spaltegulv med 50-75% fast gulv","Gylle",1,0.14000000000000001,null,"-","Nielsen et al., 2016",2E-3,"IPCC, 2006",6.0000000000000001E-3,"Vinther, F.P., 2005",4.2000000000000002E-4,"Dammgen & Hutchings, 2008",0.1,"IPCC, 2006"]
[null,"Delvis spaltegulv med 25-49% fast gulv","Gylle",1,0.17,null,"-","Nielsen et al., 2016",2E-3,"IPCC, 2006",6.0000000000000001E-3,"Vinther, F.P., 2005",4.2000000000000002E-4,"Dammgen & Hutchings, 2008",0.1,"IPCC, 2006"]
[null,"50% fast gulv, strøget leje & 50 % spalter","Gylle",1,0.12,null,0.15,"Anders",2E-3,"IPCC, 2006",6.0000000000000001E-3,"Vinther, F.P., 2005",4.2000000000000002E-4,"Dammgen & Hutchings, 2008",0.1,"IPCC, 2006"]
[null,"50% fast gulv, strøget leje & 50% spalter med gylletragter","Gylle",1,0.08,null,{"$f":"G14*(1-80%)","v":2.9999999999999992E-2},"Anders",2E-3,"IPCC, 2006",6.0000000000000001E-3,"Vinther, F.P., 2005",4.2000000000000002E-4,"Dammgen & Hutchings, 2008",0.1,"IPCC, 2006"]
[null,"Drænet gulv + spalter (33/67)","Gylle",1,0.21,null,"-","Nielsen et al., 2016",2E-3,"IPCC, 2006",6.0000000000000001E-3,"Vinther, F.P., 2005",4.2000000000000002E-4,"Dammgen & Hutchings, 2008",0.1,"IPCC, 2006"]
[null,"……………………………………………………………………………………..","………………………………….."]
[null,"……………………………………………………………………………………..","……………………………………"]
[]
["1.2. Udendørs areal","Vælg…………………………….."]
[null,"Fast gulv","Staldgødning + Ajle",0.78,0.3,null,"-","Anders",0.02,"IPCC, 2006",0.06,"Vinther, F.P., 2005",4.1999999999999997E-3,"Dammgen & Hutchings, 2008",0.01,"IPCC, 2006"]
[null,"Delvis spaltegulv med 50-75% fast gulv","Gylle",1,0.14000000000000001,null,"-","Nielsen et al., 2016",2E-3,"IPCC, 2006",6.0000000000000001E-3,"Vinther, F.P., 2005",4.2000000000000002E-4,"Dammgen & Hutchings, 2008",0.1,"IPCC, 2006"]
[null,"Delvis spaltegulv med 25-49% fast gulv","Gylle",1,0.17,null,"-","Nielsen et al., 2016",2E-3,"IPCC, 2006",6.0000000000000001E-3,"Vinther, F.P., 2005",4.2000000000000002E-4,"Dammgen & Hutchings, 2008",0.1,"IPCC, 2006"]
[null,"50% fast gulv & 50 % spalter","Gylle",1,0.12,null,0.15,"Anders",2E-3,"IPCC, 2006",6.0000000000000001E-3,"Vinther, F.P., 2005",4.2000000000000002E-4,"Dammgen & Hutchings, 2008",0.1,"IPCC, 2006"]
[null,"50% spaltegulv & 50% spalter med gylletragter","Gylle",1,0.08,null,{"$f":"G24*(1-80%)","v":2.9999999999999992E-2},"Anders",2E-3,"IPCC, 2006",6.0000000000000001E-3,"Vinther, F.P., 2005",4.2000000000000002E-4,"Dammgen & Hutchings, 2008",0.1,"IPCC, 2006"]
[null,"Drænet gulv + spalter (33/67)","Gylle",1,0.21,null,"-","Nielsen et al., 2016",2E-3,"IPCC, 2006",6.0000000000000001E-3,"Vinther, F.P., 2005",4.2000000000000002E-4,"Dammgen & Hutchings, 2008",0.1,"IPCC, 2006"]
[null,"……………………………………………………………………………………..","………………………………….."]
[null,"……………………………………………………………………………………..","……………………………………"]
[]
["2. OPSTALDING UDENDØRS"]
[]
["foldetype","Vælg…………………………….."]
[null,"kløvergræs ","Staldgødning + Ajle",0.78,7.0000000000000007E-2,null,"-",null,0.02,"IPCC, 2006",0.06,"Vinther, F.P., 2005",4.1999999999999997E-3,"Dammgen & Hutchings, 2008",0.01,"IPCC, 2006"]
[null,"kløvergræs + træer","Staldgødning + Ajle",0.78,7.0000000000000007E-2,null,"-",null,0.02,"IPCC, 2006",0.06,"Vinther, F.P., 2005",4.1999999999999997E-3,"Dammgen & Hutchings, 2008",0.01,"IPCC, 2006"]
[null,"……………………………………………………………………………………..","………………………………….."]
[null,"……………………………………………………………………………………..","……………………………………"]
[null,"……………………………………………………………………………………..","………………………………….."]
[null,"……………………………………………………………………………………..","……………………………………"]
[]
["HOUSING TYPE","FLOOR TYPE","MANURE TYPE",null,"NH4-N emission factor for floor",null,"NH4-N emission factor for slurry pits","Reference","N2O emission factor stable","Reference","N2 emission factor stable","Reference","NOx emission factor stable","Reference","CH4 emission factor stable","Reference"]
[]
[]
["1. INDOOR HOUSING"]
["1.1.Indoor area","Select…………………………….."]
[null,"Deep litter","Deep litter",{"$f":"D8","v":0},0.1,null,"-",null,0.01,"IPCC, 2006",0.03,"Vinther, F.P., 2005",2.0999999999999999E-3,"Dammgen & Hutchings, 2008"]
[null,"Deep litter + lying area","Deep litter + slurry",0.78,0.11560000000000001,null,"-",null,0.01,"IPCC, 2006",0.03,"Vinther, F.P., 2005",2.0999999999999999E-3,"Dammgen & Hutchings, 2008"]
[null,"Deep litter + slatted floor","Deep litter + slurry",0.78,0.11560000000000001,null,"-",null,0.01,"IPCC, 2006",0.03,"Vinther, F.P., 2005",2.0999999999999999E-3,"Dammgen & Hutchings, 2008"]
[null,"Solid floor, lying areas with straw","Faeces + urine",0.78,0.2,null,"-","Anders",2E-3,"IPCC, 2006",6.0000000000000001E-3,"Vinther, F.P., 2005",4.2000000000000002E-4,"Dammgen & Hutchings, 2008",0.02,"IPCC, 2006"]
[null,"Partly slatted floor with 50-75% solid floor","Slurry",1,0.14000000000000001,null,"-","Nielsen et al., 2016",2E-3,"IPCC, 2006",6.0000000000000001E-3,"Vinther, F.P., 2005",4.2000000000000002E-4,"Dammgen & Hutchings, 2008",0.1,"IPCC, 2006"]
[null,"Partly slatted floor with 25-49% solid floor","Slurry",1,0.17,null,"-","Nielsen et al., 2016",2E-3,"IPCC, 2006",6.0000000000000001E-3,"Vinther, F.P., 2005",4.2000000000000002E-4,"Dammgen & Hutchings, 2008",0.1,"IPCC, 2006"]
[null,"50 % solid floor +straw, 50 % Slatted floor","Slurry",1,0.12,null,0.15,"Anders",2E-3,"IPCC, 2006",6.0000000000000001E-3,"Vinther, F.P., 2005",4.2000000000000002E-4,"Dammgen & Hutchings, 2008",0.1,"IPCC, 2006"]
[null,"50 % solid floor + straw, 50% Slatted floor + hoppers","Slurry",1,0.08,null,{"$f":"G51*(1-80%)","v":2.9999999999999992E-2},"Anders",2E-3,"IPCC, 2006",6.0000000000000001E-3,"Vinther, F.P., 2005",4.2000000000000002E-4,"Dammgen & Hutchings, 2008",0.1,"IPCC, 2006"]
[null,"Drained floor + slots (33/67)","Slurry",{"$f":"D16","v":1},0.21,null,"-","Nielsen et al., 2016",2E-3,"IPCC, 2006",6.0000000000000001E-3,"Vinther, F.P., 2005",4.2000000000000002E-4,"Dammgen & Hutchings, 2008",0.1,"IPCC, 2006"]
[null,"……………………………………………………………………………………..","…………………………………..",{"$f":"D17","v":0}]
[null,"……………………………………………………………………………………..","……………………………………",0]
[null,null,null,0]
["1.2. Outdoor area","Select……………………………..",null,0]
[null,"Solid floor","Faeces + urine",0.78,0.3,null,"-","Anders",0.02,"IPCC, 2006",0.06,"Vinther, F.P., 2005",4.1999999999999997E-3,"Dammgen & Hutchings, 2008",0.01,"IPCC, 2006"]
[null,"Partly slatted floor with 50-75% solid floor","Slurry",1,{"$f":"E22","v":0.14000000000000001},null,"-","Nielsen et al., 2016",2E-3,"IPCC, 2006",6.0000000000000001E-3,"Vinther, F.P., 2005",4.2000000000000002E-4,"Dammgen & Hutchings, 2008",0.1,"IPCC, 2006"]
[null,"Partly slatted floor with 25-49% solid floor","Slurry",1,{"$f":"E23","v":0.17},null,"-","Nielsen et al., 2016",2E-3,"IPCC, 2006",6.0000000000000001E-3,"Vinther, F.P., 2005",4.2000000000000002E-4,"Dammgen & Hutchings, 2008",0.1,"IPCC, 2006"]
[null,"50 % solid floor, 50 % Slatted floor","Slurry",1,{"$f":"E24","v":0.12},null,0.15,"Anders",2E-3,"IPCC, 2006",6.0000000000000001E-3,"Vinther, F.P., 2005",4.2000000000000002E-4,"Dammgen & Hutchings, 2008",0.1,"IPCC, 2006"]
[null,"50 % solid floor, 50% Slatted floor + hoppers","Slurry",1,{"$f":"E25","v":0.08},null,{"$f":"G61*(1-80%)","v":2.9999999999999992E-2},"Anders",2E-3,"IPCC, 2006",6.0000000000000001E-3,"Vinther, F.P., 2005",4.2000000000000002E-4,"Dammgen & Hutchings, 2008",0.1,"IPCC, 2006"]
[null,"Drained floor + slots (33/67)","Slurry",{"$f":"D27","v":0},{"$f":"E27","v":0},null,"-","Nielsen et al., 2016",2E-3,"IPCC, 2006",6.0000000000000001E-3,"Vinther, F.P., 2005",4.2000000000000002E-4,"Dammgen & Hutchings, 2008",0.1,"IPCC, 2006"]
[null,"……………………………………………………………………………………..","………………………………….."]
[null,"……………………………………………………………………………………..","……………………………………"]
[]
["2. OUTDOOR HOUSING"]
[]
["paddock type","Select……………………………..",null,{"$f":"D32","v":0}]
[null,"Paddock - grass clover","Faeces + urine",{"$f":"D33","v":0.78},7.0000000000000007E-2,null,"-",null,0.02,"IPCC, 2006",0.06,"Vinther, F.P., 2005",4.1999999999999997E-3,"Dammgen & Hutchings, 2008",0.01,"IPCC, 2006"]
[null,"Paddock - grass clover + trees","Faeces + urine",{"$f":"D34","v":0.78},7.0000000000000007E-2,null,"-",null,0.02,"IPCC, 2006",0.06,"Vinther, F.P., 2005",4.1999999999999997E-3,"Dammgen & Hutchings, 2008",0.01,"IPCC, 2006"]
[null,"……………………………………………………………………………………..","………………………………….."]
[null,"……………………………………………………………………………………..","……………………………………"]
[null,"……………………………………………………………………………………..","………………………………….."]
[null,"……………………………………………………………………………………..","……………………………………"]

{"sheet":"Lagring-Storage","index":17,"n_rows":82,"n_cols":13,"rows_kept":82,"cut":false,"hidden":false,"merged":[]}
[]
[0,1,2,3,4,5,6,7,8,9,10,11,12]
[]
["Gødningstype","Lagringstype","NH3-N tab,                % af NH4-N ab stald","NH3-N tab,                     % af total N ab stald","Reference","N2O-N tab,                     % af total N ab stald","Reference","N2-N tab,                     % af total N ab stald","Reference","NOx tab,                     % af total N ab stald","Reference","MCF, %","Reference"]
[]
["gylle","vælg…………"]
[null,"uden overdækning",0.114,{"$f":"C7*79%","v":9.0060000000000001E-2},"Hansen et al., 2008",0,"IPCC, 2006",1.4999999999999999E-2,"Vinther, FP, 2005",5.0000000000000001E-3,"Dammgen & Hutchings, 2008",0.1396,"Mikkelsen et al., 2016"]
[null,"overdækket (flydelag)",2.5000000000000001E-2,{"$f":"C8*79%","v":1.9750000000000004E-2},"Hansen et al., 2008",5.0000000000000001E-3,"IPCC, 2006",1.4999999999999999E-2,"Vinther, FP, 2005",5.0000000000000001E-3,"Dammgen & Hutchings, 2008",{"$f":"L7","v":0.1396}]
[null,"teltkonstruktion/ betonlåg",1.2999999999999999E-2,1.027E-2,"Hansen et al., 2008",{"$f":"F8","v":5.0000000000000001E-3},"IPCC, 2006",1.4999999999999999E-2,"Vinther, FP, 2005",5.0000000000000001E-3,"Dammgen & Hutchings, 2008",{"$f":"L8","v":0.1396}]
[null,"…………………………"]
[null,"…………………………"]
["afgasset gylle","vælg…………"]
[null,"uden overdækning",0.27300000000000002,{"$f":"21%","v":0.21},"Hansen et al., 2008",{"$f":"F7*(1-50%)","v":0},"Olesenet al.,2013",1.4999999999999999E-2,"Vinther, FP, 2005",5.0000000000000001E-3,"Dammgen & Hutchings, 2008",7.8100000000000003E-2,"Mikkelsen et al., 2016"]
[null,"overdækket (flydelag)",5.1999999999999998E-2,4.1079999999999998E-2,"Hansen et al., 2008",2.5000000000000001E-3,"Olesenet al.,2013",1.4999999999999999E-2,"Vinther, FP, 2005",5.0000000000000001E-3,"Dammgen & Hutchings, 2008",{"$f":"L13","v":7.8100000000000003E-2}]
[null,"teltkonstruktion/ betonlåg",2.5999999999999999E-2,2.0539999999999999E-2,"Hansen et al., 2008",{"$f":"F14","v":2.5000000000000001E-3},"Olesenet al.,2013",1.4999999999999999E-2,"Vinther, FP, 2005",5.0000000000000001E-3,"Dammgen & Hutchings, 2008",{"$f":"L13","v":7.8100000000000003E-2}]
[null,"…………………………"]
["forsuret gylle","vælg…………"]
[null,"uden overdækning",{"$f":"D18*100/79","v":5.8140000000000004E-2},{"$f":"D7*(1-49%)","v":4.5930600000000002E-2},"VERA, 2010",{"$f":"F7","v":0},"Jensen, 2015",1.4999999999999999E-2,"Vinther, FP, 2005",5.0000000000000001E-3,"Dammgen & Hutchings, 2008",5.5800000000000002E-2,"Olesen et al., 2013"]
[null,"overdækket (flydelag)",{"$f":"D19*100/79","v":1.2750000000000003E-2},{"$f":"D8*(1-49%)","v":1.0072500000000002E-2},"VERA, 2010",{"$f":"F8","v":5.0000000000000001E-3},"Jensen, 2015",1.4999999999999999E-2,"Vinther, FP, 2005",5.0000000000000001E-3,"Dammgen & Hutchings, 2008",{"$f":"L18","v":5.5800000000000002E-2}]
[null,"teltkonstruktion/ betonlåg",6.6299999999999996E-3,{"$f":"D9*(1-49%)","v":5.2376999999999996E-3},"VERA, 2010",{"$f":"F9","v":5.0000000000000001E-3},"Jensen, 2015",1.4999999999999999E-2,"Vinther, FP, 2005",5.0000000000000001E-3,"Dammgen & Hutchings, 2008",{"$f":"L18","v":5.5800000000000002E-2}]
[null,"…………………………"]
[null,"…………………………"]
["gylle, reduceret HRT",null,null,null,null,null,null,null,null,null,null,{"$f":"L9*61%","v":8.5155999999999996E-2},"Mikkelsen et al., 2016"]
[]
["gylle, afkølet","vælg…………",null,null,null,null,null,null,null,null,null,{"$f":"L7*56%","v":7.8176000000000009E-2},"Mikkelsen et al., 2016"]
[null,"…………………………"]
[null,"…………………………"]
["ajle ","vælg…………"]
[null,"uden overdækning",0.33,{"$f":"30%","v":0.3},"Hansen et al., 2008",{"$f":"F7","v":0},"assumption",1.4999999999999999E-2,"Vinther, FP, 2005",5.0000000000000001E-3,"Dammgen & Hutchings, 2008",0.1396,"Mikkelsen et al., 2016"]
[null,"overdækket (flydelag)",6.7000000000000004E-2,{"$f":"6%","v":0.06},"Hansen et al., 2008",{"$f":"F8","v":5.0000000000000001E-3},"assumption",1.4999999999999999E-2,"Vinther, FP, 2005",5.0000000000000001E-3,"Dammgen & Hutchings, 2008",{"$f":"L29","v":0.1396}]
[null,"teltkonstruktion/ betonlåg",2.1999999999999999E-2,1.738E-2,"Hansen et al., 2008",{"$f":"F9","v":5.0000000000000001E-3},"assumption",1.4999999999999999E-2,"Vinther, FP, 2005",5.0000000000000001E-3,"Dammgen & Hutchings, 2008",{"$f":"L29","v":0.1396}]
[null,"………………………….."]
["dybstrøelse ","vælg…………"]
[null,"uden overdækning",null,0.25,"Hansen et al., 2008",7.0000000000000007E-2,"IPCC, 2006",1.4999999999999999E-2,"Vinther, FP, 2005",5.0000000000000001E-3,"Dammgen & Hutchings, 2008","3/17%","IPCC, 2006"]
[null,"overdækket",null,0.13,"Hansen et al., 2008",0.01,"IPCC, 2006",1.4999999999999999E-2,"Vinther, FP, 2005",5.0000000000000001E-3,"Dammgen & Hutchings, 2008","3/17%","IPCC, 2006"]
[null,"………………………….."]
["fast staldgødning","vælg…………"]
[null,"uden overdækning",null,0.25,"Hansen et al., 2008",5.0000000000000001E-3,"IPCC, 2006",1.4999999999999999E-2,"Vinther, FP, 2005",5.0000000000000001E-3,"Dammgen & Hutchings, 2008",0.02,"IPCC, 2006"]
[null,"overdækket ",null,0.13,"Hansen et al., 2008",5.0000000000000001E-3,"IPCC, 2006",1.4999999999999999E-2,"Vinther, FP, 2005",5.0000000000000001E-3,"Dammgen & Hutchings, 2008",0.02,"IPCC, 2006"]
[null,"………………………….."]
[null,"………………………….."]
[]
[1,2,3,4,5,6,7,8,9,10,11,12,13]
[]
["Manure type","Storage technology","NH3-N loss,                % of NH4-N ex stable","NH3-N loss,                     % of total N ex stable","Reference","N2O-N loss,                     % of total N ex stable","Reference","N2-N loss,                     % of total N ex stable","Reference","NOx loss,                     % of total N ex stable","Reference","MCF, %","Reference"]
[]
["slurry","select……………."]
[null,"no cover",0.114,{"$f":"C48*79%","v":9.0060000000000001E-2},"Hansen et al., 2008",0,"IPCC, 2006",1.4999999999999999E-2,"Vinther, FP, 2005",5.0000000000000001E-3,"Dammgen & Hutchings, 2008",0.1396,"Mikkelsen et al., 2016"]
[null,"with floating cover ",2.5000000000000001E-2,{"$f":"C49*79%","v":1.9750000000000004E-2},"Hansen et al., 2008",5.0000000000000001E-3,"IPCC, 2006",1.4999999999999999E-2,"Vinther, FP, 2005",5.0000000000000001E-3,"Dammgen & Hutchings, 2008",{"$f":"L48","v":0.1396}]
[null,"tent construction, concrete building",1.2999999999999999E-2,1.027E-2,"Hansen et al., 2008",{"$f":"F49","v":5.0000000000000001E-3},"IPCC, 2006",1.4999999999999999E-2,"Vinther, FP, 2005",5.0000000000000001E-3,"Dammgen & Hutchings, 2008",{"$f":"L49","v":0.1396}]
[null,"…………………………"]
[null,"…………………………"]
["de-gassed slurry","select……………."]
[null,"no cover",0.27300000000000002,{"$f":"21%","v":0.21},"Hansen et al., 2008",{"$f":"F48*(1-50%)","v":0},"Olesenet al.,2013",1.4999999999999999E-2,"Vinther, FP, 2005",5.0000000000000001E-3,"Dammgen & Hutchings, 2008",7.8100000000000003E-2,"Mikkelsen et al., 2016"]
[null,"with floating cover ",5.1999999999999998E-2,4.1079999999999998E-2,"Hansen et al., 2008",2.5000000000000001E-3,"Olesenet al.,2013",1.4999999999999999E-2,"Vinther, FP, 2005",5.0000000000000001E-3,"Dammgen & Hutchings, 2008",{"$f":"L54","v":7.8100000000000003E-2}]
[null,"tent construction, concrete building",2.5999999999999999E-2,2.0539999999999999E-2,"Hansen et al., 2008",{"$f":"F55","v":2.5000000000000001E-3},"Olesenet al.,2013",1.4999999999999999E-2,"Vinther, FP, 2005",5.0000000000000001E-3,"Dammgen & Hutchings, 2008",{"$f":"L54","v":7.8100000000000003E-2}]
[null,"…………………………"]
["acidified slurry","select……………."]
[null,"no cover",{"$f":"D59*100/79","v":5.8140000000000004E-2},{"$f":"D48*(1-49%)","v":4.5930600000000002E-2},"VERA, 2010",{"$f":"F48","v":0},"Jensen, 2015",1.4999999999999999E-2,"Vinther, FP, 2005",5.0000000000000001E-3,"Dammgen & Hutchings, 2008",5.5800000000000002E-2,"Olesen et al., 2013"]
[null,"with floating cover ",{"$f":"D60*100/79","v":1.2750000000000003E-2},{"$f":"D49*(1-49%)","v":1.0072500000000002E-2},"VERA, 2010",{"$f":"F49","v":5.0000000000000001E-3},"Jensen, 2015",1.4999999999999999E-2,"Vinther, FP, 2005",5.0000000000000001E-3,"Dammgen & Hutchings, 2008",{"$f":"L59","v":5.5800000000000002E-2}]
[null,"tent construction, concrete building",6.6299999999999996E-3,{"$f":"D50*(1-49%)","v":5.2376999999999996E-3},"VERA, 2010",{"$f":"F50","v":5.0000000000000001E-3},"Jensen, 2015",1.4999999999999999E-2,"Vinther, FP, 2005",5.0000000000000001E-3,"Dammgen & Hutchings, 2008",{"$f":"L59","v":5.5800000000000002E-2}]
[null,"…………………………"]
["slurry, reduced HRT",null,null,null,null,null,null,null,null,null,null,{"$f":"L50*61%","v":8.5155999999999996E-2},"Mikkelsen et al., 2016"]
[]
["slurry, cooled in stable","select…………….",null,null,null,null,null,null,null,null,null,{"$f":"L48*56%","v":7.8176000000000009E-2},"Mikkelsen et al., 2016"]
[null,"…………………………"]
[null,"…………………………"]
["urine","select……………."]
[null,"no cover",0.33,{"$f":"30%","v":0.3},"Hansen et al., 2008",{"$f":"F48","v":0},"assumption",1.4999999999999999E-2,"Vinther, FP, 2005",5.0000000000000001E-3,"Dammgen & Hutchings, 2008",0.1396,"Mikkelsen et al., 2016"]
[null,"with floating cover ",6.7000000000000004E-2,{"$f":"6%","v":0.06},"Hansen et al., 2008",{"$f":"F49","v":5.0000000000000001E-3},"assumption",1.4999999999999999E-2,"Vinther, FP, 2005",5.0000000000000001E-3,"Dammgen & Hutchings, 2008",{"$f":"L69","v":0.1396}]
[null,"tent construction, concrete building",2.1999999999999999E-2,1.738E-2,"Hansen et al., 2008",5.0000000000000001E-3,"assumption",1.4999999999999999E-2,"Vinther, FP, 2005",5.0000000000000001E-3,"Dammgen & Hutchings, 2008",{"$f":"L69","v":0.1396}]
[null,"………………………….."]
["deep litter","select……………."]
[null,"no cover",null,0.25,"Hansen et al., 2008",7.0000000000000007E-2,"IPCC, 2006",1.4999999999999999E-2,"Vinther, FP, 2005",5.0000000000000001E-3,"Dammgen & Hutchings, 2008","3/17%","IPCC, 2006"]
[null,"with cover ",null,0.13,"Hansen et al., 2008",0.01,"IPCC, 2006",1.4999999999999999E-2,"Vinther, FP, 2005",5.0000000000000001E-3,"Dammgen & Hutchings, 2008","3/17%","IPCC, 2006"]
[null,"………………………….."]
[null,"………………………….."]
["solid manure","select……………."]
[null,"no cover",null,0.25,"Hansen et al., 2008",5.0000000000000001E-3,"IPCC, 2006",1.4999999999999999E-2,"Vinther, FP, 2005",5.0000000000000001E-3,"Dammgen & Hutchings, 2008",0.02,"IPCC, 2006"]
[null,"with cover ",null,0.13,"Hansen et al., 2008",5.0000000000000001E-3,"IPCC, 2006",1.4999999999999999E-2,"Vinther, FP, 2005",5.0000000000000001E-3,"Dammgen & Hutchings, 2008",0.02,"IPCC, 2006"]
[null,"………………………….."]
[null,"………………………….."]

{"sheet":"Udbringning af gylleApplication","index":18,"n_rows":30,"n_cols":10,"rows_kept":30,"cut":false,"hidden":false,"merged":[]}
[]
[1,2,3,4,5,6,7,8,9,10]
[]
["Gødningstype","NH3-N tab,                % af NH4-N ab lager","NH3-N tab,                     % af total N ab lager","Reference","N2O-N tab,                     % af total N ab lager","Reference","N2-N tab,                     % af total N ab lager","Reference","NOx tab,                     % af total N ab lager","Reference"]
[]
["gylle",{"$f":"C6/79%","v":0.110126582278481},8.6999999999999994E-2,"Nielsen et al., 2015",0.01,"IPCC, 2006",0.03,"Vinther, FP, 2005",1E-3,"Nemecek & Kagi, 2007"]
["afgasset gylle",{"$f":"C7/79%","v":6.4974683544303788E-2},{"$f":"C6*59%","v":5.1329999999999994E-2},"Olesen et al., (2013)",{"$f":"E6*59%","v":5.8999999999999999E-3},"Olesen et al.,2013",0.03,"Vinther, FP, 2005",1E-3,"Nemecek & Kagi, 2007"]
["forsyret gylle",null,{"$f":"C6*67%","v":5.8290000000000002E-2},"Hansen et al., 2008",{"$f":"E6","v":0.01},"Jensen, 2015",0.03,"Vinther, FP, 2005",1E-3,"Nemecek & Kagi, 2007"]
["dybstrøelse ",null,0.06,"Nielsen et al., 2015",0.01,"IPCC, 2006",0.03,"Vinther, FP, 2005",1E-3,"Nemecek & Kagi, 2007"]
["fast staldgødning",null,0.06,"Nielsen et al., 2015",0.01,"IPCC, 2006",0.03,"Vinther, FP, 2005",1E-3,"Nemecek & Kagi, 2007"]
[]
[]
[]
[]
[]
[]
[]
[]
[]
[]
[]
[1,2,3,4,5,6,7,8,9,10]
[]
["Manure type","NH3-N loss,                % of NH4-N ex storage","NH3-N loss,                     % of total N ex storage","Reference","N2O-N loss,                     % of total N ex storage","Reference","N2-N loss,                     % of total N ex storage","Reference","NOx loss,                     % of total N ex storage","Reference"]
[]
["slurry",{"$f":"C26/79%","v":0.110126582278481},8.6999999999999994E-2,"Nielsen et al., 2015",0.01,"IPCC, 2006",0.03,"Vinther, FP, 2005",1E-3,"Nemecek & Kagi, 2007"]
["de-gassed slurry",{"$f":"C27/79%","v":6.4974683544303788E-2},{"$f":"C26*59%","v":5.1329999999999994E-2},"Olesen et al., (2013)",{"$f":"E26*59%","v":5.8999999999999999E-3},"Olesen et al.,2013",0.03,"Vinther, FP, 2005",1E-3,"Nemecek & Kagi, 2007"]
["acidified slurry",null,5.8000000000000003E-2,"Hansen et al., 2008",{"$f":"E26","v":0.01},"Jensen, 2015",0.03,"Vinther, FP, 2005",1E-3,"Nemecek & Kagi, 2007"]
["deep litter",null,0.06,"Nielsen et al., 2015",0.01,"IPCC, 2006",0.03,"Vinther, FP, 2005",1E-3,"Nemecek & Kagi, 2007"]
["solid manure",null,0.06,"Nielsen et al., 2015",0.01,"IPCC, 2006",0.03,"Vinther, FP, 2005",1E-3,"Nemecek & Kagi, 2007"]

{"sheet":"background data","index":19,"n_rows":62,"n_cols":17,"rows_kept":62,"cut":false,"hidden":false,"merged":[]}
[]
[null,"Inputs used at farm level"]
[]
[]
[null,"Type of input","Unit","GWP, kg CO2 eq.",null,null,null,null,null,null,null,"EP, kg NO3 eq.","NRE, MJ","AP, kg SO2","LU, m2","BD, PDF","Reference"]
[null,null,null,"growing","processing","transport","sub-total","soil C","sub-total","ILUC","total"]
[]
[null,"Feed"]
[]
[null,"barley","kg DM",{"$f":"444/1000","v":0.44400000000000001},{"$f":"11/1000","v":1.0999999999999999E-2},{"$f":"18/1000","v":1.7999999999999999E-2},{"$f":"D10+E10+F10","v":0.47300000000000003},{"$f":"130/1000","v":0.13},{"$f":"G10+H10","v":0.60299999999999998},{"$f":"391/1000","v":0.39100000000000001},{"$f":"I10+J10","v":0.99399999999999999},{"$f":"55/1000","v":5.5E-2},3.97,{"$f":"4.6/1000","v":4.5999999999999999E-3},2.73,{"$f":"O10*$P$44","v":0.79169999999999996},"Mogensen et al., 2015"]
[null,"barley straw","kg DM",{"$f":"42/1000","v":4.2000000000000003E-2},{"$f":"1/1000","v":1E-3},{"$f":"18/1000","v":1.7999999999999999E-2},{"$f":"D11+E11+F11","v":6.0999999999999999E-2},{"$f":"12/1000","v":1.2E-2},7.2999999999999995E-2,{"$f":"37/1000","v":3.6999999999999998E-2},{"$f":"I11+J11","v":0.10999999999999999},{"$f":"5/1000","v":5.0000000000000001E-3},0.3,{"$f":"0.4/1000","v":4.0000000000000002E-4},0.26,7.5399999999999995E-2,"Mogensen et al., 2015"]
[null,"rapeseed cake","kg DM",{"$f":"410/1000","v":0.41},{"$f":"28/1000","v":2.8000000000000001E-2},{"$f":"75/1000","v":7.4999999999999997E-2},0.51300000000000001,{"$f":"9/1000","v":8.9999999999999993E-3},0.52200000000000002,{"$f":"326/1000","v":0.32600000000000001},0.84800000000000009,{"$f":"50/1000","v":0.05},4,{"$f":"3.9/1000","v":3.8999999999999998E-3},2.2799999999999998,0.6611999999999999,"Mogensen et al., 2015"]
[null,"grass clover silage","kg DM",{"$f":"252/1000","v":0.252},0,0,0.252,{"$f":"-46/1000","v":-4.5999999999999999E-2},0.20600000000000002,{"$f":"219/1000","v":0.219},0.42500000000000004,{"$f":"11/1000","v":1.0999999999999999E-2},1.65,{"$f":"1.9/1000","v":1.9E-3},1.53,0.44369999999999998,"Mogensen et al., 2015"]
[null,"grass clover grazed","kg DM",{"$f":"473/1000","v":0.47299999999999998},0,0,0.47299999999999998,{"$f":"-208/1000","v":-0.20799999999999999},0.26500000000000001,{"$f":"256/1000","v":0.25600000000000001},0.52100000000000002,{"$f":"55/1000","v":5.5E-2},2.4,{"$f":"4/1000","v":4.0000000000000001E-3},1.79,0.51910000000000001,"Mogensen et al., 2015"]
[null,"maize silage","kg DM",{"$f":"221/1000","v":0.221},0,0,0.221,{"$f":"67/1000","v":6.7000000000000004E-2},0.28800000000000003,{"$f":"201/1000","v":0.20100000000000001},0.48900000000000005,{"$f":"15/1000","v":1.4999999999999999E-2},1.74,{"$f":"2.4/1000","v":2.3999999999999998E-3},1.41,0.40889999999999993,"Mogensen et al., 2015"]
[null,"barley silage","kg DM",{"$f":"301/1000","v":0.30099999999999999},0,0,0.30099999999999999,{"$f":"94/1000","v":9.4E-2},0.39500000000000002,{"$f":"272/1000","v":0.27200000000000002},0.66700000000000004,{"$f":"28/1000","v":2.8000000000000001E-2},2.2999999999999998,{"$f":"3.2/1000","v":3.2000000000000002E-3},1.91,0.55389999999999995,"Mogensen et al., 2015"]
[null,"soy bean","kg DM",{"$f":"184/1000","v":0.184},0,{"$f":"359/1000","v":0.35899999999999999},0.54299999999999993,{"$f":"144/1000","v":0.14399999999999999},0.68699999999999994,{"$f":"311/1000","v":0.311},0.998,{"$f":"8/1000","v":8.0000000000000002E-3},1.1200000000000001,{"$f":"3/1000","v":3.0000000000000001E-3},2.17,0.62929999999999997,"Mogensen et al., 2015"]
[null,"soy bean meal","kg DM",{"$f":"148/1000","v":0.14799999999999999},{"$f":"34/1000","v":3.4000000000000002E-2},{"$f":"359/1000","v":0.35899999999999999},0.54099999999999993,{"$f":"116/1000","v":0.11600000000000001},0.65699999999999992,{"$f":"250/1000","v":0.25},0.90699999999999992,{"$f":"13/1000","v":1.2999999999999999E-2},8.86,{"$f":"6.93/1000","v":6.9299999999999995E-3},1.75,0.50749999999999995,"Mogensen et al., 2015"]
[null,"peas","kg DM",null,null,null,0.38400000000000001,0.16300000000000001,null,{"$f":"O19*0.149","v":0.79118999999999995},null,5.2999999999999999E-2,0.97,{"$f":"1.7/1000","v":1.6999999999999999E-3},5.31,1.5398999999999998,"Knudsen et al., 2016"]
[null,"faba beans","kg DM",null,null,null,0.14000000000000001,7.0000000000000007E-2,null,{"$f":"O20*0.149","v":0.51702999999999999},null,2.1999999999999999E-2,0.72,{"$f":"1.29/1000","v":1.2900000000000001E-3},3.47,1.0063,"Knudsen et al., 2016"]
[null,"Chemicals"]
[]
[null,"N fertiliser (CAN)","kg N",null,null,null,null,null,null,null,6.6159999999999997,{"$f":"224/1000","v":0.224},43.61,{"$f":"37.3/1000","v":3.73E-2},null,null,"Agrifootprint 1"]
[null,"N fertiliser (AN)","kg N",null,null,null,null,null,null,null,2.96,{"$f":"192/1000","v":0.192},38.700000000000003,{"$f":"68.6/1000","v":6.8599999999999994E-2},null,null,"Fossum, 2014"]
[null,"P fertiliser (P2O5)","kg P",null,null,null,null,null,null,null,3.5960000000000001,{"$f":"289/1000","v":0.28899999999999998},55.65,{"$f":"41/1000","v":4.1000000000000002E-2},null,null,"Ecoinvent 3"]
[null,"K fertiliser (K2O)","kg K",null,null,null,null,null,null,null,0.71,{"$f":"13/1000","v":1.2999999999999999E-2},8.0619999999999994,{"$f":"1.4/1000","v":1.4E-3},null,null,"Ecoinvent 3"]
[null,"lime (CaCO3)","kg CaCO3",null,null,null,null,null,null,null,3.2000000000000001E-2,{"$f":"0.001/1000","v":9.9999999999999995E-7},0.66500000000000004,null,null,null,"Agrifootprint 1"]
[null,"pesticides, unspecified","kg",null,null,null,null,null,null,null,null,{"$f":"0.033/10.45*1000","v":3.1578947368421058},196,{"$f":"0.0881*1000","v":88.1},null,null,"Ecoinvent 3"]
[]
[null,"Seed"]
[null,"seed","kg",null,null,null,null,null,null,null,0.37824999999999998,{"$f":"46.75/1000","v":4.675E-2},2.38,null,null,null,"Værdier for bygkerne"]
[null,"Energy"]
[]
[null,"diesel","l",null,null,null,null,null,null,null,2.8195199999999998,{"$f":"33.84128/1000","v":3.3841279999999994E-2},39.776000000000003,{"$f":"18.4448/1000","v":1.8444800000000001E-2},null,null,"Agrifootprint 1"]
[null,"oil","l",null,null,null,null,null,null,null,{"$f":"K34","v":2.8195199999999998},{"$f":"L34","v":3.3841279999999994E-2},{"$f":"M34","v":39.776000000000003},{"$f":"N34","v":1.8444800000000001E-2},null,null,"Agrifootprint 1"]
[null,"heat (oil or other not natural gas)","MJ",null,null,null,null,null,null,null,9.2999999999999999E-2,{"$f":"0.199/1000","v":1.9900000000000001E-4},1.43,{"$f":"0.175/1000","v":1.75E-4},null,null,"Ecoinvent 3, 2013"]
[null,"heat (natural gas)","MJ",null,null,null,null,null,null,null,6.6000000000000003E-2,null,null,null,null,null,"Ecoinvent 3, 2013"]
[null,"electricity DK","kWh",null,null,null,null,null,null,null,0.56100000000000005,{"$f":"6.422/1000","v":6.4219999999999998E-3},7.9550000000000001,0.432,null,null,"Ecoinvent 3, 2013"]
[null,"electricity DE","kWh",null,null,null,null,null,null,null,0.64100000000000001,{"$f":"26.585/1000","v":2.6585000000000001E-2},10.74,null,null,null,"Ecoinvent 3, 2013"]
[null,"electricity BR","kWh",null,null,null,null,null,null,null,0.21199999999999999,{"$f":"0.663/1000","v":6.6300000000000007E-4},1.46,null,null,null,"Ecoinvent 3, 2013"]
[null,"Land"]
[null,"agricultural land","ha",null,null,null,null,null,null,null,1430,null,null,null,null,null,"Audsley et al., 2009"]
[null,"     annual crops, not grass, conventional systems","m2",null,null,null,null,null,null,null,{"$f":"K42/10000","v":0.14299999999999999},null,null,null,null,0.68,"Knudsen et al., 2016"]
[null,"     annual crops, not grass, organic  systems","m2",null,null,null,null,null,null,null,{"$f":"K42/10000","v":0.14299999999999999},null,null,null,null,0.28999999999999998,"Knudsen et al., 2016"]
[null,"     grass clover in rotation, conventional systems","m2",null,null,null,null,null,null,null,{"$f":"K42/10000","v":0.14299999999999999},null,null,null,null,0.09,"Knudsen et al., 2016"]
[null,"     grass clover in rotation, organic systems","m2",null,null,null,null,null,null,null,{"$f":"K42/10000","v":0.14299999999999999},null,null,null,null,-0.12,"Knudsen et al., 2016"]
[null,"permanent pasture land","ha",null,null,null,null,null,null,null,0,null,null,null,null,null,"Audsley et al., 2009"]
[null,"     permanent pasture (grassland non-fertilized)","m2",null,null,null,null,null,null,null,{"$f":"K47/10000","v":0},null,null,null,null,-0.23,"Knudsen et al., 2016"]
[null,"     nature pasture (grassland, non-fertilized)","m2",null,null,null,null,null,null,null,{"$f":"K48/10000","v":0},null,null,null,null,-0.34,"Knudsen et al., 2016"]
[null,"Catch crops"]
[null,"sandy soil","ha",null,null,null,null,null,null,null,{"$f":"5-733","v":-728},null,null,null,null,null,"Olesen et al., 2013"]
[null,"loamy soils","ha",null,null,null,null,null,null,null,{"$f":"113-733","v":-620},null,null,null,null,null,"Olesen et al., 2013"]
[null,"Transport "]
[]
[null,"ship, overseas transport","tkm",null,null,null,null,null,null,null,1.0999999999999999E-2,{"$f":"0.19/1000","v":1.9000000000000001E-4},0.152,{"$f":"0.24/1000","v":2.3999999999999998E-4},null,null,"Agrifootprint 1"]
[null,"ship, Europe transport","tkm",null,null,null,null,null,null,null,4.1000000000000002E-2]
[null,"ship, inland transport","tkm",null,null,null,null,null,null,null,4.4999999999999998E-2,{"$f":"0.785/1000","v":7.85E-4},0.63600000000000001,null,null,null,"Agrifootprint 1"]
[null,"lorry, >20 t","tkm",null,null,null,null,null,null,null,0.1,{"$f":"1.136/1000","v":1.1359999999999999E-3},1.427,{"$f":"1.26/1000","v":1.2600000000000001E-3},null,null,"Agrifootprint 1"]
[null,"lorry, 10-20 t","tkm",null,null,null,null,null,null,null,0.254,{"$f":"3.386/1000","v":3.3860000000000001E-3},3.62,{"$f":"1.9/1000","v":1.9E-3},null,null,"Agrifootprint 1"]
[null,"lorry, <10 t","tkm",null,null,null,null,null,null,null,0.37,{"$f":"4.408/1000","v":4.4080000000000005E-3},5.298,{"$f":"2.5/1000","v":2.5000000000000001E-3},null,null,"Agrifootprint 1"]
[null,"train, Europe","tkm",null,null,null,null,null,null,null,5.1999999999999998E-2,{"$f":"2.403/1000","v":2.4030000000000002E-3},0.85099999999999998,{"$f":"1.07/1000","v":1.07E-3},null,null,"Ecoinvent 3"]
[null,"train, rest of the world","tkm",null,null,null,null,null,null,null,4.7E-2,{"$f":"1.042/1000","v":1.042E-3},0.64800000000000002,null,null,null,"Ecoinvent 3"]

{"sheet":"øvrige EFS-other EFs","index":20,"n_rows":51,"n_cols":12,"rows_kept":51,"cut":false,"hidden":false,"merged":[[4,1,5,1],[4,2,5,2],[4,3,4,9]]}
[]
[null,"Factors for estimation of emissions in pig systems"]
[]
[]
[null,"SOURCES OF EMISSIONS","UNIT","EF"]
[null,null,null,"CO2","CH4","N2O","NH3","Nox","NO3","N2","SO2","Reference"]
[]
[null,"SWINE"]
[null,"        enteric fermentation"]
[null,"             Ym swine",null,null,0.6,null,null,null,null,null,null,"IPCC, 2006"]
[null,"        manure"]
[null,"             B0 swine",null,null,0.45,null,null,null,null,null,null,"IPCC, 2006"]
[null,"             % ash","%",null,4.5,null,null,null,null,null,null,"SEGES, 2005"]
[null,"             VSDM  (volatile solids of dry matter)","%",null,80,null,null,null,null,null,null,"Nielsen et al., 2016"]
[null,"             DMM (dry matter of manure)","%",null,"sows","piglets","sl. pigs"]
[null,"                  slurry",null,null,4.5,4.4000000000000004,6,null,null,null,null,"Normtal, 2017"]
[null,"                  deep litter",null,null,33,33,33,null,null,null,null,"Normtal, 2017"]
[null,"                  solid manure",null,null,23,23,23,null,null,null,null,"Normtal, 2017"]
[null,"                  urine",null,null,2.5,1.9,2,null,null,null,null,"Normtal, 2017"]
[null,"                  paddock",null,null,7.7,{"$f":"E20","v":7.7},{"$f":"E20","v":7.7},null,null,null,null,"Normtal, 2017"]
[null,"LIMING"]
[null,"        application of lime","kg per kg lime",{"$f":"0.12*44/12","v":0.43999999999999995},null,null,null,null,null,null,null,"IPCC, 2006"]
[null,"TREES/ENERGY CROPS"]
[null,"        harvested for bio-purposes every 3 years","kg N/ha of trees",null,null,null,null,null,null,100,null,"Kongsted, A.G.,"]
[null,"        annual harvest of branches and leaves","kg N/ha of trees",null,null,null,null,null,null,200,null,"Kongsted, A.G.,"]
[null,"Characterization factors"]
[null,"        N2O","kg",265]
[null,"        CH4","kg",25.5]
[null,"        NO3","kg",null,null,null,null,null,1]
[null,"        PO4","kg",null,null,null,null,null,10.45]
[null,"        NH3","kg",null,null,null,null,null,3.64,null,1.88,"Impact 2002+"]
[null,"        NOx","kg",null,null,null,null,null,1.35,null,1.07,"Impact 2002+"]
[null,"            Ym = methane conversion factor, % of gross energy of feed converted to methane; B0 = maximum methane production capacity"]
[]
[null,"Equations:"]
[]
[null,"CH4 enteric fermentation:"]
[null,"           CH4=(GE*Ym/100*days)/55,65",null,null,"(IPCC, 2006)"]
[null,"           CH4sows=kg feed*100*1340/55,65*10e6",null,null,"(Rigolot, 2010); 100= g digested fibre ingested per kg feed"]
[null,"           CH4pigs=kg feed*90*670/55,65*10e6",null,null,"(Rigolot, 2010); 90= g digested fibre ingested per kg feed"]
[]
[null,"CH4 manure:"]
[null,"           CH4=CH4 housing + CH4 grazing",null,null,"(IPCC, 2006)"]
[null,"           CH4housing=VShousing*MCF*0,67*Bo",null,null,"VS=volatile solids, kg per animal per year"]
[null,"            VShousing=m/365*DMm*VSdm*(365-g1)+s*DMs*(1-%ash/10)*(365-g2)",null,null,"m=amount of manure excreted , kg per animal per year"]
[null,"           CH4grazing=VSgrazing*MCF*0,67*Bo",null,null,"DM = dry matter of manure m or s straw"]
[null,"            VSgrazing=m/365*DMm*VSm*g1",null,null,"VSdm= volatile solids of dry matter, %"]
[null,null,null,null,"g1=feeding days on grass, days per year"]
[null,null,null,null,"g2 = actual days on grass, days per year"]
[null,null,null,null,"s = amount of straw, kg per animal per year"]
[null,null,null,null,"%ash = ash content in straw; (4,5% (SEGES, 2005))"]

{"sheet":"topdowntables","index":21,"n_rows":43,"n_cols":34,"rows_kept":43,"cut":false,"hidden":false,"merged":[]}
[null,null,null,null,null,null,null,null,null,null,null,null,null,null,null,null,null,1,2,3,4,5,6,7,8,9,10,11,12,13,14,15,16,17]
[null,"Opstaldningsform/Housing type",null,null,null,"Dage ude med græsoptag / days out with grass intake",null,null,null,null,null,null,"Language/Sprog",null,null,null,"Afgrøder/Crops"]
[null,"Søer/sows",null,null,null,"Diegiv.","Dr.","FE/dag",null,null,null,null,"English",{"$f":"IF('input-data'!B3=topdowntables!M3, 1, 0)","v":0},null,null,null,null,"a","b","c","kg TS per kg","FE per kg","tab, % af TS","halm, % af TS","LU faktor","tillage faktor","protein in overjordiskerester, % af TS","protein in underjordiske rester, % af TS","Protein i afgrøder, % af TS","Protein i halm, % of TS","P, % af TS","PDF"]
[null,"Opstaldningsform","Ude hele året",null,"",180,180,1,null,null,null,null,"Dansk",{"$f":"IF('input-data'!B3=topdowntables!M4, 1, 0)","v":1},null,null,"Afgrøder","Vælg……………………………………"]
[null,null,"Inde hele året",null,"",0,0,null,null,null,null,null,null,null,null,null,null,"byg - fra gaard",0.45,0.17,0.55000000000000004,{"$f":"Fodertabel!L23/100","v":0.85},{"$f":"Fodertabel!F23","v":1.0581645567169899},1,55,0.8,1,4.7,9.85,10.1,4,{"$f":"3.29/100","v":3.2899999999999999E-2},0.28999999999999998,"byg "]
[null,null,"Ude en del af året",null,"Dage på fold per år:",{"$f":"IF('input-data'!F303>180,180,'input-data'!F303)","v":0},{"$f":"IF('input-data'!F325>180,180,'input-data'!F325)","v":0},1,null,null,null,null,null,null,null,null,null,"hvede - fra gaard",0.43,0.25,0.55000000000000004,{"$f":"Fodertabel!L89/100","v":0.85},{"$f":"Fodertabel!F89","v":1.1393234378532799},1,55,0.8,1,5.4,9.3699999999999992,10.4,3.3,{"$f":"3.29/10","v":0.32900000000000001},0.28999999999999998,"hvede "]
[null,null,null,null,null,null,null,null,null,null,null,null,null,null,null,null,null,"havre - fra gaard",0.4,0.17,0.6,{"$f":"Fodertabel!L75/100","v":0.85},{"$f":"Fodertabel!F75","v":0.84505108401083995},1,60,0.8,1,4.7,9.85,10.6,4,{"$f":"3.76/10","v":0.376},0.28999999999999998,"havre "]
[null,null,null,null,null,null,null,null,null,null,null,null,null,null,null,null,null,"rug - fra gaard",0.38,0.25,0.8,{"$f":"Fodertabel!L194/100","v":0.85},{"$f":"Fodertabel!F194","v":1.0915497193186201},1,80,0.8,1,5.3,9.3699999999999992,8.6,3.3,{"$f":"3.29/10","v":0.32900000000000001},0.28999999999999998,"rug "]
[null,"Housing type","Outdoor - whole year",null,"",{"$f":"F4","v":180},{"$f":"G4","v":180},{"$f":"H4","v":1},null,null,null,null,null,null,null,null,null,"triticale - fra gaard",0.41,0.25,0.6,{"$f":"Fodertabel!L272/100","v":0.85},{"$f":"Fodertabel!F272","v":1.12403800813008},1,60,0.8,1,5.3,9.3699999999999992,10.5,3.3,{"$f":"3.53/10","v":0.35299999999999998},0.28999999999999998,"triticale"]
[null,null,"Indoor - whole year",null,"",{"$f":"F5","v":0},{"$f":"G5","v":0},null,null,null,null,null,null,null,null,null,null,"ærter - fra gaard",{"$f":"S5","v":0.45},{"$f":"T5","v":0.17},0.55000000000000004,{"$f":"Fodertabel!L318/100","v":0.85199999999999998},{"$f":"Fodertabel!F318","v":1.00958482984901},1,0,0.8,1,5,5,24,null,{"$f":"4.6/10","v":0.45999999999999996},0.28999999999999998,"ærter "]
[null,null,"Outdoor - part of the year",null,"Days on paddock per year:",{"$f":"F6","v":0},{"$f":"G6","v":0},{"$f":"H6","v":1},null,null,null,null,null,null,null,null,null,"kløvergræs ensilage - fra gaard",0.7,0.45,0,{"$f":"(Fodertabel!L68+Fodertabel!L69)/2/100","v":0.32600000000000001},{"$f":"(Fodertabel!F68+Fodertabel!F69)/2","v":0.21247570949477351},20,0,0.93,1.1000000000000001,13.7,9.1999999999999993,16.3,null,{"$f":"3.5/10","v":0.35},-0.12,"kløvergræs ensilage"]
[null,null,null,null,null,null,null,null,null,null,null,null,null,null,null,null,null,"græs ensilage - fra gaard",0.7,0.45,0,{"$f":"V11","v":0.32600000000000001},{"$f":"(Fodertabel!F68+Fodertabel!F69)/2","v":0.21247570949477351},20,0,0.93,1.1000000000000001,13.6,9.1999999999999993,15.9,null,{"$f":"3.5/10","v":0.35},-0.12,"græs ensilage "]
[null,"Smågrise / Piglets",null,null,null,"Smaa",null,null,null,null,null,null,null,null,null,null,null,"hestebønner - fra gaard",{"$f":"S10","v":0.45},{"$f":"T10","v":0.17},0.55000000000000004,0.84799999999999998,0.85,1,0,0.8,1,5,5,30.9,null,0.439,0.28999999999999998,"hestebønner "]
[null,"Opstaldningsform","Inde hele smågriseperioden",null,"",0,null,null,null,null,null,null,null,null,null,null,null,"…………………………………………..",null,null,null,null,null,null,null,null,null,null,null,null,null,null,null,"………………………………………….."]
[null,null,"Ude hele smågriseperioden",null,"",{"$f":"('input-data'!F347-'input-data'!F157)/'input-data'!E30*1000","v":{"$error":"#DIV/0!"}},null,0.2,null,null,null,null,null,null,null,null,null,null,"a","b","c","kg DM per kg ","FU per kg","losses, % of DM","straw, % of DM","LU factor","tillage factor","Protein in AG crop residues, % of DM","Protein in BG crop residues, % of DM","Protein in crop, % of DM","Protein in straw, % of DM","P, % of DM","PDF"]
[null,null,"Ude => Inde",null,"Flyttes på stald ved kg:",{"$f":"IF(((('input-data'!F347-'input-data'!F157)/'input-data'!E30*1000)>180),180,('input-data'!F347-'input-data'!F157)/'input-data'!E30*1000)","v":{"$error":"#DIV/0!"}},null,0.2,null,null,null,null,null,null,null,null,"Crops ","Select…………………………………",null,null,null,null,null,null,null,null,null,null,null,null,null,null,null,"Select…………………………………"]
[null,null,null,null,null,null,null,null,null,null,null,null,null,null,null,null,null,"barley - onfarm",{"$f":"S5","v":0.45},{"$f":"T5","v":0.17},0.55000000000000004,{"$f":"V5","v":0.85},1.0581645567169899,1,55,0.8,1,{"$f":"AB5","v":4.7},9.85,10.1,4,3.2899999999999999E-2,0.28999999999999998,"barley "]
[null,null,null,null,null,null,null,null,null,null,null,null,null,null,null,null,null,"wheat - on farm",{"$f":"S6","v":0.43},0.25,0.55000000000000004,0.85,1.1393234378532799,1,55,0.8,1,5.4,9.3699999999999992,10.4,3.3,0.32900000000000001,0.28999999999999998,"wheat "]
[null,"Housing system","Indoor for whole period",null,"",{"$f":"F14","v":0},null,null,null,null,null,null,null,null,null,null,null,"oats - on farm",{"$f":"S7","v":0.4},0.17,0.6,0.85,0.84505108401083995,1,60,0.8,1,4.7,9.85,10.6,4,0.376,0.28999999999999998,"oats "]
[null,null,"Outdoor for whole period",null,"",{"$f":"F15","v":{"$error":"#DIV/0!"}},null,{"$f":"H15","v":0.2},null,null,null,null,null,null,null,null,null,"rye - on farm",{"$f":"S8","v":0.38},0.25,0.8,0.85,1.0915497193186201,1,80,0.8,1,5.3,9.3699999999999992,8.6,3.3,0.32900000000000001,0.28999999999999998,"rye "]
[null,null,"Outdor => Indoor",null,"Moved to stable at weight of, kg:",{"$f":"F16","v":{"$error":"#DIV/0!"}},null,{"$f":"H16","v":0.2},null,null,null,null,null,null,null,null,null,"triticale - on farm ",{"$f":"S9","v":0.41},0.25,0.6,0.85,1.12403800813008,1,60,0.8,1,5.3,9.3699999999999992,10.5,3.3,0.35299999999999998,0.28999999999999998,"triticale "]
[null,null,null,null,null,null,null,null,null,null,null,null,null,null,null,null,null,"peas - on farm ",{"$f":"S10","v":0.45},0.17,0.55000000000000004,0.85199999999999998,1.00958482984901,1,0,0.8,1,5,5,24,null,{"$f":"AF10","v":0.45999999999999996},0.28999999999999998,"peas "]
[null,null,null,null,null,null,null,null,null,null,null,null,null,null,null,null,null,"grass-clover silage - on farm",{"$f":"S11","v":0.7},0.45,0,0.32600000000000001,0.21247570949477351,20,0,0.93,1.1000000000000001,13.7,9.1999999999999993,16.3,null,0.35,-0.12,"grass-clover silage "]
[null,"Slagtesvin / growing pigs",null,null,null,"Sl.",null,null,null,null,null,null,null,null,null,null,null,"grass silage - on farm",{"$f":"S12","v":0.7},0.45,0,0.32600000000000001,0.21247570949477351,20,0,0.93,1.1000000000000001,13.6,9.1999999999999993,15.9,null,0.35,-0.12,"grass silage "]
[null,"Opstaldningsform","Inde hele slagtesvineperioden",null,"",null,null,null,null,null,null,null,null,null,null,null,null,"faba beans - on farm",{"$f":"S13","v":0.45},{"$f":"T13","v":0.17},0.55000000000000004,0.84799999999999998,0.85,1,0,0.8,1,5,5,30.9,0,0.439,0.28999999999999998,"faba beans "]
[null,null,"Ude hele slagtesvineperioden",null,"",null,null,null,null,null,null,null,null,null,null,null,null,"…………………………………………..",null,null,null,null,null,null,null,null,null,null,null,null,null,null,null,"………………………………………….."]
[null,null,"Ude => Inde",null,"Flyttes på stald ved kg:"]
[]
[]
[null,"Housing system","Indoor for whole period",null,""]
[null,null,"Outdoor for whole period",null,""]
[null,null,"Outdor => Indoor",null,"Moved to stable at weight of, kg:"]
[]
[null,"treer i folde","vælg ……………………………"]
[null,null,"treer, høst til biobrændsel hvert 3 år"]
[null,null,"treer, høst af grene og blade hver år"]
[null,null,"………………………………………."]
[null,null,"……………………………………….."]
[null,"paddocks with trees","select…………………………….."]
[null,null,"harvested for bio-purposes every 3 years"]
[null,null,"harvest of branches and leaves every year"]
[null,null,"………………………………………."]
[null,null,"………………………………………."]

{"sheet":"NPK tal","index":22,"n_rows":60,"n_cols":7,"rows_kept":60,"cut":false,"hidden":false,"merged":[]}
["Parameter",null,null,null,null,"Kilder:"]
["Dyr:"]
["N, P eller K per kg levende vægt:","N, g","P, g","K, g"]
["So, g",25.4,5.9,2,null,"N og P: Svin baggrundsmateriale 2016-2017; K: Poulsen et al. 2001 (N, P and K content in animals) DJF rapport nr 36 "]
["Pattegris (7,5 kg), g",25.7,6,2.2000000000000002,null,"N og P: Svin baggrundsmateriale 2016-2017; K: Poulsen et al. 2001 (N, P and K content in animals) DJF rapport nr 36 "]
["Smågris (30 kg), g",29.3,5.14,2.2000000000000002,null,"N og P: Svin baggrundsmateriale 2016-2017; K: Poulsen et al. 2001 (N, P and K content in animals) DJF rapport nr 36 "]
["Slagtegris, g",30.2,5.54,2.2000000000000002,null,"N og P: Svin baggrundsmateriale 2016-2017; K: Poulsen et al. 2001 (N, P and K content in animals) DJF rapport nr 36 "]
[]
["N, P eller K per kg tilvækst:","N, g","P, g","K, g"]
["So, g",22,6.4,null,null,"N og P: Svin baggrundsmateriale 2016-2017;"]
["Pattegris-> smågris, g",30.4,4.9000000000000004,null,null,"N og P: Svin baggrundsmateriale 2016-2017;"]
["Smågris, 30 kg -> slagtesvin, g",29.6,5.5,null,null,"N og P: Svin baggrundsmateriale 2016-2017;"]
[]
["Tilvækst per årsso (konventionelle tal - hvordan i forhold til øko?)","kg per dyr","kg per årsso"]
["Bidrag fra soen: ((241 kg ved afgang - 135 kg ved 1. løbning) /3,9 kuld i gns )*antal kuld per år",{"$f":"(241-135)/3.9","v":27.179487179487179},{"$f":"B15*'input-data'!E15","v":0},null,null,"Svin baggrundsmatriale 2016-2017"]
["Bidrag fra orner:  0,04 årsorner * 50 kg per år",{"$f":"0.04*50","v":2},{"$f":"B16","v":2},null,null,"Svin baggrundsmatriale 2016-2017"]
["Bidrag fra polte: (135 kg ved 1 løbning - 105 kg normal slagtevægt)*antal kuld per år*andel førstelægs",{"$f":"(135-105)","v":30},{"$f":"B17*'input-data'!E15*('input-data'!E23/100)","v":0},null,null,"Svin baggrundsmatriale 2016-2017"]
[]
["Vægtændring ved faring:  30 kg per kuld (sat til vægttab i farefolden og tilvækst i drægtighedsfolden)",30,{"$f":"B19*'input-data'!E15","v":0},null,null,"Den rullende afprøvning medd. Nr 686, 2015"]
[]
["Standardtal anvendt for polte","kg per dyr","Fe per dag"]
["Vægt ved indsættelse i soholdet",105]
["Vægt ved første løbning",135]
["Foderenheder per dag",null,2.9]
[]
["Fordøjlighedskoefficienter for N,P og K (til beregning af TAN-N)","N, %","P, %","K, %","TS, %"]
["Søer",80,45,50,81,"Svin baggrundsmatriale 2016-2017"]
["Smågrise",84,45,50,85,"Svin baggrundsmatriale 2016-2017"]
["Slagtesvin",81,45,50,83,"Svin baggrundsmatriale 2016-2017"]
[]
["Standardtal anvendt for græsoptag (maks 180 dage per år)","kg per dag","Maks dage med græsoptag per år"]
["Søerne",1,180]
["Smågrise",0.2,180]
["Slagtesvin",0.2,180]
[]
["Fordeling af gødning i procent af afsat gødning (forudsættes ens for fæces og urin)","Inde areal","Ude areal","Total"]
["Søerne, Case 1",0.25,0.75,{"$f":"+SUM(B37:C37)","v":1}]
["Søerne, Case 2",0.5,0.5,{"$f":"+SUM(B38:C38)","v":1}]
[]
["Smågrisene, Case 1",0.25,0.75,{"$f":"+SUM(B40:C40)","v":1}]
["Smågrisene, Case 2",0.5,0.5,{"$f":"+SUM(B41:C41)","v":1}]
[]
["Slagtesvin, Case 1",0.25,0.75,{"$f":"+SUM(B43:C43)","v":1}]
["Slagtesvin, Case 2",0.5,0.5,{"$f":"+SUM(B44:C44)","v":1}]
[]
["Fordeling på de forskellige gulvtyper i stien. Andel af total afsat gødning","Inde","Inde","Ude","Ude"]
[null,"Lejeareal","Aktivitet/gøde","Fast gulv","Spaltegulv og kumme",null,"i alt"]
[]
["Søerne, Case 1",0.06,0.19,0.25,0.5,"Anders Peter Adamsen, Seges",{"$f":"B49+C49+D49+E49","v":1}]
["Søerne, Case 2",0.12,0.38,0.15,0.35,null,{"$f":"B50+C50+D50+E50","v":1}]
[]
["Smågrisene, Case 1",0.06,0.19,0.25,0.5,null,1]
["Smågrisene, Case 2",0.12,0.38,0.15,0.35,null,1]
[]
["Slagtesvin, Case 1",0.06,0.19,0.25,0.5,null,1]
["Slagtesvin, Case 2",0.12,0.38,0.15,0.35,null,1]
[]
[]
["Halm"]
["Gns. Indhold af næringsstoffer i halm, kg per kg tørstof",5.0000000000000001E-3,6.8000000000000005E-4,1.4749999999999999E-2,85,"Normtal for husdyrgødning, 2014"]

{"sheet":"Emission Stald-fold","index":23,"n_rows":78,"n_cols":17,"rows_kept":78,"cut":false,"hidden":false,"merged":[]}
["Ammoniak-emission fra produktion af økologisk slagtesvin"]
[]
["NH4-N udskilt",null,8.75,"kg SP-1 år-1","Økologisk produktion",null,"TAN-N per stiplads"]
[null,null,7.95,"kg SP-1 år-1","Konventionel produktion"]
[]
["Emission fra sostalden"]
[]
["Fordeling af gødning i procent af afsat gødning (forudsættes ens for fæces og urin)",null,null,null,null,"Fordeling på de forskellige gulvtyper i stien. Andel af total afsat gødning"]
[null,null,null,null,null,null,"Inde","Inde","Inde","Ude","Ude",null,"i alt"]
[null,"Inde","Ude","Total",null,null,"Lejeareal","Fast gulv","Spaltegulv og kumme","Fast gulv","Spaltegulv og kumme"]
["Case 1",0.25,0.75,{"$f":"+SUM(B11:C11)","v":1},null,"Case 1",0.03,0.03,0.19,0.25,0.5,null,{"$f":"G11+H11+I11+J11+K11","v":1}]
["Case 2",0.5,0.5,{"$f":"+SUM(B12:C12)","v":1},null,"Case 2",0.06,0.06,0.38,0.15,0.35,null,{"$f":"G12+H12+I12+J12+K12","v":1}]
[]
[]
["Inde/ude","Arealkrav øko,  m2","Areal ","Afsætning af urin","Areal\nm2 gris-1","Emissionsfak-tor gulv NH4-N","Emissionsfak-tor kumme\nNH4-N","Arealkorr. emissions-faktor kumme\nNH4-N","Teknologi reduktion af emission kumme\nNH4-","Emission kumme NH4-N","Emission gulve\nkg NH3-N SP-1 år-1","Emission kumme\nkg NH3-N SP-1 år-1","Emission total\nkg NH3-N prod. Sl. svin-1 år-1","Emission total\nkg NH3-N SP-1 år-1","Emission total\nkg NH3-N m-2 år-1",null,{"$f":" SUM((IFERROR(VLOOKUP('input-data'!$E$289,Fodertabel,10,FALSE),0)*'input-data'!I267/100)\n+(IFERROR(VLOOKUP('input-data'!$E$290,Fodertabel,10,FALSE),0)*'input-data'!I268/100)\n+(IFERROR(VLOOKUP('input-data'!$E$291,Fodertabel,10,FALSE),0)*'input-data'!I269/100)\n+(IFERROR(VLOOKUP('input-data'!$E$292,Fodertabel,10,FALSE),0)*'input-data'!I270/100)\n+(IFERROR(VLOOKUP('input-data'!$E$293,Fodertabel,10,FALSE),0)*'input-data'!I271/100))\n*10","v":{"$error":"#VALUE!"}}]
["Inde, i alt1)",1.3]
["  Heraf leje med strøelse, min",0.63,"Fast gulv med strøelse",{"$f":"G11","v":0.03},0.65,0.1,null,null,null,{"$f":"+H16*(1-I16)","v":0},{"$f":"Øko_NH4_N_udskilt*D17*F17","v":2.6250000000000002E-2},{"$f":"+Øko_NH4_N_udskilt*D17*J17","v":0},{"$f":"+SUM(K17:L17)","v":2.6250000000000002E-2},{"$f":"+SUM(K17:L17)","v":2.6250000000000002E-2},{"$f":"+N17/E17","v":4.0384615384615387E-2}]
["  Ekstra fast gulv, min",0.02,"Fast gulv",{"$f":"H11","v":0.03},0.25,0.3,null,null,null,{"$f":"+H17*(1-I17)","v":0},{"$f":"Øko_NH4_N_udskilt*D18*F18","v":7.8750000000000001E-2},{"$f":"+Øko_NH4_N_udskilt*D18*J18","v":0},{"$f":"+SUM(K18:L18)","v":7.8750000000000001E-2},{"$f":"+SUM(K18:L18)","v":7.8750000000000001E-2},{"$f":"+N18/E18","v":0.315}]
["  Spalter eller drænet gulv",null,"Spaltegulv incl. gyllekumme",{"$f":"I11","v":0.19},0.4,0.04,0.15,{"$f":"+G19*E19/0.65","v":9.2307692307692299E-2},null,{"$f":"+H19*(1-I19)","v":9.2307692307692299E-2},{"$f":"Øko_NH4_N_udskilt*D19*F19","v":6.6500000000000004E-2},{"$f":"+Øko_NH4_N_udskilt*D19*J19","v":0.15346153846153845},{"$f":"+SUM(K19:L19)","v":0.21996153846153846},0.21996153846153846,0.54990384615384613]
[]
["Ude, i alt",1]
["  Heraf fast/drænet gulv, min",0.5,"Spaltegulv & gyllekumme",{"$f":"J11","v":0.25},0.6,{"$f":"+F18","v":0.3},null,null,null,{"$f":"+H21*(1-I21)","v":0},{"$f":"Øko_NH4_N_udskilt*D22*F22","v":0.65625},{"$f":"+Øko_NH4_N_udskilt*D22*J22","v":0},{"$f":"+SUM(K22:L22)","v":0.65625},{"$f":"+SUM(K22:L22)","v":0.65625},{"$f":"+N22/E22","v":1.09375}]
["  Spalter eller drænet gulv",null,null,{"$f":"K11","v":0.5},0.4,{"$f":"+F19","v":0.04},0.15,{"$f":"+H19","v":9.2307692307692299E-2},null,{"$f":"+H23*(1-I22)","v":9.2307692307692299E-2},{"$f":"Øko_NH4_N_udskilt*D23*F23","v":0.17500000000000002},{"$f":"+Øko_NH4_N_udskilt*D23*J23","v":0.4038461538461538},{"$f":"+SUM(K23:L23)","v":0.57884615384615379},0.57884615384615379,1.4471153846153844]
[null,null,null,{"$f":"D22+D21+D19+D17+D16","v":0.47},{"$f":"+SUM(E17:E23)","v":2.2999999999999998},null,null,null,null,null,{"$f":"+SUM(K16:K22)","v":0.82774999999999999},{"$f":"+SUM(L16:L22)","v":0.15346153846153845},{"$f":"+SUM(M16:M22)","v":0.98121153846153852},{"$f":"+SUM(N16:N22)","v":0.98121153846153852},{"$f":"+M24/E24","v":0.42661371237458201}]
["1) kilde: Regler vedr. opstaldning af økologiske svin fra  \"Vejledning om økologisk jordbrugsproduktion - april 2017\""]
[]
[]
["Emission fra slagtesvinestalden"]
[]
["Fordeling af gødning i procent af afsat gødning (forudsættes ens for fæces og urin)",null,null,null,null,"Fordeling på de forskellige gulvtyper i stien. Andel af total afsat gødning"]
[null,null,null,null,null,null,"Inde","Inde","Inde","Ude","Ude",null,"i alt"]
[null,"Inde","Ude","Total",null,null,"Lejeareal","Fast gulv","Spaltegulv og kumme","Fast gulv","Spaltegulv og kumme"]
["Case 1",0.25,0.75,{"$f":"+SUM(B33:C33)","v":1},null,"Case 1",0.03,0.03,0.19,0.25,0.5,null,{"$f":"G33+H33+I33+J33+K33","v":1}]
["Case 2",0.5,0.5,{"$f":"+SUM(B34:C34)","v":1},null,"Case 2",0.06,0.06,0.38,0.15,0.35,null,{"$f":"G34+H34+I34+J34+K34","v":1}]
[]
["Arealkrav økogrise ( kilde: Regler vedr. opstaldning af økologiske svin fra  \"Vejledning om økologisk jordbrugsproduktion - april 2017\")"]
[null,"indtil","Indtil","indtil","indtil","over","Alvssvin, hundyr","Avlssvin, handyr","Diegivende søer"]
["Vægtinterval,kg",30,50,85,110,110]
["Indendørsareal, m2/dyr",0.6,0.8,1.1000000000000001,1.3,1.5,2.5,6,7.5]
["   Min. andel fast gulv m2/dyr",0.3,0.4,0.55000000000000004,0.65,0.75,1.25,3,3.75]
["   Lejeareale, min. m2/dyr",0.26,0.37,0.55000000000000004,0.63,0.78,1.1000000000000001,1.23,1.23]
["Udendørsareal,  m2/dyr",0.4,0.6,0.8,1,1.2,1.9,8,2.5]
["   Min. Andel fast eller drænet",0.2,0.3,0.4,0.5,0.6,0.95,4,1.25]
[]
[]
["Inde/ude","Arealkrav øko,  m2","Areal ","Afsætning af urin","Areal\nm2 gris-1","Emissionsfak-tor gulv NH4-N","Emissionsfak-tor kumme\nNH4-N","Arealkorr. emissions-faktor kumme\nNH4-N","Teknologi reduktion af emission kumme\nNH4-","Emission kumme NH4-N","Emission gulve\nkg NH3-N SP-1 år-1","Emission kumme\nkg NH3-N SP-1 år-1","Emission total\nkg NH3-N prod. Sl. svin-1 år-1","Emission total\nkg NH3-N SP-1 år-1","Emission total\nkg NH3-N m-2 år-1",null,{"$f":" SUM((IFERROR(VLOOKUP('input-data'!$E$289,Fodertabel,10,FALSE),0)*'input-data'!I289/100)\n+(IFERROR(VLOOKUP('input-data'!$E$290,Fodertabel,10,FALSE),0)*'input-data'!I290/100)\n+(IFERROR(VLOOKUP('input-data'!$E$291,Fodertabel,10,FALSE),0)*'input-data'!I291/100)\n+(IFERROR(VLOOKUP('input-data'!$E$292,Fodertabel,10,FALSE),0)*'input-data'!I292/100)\n+(IFERROR(VLOOKUP('input-data'!$E$293,Fodertabel,10,FALSE),0)*'input-data'!I293/100))\n*10","v":0}]
["Inde, i alt1)",1.3]
["  Heraf leje med strøelse, min",0.63,"Fast gulv med strøelse",{"$f":"G33","v":0.03},0.65,0.1,null,null,null,{"$f":"+H47*(1-I47)","v":0},{"$f":"Øko_NH4_N_udskilt*D48*F48","v":2.6250000000000002E-2},{"$f":"+Øko_NH4_N_udskilt*D48*J48","v":0},{"$f":"+SUM(K48:L48)","v":2.6250000000000002E-2},{"$f":"+SUM(K48:L48)","v":2.6250000000000002E-2},{"$f":"+N48/E48","v":4.0384615384615387E-2}]
["  Ekstra fast gulv, min",0.02,"Fast gulv",{"$f":"H33","v":0.03},0.25,0.3,null,null,null,{"$f":"+H48*(1-I48)","v":0},{"$f":"Øko_NH4_N_udskilt*D49*F49","v":7.8750000000000001E-2},{"$f":"+Øko_NH4_N_udskilt*D49*J49","v":0},{"$f":"+SUM(K49:L49)","v":7.8750000000000001E-2},{"$f":"+SUM(K49:L49)","v":7.8750000000000001E-2},{"$f":"+N49/E49","v":0.315}]
["  Spalter eller drænet gulv",null,"Spaltegulv incl. gyllekumme",{"$f":"I33","v":0.19},0.4,0.04,0.15,{"$f":"+G50*E50/0.65","v":9.2307692307692299E-2},null,{"$f":"+H50*(1-I50)","v":9.2307692307692299E-2},{"$f":"Øko_NH4_N_udskilt*D50*F50","v":6.6500000000000004E-2},{"$f":"+Øko_NH4_N_udskilt*D50*J50","v":0.15346153846153845},{"$f":"+SUM(K50:L50)","v":0.21996153846153846},0.21996153846153846,0.54990384615384613]
[]
["Ude, i alt",1]
["  Heraf fast/drænet gulv, min",0.5,"Spaltegulv & gyllekumme",{"$f":"J33","v":0.25},0.6,{"$f":"+F49","v":0.3},null,null,null,{"$f":"+H52*(1-I52)","v":0},{"$f":"Øko_NH4_N_udskilt*D53*F53","v":0.65625},{"$f":"+Øko_NH4_N_udskilt*D53*J53","v":0},{"$f":"+SUM(K53:L53)","v":0.65625},0.65625,1.09375]
["  Spalter eller drænet gulv",null,null,{"$f":"K33","v":0.5},0.4,{"$f":"+F50","v":0.04},0.15,{"$f":"+H50","v":9.2307692307692299E-2},null,{"$f":"+H54*(1-I53)","v":9.2307692307692299E-2},{"$f":"Øko_NH4_N_udskilt*D54*F54","v":0.17500000000000002},{"$f":"+Øko_NH4_N_udskilt*D54*J54","v":0.4038461538461538},{"$f":"+SUM(K54:L54)","v":0.57884615384615379},0.57884615384615379,1.4471153846153844]
[null,null,null,{"$f":"D53+D52+D50+D48+D47","v":0.47},{"$f":"+SUM(E48:E54)","v":2.2999999999999998},null,null,null,null,null,{"$f":"+SUM(K47:K53)","v":0.82774999999999999},{"$f":"+SUM(L47:L53)","v":0.15346153846153845},{"$f":"+SUM(M47:M53)","v":0.98121153846153852},{"$f":"+SUM(N47:N53)","v":0.98121153846153852},{"$f":"+M55/E55","v":0.42661371237458201}]
["1) kilde: Regler vedr. opstaldning af økologiske svin fra  \"Vejledning om økologisk jordbrugsproduktion - april 2017\" (indtil 110 kg)"]
[]
[]
["Emission fra smågrisestalden"]
[]
["Fordeling af gødning i procent af afsat gødning (forudsættes ens for fæces og urin)",null,null,null,null,"Fordeling på de forskellige gulvtyper i stien. Andel af total afsat gødning"]
[null,null,null,null,null,null,"Inde","Inde","Inde","Ude","Ude",null,"i alt"]
[null,"Inde","Ude","Total",null,null,"Lejeareal","Fast gulv","Spaltegulv og kumme","Fast gulv","Spaltegulv og kumme"]
["Case 1",0.25,0.75,{"$f":"+SUM(B64:C64)","v":1},null,"Case 1",0.03,0.03,0.19,0.25,0.5,null,{"$f":"G64+H64+I64+J64+K64","v":1}]
["Case 2",0.5,0.5,{"$f":"+SUM(B65:C65)","v":1},null,"Case 2",0.06,0.06,0.38,0.15,0.35,null,{"$f":"G65+H65+I65+J65+K65","v":1}]
[]
[]
["Inde/ude","Arealkrav øko,  m2","Areal ","Afsætning af urin","Areal\nm2 gris-1","Emissionsfak-tor gulv NH4-N","Emissionsfak-tor kumme\nNH4-N","Arealkorr. emissions-faktor kumme\nNH4-N","Teknologi reduktion af emission kumme\nNH4-","Emission kumme NH4-N","Emission gulve\nkg NH3-N SP-1 år-1","Emission kumme\nkg NH3-N SP-1 år-1","Emission total\nkg NH3-N prod. smågris-1 år-1","Emission total\nkg NH3-N SP-1 år-1","Emission total\nkg NH3-N m-2 år-1",null,{"$f":" SUM((IFERROR(VLOOKUP('input-data'!$E$289,Fodertabel,10,FALSE),0)*'input-data'!I311/100)\n+(IFERROR(VLOOKUP('input-data'!$E$290,Fodertabel,10,FALSE),0)*'input-data'!I312/100)\n+(IFERROR(VLOOKUP('input-data'!$E$291,Fodertabel,10,FALSE),0)*'input-data'!I313/100)\n+(IFERROR(VLOOKUP('input-data'!$E$292,Fodertabel,10,FALSE),0)*'input-data'!I314/100)\n+(IFERROR(VLOOKUP('input-data'!$E$293,Fodertabel,10,FALSE),0)*'input-data'!I315/100))\n*10","v":0}]
["Inde, i alt1)",0.6]
["  Heraf leje med strøelse, min",0.26,"Fast gulv med strøelse",{"$f":"G64","v":0.03},0.65,0.1,null,null,null,{"$f":"+H69*(1-I69)","v":0},{"$f":"Øko_NH4_N_udskilt*D70*F70","v":2.6250000000000002E-2},{"$f":"+Øko_NH4_N_udskilt*D70*J70","v":0},{"$f":"+SUM(K70:L70)","v":2.6250000000000002E-2},{"$f":"+SUM(K70:L70)","v":2.6250000000000002E-2},{"$f":"+N70/E70","v":4.0384615384615387E-2}]
["  Ekstra fast gulv, min",0.04,"Fast gulv",{"$f":"H64","v":0.03},0.25,0.3,null,null,null,{"$f":"+H70*(1-I70)","v":0},{"$f":"Øko_NH4_N_udskilt*D71*F71","v":7.8750000000000001E-2},{"$f":"+Øko_NH4_N_udskilt*D71*J71","v":0},{"$f":"+SUM(K71:L71)","v":7.8750000000000001E-2},{"$f":"+SUM(K71:L71)","v":7.8750000000000001E-2},{"$f":"+N71/E71","v":0.315}]
["  Spalter eller drænet gulv",null,"Spaltegulv incl. gyllekumme",{"$f":"I64","v":0.19},0.4,0.04,0.15,{"$f":"+G72*E72/0.65","v":9.2307692307692299E-2},null,{"$f":"+H72*(1-I72)","v":9.2307692307692299E-2},{"$f":"Øko_NH4_N_udskilt*D72*F72","v":6.6500000000000004E-2},{"$f":"+Øko_NH4_N_udskilt*D72*J72","v":0.15346153846153845},{"$f":"+SUM(K72:L72)","v":0.21996153846153846},0.21996153846153846,0.54990384615384613]
[]
["Ude, i alt",0.4]
["  Heraf fast/drænet gulv, min",0.2,"Spaltegulv & gyllekumme",{"$f":"J64","v":0.25},0.6,{"$f":"+F71","v":0.3},null,null,null,{"$f":"+H74*(1-I74)","v":0},{"$f":"Øko_NH4_N_udskilt*D75*F75","v":0.65625},{"$f":"+Øko_NH4_N_udskilt*D75*J75","v":0},{"$f":"+SUM(K75:L75)","v":0.65625},{"$f":"+SUM(K75:L75)","v":0.65625},{"$f":"+N75/E75","v":1.09375}]
["  Spalter eller drænet gulv",null,null,{"$f":"K64","v":0.5},0.4,{"$f":"+F72","v":0.04},0.15,{"$f":"+H72","v":9.2307692307692299E-2},null,{"$f":"+H76*(1-I75)","v":9.2307692307692299E-2},{"$f":"Øko_NH4_N_udskilt*D76*F76","v":0.17500000000000002},{"$f":"+Øko_NH4_N_udskilt*D76*J76","v":0.4038461538461538},{"$f":"+SUM(K76:L76)","v":0.57884615384615379},0.57884615384615379,1.4471153846153844]
[null,null,null,{"$f":"D75+D74+D72+D70+D69","v":0.47},{"$f":"+SUM(E70:E76)","v":2.2999999999999998},null,null,null,null,null,{"$f":"+SUM(K69:K75)","v":0.82774999999999999},{"$f":"+SUM(L69:L75)","v":0.15346153846153845},{"$f":"+SUM(M69:M75)","v":0.98121153846153852},{"$f":"+SUM(N69:N75)","v":0.98121153846153852},{"$f":"+M77/E77","v":0.42661371237458201}]
["1) kilde: Regler vedr. opstaldning af økologiske svin fra  \"Vejledning om økologisk jordbrugsproduktion - april 2017\" (indtil 30 kg)"]